Workbook

Sheet Հավելված 1
F1: Հավելված 1
D2: ՀՀ կառավարության 2022 թվականի
D3: ___________ ___-ի N _______ -Ն որոշման
A4: «ՀԱՅԱՍՏԱՆԻ ՀԱՆՐԱՊԵՏՈՒԹՅԱՆ 2022 ԹՎԱԿԱՆԻ ՊԵՏԱԿԱՆ ԲՅՈՒՋԵԻ ՄԱՍԻՆ» ՀԱՅԱՍՏԱՆԻ ՀԱՆՐԱՊԵՏՈՒԹՅԱՆ ՕՐԵՆՔԻ N 1 ՀԱՎԵԼՎԱԾԻ N 2 ԱՂՅՈՒՍԱԿՈՒՄ ԿԱՏԱՐՎՈՂ ՎԵՐԱԲԱՇԽՈՒՄԸ ԵՎ ՀԱՅԱՍՏԱՆԻ ՀԱՆՐԱՊԵՏՈՒԹՅԱՆ ԿԱՌԱՎԱՐՈՒԹՅԱՆ 2021 ԹՎԱԿԱՆԻ ԴԵԿՏԵՄԲԵՐԻ 23-Ի N 2121-Ն ՈՐՈՇՄԱՆ N 5 ՀԱՎԵԼՎԱԾԻ N 1 ԱՂՅՈՒՍԱԿՈՒՄ ԿԱՏԱՐՎՈՂ ՓՈՓՈԽՈՒԹՅՈՒՆՆԵՐԸ
F6: հազար դրամներով
A7: Ծրագրային դասիչը | C7: Բյուջետային գլխավոր կարգադրիչների, ծրագրերի և միջոցառումների անվանումները | D7: Ցուցանիշների փոփոխությունը (ավելացումները նշված են դրական նշանով, իսկ նվազեցումները` փակագծերում)
A8: Ծրագիր | B8: Միջոց առում | D8: Առաջին կիսամյակ | E8: Ինն ամիս | F8: Տարի
C10: ԸՆԴԱՄԵՆԸ | D10: =D11+D37 -> 0 | E10: =E11+E37 -> 0 | F10: =F11+F37 -> 0
C11: ՀՀ ազգային անվտանգության ծառայություն | D11: =D19+D25+D31 -> 0 | E11: =E19+E25+E31 -> 0 | F11: =F19+F25+F31 -> 0
A12: 1138 | C12: Ծրագրի անվանումը` | D12: =D11 -> 0 | E12: =E11 -> 0 | F12: =F11 -> 0
C13: Ազգային անվտանգություն
C14: Ծրագրի նպատակը`
C15: Ներքին և արտաքին սպառնալիքներից անձի՝ հասարակության ու պետության անվտանգության ապահովում
C16: Վերջնական արդյունքի նկարագրությունը`
C17: Այլ պետությունների կողմից հետախուզական գործունեության կասեցում՝պետական սահմանի անձեռնամխելիության ապահովում՝ կոռուպցիոն ռիսկերի շեշտակի նվազեցում
A18: Ծրագրի միջոցառումներ | C18: Ծրագրի միջոցառումներ
B19: 11001 | C19: Միջոցառման անվանումը` | D19: -60200 | E19: -90300 | F19: -120400
C20: Հետախուզական՝ հակահետախուզական՝ ռազմական հակահետախուզության՝ հանցագործությունների դեմ պայքարի և պետական սահմանի պահպանության գործունեության կազմակերպում
C21: Միջոցառման նկարագրությունը`
C22: ՀՀ անվտանգությանը սպառնացող վտանգի մասին տեղեկատվության ստացում՝ վերլուծում՝ վտանգի կանխատեսում, վտանգի կանխման ու չեզոքացման վերաբերյալ առաջարկությունների մշակում_x000D_
C23: Միջոցառման տեսակը
C24: Ծառայությունների մատուցում
B25: 11001 | C25: Միջոցառման անվանումը` | D25: 36200 | E25: 54300 | F25: 72400
C26: Հետախուզական՝ հակահետախուզական՝ ռազմական հակահետախուզության՝ հանցագործությունների դեմ պայքարի և պետական սահմանի պահպանության գործունեության կազմակերպում
C27: Միջոցառման նկարագրությունը`
C28: ՀՀ անվտանգությանը սպառնացող վտանգի մասին տեղեկատվության ստացում՝ վերլուծում՝ վտանգի կանխատեսում, վտանգի կանխման ու չեզոքացման վերաբերյալ առաջարկությունների մշակում_x000D_
C29: Միջոցառման տեսակը
C30: Ծառայությունների մատուցում
B31: 31002 | C31: Միջոցառման անվանումը` | D31: 24000 | E31: 36000 | F31: 48000
C32: Ազգային անվտանգության համակարգի շենքային ապահովվածության բարելավում
C33: Միջոցառման նկարագրությունը`
C34: Ազգային անվտանգության համակարգի ստորաբաժանումների վարչական շենքերի կառուցում, կապիտալ վերանորոգում, շինարարական և կապիտալ նորոգման օբյեկտների նախագծահետազոտական փաստաթղթերի պատրաստում
C35: Միջոցառման տեսակը
C36: Պետական մարմինների կողմից օգտագործվող ոչ ֆինանսական ակտիվների հետ գործառնություններ
C37: ՀՀ կառավարություն | D37: =D45+D51 -> 0 | E37: =E45+E51 -> 0 | F37: =F45+F51 -> 0
A38: 1139 | C38: Ծրագրի անվանումը` | D38: =D37 -> 0 | E38: =E37 -> 0 | F38: =F37 -> 0
C39: ՀՀ կառավարության պահուստային ֆոնդ
C40: Ծրագրի նպատակը`
C41: Պետական բյուջեում չկանխատեսված, ինչպես նաեւ բյուջետային երաշխիքների ապահովման ծախսերի ֆինանսավորման ապահովում_x000D_
C42: Վերջնական արդյունքի նկարագրությունը`
C43: Պահուստային ֆոնդի կառավարման արդյունավետության և թափանցիկության ապահովում
C44: Ծրագրի միջոցառումներ
B45: 11001 | C45: Միջոցառման անվանումը` | D45: 60200 | E45: 90300 | F45: 120400
C46: ՀՀ կառավարության պահուստային ֆոնդ
C47: Միջոցառման նկարագրությունը`
C48: ՀՀ պետական բյուջեում նախատեսված ելքերի լրացուցիչ ֆինանսավորման՝ պետական բյուջեում չկանխատեսված ելքերի՝ ինչպես նաև բյուջետային երաշխիքների ապահովման ելքերի ֆինանսավորման ապահովում
C49: Միջոցառման տեսակը
C50: Ծառայությունների մատուցում
B51: 11001 | C51: Միջոցառման անվանումը` | D51: -60200 | E51: -90300 | F51: -120400
C52: ՀՀ կառավարության պահուստային ֆոնդ
C53: Միջոցառման նկարագրությունը`
C54: ՀՀ պետական բյուջեում նախատեսված ելքերի լրացուցիչ ֆինանսավորման՝ պետական բյուջեում չկանխատեսված ելքերի՝ ինչպես նաև բյուջետային երաշխիքների ապահովման ելքերի ֆինանսավորման ապահովում
C55: Միջոցառման տեսակը
C56: Ծառայությունների մատուցում

Sheet Հավելված 2
I1: Հավելված 2
G2: ՀՀ կառավարության 2022 թվականի
G3: ___________ ___-ի N _______ -Ն որոշման
A5: ՀԱՅԱՍՏԱՆԻ ՀԱՆՐԱՊԵՏՈՒԹՅԱՆ ԿԱՌԱՎԱՐՈՒԹՅԱՆ 2021 ԹՎԱԿԱՆԻ ԴԵԿՏԵՄԲԵՐԻ 23-Ի N 2121-Ն ՈՐՈՇՄԱՆ N 3 ԵՎ N 4 ՀԱՎԵԼՎԱԾՆԵՐՈՒՄ ԿԱՏԱՐՎՈՂ ՓՈՓՈԽՈՒԹՅՈՒՆՆԵՐԸ
H7: հազար դրամներով
A8: Գործառական դասիչը | D8: Ծրագրային դասիչը | F8: Բյուջետային հատկացումների գլխավոր կարգադրիչների, ծրագրերի, միջոցառումների և միջոցառումները կատարող պետական մարմինների անվանումները | G8: Ցուցանիշների փոփոխությունը (ավելացումները նշված են դրական նշանով, իսկ նվազեցումները` փակագծերում)
A9: Բաժին | B9: Խումբ | C9: Դաս | D9: Ծրագիր | E9: Միջոց առում | G9: Առաջին կիսամյակ | H9: Ինն ամիս | I9: Տարի
F10: 6
F11: ԸՆԴԱՄԵՆԸ ԾԱԽՍԵՐ | G11: =+G13+G49 -> 0 | H11: =+H13+H49 -> 0 | I11: =+I13+I49 -> 0
F12: այդ թվում`
A13: 03 | F13: ՀԱՍԱՐԱԿԱԿԱՆ ԿԱՐԳ, ԱՆՎՏԱՆԳՈՒԹՅՈՒՆ ԵՎ ԴԱՏԱԿԱՆ ԳՈՐԾՈՒՆԵՈՒԹՅՈՒՆ | G13: =G15 -> 0 | H13: =H15 -> 0 | I13: =I15 -> 0
F14: այդ թվում`
B15: 01 | F15: Հասարակական կարգ և անվտանգություն | G15: =G17 -> 0 | H15: =H17 -> 0 | I15: =I17 -> 0
F16: այդ թվում`
C17: 02 | F17: Ազգային անվտանգություն | G17: =G19 -> 0 | H17: =H19 -> 0 | I17: =I19 -> 0
F18: այդ թվում`
D19: 1138 | F19: Ազգային անվտանգություն | G19: =G21 -> 0 | H19: =H21 -> 0 | I19: =I21 -> 0
F20: այդ թվում`
F21: ՀՀ ազգային անվտանգության ծառայություն | G21: ='Հավելված 1'!D12 -> 0 | H21: ='Հավելված 1'!E12 -> 0 | I21: ='Հավելված 1'!F12 -> 0
E22: 11001 | F22: Հետախուզական, հակահետախուզական, ռազմական հակահետախուզության, հանցագործությունների դեմ պայքարի և պետական սահմանի պահպանության գործունեության կազմակերպում | G22: ='Հավելված 1'!D19 -> -60200 | H22: ='Հավելված 1'!E19 -> -90300 | I22: ='Հավելված 1'!F19 -> -120400
F23: այդ թվում` ըստ կատարողների
F24: ՀՀ ազգային անվտանգության ծառայություն | G24: =G22 -> -60200 | H24: =H22 -> -90300 | I24: =I22 -> -120400
F25: այդ թվում` բյուջետային ծախսերի տնտեսագիտական դասակարգման հոդվածներ
F26: ԸՆԴԱՄԵՆԸ ԾԱԽՍԵՐ | G26: =G24 -> -60200 | H26: =H24 -> -90300 | I26: =I24 -> -120400
F27: ԸՆԹԱՑԻԿ ԾԱԽՍԵՐ | G27: =G26 -> -60200 | H27: =H26 -> -90300 | I27: =I26 -> -120400
F28: Նյութեր(Ապրանքներ) | G28: =G26 -> -60200 | H28: =H26 -> -90300 | I28: =I26 -> -120400
F29: - Տրանսպորտային նյութեր | G29: =G27 -> -60200 | H29: =H27 -> -90300 | I29: =I27 -> -120400
E30: 11001 | F30: Հետախուզական, հակահետախուզական, ռազմական հակահետախուզության, հանցագործությունների դեմ պայքարի և պետական սահմանի պահպանության գործունեության կազմակերպում | G30: ='Հավելված 1'!D25 -> 36200 | H30: ='Հավելված 1'!E25 -> 54300 | I30: ='Հավելված 1'!F25 -> 72400
F31: այդ թվում` ըստ կատարողների
F32: ՀՀ ազգային անվտանգության ծառայություն | G32: =G30 -> 36200 | H32: =H30 -> 54300 | I32: =I30 -> 72400
F33: այդ թվում` բյուջետային ծախսերի տնտեսագիտական դասակարգման հոդվածներ
F34: ԸՆԴԱՄԵՆԸ ԾԱԽՍԵՐ | G34: =G32 -> 36200 | H34: =H32 -> 54300 | I34: =I32 -> 72400
F35: ԸՆԹԱՑԻԿ ԾԱԽՍԵՐ | G35: =G32 -> 36200 | H35: =H32 -> 54300 | I35: =I34 -> 72400
F36: Նյութեր(Ապրանքներ) | G36: =G34 -> 36200 | H36: =H34 -> 54300 | I36: =I34 -> 72400
F37: - Շենքերի և կառույցների ընթացիկ նորոգում և պահպանում | G37: 12527 | H37: 18790.6 | I37: 25054.075
F38: - Գրասենյակային նյութեր և հագուստ | G38: 23673 | H38: 35509.4 | I38: 47345.92
E39: 31002 | F39: Ազգային անվտանգության համակարգի շենքային ապահովվածության բարելավում | G39: =G47 -> 24000 | H39: =H43 -> 36000 | I39: =I41 -> 48000
F40: այդ թվում` ըստ կատարողների
F41: ՀՀ ազգային անվտանգության ծառայություն | G41: =G39 -> 24000 | H41: =H43 -> 36000 | I41: =I43 -> 48000
F42: այդ թվում` բյուջետային ծախսերի տնտեսագիտական դասակարգման հոդվածներ
F43: ԸՆԴԱՄԵՆԸ ԾԱԽՍԵՐ | G43: =G39 -> 24000 | H43: =H44 -> 36000 | I43: =I44 -> 48000
F44: ՈՉ ՖԻՆԱՆՍԱԿԱՆ ԱԿՏԻՎՆԵՐԻ ԳԾՈՎ ԾԱԽՍԵՐ | G44: =G43 -> 24000 | H44: =H45 -> 36000 | I44: =I45 -> 48000
F45: ՀԻՄՆԱԿԱՆ ՄԻՋՈՑՆԵՐ | G45: =G44 -> 24000 | H45: =H46 -> 36000 | I45: =I46 -> 48000
F46: ԱՅԼ ՀԻՄՆԱԿԱՆ ՄԻՋՈՑՆԵՐ | G46: =G45 -> 24000 | H46: =H47 -> 36000 | I46: =I47 -> 48000
F47: - Նախագծահետազոտական ծախսեր | G47: 24000 | H47: 36000 | I47: 48000
A49: 11 | F49: ՀԻՄՆԱԿԱՆ ԲԱԺԻՆՆԵՐԻՆ ՉԴԱՍՎՈՂ ՊԱՀՈՒՍՏԱՅԻՆ ՖՈՆԴԵՐ | G49: ='Հավելված 1'!D37 -> 0 | H49: ='Հավելված 1'!E37 -> 0 | I49: ='Հավելված 1'!F37 -> 0
F50: այդ թվում`
B51: 01 | F51: ՀՀ կառավարության և համայնքների պահուստային ֆոնդ | G51: =G49 -> 0 | H51: =H49 -> 0 | I51: =I49 -> 0
F52: այդ թվում`
C53: 01 | F53: ՀՀ կառավարության պահուստային ֆոնդ | G53: =G51 -> 0 | H53: =H51 -> 0 | I53: =I51 -> 0
F54: այդ թվում`
D55: 1139 | F55: ՀՀ կառավարության պահուստային ֆոնդ | G55: =G53 -> 0 | H55: =H53 -> 0 | I55: =I53 -> 0
F56: այդ թվում`
F57: ՀՀ կառավարություն | G57: =G55 -> 0 | H57: =H55 -> 0 | I57: =I55 -> 0
E58: 11001 | F58: ՀՀ կառավարության պահուստային ֆոնդ | G58: 60200 | H58: 90300 | I58: 120400
F59: այդ թվում` ըստ կատարողների
F60: ՀՀ կառավարություն | G60: =G58 -> 60200 | H60: =H58 -> 90300 | I60: =I58 -> 120400
F61: այդ թվում` բյուջետային ծախսերի տնտեսագիտական դասակարգման հոդվածներ
F62: ԸՆԴԱՄԵՆԸ ԾԱԽՍԵՐ | G62: =G60 -> 60200 | H62: =H60 -> 90300 | I62: =I60 -> 120400
F63: ԸՆԹԱՑԻԿ ԾԱԽՍԵՐ | G63: =G62 -> 60200 | H63: =H62 -> 90300 | I63: =I62 -> 120400
F64: ԱՅԼ ԾԱԽՍԵՐ | G64: =G62 -> 60200 | H64: =H62 -> 90300 | I64: =I62 -> 120400
F65: Պահուստային միջոցներ | G65: =G63 -> 60200 | H65: =H63 -> 90300 | I65: =I63 -> 120400
E66: 11001 | F66: ՀՀ կառավարության պահուստային ֆոնդ | G66: ='Հավելված 1'!D51 -> -60200 | H66: ='Հավելված 1'!E51 -> -90300 | I66: ='Հավելված 1'!F51 -> -120400
F67: այդ թվում` ըստ կատարողների
F68: ՀՀ կառավարություն | G68: =G66 -> -60200 | H68: =H66 -> -90300 | I68: =I66 -> -120400
F69: այդ թվում` բյուջետային ծախսերի տնտեսագիտական դասակարգման հոդվածներ
F70: ԸՆԴԱՄԵՆԸ ԾԱԽՍԵՐ | G70: =G68 -> -60200 | H70: =H68 -> -90300 | I70: =I68 -> -120400
F71: ԸՆԹԱՑԻԿ ԾԱԽՍԵՐ | G71: =G70 -> -60200 | H71: =H70 -> -90300 | I71: =I70 -> -120400
F72: ԱՅԼ ԾԱԽՍԵՐ | G72: =G70 -> -60200 | H72: =H70 -> -90300 | I72: =I70 -> -120400
F73: Պահուստային միջոցներ | G73: =G71 -> -60200 | H73: =H71 -> -90300 | I73: =I71 -> -120400

Sheet Հավելված 3
H1: Հավելված 3
F2: ՀՀ կառավարության 2022 թվականի
F3: ___________ ___-ի N _______ -Ն որոշման
A5: «ՀԱՅԱՍՏԱՆԻ ՀԱՆՐԱՊԵՏՈՒԹՅԱՆ 2022 ԹՎԱԿԱՆԻ ՊԵՏԱԿԱՆ ԲՅՈՒՋԵԻ ՄԱՍԻՆ» ՀԱՅԱՍՏԱՆԻ ՀԱՆՐԱՊԵՏՈՒԹՅԱՆ ՕՐԵՆՔԻ N 1 ՀԱՎԵԼՎԱԾԻ N 3 ԱՂՅՈՒՍԱԿՈՒՄ ԿԱՏԱՐՎՈՂ ՓՈՓՈԽՈՒԹՅՈՒՆՆԵՐԸ ԵՎ ԼՐԱՑՈՒՄՆԵՐԸ
G6: հազար դրամներով
A7: Ծրագրային դասիչ | C7: Բյուջետային գլխավոր կարգադրիչների, ծրագրերի, միջոցառումների և ուղղությունների անվանումները | D7: Ընդամենը | E7: Ցուցանիշների փոփոխությունը (ավելացումները նշված են դրական նշանով)
E8: այդ թվում՝
A9: Ծրագիր | B9: Միջոցառում | E9: Կառուցման աշխատանքներ | F9: Վերակառուցման, վերանորոգման և վերականգնման աշխատանքներ | G9: Նախագծահե- տազոտական, գեոդեզիա- քարտեզագրա- կան աշխա- տանքներ | H9: Ոչ ֆինանսական այլ ակտիվների ձեռքբերում
C10: ԸՆԴԱՄԵՆԸ | D10: =D12 -> 48000 | E10: 0 | F10: 0 | G10: =G12 -> 48000 | H10: 0
C11: այդ թվում՝
C12: ՀՀ ԱԶԳԱՅԻՆ ԱՆՎՏԱՆԳՈՒԹՅԱՆ ԾԱՌԱՅՈՒԹՅՈՒՆ | D12: =D14 -> 48000 | E12: 0 | F12: 0 | G12: =G14 -> 48000 | H12: 0
C13: այդ թվում`
A14: 1138 | B14: 31002 | C14: Ազգային անվտանգության համակարգի շենքային ապահովվածության բարելավում | D14: =48000 -> 48000 | E14: 0 | F14: 0 | G14: 48000 | H14: 0
C15: որից՝
C16: ՀՀ ԱԱԾ ՍԶ 8-րդ սահմանապահ ուղեկալի կառուցում | D16: =E16+F16+G16+H16 -> 117603.87 | E16: 117603.87 | F16: 0 | G16: 0 | H16: 0
C17: ՀՀ ԱԱԾ ՍԶ 7-րդ սահմանապահ ուղեկալի կառուցում | D17: =E17+F17+G17+H17 -> 151117.69 | E17: 151117.69 | F17: 0 | G17: 0 | H17: 0
C18: ՀՀ ԱԱԾ ՍԶ 6-րդ սահմանապահ ուղեկալի կառուցում | D18: =E18+F18+G18+H18 -> 61476.332 | E18: 61476.332 | F18: 0 | G18: 0 | H18: 0
C19: ՀՀ ԱԱԾ ՍԶ 5-րդ սահմանապահ ուղեկալի կառուցում | D19: =E19+F19+G19+H19 -> 144194 | E19: 144194 | F19: 0 | G19: 0 | H19: 0
C20: ՀՀ ԱԱԾ ՍԶ 4-րդ սահմանապահ ուղեկալի կառուցում | D20: =E20+F20+G20+H20 -> 132024.93 | E20: 132024.93 | F20: 0 | G20: 0 | H20: 0
C21: ՀՀ ԱԱԾ ՍԶ 3-րդ սահմանապահ ուղեկալի կառուցում | D21: =E21+F21+G21+H21 -> 83830.572 | E21: 83830.572 | F21: 0 | G21: 0 | H21: 0
C22: ՀՀ ԱԱԾ ՍԶ 2-րդ սահմանապահ ուղեկալի կառուցում | D22: =E22+F22+G22+H22 -> 130512.52 | E22: 130512.52 | F22: 0 | G22: 0 | H22: 0
C23: ՀՀ ԱԱԾ ՍԶ 1-ին սահմանապահ ուղեկալի կառուցում | D23: =E23+F23+G23+H23 -> 198657.4 | E23: 198657.4 | F23: 0 | G23: 0 | H23: 0

Sheet Հավելված 4
G1: Հավելված 4
F2: ՀՀ կառավարության 2022 թվականի
E3: ___________ ___-ի N _______ -Ն որոշման
A5: ՀԱՅԱՍՏԱՆԻ ՀԱՆՐԱՊԵՏՈՒԹՅԱՆ ԿԱՌԱՎԱՐՈՒԹՅԱՆ 2021 ԹՎԱԿԱՆԻ ԴԵԿՏԵՄԲԵՐԻ 23-Ի N 2121-Ն ՈՐՈՇՄԱՆ N 5 ՀԱՎԵԼՎԱԾԻ N 2 ԱՂՅՈՒՍԱԿՈՒՄ ԿԱՏԱՐՎՈՂ ՓՈՓՈԽՈՒԹՅՈՒՆՆԵՐԸ ԵՎ ԼՐԱՑՈՒՄՆԵՐԸ
F6: հազար դրամներով
A7: Ծրագրային դասիչ | C7: Բյուջետային գլխավոր կարգադրիչների, ծրագրերի, միջոցառումների, միջոցառումները կատարող պետական մարմինների և ուղղությունների անվանումները | D7: Ցուցանիշների փոփոխությունը (ավելացումները նշված են դրական նշանով)
D8: Առաջին եռամսյակ | E8: Առաջին կիսամյակ | F8: Ինն ամիս | G8: Տարի
A9: Ծրագիր | B9: Միջոցառում
C10: ԸՆԴԱՄԵՆԸ | D10: =D12 -> #REF! | E10: =E12 -> 24000 | F10: =F12 -> 36000 | G10: =G12 -> 48000
C11: այդ թվում՝
C12: ՀՀ ԱԶԳԱՅԻՆ ԱՆՎՏԱՆԳՈՒԹՅԱՆ ԾԱՌԱՅՈՒԹՅՈՒՆ | D12: =D14+#REF! -> #REF! | E12: =E14 -> 24000 | F12: =F14 -> 36000 | G12: =G14 -> 48000
C13: այդ թվում`
A14: 1138 | B14: 31002 | C14: Ազգային անվտանգության համակարգի շենքային ապահովվածության բարելավում | D14: =G14/4 -> 12000 | E14: =D14*2 -> 24000 | F14: =D14+E14 -> 36000 | G14: 48000
C15: ՀՀ ազգային անվտանգության ծառայություն | D15: =E15*0.4 -> 407766.96 | E15: 1019417.4 | F15: 1019417.4 | G15: 1019417.4
C16: որից՝
C17: ՀՀ ԱԱԾ ՍԶ 8-րդ սահմանապահ ուղեկալի կառուցում | D17: =E17*40% -> 47041.549 | E17: 117603.87 | F17: 117603.87 | G17: 117603.87
C18: ՀՀ ԱԱԾ ՍԶ 7-րդ սահմանապահ ուղեկալի կառուցում | D18: 60447.2 | E18: 151117.69 | F18: 151117.69 | G18: 151117.69
C19: ՀՀ ԱԱԾ ՍԶ 6-րդ սահմանապահ ուղեկալի կառուցում | D19: =E19*40% -> 24590.533 | E19: 61476.332 | F19: 61476.332 | G19: 61476.332
C20: ՀՀ ԱԱԾ ՍԶ 5-րդ սահմանապահ ուղեկալի կառուցում | D20: =E20*40% -> 57677.599 | E20: 144194 | F20: 144194 | G20: 144194
C21: ՀՀ ԱԱԾ ՍԶ 4-րդ սահմանապահ ուղեկալի կառուցում | D21: =E21*40% -> 52809.972 | E21: 132024.93 | F21: 132024.93 | G21: 132024.93
C22: ՀՀ ԱԱԾ ՍԶ 3-րդ սահմանապահ ուղեկալի կառուցում | D22: =E22*40% -> 33532.229 | E22: 83830.572 | F22: 83830.572 | G22: 83830.572
C23: ՀՀ ԱԱԾ ՍԶ 2-րդ սահմանապահ ուղեկալի կառուցում | D23: =E23*40% -> 52205.007 | E23: 130512.52 | F23: 130512.52 | G23: 130512.52
C24: ՀՀ ԱԱԾ ՍԶ 1-ին սահմանապահ ուղեկալի կառուցում | D24: =E24*40% -> 79462.959 | E24: 198657.4 | F24: 198657.4 | G24: 198657.4
C25: այդ թվում` ըստ կատարողների
C26: ՀՀ ազգային անվտանգության ծառայություն | D26: 434265.35 | E26: =E14 -> 24000 | F26: =F14 -> 36000 | G26: =G14 -> 48000

Sheet Հավելված 5
E1: Հավելված 5
C2: ՀՀ կառավարության 2022 թվականի
C3: ___________ ___-ի N _______ -Ն որոշման
A5: ՀԱՅԱՍՏԱՆԻ ՀԱՆՐԱՊԵՏՈՒԹՅԱՆ ԿԱՌԱՎԱՐՈՒԹՅԱՆ 2021 ԹՎԱԿԱՆԻ ԴԵԿՏԵՄԲԵՐԻ 23-Ի N 2121-Ն ՈՐՈՇՄԱՆ N 9 ՀԱՎԵԼՎԱԾԻ N9.26 ԵՎ N9.47 ԱՂՅՈՒՍԱԿՆԵՐՈՒՄ ԿԱՏԱՐՎՈՂ ՓՈՓՈԽՈՒԹՅՈՒՆՆԵՐԸ
A7: ՀՀ ազգային անվտանգության ծառայություն
A8: ՄԱՍ 2. ՊԵՏԱԿԱՆ ՄԱՐՄՆԻ ԳԾՈՎ ԱՐԴՅՈՒՆՔԱՅԻՆ (ԿԱՏԱՐՈՂԱԿԱՆ) ՑՈՒՑԱՆԻՇՆԵՐԸ
A10: Ծրագրի դասիչը | B10: Ծրագրի անվանումը
A11: 1138 | B11: Ազգային անվտանգություն
A13: Ծրագրի միջոցառումները
A14: Ծրագրի դասիչը` | B14: 1138 | C14: Ցուցանիշների փոփոխությունը (նվազեցումները նշված են փակագծերում)
A15: Միջոցառման դասիչը` | B15: 11001 | C15: Առաջին կիսամյակ | D15: Ինն ամիս | E15: Տարի
A16: Միջոցառման անվանումը` | B16: Հետախուզական, հակահետախուզական, ռազմական հակահետախուզության, հանցագործությունների դեմ պայքարի և պետական սահմանի պահպանության գործունեության կազմակերպում
A17: Նկարագրությունը` | B17: ՀՀ անվտանգությանը սպառնացող վտանգի մասին տեղեկատվության ստացում, վերլուծում, վտանգի կանխատեսում, վտանգի կանխման ու չեզոքացման վերաբերյալ առաջարկությունների մշակում_x000D_
A18: Միջոցառման տեսակը` | B18: Ծառայությունների մատուցում
A19: Միջոցառումն իրականացնողի անվանումը | B19: ՀՀ ազգային անվտանգության ծառայություն
A20: Արդյունքի չափորոշիչներ
A21: Միջոցառման վրա կատարվող ծախսը (հազար դրամ) | C21: ='Հավելված 2'!G22 -> -60200 | D21: ='Հավելված 2'!H24 -> -90300 | E21: ='Հավելված 2'!I24 -> -120400
A23: Ծրագրի միջոցառումները
A24: Ծրագրի դասիչը` | B24: 1138 | C24: Ցուցանիշների փոփոխությունը (ավելացումները նշված են դրական նշանով)
A25: Միջոցառման դասիչը` | B25: 11001 | C25: Առաջին կիսամյակ | D25: Ինն ամիս | E25: Տարի
A26: Միջոցառման անվանումը` | B26: Հետախուզական, հակահետախուզական, ռազմական հակահետախուզության, հանցագործությունների դեմ պայքարի և պետական սահմանի պահպանության գործունեության կազմակերպում
A27: Նկարագրությունը` | B27: ՀՀ անվտանգությանը սպառնացող վտանգի մասին տեղեկատվության ստացում, վերլուծում, վտանգի կանխատեսում, վտանգի կանխման ու չեզոքացման վերաբերյալ առաջարկությունների մշակում_x000D_
A28: Միջոցառման տեսակը` | B28: Ծառայությունների մատուցում
A29: Միջոցառումն իրականացնողի անվանումը | B29: ՀՀ ազգային անվտանգության ծառայություն
A30: Արդյունքի չափորոշիչներ
A31: Միջոցառման վրա կատարվող ծախսը (հազար դրամ) | C31: ='Հավելված 2'!G32 -> 36200 | D31: ='Հավելված 2'!H34 -> 54300 | E31: ='Հավելված 2'!I34 -> 72400
A33: Ծրագրի դասիչը` | B33: 1138 | C33: Ցուցանիշների փոփոխությունը (ավելացումները նշված են դրական նշանով)
A34: Միջոցառման դասիչը` | B34: 31002 | C34: Առաջին կիսամյակ | D34: Ինն ամիս | E34: Տարի
A35: Միջոցառման անվանումը` | B35: Ազգային անվտանգության համակարգի շենքային ապահովվածության բարելավում
A36: Նկարագրությունը` | B36: Ազգային անվտանգության համակարգի ստորաբաժանումների վարչական շենքերի կառուցում, կապիտալ վերանորոգում, շինարարական և կապիտալ նորոգման օբյեկտների նախագծահետազոտական փաստաթղթերի պատրաստում
A37: Միջոցառման տեսակը` | B37: Պետական մարմինների կողմից օգտագործվող ոչ ֆինանսական ակտիվների հետ գործառնություններ
A38: Միջոցառումն իրականացնողի անվանումը | B38: ՀՀ ազգային անվտանգության ծառայություն
A39: Արդյունքի չափորոշիչներ
A40: Կառուցվող շենքերի և շինությունների ընդհանուր մակերես, ք.մ. | C40: ='Հավելված 6'!C40 -> 10155 | D40: ='Հավելված 6'!D40 -> 15232.5 | E40: ='Հավելված 6'!E40 -> 20310
A41: Միջոցառման վրա կատարվող ծախսը (հազար դրամ) | C41: 24000 | D41: 36000 | E41: 48000
A44: ՀՀ Կառավարություն
A45: ՄԱՍ 2. ՊԵՏԱԿԱՆ ՄԱՐՄՆԻ ԳԾՈՎ ԱՐԴՅՈՒՆՔԱՅԻՆ (ԿԱՏԱՐՈՂԱԿԱՆ) ՑՈՒՑԱՆԻՇՆԵՐԸ
A47: Ծրագրի դասիչը | B47: Ծրագրի անվանումը
A48: 1139 | B48: ՀՀ կառավարության պահուստային ֆոնդ
A50: Ծրագրի միջոցառումները
A51: Ծրագրի դասիչը` | B51: 1139 | C51: Ցուցանիշների փոփոխությունը (ավելացումները նշված են դրական նշանով)
A52: Միջոցառման դասիչը` | B52: 11001 | C52: Առաջին կիսամյակ | D52: Ինն ամիս | E52: Տարի
A53: Միջոցառման անվանումը` | B53: ՀՀ կառավարության պահուստային ֆոնդ
A54: Նկարագրությունը` | B54: ՀՀ պետական բյուջեում նախատեսված ելքերի լրացուցիչ ֆինանսավորման, պետական բյուջեում չկանխատեսված ելքերի, ինչպես նաև բյուջետային երաշխիքների ապահովման ելքերի ֆինանսավորման ապահովում
A55: Միջոցառման տեսակը` | B55: Ծառայությունների մատուցում
A56: Միջոցառումն իրականացնողի անվանումը | B56: ՀՀ կառավարություն
A57: Արդյունքի չափորոշիչներ
A58: Միջոցառման վրա կատարվող ծախսը (հազար դրամ) | C58: ='Հավելված 6'!C56 -> 60200 | D58: ='Հավելված 6'!D56 -> 90300 | E58: ='Հավելված 6'!E56 -> 120400
A60: Ծրագրի միջոցառումները
A61: Ծրագրի դասիչը` | B61: 1139 | C61: Ցուցանիշների փոփոխությունը (նվազեցումները նշված են փակագծերում)
A62: Միջոցառման դասիչը` | B62: 11001 | C62: Առաջին կիսամյակ | D62: Ինն ամիս | E62: Տարի
A63: Միջոցառման անվանումը` | B63: ՀՀ կառավարության պահուստային ֆոնդ
A64: Նկարագրությունը` | B64: ՀՀ պետական բյուջեում նախատեսված ելքերի լրացուցիչ ֆինանսավորման, պետական բյուջեում չկանխատեսված ելքերի, ինչպես նաև բյուջետային երաշխիքների ապահովման ելքերի ֆինանսավորման ապահովում
A65: Միջոցառման տեսակը` | B65: Ծառայությունների մատուցում
A66: Միջոցառումն իրականացնողի անվանումը | B66: ՀՀ կառավարություն
A67: Արդյունքի չափորոշիչներ
A68: Միջոցառման վրա կատարվող ծախսը (հազար դրամ) | C68: -60200 | D68: -90300 | E68: -120400

Sheet Հավելված 6
E1: Հավելված 6
C2: ՀՀ կառավարության 2022 թվականի
C3: ___________ ___-ի N _______ -Ն որոշման
A5: ՀԱՅԱՍՏԱՆԻ ՀԱՆՐԱՊԵՏՈՒԹՅԱՆ ԿԱՌԱՎԱՐՈՒԹՅԱՆ 2021 ԹՎԱԿԱՆԻ ԴԵԿՏԵՄԲԵՐԻ 23-Ի N 2121-Ն ՈՐՈՇՄԱՆ N 9.1 ՀԱՎԵԼՎԱԾԻ N9.1.32 ԵՎ N9.1.59 ԱՂՅՈՒՍԱԿՆԵՐՈՒՄ ԿԱՏԱՐՎՈՂ ՓՈՓՈԽՈՒԹՅՈՒՆՆԵՐԸ
A7: ՀՀ ազգային անվտանգության ծառայություն
A8: ՄԱՍ 1. ՊԵՏԱԿԱՆ ՄԱՐՄՆԻ ԳԾՈՎ ԱՐԴՅՈՒՆՔԱՅԻՆ (ԿԱՏԱՐՈՂԱԿԱՆ) ՑՈՒՑԱՆԻՇՆԵՐԸ
A10: Ծրագրի դասիչը | B10: Ծրագրի անվանումը
A11: 1138 | B11: Ազգային անվտանգություն
A13: Ծրագրի միջոցառումները
A14: Ծրագրի դասիչը` | B14: 1138 | C14: Ցուցանիշների փոփոխությունը (նվազեցումները նշված են փակագծերում)
A15: Միջոցառման դասիչը` | B15: 11001 | C15: Առաջին կիսամյակ | D15: Ինն ամիս | E15: Տարի
A16: Միջոցառման անվանումը` | B16: Հետախուզական, հակահետախուզական, ռազմական հակահետախուզության, հանցագործությունների դեմ պայքարի և պետական սահմանի պահպանության գործունեության կազմակերպում
A17: Նկարագրությունը` | B17: ՀՀ անվտանգությանը սպառնացող վտանգի մասին տեղեկատվության ստացում, վերլուծում, վտանգի կանխատեսում, վտանգի կանխման ու չեզոքացման վերաբերյալ առաջարկությունների մշակում_x000D_
A18: Միջոցառման տեսակը` | B18: Ծառայությունների մատուցում
A19: Միջոցառումն իրականացնողի անվանումը | B19: ՀՀ ազգային անվտանգության ծառայություն
A20: Արդյունքի չափորոշիչներ
A21: Միջոցառման վրա կատարվող ծախսը (հազար դրամ) | C21: ='Հավելված 2'!G22 -> -60200 | D21: ='Հավելված 2'!H24 -> -90300 | E21: ='Հավելված 2'!I24 -> -120400
A23: Ծրագրի միջոցառումները
A24: Ծրագրի դասիչը` | B24: 1138 | C24: Ցուցանիշների փոփոխությունը (ավելացումները նշված են դրական նշանով)
A25: Միջոցառման դասիչը` | B25: 11001 | C25: Առաջին կիսամյակ | D25: Ինն ամիս | E25: Տարի
A26: Միջոցառման անվանումը` | B26: Հետախուզական, հակահետախուզական, ռազմական հակահետախուզության, հանցագործությունների դեմ պայքարի և պետական սահմանի պահպանության գործունեության կազմակերպում
A27: Նկարագրությունը` | B27: ՀՀ անվտանգությանը սպառնացող վտանգի մասին տեղեկատվության ստացում, վերլուծում, վտանգի կանխատեսում, վտանգի կանխման ու չեզոքացման վերաբերյալ առաջարկությունների մշակում_x000D_
A28: Միջոցառման տեսակը` | B28: Ծառայությունների մատուցում
A29: Միջոցառումն իրականացնողի անվանումը | B29: ՀՀ ազգային անվտանգության ծառայություն
A30: Արդյունքի չափորոշիչներ
A31: Միջոցառման վրա կատարվող ծախսը (հազար դրամ) | C31: ='Հավելված 2'!G32 -> 36200 | D31: ='Հավելված 2'!H34 -> 54300 | E31: ='Հավելված 2'!I34 -> 72400
A33: Ծրագրի դասիչը` | B33: 1138 | C33: Ցուցանիշների փոփոխությունը (ավելացումները նշված են դրական նշանով)
A34: Միջոցառման դասիչը` | B34: 31002 | C34: Առաջին կիսամյակ | D34: Ինն ամիս | E34: Տարի
A35: Միջոցառման անվանումը` | B35: Ազգային անվտանգության համակարգի շենքային ապահովվածության բարելավում
A36: Նկարագրությունը` | B36: Ազգային անվտանգության համակարգի ստորաբաժանումների վարչական շենքերի կառուցում, կապիտալ վերանորոգում, շինարարական և կապիտալ նորոգման օբյեկտների նախագծահետազոտական փաստաթղթերի պատրաստում
A37: Միջոցառման տեսակը` | B37: Պետական մարմինների կողմից օգտագործվող ոչ ֆինանսական ակտիվների հետ գործառնություններ
A38: Միջոցառումն իրականացնողի անվանումը | B38: ՀՀ ազգային անվտանգության ծառայություն
A39: Արդյունքի չափորոշիչներ
A40: Կառուցվող շենքերի և շինությունների ընդհանուր մակերես, ք.մ. | C40: 10155 | D40: 15232.5 | E40: 20310
A41: Միջոցառման վրա կատարվող ծախսը (հազար դրամ) | C41: 24000 | D41: 36000 | E41: 48000
A42: ՀՀ Կառավարություն
A43: ՄԱՍ 1. ՊԵՏԱԿԱՆ ՄԱՐՄՆԻ ԳԾՈՎ ԱՐԴՅՈՒՆՔԱՅԻՆ (ԿԱՏԱՐՈՂԱԿԱՆ) ՑՈՒՑԱՆԻՇՆԵՐԸ
A45: Ծրագրի դասիչը | B45: Ծրագրի անվանումը
A46: 1139 | B46: ՀՀ կառավարության պահուստային ֆոնդ
A48: Ծրագրի միջոցառումները
A49: Ծրագրի դասիչը` | B49: 1139 | C49: Ցուցանիշների փոփոխությունը (ավելացումները նշված են դրական նշանով)
A50: Միջոցառման դասիչը` | B50: 11001 | C50: Առաջին կիսամյակ | D50: Ինն ամիս | E50: Տարի
A51: Միջոցառման անվանումը` | B51: ՀՀ կառավարության պահուստային ֆոնդ
A52: Նկարագրությունը` | B52: ՀՀ պետական բյուջեում նախատեսված ելքերի լրացուցիչ ֆինանսավորման, պետական բյուջեում չկանխատեսված ելքերի, ինչպես նաև բյուջետային երաշխիքների ապահովման ելքերի ֆինանսավորման ապահովում
A53: Միջոցառման տեսակը` | B53: Ծառայությունների մատուցում
A54: Միջոցառումն իրականացնողի անվանումը | B54: ՀՀ կառավարություն
A55: Արդյունքի չափորոշիչներ
A56: Միջոցառման վրա կատարվող ծախսը (հազար դրամ) | C56: 60200 | D56: 90300 | E56: 120400
A58: Ծրագրի միջոցառումները
A59: Ծրագրի դասիչը` | B59: 1139 | C59: Ցուցանիշների փոփոխությունը (նվազեցումները նշված են փակագծերում)
A60: Միջոցառման դասիչը` | B60: 11001 | C60: Առաջին կիսամյակ | D60: Ինն ամիս | E60: Տարի
A61: Միջոցառման անվանումը` | B61: ՀՀ կառավարության պահուստային ֆոնդ
A62: Նկարագրությունը` | B62: ՀՀ պետական բյուջեում նախատեսված ելքերի լրացուցիչ ֆինանսավորման, պետական բյուջեում չկանխատեսված ելքերի, ինչպես նաև բյուջետային երաշխիքների ապահովման ելքերի ֆինանսավորման ապահովում
A63: Միջոցառման տեսակը` | B63: Ծառայությունների մատուցում
A64: Միջոցառումն իրականացնողի անվանումը | B64: ՀՀ կառավարություն
A65: Արդյունքի չափորոշիչներ
A66: Միջոցառման վրա կատարվող ծախսը (հազար դրամ) | C66: -60200 | D66: -90300 | E66: -120400
