Workbook
Name AgencyCode: #REF!
Name AgencyCode: #REF!
Name AgencyCode: #REF!
Name AgencyName: #REF!
Name AgencyName: #REF!
Name Functional1: #REF!
Name Functional1: #REF!
Name PANature: #REF!
Name PANature: #REF!
Name PAType: #REF!
Name PAType: #REF!
Name Performance2: #REF!
Name Performance2: #REF!
Name PerformanceType: #REF!
Name PerformanceType: #REF!

Sheet 1
H1: Հավելված N1
H2: ՀՀ կառավարության 2022 թվականի
H3: ______________ ի ___Ն որոշման
A4: «ՀԱՅԱՍՏԱՆԻ ՀԱՆՐԱՊԵՏՈՒԹՅԱՆ 2022 ԹՎԱԿԱՆԻ ՊԵՏԱԿԱՆ ԲՅՈՒՋԵԻ ՄԱՍԻՆ» ՀԱՅԱՍՏԱՆԻ ՀԱՆՐԱՊԵՏՈՒԹՅԱՆ ՕՐԵՆՔԻ N 1 ՀԱՎԵԼՎԱԾԻ N 3 ԱՂՅՈՒՍԱԿՈՒՄ ԿԱՏԱՐՎՈՂ ՓՈՓՈԽՈՒԹՅՈՒՆՆԵՐԸ ԵՎ ԼՐԱՑՈՒՄՆԵՐԸ
G5: հազ. դրամ
A6: Ծրագրային դասիչ | C6: Բյուջետային գլխավոր կարգադրիչների, ծրագրերի, միջոցառումների և ուղղությունների անվանումները | D6: Ցուցանիշների փոփոխությունը (ավելացումները նշված են դրական նշանով, իսկ նվազեցումները` փակագծերում)
D7: Ընդամենը, | E7: այդ թվում՝
A8: Ծրագիր | B8: Միջոցառում | E8: Կառուցման աշխատանքներ | F8: Վերակառուցման, վերանորոգման և վերականգնման աշխատանքներ | G8: Նախագծահե- տազոտական, գեոդեզիա- քարտեզագրա- կան աշխա- տանքներ | H8: Ոչ ֆինանսական այլ ակտիվների ձեռքբերում
C9: ԸՆԴԱՄԵՆԸ | D9: =+E9+F9+G9+H9 -> 0 | E9: =E11 -> 0 | F9: =F11 -> 0 | G9: =G11 -> 0 | H9: =H11 -> 0
C10: այդ թվում՝
C11: ՀՀ ՏԱՐԱԾՔԱՅԻՆ ԿԱՌԱՎԱՐՄԱՆ ԵՎ ԵՆԹԱԿԱՌՈՒՑՎԱԾՔՆԵՐԻ ՆԱԽԱՐԱՐՈՒԹՅՈՒՆ | D11: =+E11+F11+G11+H11 -> 0 | E11: =+E13+E29 -> 0 | F11: =+F13+F29 -> 0 | G11: =+G13+G29 -> 0 | H11: =+H13+H29 -> 0
C12: այդ թվում`
A13: 1049 | B13: 21001 | C13: Պետական նշանակության ավտոճանապարհների հիմնանորոգում | D13: =+E13+F13+G13+H13 -> 7783374.1 | E13: =+E15+E17+E21 -> 0 | F13: =+F15+F17+F21 -> 7783374.1 | G13: =+G15+G17+G21 -> 0 | H13: =+H15+H17+H21 -> 0
C14: այդ թվում`
B15: 1 | C15: Միջպետական նշանակության ավտոճանապարհներ, այդ թվում | D15: =+E15+F15+G15+H15 -> 1107605.9 | E15: =SUM(E16:E16) -> 0 | F15: =SUM(F16:F16) -> 1107605.9 | G15: =SUM(G16:G16) -> 0 | H15: =SUM(H16:H16) -> 0
C16: =+'3'!C19 -> Մ-3, Թուրքիայի սահման-Մարգարա-Վանաձոր-Տաշիր-Վրաստանի սահման միջպետական նշանակության ավտոճանապարհի կմ2+000 - կմ10+500 հատվածի հիմնանորոգում | D16: =+E16+F16+G16+H16 -> 1107605.9 | E16: 0 | F16: =+'3'!F19 -> 1107605.9 | G16: 0 | H16: 0
B17: 2 | C17: Հանրապետական նշանակության ավտոճանապարհներ, այդ թվում | D17: =+E17+F17+G17+H17 -> 5237184.5 | E17: =SUM(E18:E20) -> 0 | F17: =SUM(F18:F20) -> 5237184.5 | G17: =SUM(G18:G20) -> 0 | H17: =SUM(H18:H20) -> 0
C18: =+'3'!C22 -> Հ-2, /Հ-1/ Աբովյան- Արզնի-/Հ-6/ (Նոր Գեղի) հանրապետական նշանակության ավտոճանապարհի կմ0+000-կմ1+400 հատվածի հիմնանորոգում | D18: =+E18+F18+G18+H18 -> 403507.9 | E18: 0 | F18: =+'3'!F22 -> 403507.9 | G18: 0 | H18: 0
C19: =+'3'!C23 -> Հ-5, /Հ-6/-Նոր Գեղի-Արգել-Արզական-Հրազդան հանրապետական նշանակության ավտոճանապարհի կմ0+000 - կմ10+000 հատվածի հիմնանորոգում | D19: =+E19+F19+G19+H19 -> 1303695.9 | E19: 0 | F19: =+'3'!F23 -> 1303695.9 | G19: 0 | H19: 0
C20: =+'3'!C27 -> Հ-36, /Մ-4/ (Իջևան) - Նավուր - Բերդ - Այգեպար հանրապետական նշանակության ավտոճանապարհի կմ 5+600-կմ 42+100 հատվածի հիմնանորոգում | D20: =+E20+F20+G20+H20 -> 3529980.7 | E20: 0 | F20: =+'3'!F27 -> 3529980.7 | G20: 0 | H20: 0
B21: 3 | C21: Մարզային նշանակության ավտոճանապարհներ, այդ թվում | D21: =+E21+F21+G21+H21 -> 1438583.7 | E21: =SUM(E22:E28) -> 0 | F21: =SUM(F22:F28) -> 1438583.7 | G21: =SUM(G22:G28) -> 0 | H21: =SUM(H22:H28) -> 0
C22: =+'3'!C29 -> Տ-5-69, /Հ-70/ - Ահնիձոր մարզային նշանակության ավտոճանապարհի կմ0+000 - կմ4+000 հատվածի հիմնանորոգում | D22: =+E22+F22+G22+H22 -> 262323.3 | E22: 0 | F22: =+'3'!F29 -> 262323.3 | G22: 0 | H22: 0
C23: =+'3'!C30 -> /Հ-70/ – Քարինջ մարզային նշանակության ավտոճանապարհի կմ0+000 - կմ3+500 հատվածի հիմնանորոգում | D23: =+E23+F23+G23+H23 -> 351284.2 | E23: 0 | F23: =+'3'!F30 -> 351284.2 | G23: 0 | H23: 0
C24: =+'3'!C31 -> Տ-5-82, /Հ-70/ – Լորուտ մարզային նշանակության ավտոճանապարհի կմ0+000 - կմ1+600 հատվածի հիմնանորոգում | D24: =+E24+F24+G24+H24 -> 146071.9 | E24: 0 | F24: =+'3'!F31 -> 146071.9 | G24: 0 | H24: 0
C25: =+'3'!C32 -> Տ-5-93, /Հ-70/ - Մարց մարզային նշանակության ավտոճանապարհի կմ0+000 - կմ0+800 հատվածի հիմնանորոգում | D25: =+E25+F25+G25+H25 -> 65447 | E25: 0 | F25: =+'3'!F32 -> 65447 | G25: 0 | H25: 0
C26: =+'3'!C34 -> Հրազդան քաղաքի Տիգրան Մեծ փողոցի 290 գծ.մ հատվածի հիմնանորոգում | D26: =+E26+F26+G26+H26 -> 70842.4 | E26: 0 | F26: =+'3'!F34 -> 70842.4 | G26: 0 | H26: 0
C27: =+'3'!C35 -> Հրազդան քաղաքի Վանատուր թաղամասի միջթաղամասային փողոցների 3384 գծ.մ (626 գծ.մ, 310 գծ.մ, 176 գծ.մ, 1235 գծ.մ, 950 գծ.մ և 87 գծ.մ ) հատվածների հիմնանորոգում | D27: =+E27+F27+G27+H27 -> 371931.4 | E27: 0 | F27: =+'3'!F35 -> 371931.4 | G27: 0 | H27: 0
C28: =+'3'!C36 -> Հրազդան քաղաքի հարավային թաղամաս 1069 գծ.մ (Նոյեմբերյան փողոց 627 գծ.մ, Մյասնիկյան փողոց 442 գծ.մ ) հատվածների հիմնանորոգում | D28: =+E28+F28+G28+H28 -> 170683.5 | E28: 0 | F28: =+'3'!F36 -> 170683.5 | G28: 0 | H28: 0
A29: 1049 | B29: 21001 | C29: Պետական նշանակության ավտոճանապարհների հիմնանորոգում | D29: =+E29+F29+G29+H29 -> -7783374.1 | E29: =-E13 -> 0 | F29: =-F13-E13-G13-H13 -> -7783374.1 | G29: 0 | H29: =-H13 -> 0

Sheet 2
A1: Հավելված N2
A2: ՀՀ կառավարության 2022 թվականի
A3: ______________ ի ___Ն որոշման
A5: ՀԱՅԱՍՏԱՆԻ ՀԱՆՐԱՊԵՏՈՒԹՅԱՆ ԿԱՌԱՎԱՐՈՒԹՅԱՆ 2021 ԹՎԱԿԱՆԻ ԴԵԿՏԵՄԲԵՐԻ 23-Ի N 2121-Ն ՈՐՈՇՄԱՆ N 3 ԵՎ N 4 ՀԱՎԵԼՎԱԾՆԵՐՈՒՄ ԿԱՏԱՐՎՈՂ ՓՈՓՈԽՈՒԹՅՈՒՆՆԵՐԸ ԵՎ ԼՐԱՑՈՒՄՆԵՐԸ
H7: հազ. դրամ
A8: Գործառական դասիչը | D8: Ծրագրային դասիչը | F8: Բյուջետային ծախսերի գործառական դասակարգման բաժինների, խմբերի և դասերի, բյուջետային հատկացումների գլխավոր կարգադրիչների, ծրագրերի, միջոցառումների և միջոցառումները կատարող պետական մարմինների անվանումները | G8: Ցուցանիշների փոփոխությունը (ավելացումները նշված են դրական նշանով, իսկ նվազեցումները` փակագծերում)
A9: Բաժին | B9: Խումբ | C9: Դաս | D9: Ծրագիր | E9: Միջոցառում | G9: Առաջին կիսամյակ | H9: Ինն ամիս | I9: Տարի
F10: ԸՆԴԱՄԵՆԸ ԾԱԽՍԵՐ | G10: =G12 -> 0 | H10: =H12 -> 0 | I10: =I12 -> 0
F11: այդ թվում`
A12: 04 | F12: ՏՆՏԵՍԱԿԱՆ ՀԱՐԱԲԵՐՈՒԹՅՈՒՆՆԵՐ | G12: =G14 -> 0 | H12: =H14 -> 0 | I12: =I14 -> 0
F13: այդ թվում`
B14: 05 | F14: Տրանսպորտ | G14: =G16 -> 0 | H14: =H16 -> 0 | I14: =I16 -> 0
F15: այդ թվում`
C16: 01 | F16: Ճանապարհային տրանսպորտ | G16: =G18 -> 0 | H16: =H18 -> 0 | I16: =I18 -> 0
F17: այդ թվում`
F18: ՀՀ ՏԱՐԱԾՔԱՅԻՆ ԿԱՌԱՎԱՐՄԱՆ ԵՎ ԵՆԹԱԿԱՌՈՒՑՎԱԾՔՆԵՐԻ ՆԱԽԱՐԱՐՈՒԹՅՈՒՆ | G18: =+G20 -> 0 | H18: =+H20 -> 0 | I18: =+I20 -> 0
F19: այդ թվում`
D20: 1049 | F20: Ճանապարհային ցանցի բարելավում | G20: =+G22 -> 0 | H20: =+H22 -> 0 | I20: =+I22 -> 0
F21: այդ թվում`
E22: 21001 | F22: Պետական նշանակության ավտոճանապարհների հիմնանորոգում | G22: =+G24+G31 -> 0 | H22: =+H24+H31 -> 0 | I22: =+I24+I31 -> 0
F23: այդ թվում` ըստ կատարողների
F24: ՀՀ կառավարություն | G24: =+G26 -> 350000 | H24: =+H26 -> -2318171.4 | I24: =+I26 -> -7783374.1
F25: այդ թվում` բյուջետային ծախսերի տնտեսագիտական դասակարգման հոդվածների
F26: ԸՆԴԱՄԵՆԸ ԾԱԽՍԵՐ | G26: =+G27 -> 350000 | H26: =+H27 -> -2318171.4 | I26: =+I27 -> -7783374.1
F27: ՈՉ ՖԻՆԱՆՍԱԿԱՆ ԱԿՏԻՎՆԵՐԻ ԳԾՈՎ ԾԱԽՍԵՐ | G27: =+G28 -> 350000 | H27: =+H28 -> -2318171.4 | I27: =+I28 -> -7783374.1
F28: ՀԻՄՆԱԿԱՆ ՄԻՋՈՑՆԵՐ | G28: =+G29 -> 350000 | H28: =+H29 -> -2318171.4 | I28: =+I29 -> -7783374.1
F29: ՇԵՆՔԵՐ ԵՎ ՇԻՆՈՒԹՅՈՒՆՆԵՐ | G29: =+G30 -> 350000 | H29: =+H30 -> -2318171.4 | I29: =+I30 -> -7783374.1
F30: - Շենքերի և շինությունների կապիտալ վերանորոգում | G30: =-G31 -> 350000 | H30: =-H31 -> -2318171.4 | I30: =-I31 -> -7783374.1
F31: ՀՀ տարածքային կառավարման և ենթակառուցվածքների նախարարություն | G31: =+G33 -> -350000 | H31: =+H33 -> 2318171.4 | I31: =+I33 -> 7783374.1
F32: այդ թվում` բյուջետային ծախսերի տնտեսագիտական դասակարգման հոդվածների
F33: ԸՆԴԱՄԵՆԸ ԾԱԽՍԵՐ | G33: =+G34 -> -350000 | H33: =+H34 -> 2318171.4 | I33: =+I34 -> 7783374.1
F34: ՈՉ ՖԻՆԱՆՍԱԿԱՆ ԱԿՏԻՎՆԵՐԻ ԳԾՈՎ ԾԱԽՍԵՐ | G34: =+G35 -> -350000 | H34: =+H35 -> 2318171.4 | I34: =+I35 -> 7783374.1
F35: ՀԻՄՆԱԿԱՆ ՄԻՋՈՑՆԵՐ | G35: =+G36 -> -350000 | H35: =+H36 -> 2318171.4 | I35: =+I36 -> 7783374.1
F36: ՇԵՆՔԵՐ ԵՎ ՇԻՆՈՒԹՅՈՒՆՆԵՐ | G36: =+G37 -> -350000 | H36: =+H37 -> 2318171.4 | I36: =+I37 -> 7783374.1
F37: - Շենքերի և շինությունների կապիտալ վերանորոգում | G37: =+'3'!D16 -> -350000 | H37: =+'3'!E16 -> 2318171.4 | I37: =+'3'!F16 -> 7783374.1

Sheet 3
A1: Հավելված N3
A2: ՀՀ կառավարության 2022 թվականի
A3: ______________ ի ___Ն որոշման
A5: ՀԱՅԱՍՏԱՆԻ ՀԱՆՐԱՊԵՏՈՒԹՅԱՆ ԿԱՌԱՎԱՐՈՒԹՅԱՆ 2021 ԹՎԱԿԱՆԻ ԴԵԿՏԵՄԲԵՐԻ 23-Ի N 2121-Ն ՈՐՈՇՄԱՆ N 5 ՀԱՎԵԼՎԱԾԻ N 2 ԱՂՅՈՒՍԱԿՈՒՄ ԿԱՏԱՐՎՈՂ ՓՈՓՈԽՈՒԹՅՈՒՆՆԵՐԸ ԵՎ ԼՐԱՑՈՒՄՆԵՐԸ
E6: հազ. դրամ
A7: Ծրագրային դասիչ | C7: Բյուջետային գլխավոր կարգադրիչների, ծրագրերի, միջոցառումների և ուղղությունների անվանումները | D7: Ցուցանիշների փոփոխությունը (ավելացումները նշված են դրական նշանով, իսկ նվազեցումները` փակագծերում)
A8: Ծրագիր | B8: Միջոցառում | D8: Առաջին կիսամյակ | E8: Ինն ամիս | F8: Տարի
C9: ԸՆԴԱՄԵՆԸ | D9: =D11 -> 0 | E9: =E11 -> 0 | F9: =F11 -> 0
C10: այդ թվում՝
C11: ՀՀ ՏԱՐԱԾՔԱՅԻՆ ԿԱՌԱՎԱՐՄԱՆ ԵՎ ԵՆԹԱԿԱՌՈՒՑՎԱԾՔՆԵՐԻ ՆԱԽԱՐԱՐՈՒԹՅՈՒՆ | D11: =+D13 -> 0 | E11: =+E13 -> 0 | F11: =+F13 -> 0
C12: այդ թվում`
A13: 1049 | B13: 21001 | C13: Պետական նշանակության ավտոճանապարհների հիմնանորոգում | D13: =+D15+D16 -> 0 | E13: =+E15+E16 -> 0 | F13: =+F15+F16 -> 0
C14: այդ թվում` ըստ կատարողների
C15: ՀՀ կառավարություն | D15: =-D16 -> 350000 | E15: =-E16 -> -2318171.4 | F15: =-F16 -> -7783374.1
C16: ՀՀ տարածքային կառավարման և ենթակառուցվածքների նախարարություն | D16: =+D18+D21+D28 -> -350000 | E16: =+E18+E21+E28 -> 2318171.4 | F16: =+F18+F21+F28 -> 7783374.1
C17: այդ թվում՝ ըստ ուղղությունների
B18: 1 | C18: Միջպետական նշանակության ավտոճանապարհներ, այդ թվում | D18: =SUM(D19:D20) -> 250000 | E18: =SUM(E19:E20) -> 443042.4 | F18: =SUM(F19:F20) -> 1107605.9
C19: Մ-3, Թուրքիայի սահման-Մարգարա-Վանաձոր-Տաշիր-Վրաստանի սահման միջպետական նշանակության ավտոճանապարհի կմ2+000 - կմ10+500 հատվածի հիմնանորոգում | D19: 0 | E19: 443042.4 | F19: 1107605.9
C20: Մ-3, Թուրքիայի սահման-Մարգարա-Վանաձոր-Տաշիր-Վրաստանի սահման միջպետական նշանակության ավտոճանապարհի կմ154+000-կմ176+900 հատվածի հիմնանորոգում | D20: 250000 | E20: 0 | F20: 0
B21: 2 | C21: Հանրապետական նշանակության ավտոճանապարհներ, այդ թվում | D21: =SUM(D22:D27) -> 500000 | E21: =SUM(E22:E27) -> 1155837 | F21: =SUM(F22:F27) -> 5237184.5
C22: Հ-2, /Հ-1/ Աբովյան- Արզնի-/Հ-6/ (Նոր Գեղի) հանրապետական նշանակության ավտոճանապարհի կմ0+000-կմ1+400 հատվածի հիմնանորոգում | D22: 0 | E22: 201754 | F22: 403507.9
C23: Հ-5, /Հ-6/-Նոր Գեղի-Արգել-Արզական-Հրազդան հանրապետական նշանակության ավտոճանապարհի կմ0+000 - կմ10+000 հատվածի հիմնանորոգում | D23: 0 | E23: 399735.3 | F23: 1303695.9
C24: Հ-8, /Մ-2/-Այնթապ-Մխչյան-Արտաշատ-Այգևան-/Մ-2/ հանրապետական նշանակության ավտոճանապարհի կմ21+200-կմ 26+400 և կմ30+000-կմ33+500 հատվածների հիմնանորոգում | D24: 314489 | E24: 0 | F24: 0
C25: Հ-21, /Հ-75/ - Հոռոմ-Արթիկ-Ալագյազ հանրապետական նշանակության ավտոճանապարհի կմ19+000 - կմ23+900 հատվածի հիմնանորոգում | D25: -214489 | E25: 0 | F25: 0
C26: Հ-30, /Մ-4/ - Ճամբարակ - /Մ-14/ հանրապետական նշանակության ավտոճանապարհի կմ0+000-կմ11+000 հատվածի հիմնանորոգում | D26: 400000 | E26: 0 | F26: 0
C27: Հ-36, /Մ-4/ (Իջևան) - Նավուր - Բերդ - Այգեպար հանրապետական նշանակության ավտոճանապարհի կմ 5+600-կմ 42+100 հատվածի հիմնանորոգում | D27: 0 | E27: 554347.7 | F27: 3529980.7
B28: 3 | C28: Մարզային նշանակության ավտոճանապարհներ, այդ թվում | D28: =SUM(D29:D36) -> -1100000 | E28: =SUM(E29:E36) -> 719292 | F28: =SUM(F29:F36) -> 1438583.7
C29: Տ-5-69, /Հ-70/ - Ահնիձոր մարզային նշանակության ավտոճանապարհի կմ0+000 - կմ4+000 հատվածի հիմնանորոգում | D29: 0 | E29: 131161.7 | F29: 262323.3
C30: /Հ-70/ – Քարինջ մարզային նշանակության ավտոճանապարհի կմ0+000 - կմ3+500 հատվածի հիմնանորոգում | D30: 0 | E30: 175642.1 | F30: 351284.2
C31: Տ-5-82, /Հ-70/ – Լորուտ մարզային նշանակության ավտոճանապարհի կմ0+000 - կմ1+600 հատվածի հիմնանորոգում | D31: 0 | E31: 73036 | F31: 146071.9
C32: Տ-5-93, /Հ-70/ - Մարց մարզային նշանակության ավտոճանապարհի կմ0+000 - կմ0+800 հատվածի հիմնանորոգում | D32: 0 | E32: 32723.5 | F32: 65447
C33: Տ-8-93.Լծեն-Տաթև ավտոճանապարհի վերակառուցում | D33: -1100000 | E33: 0 | F33: 0
C34: Հրազդան քաղաքի Տիգրան Մեծ փողոցի 290 գծ.մ հատվածի հիմնանորոգում | D34: 0 | E34: 35421.2 | F34: 70842.4
C35: Հրազդան քաղաքի Վանատուր թաղամասի միջթաղամասային փողոցների 3384 գծ.մ (626 գծ.մ, 310 գծ.մ, 176 գծ.մ, 1235 գծ.մ, 950 գծ.մ և 87 գծ.մ ) հատվածների հիմնանորոգում | D35: 0 | E35: 185965.7 | F35: 371931.4
C36: Հրազդան քաղաքի հարավային թաղամաս 1069 գծ.մ (Նոյեմբերյան փողոց 627 գծ.մ, Մյասնիկյան փողոց 442 գծ.մ ) հատվածների հիմնանորոգում | D36: 0 | E36: 85341.8 | F36: 170683.5

Sheet 4
E1: Հավելված N4
A2: ՀՀ կառավարության 2022 թվականի
A3: ______________ ի ___Ն որոշման
A4: ՀԱՅԱՍՏԱՆԻ ՀԱՆՐԱՊԵՏՈՒԹՅԱՆ ԿԱՌԱՎԱՐՈՒԹՅԱՆ 2021 ԹՎԱԿԱՆԻ ԴԵԿՏԵՄԲԵՐԻ 23-Ի N 2121-Ն ՈՐՈՇՄԱՆ N 9 ՀԱՎԵԼՎԱԾԻ NN 9.7 ԱՂՅՈՒՍԱԿՈՒՄ ԿԱՏԱՐՎՈՂ ՓՈՓՈԽՈՒԹՅՈՒՆՆԵՐԸ ԵՎ ԼՐԱՑՈՒՄՆԵՐԸ
E5: Աղյուսակ 9.7
A6: ՀՀ ՏԱՐԱԾՔԱՅԻՆ ԿԱՌԱՎԱՐՄԱՆ ԵՎ ԵՆԹԱԿԱՌՈՒՑՎԱԾՔՆԵՐԻ ՆԱԽԱՐԱՐՈՒԹՅՈՒՆ
A7: ՄԱՍ 2. ՊԵՏԱԿԱՆ ՄԱՐՄՆԻ ԳԾՈՎ ԱՐԴՅՈՒՆՔԱՅԻՆ (ԿԱՏԱՐՈՂԱԿԱՆ) ՑՈՒՑԱՆԻՇՆԵՐԸ
A8: Ծրագրի դասիչը | B8: Ծրագրի անվանումը
A9: 1049 | B9: Ճանապարհային ցանցի բարելավում
A11: Ծրագրի միջոցառումները
A13: Ծրագրի դասիչը` | B13: 1049 | C13: Ցուցանիշների փոփոխությունը (ավելացումները նշված են դրական նշանով, իսկ նվազեցումները` փակագծերում)
A14: Միջոցառման դասիչը` | B14: 21001 | C14: Առաջին կիսամյակ | D14: Ինն ամիս | E14: Տարի
A15: Միջոցառման անվանումը` | B15: Պետական նշանակության ավտոճանապարհների հիմնանորոգում
A16: Նկարագրությունը` | B16: Միջպետական՝ հանրապետական և մարզային նշանակության ավտոճանապարհների քայքայված ծածկի վերանորոգում՝ մաշված ծածկի փոխարինում_x000D_
A17: Միջոցառման տեսակը` | B17: Հանրության կողմից անմիջականորեն օգտագործվող ակտիվների հետ կապված միջոցառումներ
A18: Միջոցառումն իրականացնողի անվանումը | B18: Մասնագիտացված միավոր
A19: Արդյունքի չափորոշիչներ
A20: Հանրապետական նշանակության ավտոճանապարհներ | C20: 0 | D20: 0 | E20: =-83+114.3+39.4 -> 70.7
A21: Մարզային նշանակության ավտոճանապարհներ | C21: 0 | D21: 0 | E21: =-71+77.6+14.6 -> 21.2
A22: Միջոցառման վրա կատարվող ծախսը (հազար դրամ) | C22: 0 | D22: 0 | E22: 0

Sheet 5
E1: Հավելված N4
A2: ՀՀ կառավարության 2022 թվականի
A3: ______________ ի ___Ն որոշման
A4: ՀԱՅԱՍՏԱՆԻ ՀԱՆՐԱՊԵՏՈՒԹՅԱՆ ԿԱՌԱՎԱՐՈՒԹՅԱՆ 2021 ԹՎԱԿԱՆԻ ԴԵԿՏԵՄԲԵՐԻ 23-Ի N 2121-Ն ՈՐՈՇՄԱՆ N 9.1 ՀԱՎԵԼՎԱԾԻ NN 9.1.8 և 9.1.59 ԱՂՅՈՒՍԱԿՆԵՐՈՒՄ ԿԱՏԱՐՎՈՂ ՓՈՓՈԽՈՒԹՅՈՒՆՆԵՐԸ ԵՎ ԼՐԱՑՈՒՄՆԵՐԸ
E5: Աղյուսակ 9.1.8
A6: ՀՀ ՏԱՐԱԾՔԱՅԻՆ ԿԱՌԱՎԱՐՄԱՆ ԵՎ ԵՆԹԱԿԱՌՈՒՑՎԱԾՔՆԵՐԻ ՆԱԽԱՐԱՐՈՒԹՅՈՒՆ
A7: ՄԱՍ 1. ՊԵՏԱԿԱՆ ՄԱՐՄՆԻ ԳԾՈՎ ԱՐԴՅՈՒՆՔԱՅԻՆ (ԿԱՏԱՐՈՂԱԿԱՆ) ՑՈՒՑԱՆԻՇՆԵՐԸ
A8: Ծրագրի դասիչը | B8: Ծրագրի անվանումը
A9: 1049 | B9: Ճանապարհային ցանցի բարելավում
A11: Ծրագրի միջոցառումները
A13: Ծրագրի դասիչը` | B13: 1049 | C13: Ցուցանիշների փոփոխությունը (ավելացումները նշված են դրական նշանով, իսկ նվազեցումները` փակագծերում)
A14: Միջոցառման դասիչը` | B14: 21001 | C14: Առաջին կիսամյակ | D14: Ինն ամիս | E14: Տարի
A15: Միջոցառման անվանումը` | B15: Պետական նշանակության ավտոճանապարհների հիմնանորոգում
A16: Նկարագրությունը` | B16: Միջպետական՝ հանրապետական և մարզային նշանակության ավտոճանապարհների քայքայված ծածկի վերանորոգում՝ մաշված ծածկի փոխարինում_x000D_
A17: Միջոցառման տեսակը` | B17: Հանրության կողմից անմիջականորեն օգտագործվող ակտիվների հետ կապված միջոցառումներ
A18: Միջոցառումն իրականացնողի անվանումը | B18: Մասնագիտացված միավոր
A19: Արդյունքի չափորոշիչներ
A20: Միջպետական նշանակության ավտոճանապարհներ | C20: =-C42 -> 0 | D20: =-D42 -> 0 | E20: =-E42 -> 8.5
A21: Հանրապետական նշանակության ավտոճանապարհներ | C21: 0 | D21: =-D43 -> 8.1 | E21: 39.4
A22: Մարզային նշանակության ավտոճանապարհներ | C22: 0 | D22: =-D44 -> 4.5 | E22: 14.6
A23: Միջոցառման վրա կատարվող ծախսը (հազար դրամ) | C23: =+'3'!D16 -> -350000 | D23: =+'3'!E16 -> 2318171.4 | E23: =+'3'!F16 -> 7783374.1
E28: Աղյուսակ 9.1.59
A29: ՀՀ ԿԱՌԱՎԱՐՈՒԹՅՈՒՆ
A30: ՄԱՍ 1. ՊԵՏԱԿԱՆ ՄԱՐՄՆԻ ԳԾՈՎ ԱՐԴՅՈՒՆՔԱՅԻՆ (ԿԱՏԱՐՈՂԱԿԱՆ) ՑՈՒՑԱՆԻՇՆԵՐԸ
A31: Ծրագրի դասիչը | B31: Ծրագրի անվանումը
A32: 1049 | B32: Ճանապարհային ցանցի բարելավում
A34: Ծրագրի միջոցառումները
A36: Ծրագրի դասիչը` | B36: 1049 | C36: Ցուցանիշների փոփոխությունը (ավելացումները նշված են դրական նշանով, իսկ նվազեցումները` փակագծերում)
A37: Միջոցառման դասիչը` | B37: 21001 | C37: Առաջին կիսամյակ | D37: Ինն ամիս | E37: Տարի
A38: Միջոցառման անվանումը` | B38: Պետական նշանակության ավտոճանապարհների հիմնանորոգում
A39: Նկարագրությունը` | B39: Միջպետական՝ հանրապետական և մարզային նշանակության ավտոճանապարհների քայքայված ծածկի վերանորոգում՝ մաշված ծածկի փոխարինում_x000D_
A40: Միջոցառման տեսակը` | B40: Հանրության կողմից անմիջականորեն օգտագործվող ակտիվների հետ կապված միջոցառումներ
A41: Արդյունքի չափորոշիչներ
A42: Միջպետական նշանակության ավտոճանապարհներ | C42: 0 | D42: 0 | E42: -8.5
A43: Հանրապետական նշանակության ավտոճանապարհներ | C43: 0 | D43: -8.1 | E43: -8.1
A44: Մարզային նշանակության ավտոճանապարհներ | C44: 0 | D44: -4.5 | E44: -8
A45: Միջոցառման վրա կատարվող ծախսը (հազար դրամ) | C45: =-C23 -> 350000 | D45: =-D23 -> -2318171.4 | E45: =-E23 -> -7783374.1
A47: Ծրագրի դասիչը` | B47: 1049 | C47: Ցուցանիշների փոփոխությունը (նվազեցումները նշված են փակագծերում)
A48: Միջոցառման դասիչը` | B48: 21002 | C48: Առաջին կիսամյակ | D48: Ինն ամիս | E48: Տարի
A49: Միջոցառման անվանումը` | B49: Տրանսպորտային օբյեկտների հիմնանորոգում
A50: Նկարագրությունը` | B50: Ավտոմոբիլային ճանապարհների վրա գտնվող կամուրջների հիմնանորոգում
A51: Միջոցառման տեսակը` | B51: Հանրության կողմից անմիջականորեն օգտագործվող ակտիվների հետ կապված միջոցառումներ
A52: Միջոցառումն իրականացնողի անվանումը | B52: Մասնագիտացված միավոր
A53: Արդյունքի չափորոշիչներ
A54: Միջոցառման վրա կատարվող ծախսը (հազար դրամ) | C54: =+'3'!#REF! -> #REF! | D54: =+'3'!#REF! -> #REF! | E54: =+'3'!#REF! -> #REF!

Sheet 6
A1: Հավելված N5
A2: ՀՀ կառավարության 2022 թվականի
A3: ______________ ի ___Ն որոշման
A5: ՀԱՅԱՍՏԱՆԻ ՀԱՆՐԱՊԵՏՈՒԹՅԱՆ ԿԱՌԱՎԱՐՈՒԹՅԱՆ 2021 ԹՎԱԿԱՆԻ ԴԵԿՏԵՄԲԵՐԻ 23-Ի N 2121-Ն ՈՐՈՇՄԱՆ N 10 ՀԱՎԵԼՎԱԾՈՒՄ ԿԱՏԱՐՎՈՂ ԼՐԱՑՈՒՄՆԵՐԸ
A6: Կոդը | B6: Անվանումը | C6: Գնման ձևը | D6: Չափման միավորը | E6: Միավորի գինը | F6: Ցուցանիշների փոփոխությունը (ավելացումները նշված են դրական նշանով)
F7: Քանակը | G7: Գումարը (հազար դրամով)
A8: ՀՀ տարածքային կառավարման և ենթակառուցվածքների նախարարություն | G8: =+G9 -> 7783373.5
A9: Բաժին N 04 | B9: Խումբ N 05 | C9: Դաս N 01 | D9: Ճանապարհային տրանսպորտ | G9: =+G10 -> 7783373.5
A10: 1049 21001 | B10: Պետական նշանակության ավտոճանապարհների հիմնանորոգում | G10: =+G11+G17 -> 7783373.5
A11: ՄԱՍ II. ԱՇԽԱՏԱՆՔՆԵՐ | G11: =SUM(G12:G16) -> 7679458.7
A12: 45231177 | B12: ճանապարհների վերանորոգման աշխատանքներ | C12: ԲՄ | D12: դրամ | E12: 1088000000 | F12: 1 | G12: =+F12*E12/1000 -> 1088000
A13: 45231177 | B13: ճանապարհների վերանորոգման աշխատանքներ | C13: ԲՄ | D13: դրամ | E13: 1690000000 | F13: 1 | G13: =+F13*E13/1000 -> 1690000
A14: 45231177 | B14: ճանապարհների վերանորոգման աշխատանքներ | C14: ԲՄ | D14: դրամ | E14: 3489148682 | F14: 1 | G14: =+F14*E14/1000 -> 3489148.7
A15: 45231177 | B15: ճանապարհների վերանորոգման աշխատանքներ | C15: ԲՄ | D15: դրամ | E15: 812410018 | F15: 1 | G15: =+F15*E15/1000 -> 812410.02
A16: 45231177 | B16: ճանապարհների վերանորոգման աշխատանքներ | C16: ԲՄ | D16: դրամ | E16: 599900000 | F16: 1 | G16: =+F16*E16/1000 -> 599900
A17: ՄԱՍ III. ԾԱՌԱՅՈՒԹՅՈՒՆՆԵՐ | G17: =SUM(G18:G28) -> 103914.83
A18: 98111140 | B18: հեղինակային հսկողության ծառայություններ | C18: ՄԱ | D18: դրամ | E18: 9891341 | F18: 1 | G18: =+F18*E18/1000 -> 9891.341
A19: 98111140 | B19: հեղինակային հսկողության ծառայություններ | C19: ՄԱ | D19: դրամ | E19: 2986724 | F19: 1 | G19: =+F19*E19/1000 -> 2986.724
A20: 98111140 | B20: հեղինակային հսկողության ծառայություններ | C20: ՄԱ | D20: դրամ | E20: 9657041 | F20: 1 | G20: =+F20*E20/1000 -> 9657.041
A21: 98111140 | B21: հեղինակային հսկողության ծառայություններ | C21: ՄԱ | D21: դրամ | E21: 26078266 | F21: 1 | G21: =+F21*E21/1000 -> 26078.266
A22: 98111140 | B22: հեղինակային հսկողության ծառայություններ | C22: ՄԱ | D22: դրամ | E22: 4736159 | F22: 1 | G22: =+F22*E22/1000 -> 4736.159
A23: 98111140 | B23: հեղինակային հսկողության ծառայություններ | C23: ՄԱ | D23: դրամ | E23: 4238931 | F23: 1 | G23: =+F23*E23/1000 -> 4238.931
A24: 71351540 | B24: տեխնիկական հսկողության ծառայություններ | C24: ԳՀ | D24: դրամ | E24: 9714483 | F24: 1 | G24: =+F24*E24/1000 -> 9714.483
A25: 71351540 | B25: տեխնիկական հսկողության ծառայություններ | C25: ՀԲՄ | D25: դրամ | E25: 4560000 | F25: 1 | G25: =+F25*E25/1000 -> 4560
A26: 71351540 | B26: տեխնիկական հսկողության ծառայություններ | C26: ԳՀ | D26: դրամ | E26: 14753700 | F26: 1 | G26: =+F26*E26/1000 -> 14753.7
A27: 71351540 | B27: տեխնիկական հսկողության ծառայություններ | C27: ՀԲՄ | D27: դրամ | E27: 7980000 | F27: 1 | G27: =+F27*E27/1000 -> 7980
A28: 71351540 | B28: տեխնիկական հսկողության ծառայություններ | C28: ԳՀ | D28: դրամ | E28: 9318182 | F28: 1 | G28: =+F28*E28/1000 -> 9318.182
