Workbook
Name _tab10: #REF!
Name _tab10: #REF!
Name _tab11: #REF!
Name _tab11: #REF!
Name _tab12: #REF!
Name _tab12: #REF!
Name _tab13: #REF!
Name _tab13: #REF!
Name _tab14: #REF!
Name _tab14: #REF!
Name _tab15: #REF!
Name _tab15: #REF!
Name _tab16: #REF!
Name _tab16: #REF!
Name _tab17: #REF!
Name _tab17: #REF!
Name _tab18: #REF!
Name _tab18: #REF!
Name _tab19: #REF!
Name _tab19: #REF!
Name _tab20: #REF!
Name _tab20: #REF!
Name _tab21: #REF!
Name _tab21: #REF!
Name _tab22: #REF!
Name _tab22: #REF!
Name _tab23: #REF!
Name _tab23: #REF!
Name _tab24: #REF!
Name _tab24: #REF!
Name _tab5: #REF!
Name _tab5: #REF!
Name _tab6: #REF!
Name _tab6: #REF!
Name _tab7: #REF!
Name _tab7: #REF!
Name _tab8: #REF!
Name _tab8: #REF!
Name _tab9: #REF!
Name _tab9: #REF!
Name par_count: #REF!,#REF!,#REF!,#REF!,#REF!,#REF!,#REF!,#REF!,#REF!,#REF!,#REF!,#REF!,#REF!,#REF!,#REF!
Name par_count: #REF!,#REF!,#REF!,#REF!,#REF!,#REF!,#REF!,#REF!,#REF!,#REF!,#REF!,#REF!,#REF!,#REF!,#REF!
Name par_qual: #REF!,#REF!,#REF!,#REF!,#REF!
Name par_qual: #REF!,#REF!,#REF!,#REF!,#REF!
Name par_time: #REF!,#REF!,#REF!,#REF!
Name par_time: #REF!,#REF!,#REF!,#REF!
Name par2.12s: #REF!
Name par2.12s: #REF!
Name par2.4s: #REF!,#REF!,#REF!,#REF!,#REF!,#REF!,#REF!,#REF!,#REF!,#REF!,#REF!,#REF!,#REF!,#REF!,#REF!,#REF!
Name par2.4s: #REF!,#REF!,#REF!,#REF!,#REF!,#REF!,#REF!,#REF!,#REF!,#REF!,#REF!,#REF!,#REF!,#REF!,#REF!,#REF!
Name par2.5s: #REF!,#REF!
Name par2.5s: #REF!,#REF!
Name par2.6s: #REF!,#REF!,#REF!,#REF!
Name par2.6s: #REF!,#REF!,#REF!,#REF!
Name par2.7s: #REF!,#REF!
Name par2.7s: #REF!,#REF!
Name par2.9s: #REF!,#REF!,#REF!,#REF!,#REF!,#REF!,#REF!,#REF!,#REF!,#REF!,#REF!,#REF!,#REF!,#REF!,#REF!,#REF!
Name par2.9s: #REF!,#REF!,#REF!,#REF!,#REF!,#REF!,#REF!,#REF!,#REF!,#REF!,#REF!,#REF!,#REF!,#REF!,#REF!,#REF!
Name par4.10s: #REF!,#REF!
Name par4.10s: #REF!,#REF!

Sheet 1
F1: Հավելված N 1
F2: ՀՀ կառավարության 2022 թվականի
C3: -----------------ի N -----------Ն որոշման
A5: ՀԱՅԱՍՏԱՆԻ ՀԱՆՐԱՊԵՏՈՒԹՅԱՆ 2022 ԹՎԱԿԱՆԻ ՊԵՏԱԿԱՆ ԲՅՈՒՋԵԻ ՄԱՍԻՆ» ՕՐԵՆՔԻ N 1 ՀԱՎԵԼՎԱԾԻ N 2 ԱՂՅՈՒՍԱԿՈՒՄ ԿԱՏԱՐՎՈՂ ՎԵՐԱԲԱՇԽՈՒՄԸ ԵՎ ՀԱՅԱՍՏԱՆԻ ՀԱՆՐԱՊԵՏՈՒԹՅԱՆ ԿԱՌԱՎԱՐՈՒԹՅԱՆ 2021 ԹՎԱԿԱՆԻ ԴԵԿՏԵՄԲԵՐԻ 23-Ի N 2221-Ն ՈՐՈՇՄԱՆ N 5 ՀԱՎԵԼՎԱԾԻ N 1 ԱՂՅՈՒՍԱԿՈՒՄ ԿԱՏԱՐՎՈՂ ՓՈՓՈԽՈՒԹՅՈՒՆՆԵՐԸ
F6: (հազար դրամ)
A7: Ծրագրային դասիչը | C7: Բյուջետային հատկացումների գլխավոր կարգադրիչների, ծրագրերի և միջոցառումների անվանումները | D7: Ցուցանիշների փոփոխությունները ավելացումները նշված են դրական նշանով, իսկ նվազեցումները՝ փակագծերում
A8: Ծրագիր | B8: Միջոցառում | D8: Առաջին կիսամյակ | E8: Ինն ամիս | F8: Տարի
C9: ԸՆԴԱՄԵՆԸ | D9: =SUM(D10) -> 0 | E9: =SUM(E10) -> 0 | F9: =SUM(F10) -> 0
C10: ՀՀ աշխատանքի և սոցիալական հարցերի նախարարություն | D10: =D11+D30+D49++D68+D80 -> 0 | E10: =E11+E30+E49++E68+E80 -> 0 | F10: =F11+F30+F49++F68+F80 -> 0
A11: 1005 | C11: Ծրագրի անվանումը` | D11: =+D18+D24 -> -4500 | E11: =+E18+E24 -> -4500 | F11: =+F18+F24 -> 0
C12: Պարգևավճարներ և պատվովճարներ
C13: Ծրագրի նպատակը`
C14: Պետական հոգածության դրսևորում, առանձին կատեգորիայի քաղաքացիներին և նրանց ընտանիքներին սոցիալական երաշխիքների տրամադրում
C15: Վերջնական արդյունքի նկարագրությունը`
C16: Առանձին կատեգորիայի քաղաքացիներին և նրանց ընտանիքի անդամների սոցիալական պաշտպանվածության մակարդակի բարձրացում
A17: Ծրագրի միջոցառումներ
B18: 12002 | C18: Միջոցառման անվանումը` | D18: -12400 | E18: =+-31500+-4500 -> -36000 | F18: -45000
C19: Վետերանների պատվովճարներ
C20: Միջոցառման նկարագրությունը`
C21: ՀՄՊ վետերաններին պատվովճարի տրամադրում
C22: Միջոցառման տեսակը
C23: Տրանսֆերտների տրամադրում
B24: 12003 | C24: Միջոցառման անվանումը` | D24: 7900 | E24: 31500 | F24: 45000
C25: Զոհված՛ հետմահու «Հայաստանի ազգային հերոս» ՀՀ բարձրագույն կոչում ստացած կամ «Մարտական խաչ» շքանշանով պարգևատրված անձի ընտանիքին տրվող պարգևավճար
C26: Միջոցառման նկարագրությունը`
C27: Զոհված՛ հետմահու «Հայաստանի ազգային հերոս» ՀՀ բարձրագույն կոչում ստացած կամ «Մարտական խաչ» շքանշանով պարգևատրված անձի ընտանիքին
C28: Միջոցառման տեսակը
C29: Տրանսֆերտների տրամադրում
A30: 1011 | C30: Ծրագրի անվանումը` | D30: =D37+D43 -> -636000 | E30: =E37+E43 -> 0 | F30: =F37+F43 -> 0
C31: Անապահով սոցիալական խմբերին աջակցություն
C32: Ծրագրի նպատակը`
C33: Օժանդակել անապահով ընտանիքների կենսամակարդակի բարձրացմանը
C34: Վերջնական արդյունքի նկարագրությունը`
C35: Աղքատության մեղմում և ծայրահեղ աղքատության կրճատում
A36: Ծրագրի միջոցառումներ
B37: 11001 | C37: Միջոցառման անվանումը` | D37: -6000 | E37: 0 | F37: 0
C38: Ընտանիքի կենսամակարդակի բարձրացմանն ուղղված նպաստների իրականացման ապահովում
C39: Միջոցառման նկարագրությունը` | J39: =+J40 -> 100 | K39: =+K40+J40 -> 300 | L39: =+L40+K40+J40 -> 700
C40: Ընտանիքների անապահովության գնահատման համակարգում հաշվառված, ընդգրկված անապահով ճանաչված ընտանիքներին նպաստի, սոցիալական նպաստի և հրատապ օգնության վճարման ծառայությունների ձեռքբերում | J40: 100 | K40: 200 | L40: 400
C41: Միջոցառման տեսակը
...

Sheet 2
I1: Հավելված N 2
I2: ՀՀ կառավարության 2022 թվականի
I3: -----------------ի N -----------Ն որոշման
A5: ՀԱՅԱՍՏԱՆԻ ՀԱՆՐԱՊԵՏՈՒԹՅԱՆ ԿԱՌԱՎԱՐՈՒԹՅԱՆ 2021 ԹՎԱԿԱՆԻ ԴԵԿՏԵՄԲԵՐԻ 23-Ի N 2121-Ն ՈՐՈՇՄԱՆ N 3, N 4 ՀԱՎԵԼՎԱԾՈՒՄ ԿԱՏԱՐՎՈՂ ՓՈՓՈԽՈՒԹՅՈՒՆՆԵՐԸ
I6: հազար դրամ
A7: Գործառական դասիչը | D7: Ծրագրային դասիչը | F7: Բյուջետային ծախսերի գործառական դասակարգման բաժինների, խմբերի և դասերի, բյուջետային ծրագրերի միջոցառումների, բյուջետային հատկացումների գլխավոր կարգադրիչների անվանումները | G7: ='1'!D7 -> Ցուցանիշների փոփոխությունները ավելացումները նշված են դրական նշանով, իսկ նվազեցումները՝ փակագծերում
A8: Բաժինը | B8: Խումբը | C8: Դասը | D8: Ծրագիր | E8: Միջոցառում | G8: ='1'!D8 -> Առաջին կիսամյակ | H8: ='1'!E8 -> Ինն ամիս | I8: ='1'!F8 -> Տարի
F9: ԸՆԴԱՄԵՆԸ ԾԱԽՍԵՐ | G9: =G11 -> 5.8207661e-11 | H9: =H11 -> 0 | I9: =I11 -> 0
F10: այդ թվում`
A11: 10 | F11: ՍՈՑԻԱԼԱԿԱՆ ՊԱՇՏՊԱՆՈՒԹՅՈՒՆ | G11: =G13+G40+G56+G83 -> 5.8207661e-11 | H11: =H13+H40+H56+H83 -> 0 | I11: =I13+I40+I56+I83 -> 0
F12: այդ թվում`
B13: 02 | F13: Ծերություն | G13: =G15 -> -164170.8 | H13: =H15 -> 4500 | I13: =I15 -> 0
F14: այդ թվում`
C15: 01 | F15: Ծերություն | G15: =G17 -> -164170.8 | H15: =H17 -> 4500 | I15: =I17 -> 0
F16: այդ թվում`
F17: ՀՀ աշխատանքի և սոցիալական հարցերի նախարարություն | G17: =G18+G29 -> -164170.8 | H17: =H18+H29 -> 4500 | I17: =I18+I29 -> 0
D18: 1102 | F18: Կենսաթոշակային ապահովություն | G18: =G20 -> -316970.1 | H18: =H20 -> -148299.3 | I18: =I20 -> 0
F19: այդ թվում`
E20: 12003 | F20: Աշխատանքային կենսաթոշակներ | G20: =+G22 -> -316970.1 | H20: =+H22 -> -148299.3 | I20: =+I22 -> 0
F21: այդ թվում` ըստ կատարողների
F22: ՀՀ աշխատանքի և սոցիալական հարցերի նախարարության միասնական սոցիալական ծառայություն | G22: =G24 -> -316970.1 | H22: =H24 -> -148299.3 | I22: =I24 -> 0
F23: այդ թվում` բյուջետային ծախսերի տնտեսագիտական դասակարգման հոդվածներ
F24: ԸՆԴԱՄԵՆԸ ԾԱԽՍԵՐ | G24: =G25 -> -316970.1 | H24: =H25 -> -148299.3 | I24: =I25 -> 0
F25: ԸՆԹԱՑԻԿ ԾԱԽՍԵՐ | G25: =G26 -> -316970.1 | H25: =H26 -> -148299.3 | I25: =I26 -> 0
F26: ՍՈՑԻԱԼԱԿԱՆ ՆՊԱՍՏՆԵՐ ԵՎ ԿԵՆՍԱԹՈՇԱԿՆԵՐ | G26: =G27 -> -316970.1 | H26: =H27 -> -148299.3 | I26: =I27 -> 0
F27: Կենսաթոշակներ | G27: =G28 -> -316970.1 | H27: =H28 -> -148299.3 | I27: =I28 -> 0
F28: - Կենսաթոշակներ | G28: ='1'!D74 -> -316970.1 | H28: ='1'!E74 -> -148299.3 | I28: ='1'!F74 -> 0
D29: 1205 | F29: Սոցիալական ապահովություն | G29: =+G31 -> 152799.3 | H29: =+H31 -> 152799.3 | I29: =+I31 -> 0
F30: այդ թվում`
E31: 12001 | F31: Ծերության, հաշմանդամության, կերակրողին կորցնելու դեպքում նպաստներ | G31: =+G33 -> 152799.3 | H31: =+H33 -> 152799.3 | I31: =+I33 -> 0
F32: այդ թվում` ըստ կատարողների
F33: ՀՀ աշխատանքի և սոցիալական հարցերի նախարարության միասնական սոցիալական ծառայություն | G33: =+G35 -> 152799.3 | H33: =+H35 -> 152799.3 | I33: =+I35 -> 0
F34: այդ թվում` բյուջետային ծախսերի տնտեսագիտական դասակարգման հոդվածներ
F35: ԸՆԴԱՄԵՆԸ ԾԱԽՍԵՐ | G35: =+G36 -> 152799.3 | H35: =+H36 -> 152799.3 | I35: =+I36 -> 0
F36: ԸՆԹԱՑԻԿ ԾԱԽՍԵՐ | G36: =+G37 -> 152799.3 | H36: =+H37 -> 152799.3 | I36: =+I37 -> 0
F37: ՍՈՑԻԱԼԱԿԱՆ ՆՊԱՍՏՆԵՐ ԵՎ ԿԵՆՍԱԹՈՇԱԿՆԵՐ | G37: =+G38 -> 152799.3 | H37: =+H38 -> 152799.3 | I37: =+I38 -> 0
F38: Սոցիալական օգնության դրամական արտահայտությամբ նպաստներ (բյուջեից) | G38: =+G39 -> 152799.3 | H38: =+H39 -> 152799.3 | I38: =+I39 -> 0
F39: - Այլ նպաստներ բյուջեից | G39: ='1'!D87 -> 152799.3 | H39: ='1'!E87 -> 152799.3 | I39: ='1'!F87 -> 0
B40: 03 | F40: Հարազատին կորցրած անձինք | G40: =G42 -> 7900 | H40: =H42 -> 31500 | I40: =I42 -> 45000
F41: այդ թվում`
...

Sheet 3
E1: Հավելված N 3
E2: ՀՀ կառավարության 2022 թվականի
E3: -----------------ի N -----------Ն որոշման
A4: ՀԱՅԱՍՏԱՆԻ ՀԱՆՐԱՊԵՏՈՒԹՅԱՆ ԿԱՌԱՎԱՐՈՒԹՅԱՆ 2020 ԹՎԱԿԱՆԻ ԴԵԿՏԵՄԲԵՐԻ 30-Ի N 2215-Ն ՈՐՈՇՄԱՆ N 9 ՀԱՎԵԼՎԱԾԻ N 9.1.20 ԱՂՅՈՒՍԱԿՈՒՄ ԿԱՏԱՐՎՈՂ ՓՈՓՈԽՈՒԹՅՈՒՆՆԵՐԸ
A5: ՀԱՅԱՍՏԱՆԻ ՀԱՆՐԱՊԵՏՈՒԹՅԱՆ ԿԱՌԱՎԱՐՈՒԹՅԱՆ 2021 ԹՎԱԿԱՆԻ ԴԵԿՏԵՄԲԵՐԻ 23-Ի N 2121-Ն ՈՐՈՇՄԱՆ N 9 ՀԱՎԵԼՎԱԾԻ N 9.15 ԱՂՅՈՒՍԱԿՈՒՄ ԿԱՏԱՐՎՈՂ ՓՈՓՈԽՈՒԹՅՈՒՆՆԵՐԸ
A6: Հայաստանի Հանրապետության աշխատանքի և սոցիալական հարցերի նախարարություն
A7: ՄԱՍ 2. ՊԵՏԱԿԱՆ ՄԱՐՄՆԻ ԳԾՈՎ ԱՐԴՅՈՒՆՔԱՅԻՆ (ԿԱՏԱՐՈՂԱԿԱՆ) ՑՈՒՑԱՆԻՇՆԵՐԸ
A9: Ծրագրի դասիչը | B9: Ծրագրի անվանումը
A10: 1005 | B10: Պարգևավճարներ և պատվովճարներ
A11: Ծրագրի միջոցառումները
A13: Ծրագրի դասիչը` | B13: 1005 | C13: ='1'!D7 -> Ցուցանիշների փոփոխությունները ավելացումները նշված են դրական նշանով, իսկ նվազեցումները՝ փակագծերում
A14: Միջոցառման դասիչը` | B14: 12002 | C14: ='1'!D8 -> Առաջին կիսամյակ | D14: ='1'!E8 -> Ինն ամիս | E14: ='1'!F8 -> Տարի
A15: Միջոցառման անվանումը` | B15: Վետերանների պատվովճարներ
A16: Նկարագրությունը` | B16: ՀՄՊ վետերաններին պատվովճարի տրամադրում
A17: Միջոցառման տեսակը` | B17: Տրանսֆերտների տրամադրում
A18: Շահառուների ընտրության չափանիշները | B18: ՀՄ պատերազմի վետերաններին պատվովճարների տրամադրում 02.12.1998թ. ՀՕ-267-Ն օրենքի 4-րդ հոդվածով
A19: Արդյունքի չափորոշիչներ
A20: Պատվովճար ստացող վետերանների թիվ,մարդ | C20: =C21/F20/6*1000 -> -20.666667 | D20: =D21/F20/9*1000 -> -40 | E20: =E21/F20/12*1000 -> -37.5 | F20: 100000
A21: Միջոցառման վրա կատարվող ծախսը (հազար դրամ) | C21: ='1'!D18 -> -12400 | D21: ='1'!E18 -> -36000 | E21: ='1'!F18 -> -45000
A23: Ծրագրի դասիչը` | B23: 1005 | C23: ='1'!D7 -> Ցուցանիշների փոփոխությունները ավելացումները նշված են դրական նշանով, իսկ նվազեցումները՝ փակագծերում
A24: Միջոցառման դասիչը` | B24: 12003 | C24: ='1'!D8 -> Առաջին կիսամյակ | D24: ='1'!E8 -> Ինն ամիս | E24: ='1'!F8 -> Տարի
A25: Միջոցառման անվանումը` | B25: Զոհված՛ հետմահու «Հայաստանի ազգային հերոս» ՀՀ բարձրագույն կոչում ստացած կամ «Մարտական խաչ» շքանշանով պարգևատրված անձի ընտանիքին տրվող պարգևավճար
A26: Նկարագրությունը` | B26: Զոհված՛ հետմահու «Հայաստանի ազգային հերոս» ՀՀ բարձրագույն կոչում ստացած կամ «Մարտական խաչ» շքանշանով պարգևատրված անձի ընտանիքին
A27: Միջոցառման տեսակը` | B27: Տրանսֆերտների տրամադրում
A28: Շահառուների ընտրության չափանիշները | B28: Զոհված? հետմահու "Հայաստանի ազգային հերոս" ՀՀ բարձրագույն կոչում ստացած կամ "Մարտական խաչ" շքանշանով պարգևատրված անձի ընտանիքի անդամներ
A29: Արդյունքի չափորոշիչներ
A30: Պարգևավճարներ ստացողների թիվ, ընտանիք | C30: =SUM(C31/F30/6)*1000 -> 8.7777778 | D30: =SUM(D31/F30/9)*1000 -> 23.333333 | E30: =SUM(E31/F30/12)*1000 -> 25 | F30: 150000
A31: Միջոցառման վրա կատարվող ծախսը (հազար դրամ) | C31: ='1'!D24 -> 7900 | D31: ='1'!E24 -> 31500 | E31: ='1'!F24 -> 45000
A33: Ծրագրի դասիչը | B33: Ծրագրի անվանումը
A34: 1011 | B34: Անապահով սոցիալական խմբերին աջակցություն
A35: Ծրագրի միջոցառումներ
A37: Ծրագրի դասիչը` | B37: 1011 | C37: ='1'!D7 -> Ցուցանիշների փոփոխությունները ավելացումները նշված են դրական նշանով, իսկ նվազեցումները՝ փակագծերում
A38: Միջոցառման դասիչը` | B38: 11001 | C38: ='1'!D8 -> Առաջին կիսամյակ | D38: ='1'!E8 -> Ինն ամիս | E38: ='1'!F8 -> Տարի
A39: Միջոցառման անվանումը` | B39: Ընտանիքի կենսամակարդակի բարձրացմանն ուղղված նպաստների իրականացման ապահովում
A40: Նկարագրությունը` | B40: Ընտանիքների անապահովության գնահատման համակարգում հաշվառված, ընդգրկված անապահով ճանաչված ընտանիքներին նպաստի, սոցիալական նպաստի և հրատապ օգնության վճարման ծառայությունների ձեռքբերում
A41: Միջոցառման տեսակը` | B41: Ծառայությունների մատուցում
A42: Միջոցառումն իրականացնողի անվանումը? | B42: «Գնումների մասին» ՀՀ օրենքի համաձայն ընտրված կազմակերպություն
A43: Արդյունքի չափորոշիչներ
A44: Ընտանիքի կենսամակարդակի բարձրացմանն ուղղված նպաստներ ստացող ընտանիքների թիվ, հատ | C44: =SUM(C54) -> -3705.8475 | D44: =D54 -> 0 | E44: =E45/F44/12*1000 -> 0 | F44: 28333.6
A45: Միջոցառման վրա կատարվող ծախսը (հազար դրամ) | C45: ='1'!D37 -> -6000 | D45: ='1'!E37 -> 0 | E45: ='1'!F37 -> 0
...

Sheet 4
E1: Հավելված N 4
E2: ՀՀ կառավարության 2022 թվականի
E3: -----------------ի N -----------Ն որոշման
A4: ՀԱՅԱՍՏԱՆԻ ՀԱՆՐԱՊԵՏՈՒԹՅԱՆ ԿԱՌԱՎԱՐՈՒԹՅԱՆ 2020 ԹՎԱԿԱՆԻ ԴԵԿՏԵՄԲԵՐԻ 30-Ի N 2215-Ն ՈՐՈՇՄԱՆ N 9 ՀԱՎԵԼՎԱԾԻ N 9.1.20 ԱՂՅՈՒՍԱԿՈՒՄ ԿԱՏԱՐՎՈՂ ՓՈՓՈԽՈՒԹՅՈՒՆՆԵՐԸ
A5: ՀԱՅԱՍՏԱՆԻ ՀԱՆՐԱՊԵՏՈՒԹՅԱՆ ԿԱՌԱՎԱՐՈՒԹՅԱՆ 2021 ԹՎԱԿԱՆԻ ԴԵԿՏԵՄԲԵՐԻ 23-Ի N 2121-Ն ՈՐՈՇՄԱՆ N 9.1 ՀԱՎԵԼՎԱԾԻ N 9.1.20 ԱՂՅՈՒՍԱԿՈՒՄ ԿԱՏԱՐՎՈՂ ՓՈՓՈԽՈՒԹՅՈՒՆՆԵՐԸ
A6: ՄԱՍ 1. ՊԵՏԱԿԱՆ ՄԱՐՄՆԻ ԳԾՈՎ ԱՐԴՅՈՒՆՔԱՅԻՆ (ԿԱՏԱՐՈՂԱԿԱՆ) ՑՈՒՑԱՆԻՇՆԵՐԸ
A8: ՀՀ աշխատանքի և սոցիալական հարցերի նախարարության միասնական սոցիալական ծառայություն
A9: Ծրագրի դասիչը | B9: Ծրագրի անվանումը
A10: 1005 | B10: Պարգևավճարներ և պատվովճարներ
A11: Ծրագրի միջոցառումները
A13: Ծրագրի դասիչը` | B13: 1005 | C13: ='1'!D7 -> Ցուցանիշների փոփոխությունները ավելացումները նշված են դրական նշանով, իսկ նվազեցումները՝ փակագծերում
A14: Միջոցառման դասիչը` | B14: 12002 | C14: ='1'!D8 -> Առաջին կիսամյակ | D14: ='1'!E8 -> Ինն ամիս | E14: ='1'!F8 -> Տարի
A15: Միջոցառման անվանումը` | B15: Վետերանների պատվովճարներ
A16: Նկարագրությունը` | B16: ՀՄՊ վետերաններին պատվովճարի տրամադրում
A17: Միջոցառման տեսակը` | B17: Տրանսֆերտների տրամադրում
A18: Շահառուների ընտրության չափանիշները | B18: ՀՄ պատերազմի վետերաններին պատվովճարների տրամադրում 02.12.1998թ. ՀՕ-267-Ն օրենքի 4-րդ հոդվածով
A19: Արդյունքի չափորոշիչներ
A20: Պատվովճար ստացող վետերանների թիվ,մարդ | C20: =C21/F20/6*1000 -> -20.666667 | D20: =D21/F20/9*1000 -> -40 | E20: =E21/F20/12*1000 -> -37.5 | F20: 100000
A21: Միջոցառման վրա կատարվող ծախսը (հազար դրամ) | C21: ='1'!D18 -> -12400 | D21: ='1'!E18 -> -36000 | E21: ='1'!F18 -> -45000
A23: Ծրագրի դասիչը` | B23: 1005 | C23: ='1'!D7 -> Ցուցանիշների փոփոխությունները ավելացումները նշված են դրական նշանով, իսկ նվազեցումները՝ փակագծերում
A24: Միջոցառման դասիչը` | B24: 12003 | C24: ='1'!D8 -> Առաջին կիսամյակ | D24: ='1'!E8 -> Ինն ամիս | E24: ='1'!F8 -> Տարի
A25: Միջոցառման անվանումը` | B25: Զոհված՛ հետմահու «Հայաստանի ազգային հերոս» ՀՀ բարձրագույն կոչում ստացած կամ «Մարտական խաչ» շքանշանով պարգևատրված անձի ընտանիքին տրվող պարգևավճար
A26: Նկարագրությունը` | B26: Զոհված՛ հետմահու «Հայաստանի ազգային հերոս» ՀՀ բարձրագույն կոչում ստացած կամ «Մարտական խաչ» շքանշանով պարգևատրված անձի ընտանիքին
A27: Միջոցառման տեսակը` | B27: Տրանսֆերտների տրամադրում
A28: Շահառուների ընտրության չափանիշները | B28: Զոհված? հետմահու "Հայաստանի ազգային հերոս" ՀՀ բարձրագույն կոչում ստացած կամ "Մարտական խաչ" շքանշանով պարգևատրված անձի ընտանիքի անդամներ
A29: Արդյունքի չափորոշիչներ
A30: Պարգևավճարներ ստացողների թիվ, ընտանիք | C30: =SUM(C31/F30/6)*1000 -> 8.7777778 | D30: =SUM(D31/F30/9)*1000 -> 23.333333 | E30: =SUM(E31/F30/12)*1000 -> 25 | F30: 150000
A31: Միջոցառման վրա կատարվող ծախսը (հազար դրամ) | C31: ='1'!D24 -> 7900 | D31: ='1'!E24 -> 31500 | E31: ='1'!F24 -> 45000
A33: Ծրագրի դասիչը | B33: Ծրագրի անվանումը
A34: 1011 | B34: Անապահով սոցիալական խմբերին աջակցություն
A35: Ծրագրի միջոցառումներ
A37: Ծրագրի դասիչը` | B37: 1011 | C37: ='1'!D7 -> Ցուցանիշների փոփոխությունները ավելացումները նշված են դրական նշանով, իսկ նվազեցումները՝ փակագծերում
A38: Միջոցառման դասիչը` | B38: 11001 | C38: ='1'!D8 -> Առաջին կիսամյակ | D38: ='1'!E8 -> Ինն ամիս | E38: ='1'!F8 -> Տարի
A39: Միջոցառման անվանումը` | B39: Ընտանիքի կենսամակարդակի բարձրացմանն ուղղված նպաստների իրականացման ապահովում
A40: Նկարագրությունը` | B40: Ընտանիքների անապահովության գնահատման համակարգում հաշվառված, ընդգրկված անապահով ճանաչված ընտանիքներին նպաստի, սոցիալական նպաստի և հրատապ օգնության վճարման ծառայությունների ձեռքբերում
A41: Միջոցառման տեսակը` | B41: Ծառայությունների մատուցում
A42: Միջոցառումն իրականացնողի անվանումը? | B42: «Գնումների մասին» ՀՀ օրենքի համաձայն ընտրված կազմակերպություն
A43: Արդյունքի չափորոշիչներ
A44: Ընտանիքի կենսամակարդակի բարձրացմանն ուղղված նպաստներ ստացող ընտանիքների թիվ, հատ | C44: =SUM(C54) -> -3705.8475 | D44: =D54 -> 0 | E44: =E45/F44/12*1000 -> 0 | F44: 28333.6
A45: Միջոցառման վրա կատարվող ծախսը (հազար դրամ) | C45: ='1'!D37 -> -6000 | D45: ='1'!E37 -> 0 | E45: ='1'!F37 -> 0
...
