Workbook
Name _tab10: #REF!
Name _tab10: #REF!
Name _tab11: #REF!
Name _tab11: #REF!
Name _tab12: #REF!
Name _tab12: #REF!
Name _tab13: #REF!
Name _tab13: #REF!
Name _tab14: #REF!
Name _tab14: #REF!
Name _tab15: #REF!
Name _tab15: #REF!
Name _tab16: #REF!
Name _tab16: #REF!
Name _tab17: #REF!
Name _tab17: #REF!
Name _tab18: #REF!
Name _tab18: #REF!
Name _tab19: #REF!
Name _tab19: #REF!
Name _tab20: #REF!
Name _tab20: #REF!
Name _tab21: #REF!
Name _tab21: #REF!
Name _tab22: #REF!
Name _tab22: #REF!
Name _tab23: #REF!
Name _tab23: #REF!
Name _tab24: #REF!
Name _tab24: #REF!
Name _tab5: #REF!
Name _tab5: #REF!
Name _tab6: #REF!
Name _tab6: #REF!
Name _tab7: #REF!
Name _tab7: #REF!
Name _tab8: #REF!
Name _tab8: #REF!
Name _tab9: #REF!
Name _tab9: #REF!
Name par_count: #REF!,#REF!,#REF!,#REF!,#REF!,#REF!,#REF!,#REF!,#REF!,#REF!,#REF!,#REF!,#REF!,#REF!,#REF!
Name par_count: #REF!,#REF!,#REF!,#REF!,#REF!,#REF!,#REF!,#REF!,#REF!,#REF!,#REF!,#REF!,#REF!,#REF!,#REF!
Name par_qual: #REF!,#REF!,#REF!,#REF!,#REF!
Name par_qual: #REF!,#REF!,#REF!,#REF!,#REF!
Name par_time: #REF!,#REF!,#REF!,#REF!
Name par_time: #REF!,#REF!,#REF!,#REF!
Name par2.12s: #REF!
Name par2.12s: #REF!
Name par2.4s: #REF!,#REF!,#REF!,#REF!,#REF!,#REF!,#REF!,#REF!,#REF!,#REF!,#REF!,#REF!,#REF!,#REF!,#REF!,#REF!
Name par2.4s: #REF!,#REF!,#REF!,#REF!,#REF!,#REF!,#REF!,#REF!,#REF!,#REF!,#REF!,#REF!,#REF!,#REF!,#REF!,#REF!
Name par2.5s: #REF!,#REF!
Name par2.5s: #REF!,#REF!
Name par2.6s: #REF!,#REF!,#REF!,#REF!
Name par2.6s: #REF!,#REF!,#REF!,#REF!
Name par2.7s: #REF!,#REF!
Name par2.7s: #REF!,#REF!
Name par2.9s: #REF!,#REF!,#REF!,#REF!,#REF!,#REF!,#REF!,#REF!,#REF!,#REF!,#REF!,#REF!,#REF!,#REF!,#REF!,#REF!
Name par2.9s: #REF!,#REF!,#REF!,#REF!,#REF!,#REF!,#REF!,#REF!,#REF!,#REF!,#REF!,#REF!,#REF!,#REF!,#REF!,#REF!
Name par4.10s: #REF!,#REF!
Name par4.10s: #REF!,#REF!

Sheet 1
F1: Հավելված N 1
F2: ՀՀ կառավարության 2022 թվականի
C3: -----------------ի N -----------Ն որոշման
A5: ՀԱՅԱՍՏԱՆԻ ՀԱՆՐԱՊԵՏՈՒԹՅԱՆ 2022 ԹՎԱԿԱՆԻ ՊԵՏԱԿԱՆ ԲՅՈՒՋԵԻ ՄԱՍԻՆ» ՕՐԵՆՔԻ N 1 ՀԱՎԵԼՎԱԾԻ N 2 ԱՂՅՈՒՍԱԿՈՒՄ ԿԱՏԱՐՎՈՂ ՎԵՐԱԲԱՇԽՈՒՄԸ ԵՎ ՀԱՅԱՍՏԱՆԻ ՀԱՆՐԱՊԵՏՈՒԹՅԱՆ ԿԱՌԱՎԱՐՈՒԹՅԱՆ 2021 ԹՎԱԿԱՆԻ ԴԵԿՏԵՄԲԵՐԻ 23-Ի N 2221-Ն ՈՐՈՇՄԱՆ N 5 ՀԱՎԵԼՎԱԾԻ N 1 ԱՂՅՈՒՍԱԿՈՒՄ ԿԱՏԱՐՎՈՂ ՓՈՓՈԽՈՒԹՅՈՒՆՆԵՐԸ
F6: (հազար դրամ)
A7: Ծրագրային դասիչը | C7: Բյուջետային հատկացումների գլխավոր կարգադրիչների, ծրագրերի և միջոցառումների անվանումները | D7: Ցուցանիշների փոփոխությունները ավելացումները նշված են դրական նշանով, իսկ նվազեցումները՝ փակագծերում
A8: Ծրագիր | B8: Միջոցառում | D8: Առաջին կիսամյակ | E8: Ինն ամիս | F8: Տարի
C9: ԸՆԴԱՄԵՆԸ | D9: =SUM(D10) -> 0 | E9: =SUM(E10) -> 0 | F9: =SUM(F10) -> 0
C10: ՀՀ աշխատանքի և սոցիալական հարցերի նախարարություն | D10: =D11+D30+D49++D68+D80 -> 0 | E10: =E11+E30+E49++E68+E80 -> 0 | F10: =F11+F30+F49++F68+F80 -> 0
A11: 1005 | C11: Ծրագրի անվանումը` | D11: =+D18+D24 -> -4500 | E11: =+E18+E24 -> -4500 | F11: =+F18+F24 -> 0
C12: Պարգևավճարներ և պատվովճարներ
C13: Ծրագրի նպատակը`
C14: Պետական հոգածության դրսևորում, առանձին կատեգորիայի քաղաքացիներին և նրանց ընտանիքներին սոցիալական երաշխիքների տրամադրում
C15: Վերջնական արդյունքի նկարագրությունը`
C16: Առանձին կատեգորիայի քաղաքացիներին և նրանց ընտանիքի անդամների սոցիալական պաշտպանվածության մակարդակի բարձրացում
A17: Ծրագրի միջոցառումներ
B18: 12002 | C18: Միջոցառման անվանումը` | D18: -12400 | E18: =+-31500+-4500 -> -36000 | F18: -45000
C19: Վետերանների պատվովճարներ
C20: Միջոցառման նկարագրությունը`
C21: ՀՄՊ վետերաններին պատվովճարի տրամադրում
C22: Միջոցառման տեսակը
C23: Տրանսֆերտների տրամադրում
B24: 12003 | C24: Միջոցառման անվանումը` | D24: 7900 | E24: 31500 | F24: 45000
C25: Զոհված՛ հետմահու «Հայաստանի ազգային հերոս» ՀՀ բարձրագույն կոչում ստացած կամ «Մարտական խաչ» շքանշանով պարգևատրված անձի ընտանիքին տրվող պարգևավճար
C26: Միջոցառման նկարագրությունը`
C27: Զոհված՛ հետմահու «Հայաստանի ազգային հերոս» ՀՀ բարձրագույն կոչում ստացած կամ «Մարտական խաչ» շքանշանով պարգևատրված անձի ընտանիքին
C28: Միջոցառման տեսակը
C29: Տրանսֆերտների տրամադրում
A30: 1011 | C30: Ծրագրի անվանումը` | D30: =D37+D43 -> -636000 | E30: =E37+E43 -> 0 | F30: =F37+F43 -> 0
C31: Անապահով սոցիալական խմբերին աջակցություն
C32: Ծրագրի նպատակը`
C33: Օժանդակել անապահով ընտանիքների կենսամակարդակի բարձրացմանը
C34: Վերջնական արդյունքի նկարագրությունը`
C35: Աղքատության մեղմում և ծայրահեղ աղքատության կրճատում
A36: Ծրագրի միջոցառումներ
B37: 11001 | C37: Միջոցառման անվանումը` | D37: -6000 | E37: 0 | F37: 0
C38: Ընտանիքի կենսամակարդակի բարձրացմանն ուղղված նպաստների իրականացման ապահովում
C39: Միջոցառման նկարագրությունը` | J39: =+J40 -> 100 | K39: =+K40+J40 -> 300 | L39: =+L40+K40+J40 -> 700
C40: Ընտանիքների անապահովության գնահատման համակարգում հաշվառված, ընդգրկված անապահով ճանաչված ընտանիքներին նպաստի, սոցիալական նպաստի և հրատապ օգնության վճարման ծառայությունների ձեռքբերում | J40: 100 | K40: 200 | L40: 400
C41: Միջոցառման տեսակը
C42: Ծառայությունների մատուցում
B43: 12001 | C43: Միջոցառման անվանումը` | D43: -630000 | E43: 0 | F43: 0
C44: Ընտանիքի կենսամակարդակի բարձրացմանն ուղղված նպաստներ
C45: Միջոցառման նկարագրությունը`
C46: Ընտանիքների անապահովության գնահատման համակարգում հաշվառված, անապահով ճանաչված ընտանիքներին նպաստի, սոցիալական նպաստի և հրատապ օգնության տրամադրում
C47: Միջոցառման տեսակը
C48: Տրանսֆերտների տրամադրում
A49: 1068 | C49: Ծրագրի անվանումը` | D49: =D56+D62 -> 804670.8 | E49: =E56+E62 -> 0 | F49: =F56+F62 -> 0
C50: Ժողովրդագրական վիճակի բարելավում
C51: Ծրագրի նպատակը`
C52: Խթանել ժողովրդագրական վիճակի բարելավումը
C53: Վերջնական արդյունքի նկարագրությունը`
C54: Ժողովրդագրական վիճակի բարելավում և բազմազավակության աճ
A55: Ծրագրի միջոցառումներ
B56: 11001 | C56: Միջոցառման անվանումը` | D56: 4500 | E56: 0 | F56: 0
C57: Մինչև 2 տարեկան երեխայի խնամքի նպաստի տրամադրման ապահովում
C58: Միջոցառման նկարագրությունը`
C59: Մինչև 2 տարեկան երեխայի խնամքի նպաստի վճարման ծառայությունների ձեռքբերում
C60: Միջոցառման տեսակը
C61: Ծառայությունների մատուցում
B62: 12001 | C62: Միջոցառման անվանումը` | D62: 800170.8 | E62: 0 | F62: 0
C63: Մինչև 2 տարեկան երեխայի խնամքի նպաստի տրամադրում
C64: Միջոցառման նկարագրությունը`
C65: Մինչև 2 տարեկան երեխայի խնամքի նպաստի տրամադրում
C66: Միջոցառման տեսակը
C67: Տրանսֆերտների տրամադրում
A68: 1102 | C68: Ծրագրի անվանումը` | D68: =+D74 -> -316970.1 | E68: =+E74 -> -148299.3 | F68: =+F74 -> 0
C69: Կենսաթոշակային ապահովություն
C70: Ծրագրի նպատակը`
C71: Կենսաթոշակի իրավունքի իրացում
C72: Վերջնական արդյունքի նկարագրությունը`
C73: Կենսաթոշակների նշանակման և վճարման գործընթացի ապահովում
B74: 12003 | C74: Միջոցառման անվանումը` | D74: =-258207.6-58762.5 -> -316970.1 | E74: =-89536.8-58762.5 -> -148299.3
C75: Աշխատանքային կենսաթոշակներ
C76: Միջոցառման նկարագրությունը`
C77: Աշխատանքային կենսաթոշակների (տարիքային, հաշմանդամության, արտոնյալ պայմաններով, երկարամյա ծառայության, մասնակի, կերակրողին կորցնելու դեպքում կենսաթոշակների) տրամադրում
C78: Միջոցառման տեսակը
C79: Տրանսֆերտների տրամադրում
A80: 1205 | C80: Ծրագրի անվանումը` | D80: =D87 -> 152799.3 | E80: =E87 -> 152799.3 | F80: =F87 -> 0
C81: Սոցիալական ապահովություն
C82: Ծրագրի նպատակը`
C83: Սոցիալական ապահովության իրավունքի իրականացման ապահովում
C84: Վերջնական արդյունքի նկարագրությունը`
C85: Սոցիալական ապահովության իրավունքի իրականացում
A86: Ծրագրի միջոցառումներ
B87: 12001 | C87: Միջոցառման անվանումը` | D87: 152799.3 | E87: =+D87 -> 152799.3 | F87: 0
C88: Ծերության, հաշմանդամության, կերակրողին կորցնելու դեպքում նպաստներ
C89: Միջոցառման նկարագրությունը`
C90: Ծերության, հաշմանդամության, կերակրողին կորցնելու դեպքում նպաստների տրամադրում
C91: Միջոցառման տեսակը
C92: Տրանսֆերտների տրամադրում
D94: =SUM(D11,D30,D49,D68,D80) -> 0 | E94: =SUM(E11,E30,E49,E68,E80) -> 0 | F94: =SUM(F11,F30,F49,F68,F80) -> 0
D95: =SUM(D11,D30,D68) -> -957470.1 | E95: =SUM(E11,E30,E68) -> -152799.3

Sheet 2
I1: Հավելված N 2
I2: ՀՀ կառավարության 2022 թվականի
I3: -----------------ի N -----------Ն որոշման
A5: ՀԱՅԱՍՏԱՆԻ ՀԱՆՐԱՊԵՏՈՒԹՅԱՆ ԿԱՌԱՎԱՐՈՒԹՅԱՆ 2021 ԹՎԱԿԱՆԻ ԴԵԿՏԵՄԲԵՐԻ 23-Ի N 2121-Ն ՈՐՈՇՄԱՆ N 3, N 4 ՀԱՎԵԼՎԱԾՈՒՄ ԿԱՏԱՐՎՈՂ ՓՈՓՈԽՈՒԹՅՈՒՆՆԵՐԸ
I6: հազար դրամ
A7: Գործառական դասիչը | D7: Ծրագրային դասիչը | F7: Բյուջետային ծախսերի գործառական դասակարգման բաժինների, խմբերի և դասերի, բյուջետային ծրագրերի միջոցառումների, բյուջետային հատկացումների գլխավոր կարգադրիչների անվանումները | G7: ='1'!D7 -> Ցուցանիշների փոփոխությունները ավելացումները նշված են դրական նշանով, իսկ նվազեցումները՝ փակագծերում
A8: Բաժինը | B8: Խումբը | C8: Դասը | D8: Ծրագիր | E8: Միջոցառում | G8: ='1'!D8 -> Առաջին կիսամյակ | H8: ='1'!E8 -> Ինն ամիս | I8: ='1'!F8 -> Տարի
F9: ԸՆԴԱՄԵՆԸ ԾԱԽՍԵՐ | G9: =G11 -> 5.8207661e-11 | H9: =H11 -> 0 | I9: =I11 -> 0
F10: այդ թվում`
A11: 10 | F11: ՍՈՑԻԱԼԱԿԱՆ ՊԱՇՏՊԱՆՈՒԹՅՈՒՆ | G11: =G13+G40+G56+G83 -> 5.8207661e-11 | H11: =H13+H40+H56+H83 -> 0 | I11: =I13+I40+I56+I83 -> 0
F12: այդ թվում`
B13: 02 | F13: Ծերություն | G13: =G15 -> -164170.8 | H13: =H15 -> 4500 | I13: =I15 -> 0
F14: այդ թվում`
C15: 01 | F15: Ծերություն | G15: =G17 -> -164170.8 | H15: =H17 -> 4500 | I15: =I17 -> 0
F16: այդ թվում`
F17: ՀՀ աշխատանքի և սոցիալական հարցերի նախարարություն | G17: =G18+G29 -> -164170.8 | H17: =H18+H29 -> 4500 | I17: =I18+I29 -> 0
D18: 1102 | F18: Կենսաթոշակային ապահովություն | G18: =G20 -> -316970.1 | H18: =H20 -> -148299.3 | I18: =I20 -> 0
F19: այդ թվում`
E20: 12003 | F20: Աշխատանքային կենսաթոշակներ | G20: =+G22 -> -316970.1 | H20: =+H22 -> -148299.3 | I20: =+I22 -> 0
F21: այդ թվում` ըստ կատարողների
F22: ՀՀ աշխատանքի և սոցիալական հարցերի նախարարության միասնական սոցիալական ծառայություն | G22: =G24 -> -316970.1 | H22: =H24 -> -148299.3 | I22: =I24 -> 0
F23: այդ թվում` բյուջետային ծախսերի տնտեսագիտական դասակարգման հոդվածներ
F24: ԸՆԴԱՄԵՆԸ ԾԱԽՍԵՐ | G24: =G25 -> -316970.1 | H24: =H25 -> -148299.3 | I24: =I25 -> 0
F25: ԸՆԹԱՑԻԿ ԾԱԽՍԵՐ | G25: =G26 -> -316970.1 | H25: =H26 -> -148299.3 | I25: =I26 -> 0
F26: ՍՈՑԻԱԼԱԿԱՆ ՆՊԱՍՏՆԵՐ ԵՎ ԿԵՆՍԱԹՈՇԱԿՆԵՐ | G26: =G27 -> -316970.1 | H26: =H27 -> -148299.3 | I26: =I27 -> 0
F27: Կենսաթոշակներ | G27: =G28 -> -316970.1 | H27: =H28 -> -148299.3 | I27: =I28 -> 0
F28: - Կենսաթոշակներ | G28: ='1'!D74 -> -316970.1 | H28: ='1'!E74 -> -148299.3 | I28: ='1'!F74 -> 0
D29: 1205 | F29: Սոցիալական ապահովություն | G29: =+G31 -> 152799.3 | H29: =+H31 -> 152799.3 | I29: =+I31 -> 0
F30: այդ թվում`
E31: 12001 | F31: Ծերության, հաշմանդամության, կերակրողին կորցնելու դեպքում նպաստներ | G31: =+G33 -> 152799.3 | H31: =+H33 -> 152799.3 | I31: =+I33 -> 0
F32: այդ թվում` ըստ կատարողների
F33: ՀՀ աշխատանքի և սոցիալական հարցերի նախարարության միասնական սոցիալական ծառայություն | G33: =+G35 -> 152799.3 | H33: =+H35 -> 152799.3 | I33: =+I35 -> 0
F34: այդ թվում` բյուջետային ծախսերի տնտեսագիտական դասակարգման հոդվածներ
F35: ԸՆԴԱՄԵՆԸ ԾԱԽՍԵՐ | G35: =+G36 -> 152799.3 | H35: =+H36 -> 152799.3 | I35: =+I36 -> 0
F36: ԸՆԹԱՑԻԿ ԾԱԽՍԵՐ | G36: =+G37 -> 152799.3 | H36: =+H37 -> 152799.3 | I36: =+I37 -> 0
F37: ՍՈՑԻԱԼԱԿԱՆ ՆՊԱՍՏՆԵՐ ԵՎ ԿԵՆՍԱԹՈՇԱԿՆԵՐ | G37: =+G38 -> 152799.3 | H37: =+H38 -> 152799.3 | I37: =+I38 -> 0
F38: Սոցիալական օգնության դրամական արտահայտությամբ նպաստներ (բյուջեից) | G38: =+G39 -> 152799.3 | H38: =+H39 -> 152799.3 | I38: =+I39 -> 0
F39: - Այլ նպաստներ բյուջեից | G39: ='1'!D87 -> 152799.3 | H39: ='1'!E87 -> 152799.3 | I39: ='1'!F87 -> 0
B40: 03 | F40: Հարազատին կորցրած անձինք | G40: =G42 -> 7900 | H40: =H42 -> 31500 | I40: =I42 -> 45000
F41: այդ թվում`
C42: 01 | F42: Հարազատին կորցրած անձինք | G42: =G44 -> 7900 | H42: =H44 -> 31500 | I42: =I44 -> 45000
F43: այդ թվում`
F44: ՀՀ աշխատանքի և սոցիալական հարցերի նախարարություն | G44: =G45 -> 7900 | H44: =H45 -> 31500 | I44: =I45 -> 45000
D45: 1005 | F45: Պարգևավճարներ և պատվովճարներ | G45: =+G47 -> 7900 | H45: =+H47 -> 31500 | I45: =+I47 -> 45000
F46: այդ թվում`
E47: 12003 | F47: Զոհված՛ հետմահու «Հայաստանի ազգային հերոս» ՀՀ բարձրագույն կոչում ստացած կամ «Մարտական խաչ» շքանշանով պարգևատրված անձի ընտանիքին տրվող պարգևավճար | G47: =+G49 -> 7900 | H47: =+H49 -> 31500 | I47: =+I49 -> 45000
F48: այդ թվում` ըստ կատարողների
F49: ՀՀ աշխատանքի և սոցիալական հարցերի նախարարության միասնական սոցիալական ծառայություն | G49: =+G51 -> 7900 | H49: =+H51 -> 31500 | I49: =+I51 -> 45000
F50: այդ թվում` բյուջետային ծախսերի տնտեսագիտական դասակարգման հոդվածներ
F51: ԸՆԴԱՄԵՆԸ ԾԱԽՍԵՐ | G51: =+G52 -> 7900 | H51: =+H52 -> 31500 | I51: =+I52 -> 45000
F52: ԸՆԹԱՑԻԿ ԾԱԽՍԵՐ | G52: =+G53 -> 7900 | H52: =+H53 -> 31500 | I52: =+I53 -> 45000
F53: ՍՈՑԻԱԼԱԿԱՆ ՆՊԱՍՏՆԵՐ ԵՎ ԿԵՆՍԱԹՈՇԱԿՆԵՐ | G53: =+G54 -> 7900 | H53: =+H54 -> 31500 | I53: =+I54 -> 45000
F54: Սոցիալական օգնության դրամական արտահայտությամբ նպաստներ (բյուջեից) | G54: =+G55 -> 7900 | H54: =+H55 -> 31500 | I54: =+I55 -> 45000
F55: - Երեխաների կամ ընտանեկան նպաստներ բյուջեից | G55: ='1'!D24 -> 7900 | H55: ='1'!E24 -> 31500 | I55: ='1'!F24 -> 45000
B56: 04 | F56: Ընտանիքի անդամներ և զավակներ | G56: =+G58 -> 170170.8 | H56: =+H58 -> 0 | I56: =+I58 -> 0
F57: այդ թվում`
C58: 01 | F58: Ընտանիքի անդամներ և զավակներ | G58: =G61+G72 -> 170170.8 | H58: =H61+H72 -> 0 | I58: =I61+I72 -> 0
F59: այդ թվում`
F60: ՀՀ աշխատանքի և սոցիալական հարցերի նախարարություն | G60: =G61+G72 -> 170170.8 | H60: =H61+H72 -> 0 | I60: =I61+I72 -> 0
D61: 1011 | F61: Անապահով սոցիալական խմբերին աջակցություն | G61: =+G63 -> -630000 | H61: =+H63 -> 0 | I61: =+I63 -> 0
F62: այդ թվում`
E63: 12001 | F63: Ընտանիքի կենսամակարդակի բարձրացմանն ուղղված նպաստներ | G63: =+G65 -> -630000 | H63: =+H65 -> 0 | I63: =+I65 -> 0
F64: այդ թվում` ըստ կատարողների
F65: ՀՀ աշխատանքի և սոցիալական հարցերի նախարարության միասնական սոցիալական ծառայություն | G65: =+G67 -> -630000 | H65: =+H67 -> 0 | I65: =+I67 -> 0
F66: այդ թվում` բյուջետային ծախսերի տնտեսագիտական դասակարգման հոդվածներ
F67: ԸՆԴԱՄԵՆԸ ԾԱԽՍԵՐ | G67: =+G68 -> -630000 | H67: =+H68 -> 0 | I67: =+I68 -> 0
F68: ԸՆԹԱՑԻԿ ԾԱԽՍԵՐ | G68: =+G69 -> -630000 | H68: =+H69 -> 0 | I68: =+I69 -> 0
F69: ՍՈՑԻԱԼԱԿԱՆ ՆՊԱՍՏՆԵՐ ԵՎ ԿԵՆՍԱԹՈՇԱԿՆԵՐ | G69: =+G70 -> -630000 | H69: =+H70 -> 0 | I69: =+I70 -> 0
F70: Սոցիալական օգնության դրամական արտահայտությամբ նպաստներ (բյուջեից) | G70: =+G71 -> -630000 | H70: =+H71 -> 0 | I70: =+I71 -> 0
F71: - Երեխաների կամ ընտանեկան նպաստներ բյուջեից | G71: ='1'!D43 -> -630000 | H71: ='1'!E43 -> 0 | I71: ='1'!F43 -> 0
D72: 1068 | F72: Ժողովրդագրական վիճակի բարելավում | G72: =G74 -> 800170.8 | H72: =H74 -> 0 | I72: =I74 -> 0
F73: այդ թվում`
E74: 12001 | F74: Մինչև 2 տարեկան երեխայի խնամքի նպաստի տրամադրում | G74: =+G75 -> 800170.8 | H74: =+H75 -> 0 | I74: =+I75 -> 0
F75: այդ թվում` ըստ կատարողների | G75: =+G76 -> 800170.8 | H75: =+H76 -> 0 | I75: =+I76 -> 0
F76: ՀՀ աշխատանքի և սոցիալական հարցերի նախարարության միասնական սոցիալական ծառայություն | G76: =+G78 -> 800170.8 | H76: =+H78 -> 0 | I76: =+I78 -> 0
F77: այդ թվում` բյուջետային ծախսերի տնտեսագիտական դասակարգման հոդվածներ
F78: ԸՆԴԱՄԵՆԸ ԾԱԽՍԵՐ | G78: =+G79 -> 800170.8 | H78: =+H79 -> 0 | I78: =+I79 -> 0
F79: ԸՆԹԱՑԻԿ ԾԱԽՍԵՐ | G79: =+G80 -> 800170.8 | H79: =+H80 -> 0 | I79: =+I80 -> 0
F80: ՍՈՑԻԱԼԱԿԱՆ ՆՊԱՍՏՆԵՐ ԵՎ ԿԵՆՍԱԹՈՇԱԿՆԵՐ | G80: =+G81 -> 800170.8 | H80: =+H81 -> 0 | I80: =+I81 -> 0
F81: Սոցիալական օգնության դրամական արտահայտությամբ նպաստներ (բյուջեից) | G81: =+G82 -> 800170.8 | H81: =+H82 -> 0 | I81: =+I82 -> 0
F82: - Մայրության նպաստներ բյուջեից | G82: ='1'!D62 -> 800170.8 | H82: ='1'!E62 -> 0 | I82: ='1'!F62 -> 0
B83: 07 | F83: Սոցիալական հատուկ արտոնություններ (այլ դասերին չպատկանող) | G83: =+G85 -> -13900 | H83: =+H85 -> -36000 | I83: =+I85 -> -45000
F84: այդ թվում`
C85: 01 | F85: Սոցիալական հատուկ արտոնություններ (այլ դասերին չպատկանող) | G85: =SUM(G88,G104,G115) -> -13900 | H85: =SUM(H88,H104,H115) -> -36000 | I85: =SUM(I88,I104,I115) -> -45000
F86: այդ թվում`
F87: ՀՀ աշխատանքի և սոցիալական հարցերի նախարարություն | G87: =G88 -> -12400 | H87: =H88 -> -36000 | I87: =I88 -> -45000
D88: 1005 | F88: Պարգևավճարներ և պատվովճարներ | G88: =+G90 -> -12400 | H88: =+H90 -> -36000 | I88: =+I90 -> -45000
F89: այդ թվում`
E90: 12002 | F90: Վետերանների պատվովճարներ | G90: =G92 -> -12400 | H90: =H92 -> -36000 | I90: =I92 -> -45000
F91: այդ թվում` ըստ կատարողների
F92: ՀՀ աշխատանքի և սոցիալական հարցերի նախարարության միասնական սոցիալական ծառայություն | G92: =G94 -> -12400 | H92: =H94 -> -36000 | I92: =I94 -> -45000
F93: այդ թվում` բյուջետային ծախսերի տնտեսագիտական դասակարգման հոդվածներ
F94: ԸՆԴԱՄԵՆԸ ԾԱԽՍԵՐ | G94: =G95 -> -12400 | H94: =H95 -> -36000 | I94: =I95 -> -45000
F95: ԸՆԹԱՑԻԿ ԾԱԽՍԵՐ | G95: =G96 -> -12400 | H95: =H96 -> -36000 | I95: =I96 -> -45000
F96: ՍՈՑԻԱԼԱԿԱՆ ՆՊԱՍՏՆԵՐ ԵՎ ԿԵՆՍԱԹՈՇԱԿՆԵՐ | G96: =G97 -> -12400 | H96: =H97 -> -36000 | I96: =I97 -> -45000
F97: Սոցիալական օգնության դրամական արտահայտությամբ նպաստներ (բյուջեից) | G97: =G98 -> -12400 | H97: =H98 -> -36000 | I97: =I98 -> -45000
F98: - Այլ նպաստներ բյուջեից | G98: ='1'!D18 -> -12400 | H98: ='1'!E18 -> -36000 | I98: ='1'!F18 -> -45000
B99: 09 | F99: Սոցիալական պաշտպանություն (այլ դասերին չպատկանող) | G99: =+G101 -> -1500 | H99: =+H101 -> 0 | I99: 0
F100: այդ թվում`
C101: 02 | F101: Սոցիալական պաշտպանությանը տրամադրվող օժանդակ ծառայություններ (այլ դասերին չպատկանող) | G101: =G103 -> -1500 | H101: =H103 -> 0 | I101: 0
...

Sheet 3
E1: Հավելված N 3
E2: ՀՀ կառավարության 2022 թվականի
E3: -----------------ի N -----------Ն որոշման
A4: ՀԱՅԱՍՏԱՆԻ ՀԱՆՐԱՊԵՏՈՒԹՅԱՆ ԿԱՌԱՎԱՐՈՒԹՅԱՆ 2020 ԹՎԱԿԱՆԻ ԴԵԿՏԵՄԲԵՐԻ 30-Ի N 2215-Ն ՈՐՈՇՄԱՆ N 9 ՀԱՎԵԼՎԱԾԻ N 9.1.20 ԱՂՅՈՒՍԱԿՈՒՄ ԿԱՏԱՐՎՈՂ ՓՈՓՈԽՈՒԹՅՈՒՆՆԵՐԸ
A5: ՀԱՅԱՍՏԱՆԻ ՀԱՆՐԱՊԵՏՈՒԹՅԱՆ ԿԱՌԱՎԱՐՈՒԹՅԱՆ 2021 ԹՎԱԿԱՆԻ ԴԵԿՏԵՄԲԵՐԻ 23-Ի N 2121-Ն ՈՐՈՇՄԱՆ N 9 ՀԱՎԵԼՎԱԾԻ N 9.15 ԱՂՅՈՒՍԱԿՈՒՄ ԿԱՏԱՐՎՈՂ ՓՈՓՈԽՈՒԹՅՈՒՆՆԵՐԸ
A6: Հայաստանի Հանրապետության աշխատանքի և սոցիալական հարցերի նախարարություն
A7: ՄԱՍ 2. ՊԵՏԱԿԱՆ ՄԱՐՄՆԻ ԳԾՈՎ ԱՐԴՅՈՒՆՔԱՅԻՆ (ԿԱՏԱՐՈՂԱԿԱՆ) ՑՈՒՑԱՆԻՇՆԵՐԸ
A9: Ծրագրի դասիչը | B9: Ծրագրի անվանումը
A10: 1005 | B10: Պարգևավճարներ և պատվովճարներ
A11: Ծրագրի միջոցառումները
A13: Ծրագրի դասիչը` | B13: 1005 | C13: ='1'!D7 -> Ցուցանիշների փոփոխությունները ավելացումները նշված են դրական նշանով, իսկ նվազեցումները՝ փակագծերում
A14: Միջոցառման դասիչը` | B14: 12002 | C14: ='1'!D8 -> Առաջին կիսամյակ | D14: ='1'!E8 -> Ինն ամիս | E14: ='1'!F8 -> Տարի
A15: Միջոցառման անվանումը` | B15: Վետերանների պատվովճարներ
A16: Նկարագրությունը` | B16: ՀՄՊ վետերաններին պատվովճարի տրամադրում
A17: Միջոցառման տեսակը` | B17: Տրանսֆերտների տրամադրում
A18: Շահառուների ընտրության չափանիշները | B18: ՀՄ պատերազմի վետերաններին պատվովճարների տրամադրում 02.12.1998թ. ՀՕ-267-Ն օրենքի 4-րդ հոդվածով
A19: Արդյունքի չափորոշիչներ
A20: Պատվովճար ստացող վետերանների թիվ,մարդ | C20: =C21/F20/6*1000 -> -20.666667 | D20: =D21/F20/9*1000 -> -40 | E20: =E21/F20/12*1000 -> -37.5 | F20: 100000
A21: Միջոցառման վրա կատարվող ծախսը (հազար դրամ) | C21: ='1'!D18 -> -12400 | D21: ='1'!E18 -> -36000 | E21: ='1'!F18 -> -45000
A23: Ծրագրի դասիչը` | B23: 1005 | C23: ='1'!D7 -> Ցուցանիշների փոփոխությունները ավելացումները նշված են դրական նշանով, իսկ նվազեցումները՝ փակագծերում
A24: Միջոցառման դասիչը` | B24: 12003 | C24: ='1'!D8 -> Առաջին կիսամյակ | D24: ='1'!E8 -> Ինն ամիս | E24: ='1'!F8 -> Տարի
A25: Միջոցառման անվանումը` | B25: Զոհված՛ հետմահու «Հայաստանի ազգային հերոս» ՀՀ բարձրագույն կոչում ստացած կամ «Մարտական խաչ» շքանշանով պարգևատրված անձի ընտանիքին տրվող պարգևավճար
A26: Նկարագրությունը` | B26: Զոհված՛ հետմահու «Հայաստանի ազգային հերոս» ՀՀ բարձրագույն կոչում ստացած կամ «Մարտական խաչ» շքանշանով պարգևատրված անձի ընտանիքին
A27: Միջոցառման տեսակը` | B27: Տրանսֆերտների տրամադրում
A28: Շահառուների ընտրության չափանիշները | B28: Զոհված? հետմահու "Հայաստանի ազգային հերոս" ՀՀ բարձրագույն կոչում ստացած կամ "Մարտական խաչ" շքանշանով պարգևատրված անձի ընտանիքի անդամներ
A29: Արդյունքի չափորոշիչներ
A30: Պարգևավճարներ ստացողների թիվ, ընտանիք | C30: =SUM(C31/F30/6)*1000 -> 8.7777778 | D30: =SUM(D31/F30/9)*1000 -> 23.333333 | E30: =SUM(E31/F30/12)*1000 -> 25 | F30: 150000
A31: Միջոցառման վրա կատարվող ծախսը (հազար դրամ) | C31: ='1'!D24 -> 7900 | D31: ='1'!E24 -> 31500 | E31: ='1'!F24 -> 45000
A33: Ծրագրի դասիչը | B33: Ծրագրի անվանումը
A34: 1011 | B34: Անապահով սոցիալական խմբերին աջակցություն
A35: Ծրագրի միջոցառումներ
A37: Ծրագրի դասիչը` | B37: 1011 | C37: ='1'!D7 -> Ցուցանիշների փոփոխությունները ավելացումները նշված են դրական նշանով, իսկ նվազեցումները՝ փակագծերում
A38: Միջոցառման դասիչը` | B38: 11001 | C38: ='1'!D8 -> Առաջին կիսամյակ | D38: ='1'!E8 -> Ինն ամիս | E38: ='1'!F8 -> Տարի
A39: Միջոցառման անվանումը` | B39: Ընտանիքի կենսամակարդակի բարձրացմանն ուղղված նպաստների իրականացման ապահովում
A40: Նկարագրությունը` | B40: Ընտանիքների անապահովության գնահատման համակարգում հաշվառված, ընդգրկված անապահով ճանաչված ընտանիքներին նպաստի, սոցիալական նպաստի և հրատապ օգնության վճարման ծառայությունների ձեռքբերում
A41: Միջոցառման տեսակը` | B41: Ծառայությունների մատուցում
A42: Միջոցառումն իրականացնողի անվանումը? | B42: «Գնումների մասին» ՀՀ օրենքի համաձայն ընտրված կազմակերպություն
A43: Արդյունքի չափորոշիչներ
A44: Ընտանիքի կենսամակարդակի բարձրացմանն ուղղված նպաստներ ստացող ընտանիքների թիվ, հատ | C44: =SUM(C54) -> -3705.8475 | D44: =D54 -> 0 | E44: =E45/F44/12*1000 -> 0 | F44: 28333.6
A45: Միջոցառման վրա կատարվող ծախսը (հազար դրամ) | C45: ='1'!D37 -> -6000 | D45: ='1'!E37 -> 0 | E45: ='1'!F37 -> 0
A47: Ծրագրի դասիչը` | B47: 1011 | C47: ='1'!D7 -> Ցուցանիշների փոփոխությունները ավելացումները նշված են դրական նշանով, իսկ նվազեցումները՝ փակագծերում
A48: Միջոցառման դասիչը` | B48: 12001 | C48: ='1'!D8 -> Առաջին կիսամյակ | D48: ='1'!E8 -> Ինն ամիս | E48: ='1'!F8 -> Տարի
A49: Միջոցառման անվանումը` | B49: Ընտանիքի կենսամակարդակի բարձրացմանն ուղղված նպաստներ
A50: Նկարագրությունը` | B50: Ընտանիքների անապահովության գնահատման համակարգում հաշվառված, անապահով ճանաչված ընտանիքներին նպաստի, սոցիալական նպաստի և հրատապ օգնության տրամադրում
A51: Միջոցառման տեսակը` | B51: Տրանսֆերտների տրամադրում
A52: Շահառուների ընտրության չափանիշները | B52: Ընտանիքների անապահովության գնահատման համակարգում հաշվառված ընտանիք?ընտանիքի անապահովության միավորի հիման վրա
A53: Արդյունքի չափորոշիչներ
A54: Ընտանիքի կենսամակարդակի բարձրացմանն ուղղված նպաստներ ստացող ընտանիքների թիվ, հատ | C54: =C55/F54/6*1000 -> -3705.8475 | D54: =D55/F54/9*1000 -> 0 | E54: =E55/F54/12*1000 -> 0 | F54: 28333.6
A55: Միջոցառման վրա կատարվող ծախսը (հազար դրամ) | C55: ='1'!D43 -> -630000 | D55: ='1'!E43 -> 0 | E55: ='1'!F43 -> 0
A57: Ծրագրի դասիչը | B57: Ծրագրի անվանումը
A58: 1068 | B58: Ժողովրդագրական վիճակի բարելավում
A60: Ծրագրի միջոցառումները
A61: Ծրագրի դասիչը` | B61: 1068 | C61: ='1'!D7 -> Ցուցանիշների փոփոխությունները ավելացումները նշված են դրական նշանով, իսկ նվազեցումները՝ փակագծերում
A62: Միջոցառման դասիչը` | B62: 11001 | C62: ='1'!D8 -> Առաջին կիսամյակ | D62: ='1'!E8 -> Ինն ամիս | E62: ='1'!F8 -> Տարի
A63: Միջոցառման անվանումը` | B63: Մինչև 2 տարեկան երեխայի խնամքի նպաստի տրամադրման ապահովում
A64: Նկարագրությունը` | B64: Մինչև 2 տարեկան երեխայի խնամքի նպաստի վճարման ծառայությունների ձեռքբերում
A65: Միջոցառման տեսակը` | B65: Ծառայությունների մատուցում
A66: Միջոցառումն իրականացնողի անվանումը | B66: «Գնումների մասին» ՀՀ օրենքի համաձայն ընտրված կազմակերպություն
A67: Արդյունքի չափորոշիչներ
A68: Մինչև 2 տարեկան երեխայի խնամքի նպաստ ստացող քաղաքացիների թիվ, մարդ, որից | C68: 0 | D68: 0 | E68: 0 | F68: 28600
A69: Միջոցառման վրա կատարվող ծախսը (հազար դրամ) | C69: ='1'!D56 -> 4500 | D69: ='1'!E56 -> 0 | E69: ='1'!F56 -> 0
A71: Ծրագրի դասիչը` | B71: 1068 | C71: ='1'!D7 -> Ցուցանիշների փոփոխությունները ավելացումները նշված են դրական նշանով, իսկ նվազեցումները՝ փակագծերում
A72: Միջոցառման դասիչը` | B72: 12001 | C72: ='1'!D8 -> Առաջին կիսամյակ | D72: ='1'!E8 -> Ինն ամիս | E72: ='1'!F8 -> Տարի
A73: Միջոցառման անվանումը` | B73: Մինչև 2 տարեկան երեխայի խնամքի նպաստի տրամադրում
A74: Նկարագրությունը` | B74: Մինչև 2 տարեկան երեխայի խնամքի նպաստի տրամադրում
A75: Միջոցառման տեսակը` | B75: Տրանսֆերտների տրամադրում
A76: Շահառուների ընտրության չափանիշները | B76: Մինչև երեք տարեկան երեխայի խնամքի արձակուրդում գտնվող անձը` մինչ երեխայի 2 տարեկանը լրանալը
A77: Արդյունքի չափորոշիչներ
A78: Մինչև 2 տարեկան երեխայի խնամքի նպաստ ստացող քաղաքացիների թիվ, մարդ | C78: =C79/F78/6*1000 -> 4663 | D78: =D79/F78/9*1000 -> 0 | E78: =E79/F78/12*1000 -> 0 | F78: 28600
A79: Միջոցառման վրա կատարվող ծախսը (հազար դրամ) | C79: ='1'!D62 -> 800170.8 | D79: ='1'!E62 -> 0 | E79: ='1'!F62 -> 0
A81: Ծրագրի դասիչը | B81: Ծրագրի անվանումը
A82: 1102 | B82: Կենսաթոշակային ապահովություն
A83: Ծրագրի միջոցառումները
A85: Ծրագրի դասիչը` | B85: 1102 | C85: ='1'!D7 -> Ցուցանիշների փոփոխությունները ավելացումները նշված են դրական նշանով, իսկ նվազեցումները՝ փակագծերում
A86: Միջոցառման դասիչը` | B86: 12003 | C86: ='1'!D8 -> Առաջին կիսամյակ | D86: ='1'!E8 -> Ինն ամիս | E86: ='1'!F8 -> Տարի
A87: Միջոցառման անվանումը` | B87: Աշխատանքային կենսաթոշակներ
A88: Նկարագրությունը` | B88: Աշխատանքային կենսաթոշակների (տարիքային, հաշմանդամության, արտոնյալ պայմաններով, երկարամյա ծառայության, մասնակի, կերակրողին կորցնելու դեպքում կենսաթոշակների) տրամադրում
A89: Միջոցառման տեսակը` | B89: Տրանսֆերտների տրամադրում
A90: Շահառուների ընտրության չափանիշները | B90: Տարիքային աշխատանքային` առնվազն 10 տարվա աշխատանքային ստաժ, հաշմանդամության աշխատանքային` ըստ սանդղակի աշխատանքային ստաժ, արտոնյալ, մասնակի երկարամյա ծառայության` պահանջվող մասնագիտությամբ աշխատանքային ստաժ
A91: Արդյունքի չափորոշիչներ
A92: Կենսաթոշակառուների թիվ, մարդ, այդ թվում | C92: =C93/F92/6*1000 -> -1214.1099 | D92: =D93/F92/12*1000 -> -284.01993 | E92: =E93/F92/12*1000 -> 0 | F92: 43512
A93: Միջոցառման վրա կատարվող ծախսը (հազար դրամ) | C93: ='1'!D74 -> -316970.1 | D93: ='1'!E74 -> -148299.3 | E93: ='1'!F74 -> 0
A95: Ծրագրի դասիչը | B95: Ծրագրի անվանումը
A96: 1205 | B96: Սոցիալական ապահովություն
A97: Ծրագրի միջոցառումները
A98: Ծրագրի դասիչը` | B98: 1205 | C98: ='1'!D7 -> Ցուցանիշների փոփոխությունները ավելացումները նշված են դրական նշանով, իսկ նվազեցումները՝ փակագծերում
A99: Միջոցառման դասիչը` | B99: 12001 | C99: ='1'!D8 -> Առաջին կիսամյակ | D99: ='1'!E8 -> Ինն ամիս | E99: ='1'!F8 -> Տարի
A100: Միջոցառման անվանումը` | B100: Ծերության, հաշմանդամության, կերակրողին կորցնելու դեպքում նպաստներ
A101: Նկարագրությունը` | B101: Ծերության, հաշմանդամության, կերակրողին կորցնելու դեպքում սոցիալական նպաստների տրամադրում
A102: Միջոցառման տեսակը` | B102: Տրանսֆերտների տրամադրում
A103: Շահառուների ընտրության չափանիշները | B103: Կենսաթոշակի իրավունք չունեցող հաշմանդամներ, կերակրողին կորցրած անձիք և օրենքով սահմանված տարիքը լրացած և պահանջվող ստաժ չունեցող անձիք
A104: Արդյունքի չափորոշիչներ
A105: Նպաստառուների թիվ, մարդ, այդ թվում | C105: =C106 -> 890.43881 | D105: =D106 -> 593.62587 | E105: =E106 -> 0
A106: ծերության նպաստառուների թիվը, մարդ | C106: =C107/F106/6*1000 -> 890.43881 | D106: =D107/F106/9*1000 -> 593.62587 | E106: =E107/F106/12*1000 -> 0 | F106: 28600
A107: Միջոցառման վրա կատարվող ծախսը (հազար դրամ) | C107: ='1'!D87 -> 152799.3 | D107: ='1'!E87 -> 152799.3 | E107: ='1'!F87 -> 0
C109: =SUM(C21,C31,C45,C55,C69,C79,C93,C107) -> 0 | D109: =SUM(D21,D31,D45,D55,D69,D79,D93,D107) -> 0 | E109: =SUM(E21,E31,E45,E55,E69,E79,E93,E107) -> 0

Sheet 4
E1: Հավելված N 4
E2: ՀՀ կառավարության 2022 թվականի
E3: -----------------ի N -----------Ն որոշման
A4: ՀԱՅԱՍՏԱՆԻ ՀԱՆՐԱՊԵՏՈՒԹՅԱՆ ԿԱՌԱՎԱՐՈՒԹՅԱՆ 2020 ԹՎԱԿԱՆԻ ԴԵԿՏԵՄԲԵՐԻ 30-Ի N 2215-Ն ՈՐՈՇՄԱՆ N 9 ՀԱՎԵԼՎԱԾԻ N 9.1.20 ԱՂՅՈՒՍԱԿՈՒՄ ԿԱՏԱՐՎՈՂ ՓՈՓՈԽՈՒԹՅՈՒՆՆԵՐԸ
A5: ՀԱՅԱՍՏԱՆԻ ՀԱՆՐԱՊԵՏՈՒԹՅԱՆ ԿԱՌԱՎԱՐՈՒԹՅԱՆ 2021 ԹՎԱԿԱՆԻ ԴԵԿՏԵՄԲԵՐԻ 23-Ի N 2121-Ն ՈՐՈՇՄԱՆ N 9.1 ՀԱՎԵԼՎԱԾԻ N 9.1.20 ԱՂՅՈՒՍԱԿՈՒՄ ԿԱՏԱՐՎՈՂ ՓՈՓՈԽՈՒԹՅՈՒՆՆԵՐԸ
A6: ՄԱՍ 1. ՊԵՏԱԿԱՆ ՄԱՐՄՆԻ ԳԾՈՎ ԱՐԴՅՈՒՆՔԱՅԻՆ (ԿԱՏԱՐՈՂԱԿԱՆ) ՑՈՒՑԱՆԻՇՆԵՐԸ
A8: ՀՀ աշխատանքի և սոցիալական հարցերի նախարարության միասնական սոցիալական ծառայություն
A9: Ծրագրի դասիչը | B9: Ծրագրի անվանումը
A10: 1005 | B10: Պարգևավճարներ և պատվովճարներ
A11: Ծրագրի միջոցառումները
A13: Ծրագրի դասիչը` | B13: 1005 | C13: ='1'!D7 -> Ցուցանիշների փոփոխությունները ավելացումները նշված են դրական նշանով, իսկ նվազեցումները՝ փակագծերում
A14: Միջոցառման դասիչը` | B14: 12002 | C14: ='1'!D8 -> Առաջին կիսամյակ | D14: ='1'!E8 -> Ինն ամիս | E14: ='1'!F8 -> Տարի
A15: Միջոցառման անվանումը` | B15: Վետերանների պատվովճարներ
A16: Նկարագրությունը` | B16: ՀՄՊ վետերաններին պատվովճարի տրամադրում
A17: Միջոցառման տեսակը` | B17: Տրանսֆերտների տրամադրում
A18: Շահառուների ընտրության չափանիշները | B18: ՀՄ պատերազմի վետերաններին պատվովճարների տրամադրում 02.12.1998թ. ՀՕ-267-Ն օրենքի 4-րդ հոդվածով
A19: Արդյունքի չափորոշիչներ
A20: Պատվովճար ստացող վետերանների թիվ,մարդ | C20: =C21/F20/6*1000 -> -20.666667 | D20: =D21/F20/9*1000 -> -40 | E20: =E21/F20/12*1000 -> -37.5 | F20: 100000
A21: Միջոցառման վրա կատարվող ծախսը (հազար դրամ) | C21: ='1'!D18 -> -12400 | D21: ='1'!E18 -> -36000 | E21: ='1'!F18 -> -45000
A23: Ծրագրի դասիչը` | B23: 1005 | C23: ='1'!D7 -> Ցուցանիշների փոփոխությունները ավելացումները նշված են դրական նշանով, իսկ նվազեցումները՝ փակագծերում
A24: Միջոցառման դասիչը` | B24: 12003 | C24: ='1'!D8 -> Առաջին կիսամյակ | D24: ='1'!E8 -> Ինն ամիս | E24: ='1'!F8 -> Տարի
A25: Միջոցառման անվանումը` | B25: Զոհված՛ հետմահու «Հայաստանի ազգային հերոս» ՀՀ բարձրագույն կոչում ստացած կամ «Մարտական խաչ» շքանշանով պարգևատրված անձի ընտանիքին տրվող պարգևավճար
A26: Նկարագրությունը` | B26: Զոհված՛ հետմահու «Հայաստանի ազգային հերոս» ՀՀ բարձրագույն կոչում ստացած կամ «Մարտական խաչ» շքանշանով պարգևատրված անձի ընտանիքին
A27: Միջոցառման տեսակը` | B27: Տրանսֆերտների տրամադրում
A28: Շահառուների ընտրության չափանիշները | B28: Զոհված? հետմահու "Հայաստանի ազգային հերոս" ՀՀ բարձրագույն կոչում ստացած կամ "Մարտական խաչ" շքանշանով պարգևատրված անձի ընտանիքի անդամներ
A29: Արդյունքի չափորոշիչներ
A30: Պարգևավճարներ ստացողների թիվ, ընտանիք | C30: =SUM(C31/F30/6)*1000 -> 8.7777778 | D30: =SUM(D31/F30/9)*1000 -> 23.333333 | E30: =SUM(E31/F30/12)*1000 -> 25 | F30: 150000
A31: Միջոցառման վրա կատարվող ծախսը (հազար դրամ) | C31: ='1'!D24 -> 7900 | D31: ='1'!E24 -> 31500 | E31: ='1'!F24 -> 45000
A33: Ծրագրի դասիչը | B33: Ծրագրի անվանումը
A34: 1011 | B34: Անապահով սոցիալական խմբերին աջակցություն
A35: Ծրագրի միջոցառումներ
A37: Ծրագրի դասիչը` | B37: 1011 | C37: ='1'!D7 -> Ցուցանիշների փոփոխությունները ավելացումները նշված են դրական նշանով, իսկ նվազեցումները՝ փակագծերում
A38: Միջոցառման դասիչը` | B38: 11001 | C38: ='1'!D8 -> Առաջին կիսամյակ | D38: ='1'!E8 -> Ինն ամիս | E38: ='1'!F8 -> Տարի
A39: Միջոցառման անվանումը` | B39: Ընտանիքի կենսամակարդակի բարձրացմանն ուղղված նպաստների իրականացման ապահովում
A40: Նկարագրությունը` | B40: Ընտանիքների անապահովության գնահատման համակարգում հաշվառված, ընդգրկված անապահով ճանաչված ընտանիքներին նպաստի, սոցիալական նպաստի և հրատապ օգնության վճարման ծառայությունների ձեռքբերում
A41: Միջոցառման տեսակը` | B41: Ծառայությունների մատուցում
A42: Միջոցառումն իրականացնողի անվանումը? | B42: «Գնումների մասին» ՀՀ օրենքի համաձայն ընտրված կազմակերպություն
A43: Արդյունքի չափորոշիչներ
A44: Ընտանիքի կենսամակարդակի բարձրացմանն ուղղված նպաստներ ստացող ընտանիքների թիվ, հատ | C44: =SUM(C54) -> -3705.8475 | D44: =D54 -> 0 | E44: =E45/F44/12*1000 -> 0 | F44: 28333.6
A45: Միջոցառման վրա կատարվող ծախսը (հազար դրամ) | C45: ='1'!D37 -> -6000 | D45: ='1'!E37 -> 0 | E45: ='1'!F37 -> 0
A47: Ծրագրի դասիչը` | B47: 1011 | C47: ='1'!D7 -> Ցուցանիշների փոփոխությունները ավելացումները նշված են դրական նշանով, իսկ նվազեցումները՝ փակագծերում
A48: Միջոցառման դասիչը` | B48: 12001 | C48: ='1'!D8 -> Առաջին կիսամյակ | D48: ='1'!E8 -> Ինն ամիս | E48: ='1'!F8 -> Տարի
A49: Միջոցառման անվանումը` | B49: Ընտանիքի կենսամակարդակի բարձրացմանն ուղղված նպաստներ
A50: Նկարագրությունը` | B50: Ընտանիքների անապահովության գնահատման համակարգում հաշվառված, անապահով ճանաչված ընտանիքներին նպաստի, սոցիալական նպաստի և հրատապ օգնության տրամադրում
A51: Միջոցառման տեսակը` | B51: Տրանսֆերտների տրամադրում
A52: Շահառուների ընտրության չափանիշները | B52: Ընտանիքների անապահովության գնահատման համակարգում հաշվառված ընտանիք?ընտանիքի անապահովության միավորի հիման վրա
A53: Արդյունքի չափորոշիչներ
A54: Ընտանիքի կենսամակարդակի բարձրացմանն ուղղված նպաստներ ստացող ընտանիքների թիվ, հատ | C54: =C55/F54/6*1000 -> -3705.8475 | D54: =D55/F54/9*1000 -> 0 | E54: =E55/F54/12*1000 -> 0 | F54: 28333.6
A55: Միջոցառման վրա կատարվող ծախսը (հազար դրամ) | C55: ='1'!D43 -> -630000 | D55: ='1'!E43 -> 0 | E55: ='1'!F43 -> 0
A57: Ծրագրի դասիչը | B57: Ծրագրի անվանումը
A58: 1068 | B58: Ժողովրդագրական վիճակի բարելավում
A60: Ծրագրի միջոցառումները
A61: Ծրագրի դասիչը` | B61: 1068 | C61: ='1'!D7 -> Ցուցանիշների փոփոխությունները ավելացումները նշված են դրական նշանով, իսկ նվազեցումները՝ փակագծերում
A62: Միջոցառման դասիչը` | B62: 11001 | C62: ='1'!D8 -> Առաջին կիսամյակ | D62: ='1'!E8 -> Ինն ամիս | E62: ='1'!F8 -> Տարի
A63: Միջոցառման անվանումը` | B63: Մինչև 2 տարեկան երեխայի խնամքի նպաստի տրամադրման ապահովում
A64: Նկարագրությունը` | B64: Մինչև 2 տարեկան երեխայի խնամքի նպաստի վճարման ծառայությունների ձեռքբերում
A65: Միջոցառման տեսակը` | B65: Ծառայությունների մատուցում
A66: Միջոցառումն իրականացնողի անվանումը | B66: «Գնումների մասին» ՀՀ օրենքի համաձայն ընտրված կազմակերպություն
A67: Արդյունքի չափորոշիչներ
A68: Մինչև 2 տարեկան երեխայի խնամքի նպաստ ստացող քաղաքացիների թիվ, մարդ, որից | C68: 0 | D68: 0 | E68: 0
A69: Միջոցառման վրա կատարվող ծախսը (հազար դրամ) | C69: ='1'!D56 -> 4500 | D69: ='1'!E56 -> 0 | E69: ='1'!F56 -> 0
A71: Ծրագրի դասիչը` | B71: 1068 | C71: ='1'!D7 -> Ցուցանիշների փոփոխությունները ավելացումները նշված են դրական նշանով, իսկ նվազեցումները՝ փակագծերում
A72: Միջոցառման դասիչը` | B72: 12001 | C72: ='1'!D8 -> Առաջին կիսամյակ | D72: ='1'!E8 -> Ինն ամիս | E72: ='1'!F8 -> Տարի
A73: Միջոցառման անվանումը` | B73: Մինչև 2 տարեկան երեխայի խնամքի նպաստի տրամադրում
A74: Նկարագրությունը` | B74: Մինչև 2 տարեկան երեխայի խնամքի նպաստի տրամադրում
A75: Միջոցառման տեսակը` | B75: Տրանսֆերտների տրամադրում
A76: Շահառուների ընտրության չափանիշները | B76: Մինչև երեք տարեկան երեխայի խնամքի արձակուրդում գտնվող անձը` մինչ երեխայի 2 տարեկանը լրանալը
A77: Արդյունքի չափորոշիչներ
A78: Մինչև 2 տարեկան երեխայի խնամքի նպաստ ստացող քաղաքացիների թիվ, մարդ | C78: =C79/F78/6*1000 -> 4663 | D78: =D79/F78/9*1000 -> 0 | E78: =E79/F78/12*1000 -> 0 | F78: 28600
A79: Միջոցառման վրա կատարվող ծախսը (հազար դրամ) | C79: ='1'!D62 -> 800170.8 | D79: ='1'!E62 -> 0 | E79: ='1'!F62 -> 0
A81: Ծրագրի դասիչը | B81: Ծրագրի անվանումը
A82: 1102 | B82: Կենսաթոշակային ապահովություն
A83: Ծրագրի միջոցառումները
A85: Ծրագրի դասիչը` | B85: 1102 | C85: ='1'!D7 -> Ցուցանիշների փոփոխությունները ավելացումները նշված են դրական նշանով, իսկ նվազեցումները՝ փակագծերում
A86: Միջոցառման դասիչը` | B86: 12003 | C86: ='1'!D8 -> Առաջին կիսամյակ | D86: ='1'!E8 -> Ինն ամիս | E86: ='1'!F8 -> Տարի
A87: Միջոցառման անվանումը` | B87: Աշխատանքային կենսաթոշակներ
A88: Նկարագրությունը` | B88: Աշխատանքային կենսաթոշակների (տարիքային, հաշմանդամության, արտոնյալ պայմաններով, երկարամյա ծառայության, մասնակի, կերակրողին կորցնելու դեպքում կենսաթոշակների) տրամադրում
A89: Միջոցառման տեսակը` | B89: Տրանսֆերտների տրամադրում
A90: Շահառուների ընտրության չափանիշները | B90: Տարիքային աշխատանքային` առնվազն 10 տարվա աշխատանքային ստաժ, հաշմանդամության աշխատանքային` ըստ սանդղակի աշխատանքային ստաժ, արտոնյալ, մասնակի երկարամյա ծառայության` պահանջվող մասնագիտությամբ աշխատանքային ստաժ
A91: Արդյունքի չափորոշիչներ
A92: Կենսաթոշակառուների թիվ, մարդ, այդ թվում | C92: =C93/F92/6*1000 -> -1214.1099 | D92: =D93/F92/9*1000 -> -378.69323 | E92: =E93/F92/12*1000 -> 0 | F92: 43512
A93: Միջոցառման վրա կատարվող ծախսը (հազար դրամ) | C93: ='1'!D74 -> -316970.1 | D93: ='1'!E74 -> -148299.3 | E93: ='1'!F74 -> 0
A95: Ծրագրի դասիչը | B95: Ծրագրի անվանումը
A96: 1205 | B96: Սոցիալական ապահովություն
A97: Ծրագրի միջոցառումները
A98: Ծրագրի դասիչը` | B98: 1205 | C98: ='1'!D7 -> Ցուցանիշների փոփոխությունները ավելացումները նշված են դրական նշանով, իսկ նվազեցումները՝ փակագծերում
A99: Միջոցառման դասիչը` | B99: 12001 | C99: ='1'!D8 -> Առաջին կիսամյակ | D99: ='1'!E8 -> Ինն ամիս | E99: ='1'!F8 -> Տարի
A100: Միջոցառման անվանումը` | B100: Ծերության, հաշմանդամության, կերակրողին կորցնելու դեպքում նպաստներ
A101: Նկարագրությունը` | B101: Ծերության, հաշմանդամության, կերակրողին կորցնելու դեպքում սոցիալական նպաստների տրամադրում
A102: Միջոցառման տեսակը` | B102: Տրանսֆերտների տրամադրում
A103: Շահառուների ընտրության չափանիշները | B103: Կենսաթոշակի իրավունք չունեցող հաշմանդամներ, կերակրողին կորցրած անձիք և օրենքով սահմանված տարիքը լրացած և պահանջվող ստաժ չունեցող անձիք
A104: Արդյունքի չափորոշիչներ
A105: Նպաստառուների թիվ, մարդ, այդ թվում | C105: =C106 -> 890.43881 | D105: =D106 -> 593.62587 | E105: =E106 -> 0
A106: ծերության նպաստառուների թիվը, մարդ | C106: =C107/F106/6*1000 -> 890.43881 | D106: =D107/F106/9*1000 -> 593.62587 | E106: =E107/F106/12*1000 -> 0 | F106: 28600
A107: Միջոցառման վրա կատարվող ծախսը (հազար դրամ) | C107: ='1'!D87 -> 152799.3 | D107: ='1'!E87 -> 152799.3 | E107: ='1'!F87 -> 0
C110: =SUM(C22,C32,C46,C56,C70,C80,C94,C108) -> 0 | D110: =SUM(D22,D32,D46,D56,D70,D80,D94,D108) -> 0 | E110: =SUM(E22,E32,E46,E56,E70,E80,E94,E108) -> 0
