Workbook

Sheet Հավելված 1
G1: Հավելված 1
E2: ՀՀ կառավարության 2022 թվականի
E3: ____________-ի N_________-Ն որոշման
B4: «ՀԱՅԱՍՏԱՆԻ ՀԱՆՐԱՊԵՏՈՒԹՅԱՆ 2022 ԹՎԱԿԱՆԻ ՊԵՏԱԿԱՆ ԲՅՈՒՋԵԻ ՄԱՍԻՆ» ՀԱՅԱՍՏԱՆԻ ՀԱՆՐԱՊԵՏՈՒԹՅԱՆ ՕՐԵՆՔԻ N 1 ՀԱՎԵԼՎԱԾԻ N 2 ԱՂՅՈՒՍԱԿՈՒՄ ԿԱՏԱՐՎՈՂ ՎԵՐԱԲԱՇԽՈՒՄԸ ԵՎ ՀԱՅԱՍՏԱՆԻ ՀԱՆՐԱՊԵՏՈՒԹՅԱՆ ԿԱՌԱՎԱՐՈՒԹՅԱՆ 2021 ԹՎԱԿԱՆԻ ԴԵԿՏԵՄԲԵՐԻ 23-Ի N 2121-Ն ՈՐՈՇՄԱՆ N 5 ՀԱՎԵԼՎԱԾԻ N 1 ԱՂՅՈՒՍԱԿՈՒՄ ԿԱՏԱՐՎՈՂ ՓՈՓՈԽՈՒԹՅՈՒՆՆԵՐԸ
G6: հազար դրամներով
B7: Ծրագրային դասիչը | D7: Բյուջետային գլխավոր կարգադրիչների, ծրագրերի և միջոցառումների անվանումները | E7: Ցուցանիշների փոփոխությունը (ավելացումները նշված են դրական նշանով, իսկ նվազեցումները փակագծերում)
B8: Ծրագիր | C8: Միջոց առում | E8: Առաջին կիսամյակ | F8: Ինն ամիս | G8: Տարի
D10: ԸՆԴԱՄԵՆԸ | E10: =E11+E31 -> 0 | F10: =F11+F31 -> 0 | G10: =G11+G31 -> 0
D11: ՀՀ ազգային անվտանգության ծառայություն | E11: =+E12 -> 0 | F11: =F12+F32 -> 0 | G11: =G12 -> 0
B12: 1138 | D12: Ծրագրի անվանումը` | E12: =E19+E25 -> 0 | F12: =F13+F33 -> 0 | G12: =G19+G25 -> 0
D13: Ազգային անվտանգություն
D14: Ծրագրի նպատակը`
D15: Ներքին և արտաքին սպառնալիքներից անձի՝ հասարակության ու պետության անվտանգության ապահովում
D16: Վերջնական արդյունքի նկարագրությունը`
D17: Այլ պետությունների կողմից հետախուզական գործունեության կասեցում՝պետական սահմանի անձեռնամխելիության ապահովում՝ կոռուպցիոն ռիսկերի շեշտակի նվազեցում
B18: Ծրագրի միջոցառումներ | D18: Ծրագրի միջոցառումներ
C19: 11001 | D19: Միջոցառման անվանումը` | E19: -509914.1 | F19: -764871.16 | G19: -1019828.2
D20: Հետախուզական՝ հակահետախուզական՝ ռազմական հակահետախուզության՝ հանցագործությունների դեմ պայքարի և պետական սահմանի պահպանության գործունեության կազմակերպում
D21: Միջոցառման նկարագրությունը`
D22: ՀՀ անվտանգությանը սպառնացող վտանգի մասին տեղեկատվության ստացում՝ վերլուծում՝ վտանգի կանխատեսում, վտանգի կանխման ու չեզոքացման վերաբերյալ առաջարկությունների մշակում_x000D_
D23: Միջոցառման տեսակը
D24: Ծառայությունների մատուցում
C25: 31002 | D25: Միջոցառման անվանումը` | E25: 509914.1 | F25: 764871.2 | G25: 1019828.2
D26: Ազգային անվտանգության համակարգի շենքային ապահովվածության բարելավում
D27: Միջոցառման նկարագրությունը`
D28: Ազգային անվտանգության համակարգի ստորաբաժանումների վարչական շենքերի կառուցում, կապիտալ վերանորոգում, շինարարական և կապիտալ նորոգման օբյեկտների նախագծահետազոտական փաստաթղթերի պատրաստում
D29: Միջոցառման տեսակը
D30: Պետական մարմինների կողմից օգտագործվող ոչ ֆինանսական ակտիվների հետ գործառնություններ
D31: ՀՀ կառավարություն | E31: =E32 -> 0 | F31: =F32 -> 0 | G31: =G32 -> 0
B32: 1139 | D32: Ծրագրի անվանումը` | E32: =E39+E45 -> 0 | F32: =F39+F45 -> 0 | G32: =G39+G45 -> 0
D33: ՀՀ կառավարության պահուստային ֆոնդ
D34: Ծրագրի նպատակը`
D35: Պետական բյուջեում չկանխատեսված, ինչպես նաեւ բյուջետային երաշխիքների ապահովման ծախսերի ֆինանսավորման ապահովում_x000D_
D36: Վերջնական արդյունքի նկարագրությունը`
D37: Պահուստային ֆոնդի կառավարման արդյունավետության և թափանցիկության ապահովում
D38: Ծրագրի միջոցառումներ
C39: 11001 | D39: Միջոցառման անվանումը` | E39: 509914.1 | F39: 764871.2 | G39: 1019828.2
D40: ՀՀ կառավարության պահուստային ֆոնդ
D41: Միջոցառման նկարագրությունը`
D42: ՀՀ պետական բյուջեում նախատեսված ելքերի լրացուցիչ ֆինանսավորման՝ պետական բյուջեում չկանխատեսված ելքերի՝ ինչպես նաև բյուջետային երաշխիքների ապահովման ելքերի ֆինանսավորման ապահովում
D43: Միջոցառման տեսակը
D44: Ծառայությունների մատուցում
C45: 11001 | D45: Միջոցառման անվանումը` | E45: -509914.1 | F45: -764871.2 | G45: -1019828.2
D46: ՀՀ կառավարության պահուստային ֆոնդ
D47: Միջոցառման նկարագրությունը`
D48: ՀՀ պետական բյուջեում նախատեսված ելքերի լրացուցիչ ֆինանսավորման՝ պետական բյուջեում չկանխատեսված ելքերի՝ ինչպես նաև բյուջետային երաշխիքների ապահովման ելքերի ֆինանսավորման ապահովում
D49: Միջոցառման տեսակը
D50: Ծառայությունների մատուցում

Sheet Հավելված 2
J1: Հավելված 2
H2: ՀՀ կառավարության 2022 թվականի
H3: ___________ ___-ի N _______ -Ն որոշման
B5: ՀԱՅԱՍՏԱՆԻ ՀԱՆՐԱՊԵՏՈՒԹՅԱՆ ԿԱՌԱՎԱՐՈՒԹՅԱՆ 2021 ԹՎԱԿԱՆԻ ԴԵԿՏԵՄԲԵՐԻ 23-Ի N 2121-Ն ՈՐՈՇՄԱՆ N 3 ԵՎ N 4 ՀԱՎԵԼՎԱԾՆԵՐՈՒՄ ԿԱՏԱՐՎՈՂ ՓՈՓՈԽՈՒԹՅՈՒՆՆԵՐԸ
I7: հազար դրամներով
B8: Գործառական դասիչը | E8: Ծրագրային դասիչը | G8: Բյուջետային հատկացումների գլխավոր կարգադրիչների, ծրագրերի, միջոցառումների և միջոցառումները կատարող պետական մարմինների անվանումները | H8: Ցուցանիշների փոփոխությունը (ավելացումները նշված են դրական նշանով, իսկ նվազեցումները փակագծերում)
B9: Բաժին | C9: Խումբ | D9: Դաս | E9: Ծրագիր | F9: Միջոց առում | H9: Առաջին կիսամյակ | I9: Ինն ամիս | J9: Տարի
G10: 6
G11: ԸՆԴԱՄԵՆԸ ԾԱԽՍԵՐ | H11: =+H13+H39 -> 0 | I11: =I13 -> 0 | J11: =+J13+J39 -> 0
G12: այդ թվում`
B13: 03 | G13: ՀԱՍԱՐԱԿԱԿԱՆ ԿԱՐԳ, ԱՆՎՏԱՆԳՈՒԹՅՈՒՆ ԵՎ ԴԱՏԱԿԱՆ ԳՈՐԾՈՒՆԵՈՒԹՅՈՒՆ | H13: =H15 -> 0 | I13: =I22+I48 -> 0 | J13: =J15 -> 0
G14: այդ թվում`
C15: 01 | G15: Հասարակական կարգ և անվտանգություն | H15: =H17 -> 0 | I15: =I13 -> 0 | J15: =J17 -> 0
G16: այդ թվում`
D17: 02 | G17: Ազգային անվտանգություն | H17: =H19 -> 0 | I17: =I15 -> 0 | J17: =J19 -> 0
G18: այդ թվում`
E19: 1138 | G19: Ազգային անվտանգություն | H19: =H21 -> 0 | I19: =I17 -> 0
G20: այդ թվում`
G21: ՀՀ ազգային անվտանգության ծառայություն | H21: =H22+H32 -> 0 | I21: =I19 -> 0 | J21: -
F22: 11001 | G22: Հետախուզական, հակահետախուզական, ռազմական հակահետախուզության, հանցագործությունների դեմ պայքարի և պետական սահմանի պահպանության գործունեության կազմակերպում | H22: ='Հավելված 1'!E19 -> -509914.1 | I22: ='Հավելված 1'!F19 -> -764871.16 | J22: ='Հավելված 1'!G19 -> -1019828.2
G23: այդ թվում` ըստ կատարողների
G24: ՀՀ ազգային անվտանգության ծառայություն | H24: =H22 -> -509914.1 | I24: =I22 -> -764871.16 | J24: =J22 -> -1019828.2
G25: այդ թվում` բյուջետային ծախսերի տնտեսագիտական դասակարգման հոդվածներ
G26: ԸՆԴԱՄԵՆԸ ԾԱԽՍԵՐ | H26: =H24 -> -509914.1 | I26: =I24 -> -764871.16 | J26: =J24 -> -1019828.2
G27: ԸՆԹԱՑԻԿ ԾԱԽՍԵՐ | H27: =H26 -> -509914.1 | I27: =I26 -> -764871.16 | J27: =J26 -> -1019828.2
G28: Նյութեր(Ապրանքներ) | H28: =H26 -> -509914.1 | I28: =I26 -> -764871.16 | J28: =J26 -> -1019828.2
G29: - Կենցաղային և հանրային սննդի նյութեր | H29: =H27 -> -509914.1 | I29: =I27 -> -764871.16 | J29: =J27 -> -1019828.2
F30: 31002 | G30: Ազգային անվտանգության համակարգի շենքային ապահովվածության բարելավում | H30: 509914.1 | I30: 764871.2 | J30: 1019828.2
G31: այդ թվում` ըստ կատարողների
G32: ՀՀ ազգային անվտանգության ծառայություն | H32: =H30 -> 509914.1 | I32: =I30 -> 764871.2 | J32: =J30 -> 1019828.2
G33: այդ թվում` բյուջետային ծախսերի տնտեսագիտական դասակարգման հոդվածներ
G34: ԸՆԴԱՄԵՆԸ ԾԱԽՍԵՐ | H34: =H32 -> 509914.1 | I34: =I32 -> 764871.2 | J34: =J32 -> 1019828.2
G35: ՈՉ ՖԻՆԱՆՍԱԿԱՆ ԱԿՏԻՎՆԵՐԻ ԳԾՈՎ ԾԱԽՍԵՐ | H35: =H34 -> 509914.1 | I35: =I32 -> 764871.2 | J35: =J34 -> 1019828.2
G36: ՀԻՄՆԱԿԱՆ ՄԻՋՈՑՆԵՐ | H36: =H35 -> 509914.1 | I36: =I37 -> 764871.2 | J36: =J35 -> 1019828.2
G37: ՇԵՆՔԵՐ ԵՎ ՇԻՆՈՒԹՅՈՒՆՆԵՐ | H37: =H36 -> 509914.1 | I37: =I32 -> 764871.2 | J37: =J36 -> 1019828.2
G38: - Շենքերի և շինությունների շինարարություն | H38: =H37 -> 509914.1 | I38: =I37 -> 764871.2 | J38: =J37 -> 1019828.2
B39: 11 | G39: ՀԻՄՆԱԿԱՆ ԲԱԺԻՆՆԵՐԻՆ ՉԴԱՍՎՈՂ ՊԱՀՈՒՍՏԱՅԻՆ ՖՈՆԴԵՐ | H39: =+H41 -> 0 | I39: =H39 -> 0 | J39: =+J41 -> 0
G40: այդ թվում`
C41: 01 | G41: ՀՀ կառավարության և համայնքների պահուստային ֆոնդ | H41: =+H43 -> 0 | I41: =H41 -> 0 | J41: =+J43 -> 0
G42: այդ թվում`
D43: 01 | G43: ՀՀ կառավարության պահուստային ֆոնդ | H43: =+H45 -> 0 | I43: =H43 -> 0 | J43: =+J45 -> 0
G44: այդ թվում`
E45: 1139 | G45: ՀՀ կառավարության պահուստային ֆոնդ | H45: =H47 -> 0 | I45: =H45 -> 0 | J45: =J47 -> 0
G46: այդ թվում`
G47: ՀՀ կառավարություն | H47: =H48+H56 -> 0 | I47: =H47 -> 0 | J47: =J48+J56 -> 0
F48: 11001 | G48: ՀՀ կառավարության պահուստային ֆոնդ | H48: =+H50 -> 509914.1 | I48: =+I50 -> 764871.16 | J48: ='Հավելված 1'!G39 -> 1019828.2
G49: այդ թվում` ըստ կատարողների
G50: ՀՀ կառավարություն | H50: =+H52 -> 509914.1 | I50: =+I52 -> 764871.16 | J50: =+J52 -> 1019828.2
G51: այդ թվում` բյուջետային ծախսերի տնտեսագիտական դասակարգման հոդվածներ
G52: ԸՆԴԱՄԵՆԸ ԾԱԽՍԵՐ | H52: =+H53 -> 509914.1 | I52: =+I53 -> 764871.16 | J52: =+J53 -> 1019828.2
G53: ԸՆԹԱՑԻԿ ԾԱԽՍԵՐ | H53: =+H54 -> 509914.1 | I53: =+I54 -> 764871.16 | J53: =+J54 -> 1019828.2
G54: ԱՅԼ ԾԱԽՍԵՐ | H54: =+H55 -> 509914.1 | I54: =+I55 -> 764871.16 | J54: =+J55 -> 1019828.2
G55: Պահուստային միջոցներ | H55: =-H29 -> 509914.1 | I55: =-I29 -> 764871.16 | J55: =-J29 -> 1019828.2
F56: 11001 | G56: ՀՀ կառավարության պահուստային ֆոնդ | H56: =+H58 -> -509914.1 | I56: =+I58 -> -764871.2 | J56: ='Հավելված 1'!G45 -> -1019828.2
G57: այդ թվում` ըստ կատարողների
G58: ՀՀ կառավարություն | H58: =+H60 -> -509914.1 | I58: =+I60 -> -764871.2 | J58: =+J60 -> -1019828.2
G59: այդ թվում` բյուջետային ծախսերի տնտեսագիտական դասակարգման հոդվածներ
G60: ԸՆԴԱՄԵՆԸ ԾԱԽՍԵՐ | H60: =+H61 -> -509914.1 | I60: =+I61 -> -764871.2 | J60: =+J61 -> -1019828.2
G61: ԸՆԹԱՑԻԿ ԾԱԽՍԵՐ | H61: =+H62 -> -509914.1 | I61: =+I62 -> -764871.2 | J61: =+J62 -> -1019828.2
G62: ԱՅԼ ԾԱԽՍԵՐ | H62: =+H63 -> -509914.1 | I62: =+I63 -> -764871.2 | J62: =+J63 -> -1019828.2
G63: Պահուստային միջոցներ | H63: =-H37 -> -509914.1 | I63: =-I37 -> -764871.2 | J63: =-J37 -> -1019828.2

Sheet Հավելված 3
H1: Հավելված 3
F2: ՀՀ կառավարության 2022 թվականի
F3: ___________ ___-ի N _______ -Ն որոշման
A5: «ՀԱՅԱՍՏԱՆԻ ՀԱՆՐԱՊԵՏՈՒԹՅԱՆ 2022 ԹՎԱԿԱՆԻ ՊԵՏԱԿԱՆ ԲՅՈՒՋԵԻ ՄԱՍԻՆ» ՀԱՅԱՍՏԱՆԻ ՀԱՆՐԱՊԵՏՈՒԹՅԱՆ ՕՐԵՆՔԻ N 1 ՀԱՎԵԼՎԱԾԻ N 3 ԱՂՅՈՒՍԱԿՈՒՄ ԿԱՏԱՐՎՈՂ ՓՈՓՈԽՈՒԹՅՈՒՆՆԵՐԸ ԵՎ ԼՐԱՑՈՒՄՆԵՐԸ
G6: հազար դրամներով
A7: Ծրագրային դասիչ | C7: Բյուջետային գլխավոր կարգադրիչների, ծրագրերի, միջոցառումների և ուղղությունների անվանումները | D7: Ընդամենը | E7: Ցուցանիշների փոփոխությունը (ավելացումները նշված են դրական նշանով)
E8: այդ թվում՝
A9: Ծրագիր | B9: Միջոցառում | E9: Կառուցման աշխատանքներ | F9: Վերակառուցման, վերանորոգման և վերականգնման աշխատանքներ | G9: Նախագծահե- տազոտական, գեոդեզիա- քարտեզագրա- կան աշխա- տանքներ | H9: Ոչ ֆինանսական այլ ակտիվների ձեռքբերում
C10: ԸՆԴԱՄԵՆԸ | D10: =D12 -> 1019828.2 | E10: =E12 -> 1019828.2 | F10: =F12 -> 0 | G10: =G12 -> 0 | H10: =H12 -> 0
C11: այդ թվում՝
C12: ՀՀ ԱԶԳԱՅԻՆ ԱՆՎՏԱՆԳՈՒԹՅԱՆ ԾԱՌԱՅՈՒԹՅՈՒՆ | D12: =D14 -> 1019828.2 | E12: =E14 -> 1019828.2 | F12: =F14 -> 0 | G12: =G14 -> 0 | H12: =H14 -> 0
C13: այդ թվում`
A14: 1138 | B14: 31002 | C14: Ազգային անվտանգության համակարգի շենքային ապահովվածության բարելավում | D14: =D16+D17+D18+D19+D20+D21+D22+D23 -> 1019828.2 | E14: =E16+E17+E18+E19+E20+E21+E22+E23 -> 1019828.2 | F14: =F23 -> 0 | G14: =G23 -> 0 | H14: =H23 -> 0
C15: որից՝
C16: ՀՀ ԱԱԾ ՍԶ 8-րդ սահմանապահ ուղեկալի կառուցում | D16: =E16+F16+G16+H16 -> 117603.87 | E16: 117603.87 | F16: 0 | G16: 0 | H16: 0
C17: ՀՀ ԱԱԾ ՍԶ 7-րդ սահմանապահ ուղեկալի կառուցում | D17: =E17+F17+G17+H17 -> 151528.62 | E17: =151117.76857+410.85 -> 151528.62 | F17: 0 | G17: 0 | H17: 0
C18: ՀՀ ԱԱԾ ՍԶ 6-րդ սահմանապահ ուղեկալի կառուցում | D18: =E18+F18+G18+H18 -> 61476.332 | E18: 61476.332 | F18: 0 | G18: 0 | H18: 0
C19: ՀՀ ԱԱԾ ՍԶ 5-րդ սահմանապահ ուղեկալի կառուցում | D19: =E19+F19+G19+H19 -> 144194 | E19: 144194 | F19: 0 | G19: 0 | H19: 0
C20: ՀՀ ԱԱԾ ՍԶ 4-րդ սահմանապահ ուղեկալի կառուցում | D20: =E20+F20+G20+H20 -> 132024.93 | E20: 132024.93 | F20: 0 | G20: 0 | H20: 0
C21: ՀՀ ԱԱԾ ՍԶ 3-րդ սահմանապահ ուղեկալի կառուցում | D21: =E21+F21+G21+H21 -> 83830.572 | E21: 83830.572 | F21: 0 | G21: 0 | H21: 0
C22: ՀՀ ԱԱԾ ՍԶ 2-րդ սահմանապահ ուղեկալի կառուցում | D22: =E22+F22+G22+H22 -> 130512.52 | E22: 130512.52 | F22: 0 | G22: 0 | H22: 0
C23: ՀՀ ԱԱԾ ՍԶ 1-ին սահմանապահ ուղեկալի կառուցում | D23: =E23+F23+G23+H23 -> 198657.4 | E23: 198657.4 | F23: 0 | G23: 0 | H23: 0
