Workbook
Name AgencyCode: #REF!
Name AgencyCode: #REF!
Name AgencyCode: #REF!
Name AgencyName: #REF!
Name AgencyName: #REF!
Name AgencyName: #REF!
Name davit: #REF!
Name Functional1: #REF!
Name Functional1: #REF!
Name Functional1: #REF!
Name ggg: #REF!
Name PANature: #REF!
Name PANature: #REF!
Name PANature: #REF!
Name PAType: #REF!
Name PAType: #REF!
Name PAType: #REF!
Name Performance2: #REF!
Name Performance2: #REF!
Name Performance2: #REF!
Name PerformanceType: #REF!
Name PerformanceType: #REF!
Name PerformanceType: #REF!
Name Հավելված: #REF!
Name Մաս: #REF!
Name շախմատիստ: #REF!

Sheet Հավելված 1
B1: Հավելված 1
B2: ՀՀ կառավարության 2022 թվականի
B3: ______________ ի ___Ն որոշման
A6: «ՀԱՅԱUՏԱՆԻ ՀԱՆՐԱՊԵՏՈՒԹՅԱՆ 2022 ԹՎԱԿԱՆԻ ՊԵՏԱԿԱՆ ԲՅՈՒՋԵԻ ՄԱUԻՆ» ՀԱՅԱUՏԱՆԻ ՀԱՆՐԱՊԵՏՈՒԹՅԱՆ OՐԵՆՔԻ 2-ՐԴ ՀՈԴՎԱԾԻ ԱՂՅՈՒՍԱԿՈՒՄ ԿԱՏԱՐՎՈՂ ՓՈՓՈԽՈՒԹՅՈՒՆՆԵՐԸ
B9: (հազ. դրամ)
B10: Ցուցանիշների փոփոխությունը
B11: (ավելացումները նշված են դրական նշանով)
A12: Եկամուտների գծով | B12: 1452336.9
A13: Ծախսերի գծով | B13: 1452336.9
A14: Դեֆիցիտը (պակասուրդը) | B14: 0

Sheet Հավելված 2
C1: Հավելված N 2
D2: ՀՀ կառավարության 2022 թվականի
D3: -ի N -Ն որոշման
A5: «ՀԱՅԱՍՏԱՆԻ ՀԱՆՐԱՊԵՏՈՒԹՅԱՆ 2022 ԹՎԱԿԱՆԻ ՊԵՏԱԿԱՆ ԲՅՈՒՋԵԻ ՄԱՍԻՆ» ՕՐԵՆՔԻ 6-ՐԴ ՀՈԴՎԱԾԻ ԱՂՅՈՒՍԱԿՈՒՄ ԵՎ ՀԱՅԱՍՏԱՆԻ ՀԱՆՐԱՊԵՏՈՒԹՅԱՆ ԿԱՌԱՎԱՐՈՒԹՅԱՆ 2021 ԹՎԱԿԱՆԻ ԴԵԿՏԵՄԲԵՐԻ 23-Ի N 2121-Ն ՈՐՈՇՄԱՆ N 2 ՀԱՎԵԼՎԱԾՈՒՄ ԿԱՏԱՐՎՈՂ ՓՈՓՈԽՈՒԹՅՈՒՆՆԵՐԸ
D7: հազ. դրամ
A8: Եկամտատեսակ | B8: Ցուցանիշների փոփոխությունը (ավելացումները նշված են դրական նշանով)
B9: Առաջին կիսամյակ | C9: Ինն ամիս | D9: Տարի
A10: Ընդամենը | B10: =B12 -> 0 | C10: =C12 -> 0 | D10: =D12 -> 1452336.9
A11: այդ թվում
A12: Այլ եկամուտներ | B12: ='Հավելված 5 '!G29 -> 0 | C12: ='Հավելված 5 '!H29 -> 0 | D12: ='Հավելված 5 '!I29 -> 1452336.9

Sheet Հավելված 3
D1: Հավելված 3
D2: ՀՀ կառավարության 2022 թվականի
E3: ______________ ի ___Ն որոշման
A5: ՀԱՅԱՍՏԱՆԻ ՀԱՆՐԱՊԵՏՈՒԹՅԱՆ ԿԱՌԱՎԱՐՈՒԹՅԱՆ 2021ԹՎԱԿԱՆԻ ԴԵԿՏԵՄԲԵՐԻ 23-Ի N 2121-Ն ՈՐՈՇՄԱՆ N 6 ՀԱՎԵԼՎԱԾՈՒՄ ԿԱՏԱՐՎՈՂ ՓՈՓՈԽՈՒԹՅՈՒՆՆԵՐԸ ԵՎ ԼՐԱՑՈՒՄՆԵՐԸ
F8: (հազ. դրամ)
B9: Եկամտատեսակը | C9: Գանձման համար պատասխանատու պետական կառավարման մարմին(ներ)ը | D9: Ցուցանիշների փոփոխությունը (ավելացումները նշված են դրական նշանով)
D10: I կիսամյակ | E10: Ինն ամիս | F10: Տարի
A11: Այլ եկամուտներ, ընդամենը | D11: =D14 -> 0 | E11: =E14 -> 0 | F11: =F14 -> 1452336.9
B12: այդ թվում`
A13: 5 | B13: Ապրանքների մատակարարումից և ծառայությունների մատուցումից եկամուտներ
A14: 5.7 | B14: Արտաբյուջետային միջոցներ | C14: ՀՀ տարածքային կառավարման և ենթակառուցվածքների նախարարության ջրային կոմիտե | D14: 0 | E14: 0 | F14: 1452336.9

Sheet Հավելված 4  
E1: Հավելված 4
F2: ՀՀ կառավարության 2022 թվականի
F3: ______________ ի ___Ն որոշման
B8: «ՀԱՅԱUՏԱՆԻ ՀԱՆՐԱՊԵՏՈՒԹՅԱՆ 2022 ԹՎԱԿԱՆԻ ՊԵՏԱԿԱՆ ԲՅՈՒՋԵԻ ՄԱUԻՆ» ՀԱՅԱUՏԱՆԻ ՀԱՆՐԱՊԵՏՈՒԹՅԱՆ OՐԵՆՔԻ N 1 ՀԱՎԵԼՎԱԾԻ N 2 ԱՂՅՈՒՍԱԿՈՒՄ ԵՎ ՀԱՅԱՍՏԱՆԻ ՀԱՆՐԱՊԵՏՈՒԹՅԱՆ ԿԱՌԱՎԱՐՈՒԹՅԱՆ 2021ԹՎԱԿԱՆԻ ԴԵԿՏԵՄԲԵՐԻ 23-Ի N 2121-Ն ՈՐՈՇՄԱՆ N5 ՀԱՎԵԼՎԱԾԻ N1 ԱՂՅՈՒՍԱԿՈՒՄ ԿԱՏԱՐՎՈՂ ՓՈՓՈԽՈՒԹՅՈՒՆՆԵՐԸ ԵՎ ԼՐԱՑՈՒՄՆԵՐԸ
F10: (հազ. դրամ)
A11: Ծրագրային դասիչը | C11: Բյուջետային հատկացումների գլխավոր կարգադրիչների, ծրագրերի և միջոցառումների անվանումները | D11: Ցուցանիշների փոփոխությունը (ավելացումները նշված են դրական նշանով)
A12: Ծրագիր | B12: Միջոցառում | D12: Առաջին կիսամյակ | E12: Ինն ամիս | F12: Տարի
B13: ԸՆԴԱՄԵՆԸ | D13: =D15 -> 0 | E13: =E15 -> 0 | F13: =F15 -> 1452336.9
B14: ՀՀ տարածքային կառավարման և ենթակառուցվածքների նախարարություն
A15: 9025 | C15: Ծրագրի անվանումը | D15: =D22 -> 0 | E15: =E22 -> 0 | F15: =F22 -> 1452336.9
C16: Աջակցություն ոռոգման համակարգի արդիականացմանը
C17: Ծրագրի նպատակը
C18: Աջակցություն ոռոգման ոլորտի արդիականացման ծրագրերի իրականացմանը
C19: Վերջնական արդյունքի նկարագրությունը
C20: Ոռոգման ոլորտում իրականացվող ծրագրերի արդյունավետության բարձրացում
C21: Ծրագրի միջոցառումներ
B22: 12001 | C22: Միջոցառման անվանումը՝ | D22: ='Հավելված 5 '!G29 -> 0 | E22: ='Հավելված 5 '!H29 -> 0 | F22: 1452336.9
C23: Աջակցություն ոռոգման համակարգերի հիմնանորոգմանը
C24: Միջոցառման նկարագրությունը՝
C25: Աջակցություն ոռոգման համակարգերի հիմնանորոգման նպատակով իրականացվող միջոցառումներին
C26: Միջոցառման տեսակը՝
C27: Տրանսֆերտների տրամադրում

Sheet Հավելված 5 
I1: Հավելված 5
I2: ՀՀ կառավարության 2022 թվականի
I3: ______________ ի ___Ն որոշման
A6: «ՍԵՎԱՆԱ ԼՃԻՑ ՋՐԻ ԼՐԱՑՈՒՑԻՉ ԲԱՑԹՂՄԱՆ ՀԱՄԱՐ ՎՃԱՐՄԱՆ ԵՆԹԱԿԱ ԳՈՒՄԱՐՆԵՐ» ԱՆՎԱՄԲ ԱՐՏԱԲՅՈՒՋԵՏԱՅԻՆ ՀԱՇՎԻ ՄԻՋՈՑՆԵՐԻ ԾԱԽՍՄԱՆ ՆԱԽԱՀԱՇԻՎԸ ԵՎ ՀԱՅԱՍՏԱՆԻ ՀԱՆՐԱՊԵՏՈՒԹՅԱՆ ԿԱՌԱՎԱՐՈՒԹՅԱՆ 2021 ԹՎԱԿԱՆԻ ԴԵԿՏԵՄԲԵՐԻ 23-Ի N 2121-Ն ՈՐՈՇՄԱՆ N3 և N4 ՀԱՎԵԼՎԱԾՆԵՐՈՒՄ ԿԱՏԱՐՎՈՂ ՓՈՓՈԽՈՒԹՅՈՒՆՆԵՐԸ ԵՎ ԼՐԱՑՈՒՄՆԵՐԸ
I9: հազ. դրամներով
A10: Գործառական դասիչը | D10: Ծրագրային դասիչը | F10: Բյուջետային հատկացումների գլխավոր կարգադրիչների, ծրագրերի, միջոցառումների և միջոցառումները կատարող պետական մարմինների անվանումները | G10: Ցուցանիշների փոփոխությունը (ավելացումները նշված են դրական նշանով, իսկ նվազեցումները` փակագծերում)
A11: Բաժին | B11: Խումբ | C11: Դաս | D11: Ծրագիր | E11: Միջոցառում | G11: Առաջին կիսամյակ | H11: Ինն ամիս | I11: Տարի
F12: ԸՆԴԱՄԵՆԸ | G12: =G13 -> 0 | H12: =H13 -> 0 | I12: =I13 -> 1452336.9
A13: 04 | F13: ՏՆՏԵՍԱԿԱՆ ՀԱՐԱԲԵՐՈՒԹՅՈՒՆՆԵՐ | G13: =G15 -> 0 | H13: =H15 -> 0 | I13: =I15 -> 1452336.9
F14: այդ թվում`
B15: 02 | F15: Գյուղատնտեսություն, անտառային տնտեսություն, ձկնորսություն և որսորդություն | G15: =G17 -> 0 | H15: =H17 -> 0 | I15: =I17 -> 1452336.9
F16: այդ թվում`
C17: 04 | F17: Ոռոգում | G17: =G19 -> 0 | H17: =H19 -> 0 | I17: =I19 -> 1452336.9
F18: այդ թվում`
F19: ՀՀ տարածքային կառավարման և ենթակառուցվածքների նախարարություն | G19: =G21 -> 0 | H19: =H21 -> 0 | I19: =I21 -> 1452336.9
F20: այդ թվում`
D21: 9025 | F21: Աջակցություն ոռոգման համակարգի արդիականացմանը | G21: =G22 -> 0 | H21: =H22 -> 0 | I21: =I22 -> 1452336.9
E22: 12001 | F22: Աջակցություն ոռոգման համակարգերի հիմնանորոգմանը | G22: =G24 -> 0 | H22: =H24 -> 0 | I22: =I24 -> 1452336.9
F23: այդ թվում` ըստ կատարողների
F24: ՀՀ տարածքային կառավարման և ենթակառուցվածքների նախարարության ջրային կոմիտե | G24: =G26 -> 0 | H24: =H26 -> 0 | I24: =I26 -> 1452336.9
F25: այդ թվում` բյուջետային ծախսերի տնտեսագիտական դասակարգման հոդվածներ
F26: ԸՆԴԱՄԵՆԸ ԾԱԽՍԵՐ | G26: =G27 -> 0 | H26: =H27 -> 0 | I26: =I27 -> 1452336.9
F27: ԸՆԹԱՑԻԿ ԾԱԽՍԵՐ | G27: =G28 -> 0 | H27: =H28 -> 0 | I27: =I28 -> 1452336.9
F28: ԴՐԱՄԱՇՆՈՐՀՆԵՐ | G28: =G29 -> 0 | H28: =H29 -> 0 | I28: =I29 -> 1452336.9
F29: - Կապիտալ դրամաշնորհներ պետական և համայնքային առևտրային կազմակերպություններին | G29: 0 | H29: 0 | I29: ='Հավելված 4 '!F22 -> 1452336.9

Sheet Հավելված 6
H1: Հավելված 6
H2: ՀՀ կառավարության 2022 թվականի
H3: ______________ ի ___Ն որոշման
A6: ՀԱՅԱՍՏԱՆԻ ՀԱՆՐԱՊԵՏՈՒԹՅԱՆ ԿԱՌԱՎԱՐՈՒԹՅԱՆ 2021 ԹՎԱԿԱՆԻ ԴԵԿՏԵՄԲԵՐԻ 23-Ի N 2121-Ն ՈՐՈՇՄԱՆ N5 ՀԱՎԵԼՎԱԾԻ N7 ԱՂՅՈՒՍԱԿՈՒՄ ԿԱՏԱՐՎՈՂ ԼՐԱՑՈՒՄՆԵՐԸ
H9: հազար դրամներով
B10: Ծրագրային դասիչ | D10: Բյուջետային հատկացումների գլխավոր կարգադրիչների, ծրագրերի, միջոցառումների, ծախսային ուղղությունների անվանումները | G10: Միջոցառումները կատարող պետական մարմինների և դրամաշնորհ ստացող տնտեսվարող սուբյեկտների անվանումները | H10: Տարի
B11: Ծրագիր | C11: Միջոցառում
B12: 1 | C12: 2 | D12: 3 | G12: 4 | H12: 5
B13: ԸՆԴԱՄԵՆԸ | H13: =H15+#REF!+#REF!+#REF!+#REF!+#REF!+#REF!+#REF!+#REF!+#REF!+#REF!+#REF!+#REF!+#REF! -> #REF!
B15: ՀՀ տարածքային կառավարման և ենթակառուցվածքների նախարարություն | H15: =H16 -> 1452336.9
B16: 9025 | C16: Աջակցություն ոռոգման համակարգի արդիականացմանը | H16: =H17 -> 1452336.9
C17: 12001 | D17: Աջակցություն ոռոգման համակարգերի հիմնանորոգմանը | G17: ՀՀ տարածքային կառավարման և ենթակառուցվածքների նախարարության ջրային կոմիտե | H17: =SUM(H19:H25) -> 1452336.9
E18: այդ թվում՝ ըստ ուղղությունների
G19: «Ջրառ» ՓԲԸ
G20: Արտաշատի ջրանցքի հիմնանորոգում | H20: 162750.6
G21: Արտաշատի ջրանցքի և գլխամասային հանգույցի հիմնանորոգում | H21: 189432
G22: Ստորին Հրազդանի ջրանցքի 1-ին հերթ, գլխամասային հանգույցի հիմնանորոգում | H22: 144939.3
G23: Ստորին Հրազդանի ջրանցքի 2-րդ հերթի հիմնանորոգում | H23: 217318.4
G24: Արզնի-Շամիրամ ջրանցքի 1-ին հերթի հիմնանորոգում | H24: 314920.1
G25: Արզնի-Շամիրամ ջրանցքի 2-րդ հերթի հիմնանորոգում | H25: 422976.5

Sheet  Հավելված 7
F1: Հավելված 7
F2: ՀՀ կառավարության 2022 թվականի
F3: ______________ ի ___Ն որոշման
B7: ՀԱՅԱՍՏԱՆԻ ՀԱՆՐԱՊԵՏՈՒԹՅԱՆ ԿԱՌԱՎԱՐՈՒԹՅԱՆ 2021 ԹՎԱԿԱՆԻ ԴԵԿՏԵՄԲԵՐԻ 23-Ի N 2121-Ն ՈՐՈՇՄԱՆ N9 ՀԱՎԵԼՎԱԾԻ 9.7 ԱՂՅՈՒՍԱԿՈՒՄ ԿԱՏԱՐՎՈՂ ԼՐԱՑՈՒՄՆԵՐԸ
B9: ՀՀ տարածքային կառավարման և ենթակառուցվածքների նախարարություն
B11: ՄԱՍ 2. ՊԵՏԱԿԱՆ ՄԱՐՄՆԻ ԳԾՈՎ ԱՐԴՅՈՒՆՔԱՅԻՆ (ԿԱՏԱՐՈՂԱԿԱՆ) ՑՈՒՑԱՆԻՇՆԵՐԸ
B13: Ծրագրի դասիչը | C13: Ծրագրի անվանումը
B14: 9025 | C14: Աջակցություն ոռոգման համակարգի արդիականացմանը
B16: Ծրագրի միջոցառումները
B18: Ծրագրի դասիչը՝ | C18: 9025 | D18: Ցուցանիշների փոփոխությունը (ավելացումները նշված են դրական նշանով)
B19: Միջոցառման դասիչը՝ | C19: 12001 | D19: Առաջին կիսամյակ | E19: Ինն ամիս | F19: Տարի
B20: Միջոցառման անվանումը՝ | C20: Աջակցություն ոռոգման համակարգերի հիմնանորոգմանը
B21: Նկարագրությունը՝ | C21: Աջակցություն ոռոգման համակարգերի հիմնանորոգման նպատակով իրականացվող միջոցառումներին
B22: Միջոցառման տեսակը՝ | C22: ='Հավելված 4 '!C27 -> Տրանսֆերտների տրամադրում
B23: Ակտիվն օգտագործող կազմակերպությունների անվանումները | C23: «Ջրառ» ՓԲԸ
C24: Արդյունքի չափորոշիչներ
B25: Արտաշատի ջրանցքի հիմնանորոգում, մ | F25: 472
B26: Արտաշատի ջրանցքի և գլխամասային հանգույցի հիմնանորոգում,մ | F26: 538
B27: Ստորին Հրազդանի ջրանցքի 1-ին հերթ, գլխամասային հանգույցի հիմնանորոգում,մ | F27: 1493
B28: Ստորին Հրազդանի ջրանցքի 2-րդ հերթի հիմնանորոգում,մ | F28: 3409
B29: Արզնի-Շամիրամ ջրանցքի 1-ին հերթի հիմնանորոգում,մ | F29: 2444
B30: Արզնի-Շամիրամ ջրանցքի 2-րդ հերթի հիմնանորոգում,մ | F30: 1465
B31: Միջոցառման վրա կատարվող ծախսը (հազար դրամ) | D31: ='Հավելված 4 '!D22 -> 0 | E31: ='Հավելված 4 '!E22 -> 0 | F31: ='Հավելված 4 '!F22 -> 1452336.9

Sheet Հավելված 8
F1: Հավելված 8
F2: ՀՀ կառավարության 2022 թվականի
F3: ______________ ի ___Ն որոշման
A6: ՀԱՅԱՍՏԱՆԻ ՀԱՆՐԱՊԵՏՈՒԹՅԱՆ ԿԱՌԱՎԱՐՈՒԹՅԱՆ 2021 ԹՎԱԿԱՆԻ ԴԵԿՏԵՄԲԵՐԻ 23-Ի N 2121-Ն ՈՐՈՇՄԱՆ N 9.1 ՀԱՎԵԼՎԱԾԻ 9.1.26 ԱՂՅՈՒՍԱԿՈՒՄ ԿԱՏԱՐՎՈՂ ԼՐԱՑՈՒՄՆԵՐԸ
B8: ՀՀ տարածքային կառավարման և ենթակառուցվածքների նախարարության ջրային կոմիտե
B10: ՄԱՍ 1. ՊԵՏԱԿԱՆ ՄԱՐՄՆԻ ԳԾՈՎ ԱՐԴՅՈՒՆՔԱՅԻՆ (ԿԱՏԱՐՈՂԱԿԱՆ) ՑՈՒՑԱՆԻՇՆԵՐԸ
B13: Ծրագրի դասիչը | C13: Ծրագրի անվանումը
B14: 9025 | C14: Աջակցություն ոռոգման համակարգի արդիականացմանը
B16: Ծրագրի միջոցառումները
B18: Ծրագրի դասիչը՝ | C18: 9025 | D18: Ցուցանիշների փոփոխությունը (ավելացումները նշված են դրական նշանով)
B19: Միջոցառման դասիչը՝ | C19: 12001 | D19: Առաջին կիսամյակ | E19: Ինն ամիս | F19: Տարի
B20: Միջոցառման անվանումը՝ | C20: Աջակցություն ոռոգման համակարգերի հիմնանորոգմանը
B21: Նկարագրությունը՝ | C21: Աջակցություն ոռոգման համակարգերի հիմնանորոգման նպատակով իրականացվող միջոցառումներին
B22: Միջոցառման տեսակը՝ | C22: =' Հավելված 7'!C22 -> Տրանսֆերտների տրամադրում
B23: Ակտիվն օգտագործող կազմակերպությունների անվանումները | C23: «Ջրառ» ՓԲԸ
C24: Արդյունքի չափորոշիչներ
B25: =' Հավելված 7'!B25:C25 -> Արտաշատի ջրանցքի հիմնանորոգում, մ | F25: =' Հավելված 7'!F25 -> 472
B26: =' Հավելված 7'!B26:C26 -> Արտաշատի ջրանցքի և գլխամասային հանգույցի հիմնանորոգում,մ | F26: =' Հավելված 7'!F26 -> 538
B27: =' Հավելված 7'!B27:C27 -> Ստորին Հրազդանի ջրանցքի 1-ին հերթ, գլխամասային հանգույցի հիմնանորոգում,մ | F27: =' Հավելված 7'!F27 -> 1493
B28: =' Հավելված 7'!B28:C28 -> Ստորին Հրազդանի ջրանցքի 2-րդ հերթի հիմնանորոգում,մ | F28: =' Հավելված 7'!F28 -> 3409
B29: =' Հավելված 7'!B29:C29 -> Արզնի-Շամիրամ ջրանցքի 1-ին հերթի հիմնանորոգում,մ | F29: =' Հավելված 7'!F29 -> 2444
B30: =' Հավելված 7'!B30:C30 -> Արզնի-Շամիրամ ջրանցքի 2-րդ հերթի հիմնանորոգում,մ | F30: =' Հավելված 7'!F30 -> 1465
B31: Միջոցառման վրա կատարվող ծախսը (հազար դրամ) | D31: =' Հավելված 7'!D31 -> 0 | E31: =' Հավելված 7'!E31 -> 0 | F31: =' Հավելված 7'!F31 -> 1452336.9
