Workbook
Name _tab10: #REF!
Name _tab10: #REF!
Name _tab10: #REF!
Name _tab11: #REF!
Name _tab11: #REF!
Name _tab11: #REF!
Name _tab12: #REF!
Name _tab12: #REF!
Name _tab12: #REF!
Name _tab13: #REF!
Name _tab13: #REF!
Name _tab13: #REF!
Name _tab14: #REF!
Name _tab14: #REF!
Name _tab14: #REF!
Name _tab15: #REF!
Name _tab15: #REF!
Name _tab15: #REF!
Name _tab16: #REF!
Name _tab16: #REF!
Name _tab16: #REF!
Name _tab17: #REF!
Name _tab17: #REF!
Name _tab17: #REF!
Name _tab18: #REF!
Name _tab18: #REF!
Name _tab18: #REF!
Name _tab19: #REF!
Name _tab19: #REF!
Name _tab19: #REF!
Name _tab20: #REF!
Name _tab20: #REF!
Name _tab20: #REF!
Name _tab21: #REF!
Name _tab21: #REF!
Name _tab21: #REF!
Name _tab22: #REF!
Name _tab22: #REF!
Name _tab22: #REF!
Name _tab23: #REF!
Name _tab23: #REF!
Name _tab23: #REF!
Name _tab24: #REF!
Name _tab24: #REF!
Name _tab24: #REF!
Name _tab5: #REF!
Name _tab5: #REF!
Name _tab5: #REF!
Name _tab6: #REF!
Name _tab6: #REF!
Name _tab6: #REF!
Name _tab7: #REF!
Name _tab7: #REF!
Name _tab7: #REF!
Name _tab8: #REF!
Name _tab8: #REF!
Name _tab8: #REF!
Name _tab9: #REF!
Name _tab9: #REF!
Name _tab9: #REF!

Sheet 1
B1: ՀԱՎԵԼՎԱԾ N 1
B2: ՀՀ կառավարության 2022 թվականի
B3: ______________ ի ___Ն որոշման
A4: «ՀԱՅԱՍՏԱՆԻ ՀԱՆՐԱՊԵՏՈՒԹՅԱՆ 2022 ԹՎԱԿԱՆԻ ՊԵՏԱԿԱՆ ԲՅՈՒՋԵԻ ՄԱՍԻՆ» ՕՐԵՆՔԻ N 2 ՀՈԴՎԱԾԻ ԱՂՅՈՒՍԱԿՈՒՄ ԿԱՏԱՐՎՈՂ ՓՈՓՈԽՈՒԹՅՈՒՆ
B5: հազար դրամով
B6: Ցուցանիշների փոփոխություն ( գումարների ավելացումը նշված է դրական նշանով)
A7: Եկամուտների գծով | B7: 40000000
A8: Ծախսերի գծով | B8: 40000000
A9: Դեֆիցիտը (պակասուրդը) | B9: =B8-B7 -> 0

Sheet 2
D1: ՀԱՎԵԼՎԱԾ N 2
C2: ՀՀ կառավարության 2022 թվականի
C3: ______________ ի ___Ն որոշման
A5: «ՀԱՅԱՍՏԱՆԻ ՀԱՆՐԱՊԵՏՈՒԹՅԱՆ 2022 ԹՎԱԿԱՆԻ ՊԵՏԱԿԱՆ ԲՅՈՒՋԵԻ ՄԱՍԻՆ» ՕՐԵՆՔԻ 6-ՐԴ ՀՈԴՎԱԾԻ ԱՂՅՈՒՍԱԿՈՒՄ ԵՎ ՀԱՅԱՍՏԱՆԻ ՀԱՆՐԱՊԵՏՈՒԹՅԱՆ ԿԱՌԱՎԱՐՈՒԹՅԱՆ 2021 ԹՎԱԿԱՆԻ ԴԵԿՏԵՄԲԵՐԻ 23-Ի N 2121-Ն ՈՐՈՇՄԱՆ N 2 ՀԱՎԵԼՎԱԾՈՒՄ ԿԱՏԱՐՎՈՂ ՓՈՓՈԽՈՒԹՅՈՒՆՆԵՐԸ
D7: հազար դրամով
A8: ՊԵՏԱԿԱՆ ԲՅՈՒՋԵԻ ԵԿԱՄՈՒՏՆԵՐ | B8: Ցուցանիշների փոփոխություն (ծախսերի ավելացումները նշված են դրական նշանով)
B9: Առաջին կիսմյակ | C9: 9 ամիս | D9: Տարի
A10: Ընդամենը | B10: =B12 -> 10000000 | C10: =C12 -> 25000000 | D10: =D12 -> 40000000
A11: այդ թվում
A12: Հարկային եկամուտներ և պետական տուրքեր | B12: 10000000 | C12: 25000000 | D12: 40000000
C13: .

Sheet 3
H1: Հավելված N 3
A2: ՀԱՅԱՍՏԱՆԻ ՀԱՆՐԱՊԵՏՈՒԹՅԱՆ ԿԱՌԱՎԱՐՈՒԹՅԱՆ 2021 ԹՎԱԿԱՆԻ ԴԵԿՏԵՄԲԵՐԻ 23-Ի N 2121-Ն ՈՐՈՇՄԱՆ NN 3 և 4 ՀԱՎԵԼՎԱԾՆԵՐՈՒՄ ԿԱՏԱՐՎՈՂ ՓՈՓՈԽՈՒԹՅՈՒՆՆԵՐԸ ԵՎ ԼՐԱՑՈՒՄՆԵՐԸ
I3: հազ.դրամ
A4: Գործառական դասիչը | D4: Ծրագրային դասիչը | F4: Բյուջետային հատկացումների գլխավոր կարգադրիչների, ծրագրերի, միջոցառումների և միջոցառումները կատարող պետական մարմինների անվանումները | G4: Ցուցանիշների փոփոխությունները (ավելացումները նշված են դրական նշանով, )
A5: բաժին | B5: խումբ | C5: դաս | D5: Ծրագիր | E5: Միջոցառում | G5: Առաջին կիսամյակ | H5: Ինը ամիս | I5: Տարի
A6: ԸՆԴԱՄԵՆԸ | G6: =+G7 -> 10000000 | H6: =+H7 -> 25000000 | I6: =+I7 -> 40000000
A7: 11 | F7: ՀԻՄՆԱԿԱՆ ԲԱԺԻՆՆԵՐԻՆ ՉԴԱՍՎՈՂ ՊԱՀՈՒՍՏԱՅԻՆ ՖՈՆԴԵՐ | G7: =G9 -> 10000000 | H7: =H9 -> 25000000 | I7: =I9 -> 40000000
F8: այդ թվում՝
B9: 01 | F9: ՀՀ կառավարության և համայնքների պահուստային ֆոնդ | G9: =G11 -> 10000000 | H9: =H11 -> 25000000 | I9: =I11 -> 40000000
F10: այդ թվում՝
C11: 01 | F11: ՀՀ կառավարության պահուստային ֆոնդ | G11: =G15 -> 10000000 | H11: =H15 -> 25000000 | I11: =I15 -> 40000000
F12: այդ թվում՝
F13: ՀՀ կառավարություն | G13: =G15 -> 10000000 | H13: =H15 -> 25000000 | I13: =I15 -> 40000000
F14: այդ թվում՝
D15: 1139 | F15: ՀՀ կառավարության պահուստային ֆոնդ | G15: =G17 -> 10000000 | H15: =H17 -> 25000000 | I15: =I17 -> 40000000
F16: այդ թվում`
E17: 11001 | F17: ՀՀ կառավարության պահուստային ֆոնդ | G17: =G19 -> 10000000 | H17: =H19 -> 25000000 | I17: =I19 -> 40000000
F18: այդ թվում ըստ կատարողների
F19: ՀՀ կառավարություն | G19: =G21 -> 10000000 | H19: =H21 -> 25000000 | I19: =I21 -> 40000000
F20: այդ թվում` բյուջետային ծախսերի տնտեսագիտական դասակարգման հոդվածներ
F21: ԸՆԴԱՄԵՆԸ ԾԱԽՍԵՐ | G21: =G23 -> 10000000 | H21: =H23 -> 25000000 | I21: =I23 -> 40000000
F22: ԸՆԹԱՑԻԿ ԾԱԽՍԵՐ | G22: =G23 -> 10000000 | H22: =H23 -> 25000000 | I22: =I23 -> 40000000
F23: ԱՅԼ ԾԱԽՍԵՐ | G23: =G24 -> 10000000 | H23: =H24 -> 25000000 | I23: =I24 -> 40000000
F24: Այլ ծախսեր | G24: ='2'!B12 -> 10000000 | H24: ='2'!C12 -> 25000000 | I24: ='2'!D12 -> 40000000

Sheet 4
E1: Հավելված N 4
A4: ՀԱՅԱՍՏԱՆԻ ՀԱՆՐԱՊԵՏՈՒԹՅԱՆ ԿԱՌԱՎԱՐՈՒԹՅԱՆ 2021 ԹՎԱԿԱՆԻ ԴԵԿՏԵՄԲԵՐԻ 23-Ի N 2121-Ն ՈՐՈՇՄԱՆ N 9 ՀԱՎԵԼՎԱԾԻ 9.47 ԱՂՅՈՒՍԱԿՈՒՄ ԿԱՏԱՐՎՈՂ ՓՈՓՈԽՈՒԹՅՈՒՆՆԵՐԸ
A6: ՀՀ Կառավարություն
A7: ՄԱՍ 2. ՊԵՏԱԿԱՆ ՄԱՐՄՆԻ ԳԾՈՎ ԱՐԴՅՈՒՆՔԱՅԻՆ (ԿԱՏԱՐՈՂԱԿԱՆ) ՑՈՒՑԱՆԻՇՆԵՐԸ
A8: Ծրագրի դասիչը | B8: Ծրագրի անվանումը
A9: 1139 | B9: ՀՀ կառավարության պահուստային ֆոնդ
A11: Ծրագրի միջոցառումները
A12: Ծրագրի դասիչը` | B12: 1139 | C12: Ցուցանիշների փոփոխությունը (ավելացումները նշված են դրական նշանով)
A13: Միջոցառման դասիչը` | B13: 11001 | C13: Առաջին կիսամյակ | D13: Ինը ամիս | E13: Տարի
A14: Միջոցառման անվանումը` | B14: ՀՀ կառավարության պահուստային ֆոնդ
A15: Նկարագրությունը` | B15: ՀՀ պետական բյուջեում նախատեսված ելքերի լրացուցիչ ֆինանսավորման, պետական բյուջեում չկանխատեսված ելքերի, ինչպես նաև բյուջետային երաշխիքների ապահովման ելքերի ֆինանսավորման ապահովում
A16: Միջոցառման տեսակը` | B16: Ծառայությունների մատուցում
A17: Արդյունքի չափորոշիչներ
A18: Միջոցառման վրա կատարվող ծախսը (հազար դրամ) | C18: ='3'!G24 -> 10000000 | D18: ='3'!H15 -> 25000000 | E18: ='3'!I15 -> 40000000

Sheet 5
F1: Հավելված N 5
A3: ՀԱՅԱՍՏԱՆԻ ՀԱՆՐԱՊԵՏՈՒԹՅԱՆ ԿԱՌԱՎԱՐՈՒԹՅԱՆ 2021 ԹՎԱԿԱՆԻ ԴԵԿՏԵՄԲԵՐԻ 23-Ի N 2121-Ն ՈՐՈՇՄԱՆ N 9.1 ՀԱՎԵԼՎԱԾԻ 9.1.59 ԱՂՅՈՒՍԱԿՈՒՄ ԿԱՏԱՐՎՈՂ ՓՈՓՈԽՈՒԹՅՈՒՆՆԵՐԸ
A5: ՀՀ Կառավարություն
A6: ՄԱՍ 2. ՊԵՏԱԿԱՆ ՄԱՐՄՆԻ ԳԾՈՎ ԱՐԴՅՈՒՆՔԱՅԻՆ (ԿԱՏԱՐՈՂԱԿԱՆ) ՑՈՒՑԱՆԻՇՆԵՐԸ
A7: Ծրագրի դասիչը | B7: Ծրագրի անվանումը
A8: 1139 | B8: ՀՀ կառավարության պահուստային ֆոնդ
A10: Ծրագրի միջոցառումները
A11: Ծրագրի դասիչը` | B11: 1139 | C11: Ցուցանիշների փոփոխությունը (նվազեցումները նշված են փակագծերում)
A12: Միջոցառման դասիչը` | B12: 11001 | C12: Առաջին կիսամյակ | D12: Ինը ամիս | E12: Տարի
A13: Միջոցառման անվանումը` | B13: ՀՀ կառավարության պահուստային ֆոնդ
A14: Նկարագրությունը` | B14: ՀՀ պետական բյուջեում նախատեսված ելքերի լրացուցիչ ֆինանսավորման, պետական բյուջեում չկանխատեսված ելքերի, ինչպես նաև բյուջետային երաշխիքների ապահովման ելքերի ֆինանսավորման ապահովում
A15: Միջոցառման տեսակը` | B15: Ծառայությունների մատուցում
A16: Արդյունքի չափորոշիչներ
A17: Միջոցառման վրա կատարվող ծախսը (հազար դրամ) | C17: ='4'!C18 -> 10000000 | D17: ='4'!D18 -> 25000000 | E17: ='4'!E18 -> 40000000
