Workbook

Sheet 1
A1: Հավելված N 1
A2: ՀՀ կառավարության 2022 թվականի
A3: -ի N -Ն որոշման
A4: «ՀԱՅԱՍՏԱՆԻ ՀԱՆՐԱՊԵՏՈՒԹՅԱՆ 2022 ԹՎԱԿԱՆԻ ՊԵՏԱԿԱՆ ԲՅՈՒՋԵԻ ՄԱՍԻՆ» ՀԱՅԱՍՏԱՆԻ ՀԱՆՐԱՊԵՏՈՒԹՅԱՆ ՕՐԵՆՔԻ N 1 ՀԱՎԵԼՎԱԾԻ N 3 ԱՂՅՈՒՍԱԿՈՒՄ ԿԱՏԱՐՎՈՂ ՎԵՐԱԲԱՇԽՈՒՄԸ, ՓՈՓՈԽՈՒԹՅՈՒՆՆԵՐԸ ԵՎ ԼՐԱՑՈՒՄՆԵՐԸ
G5: (հազ. դրամ)
A6: Ծրագրային դասիչ | C6: Բյուջետային գլխավոր կարգադրիչների, ծրագրերի, միջոցառումների և ուղղությունների անվանումները | D6: Ցուցանիշների փոփոխությունը (ավելացումները նշված են դրական նշանով, իսկ նվազեցումները՝ փակագծերում)
D7: Ընդամենը, | E7: այդ թվում՝
A8: Ծրագիր | B8: Միջոցառում | E8: Կառուցման աշխատանքներ | F8: Վերակառուցման, վերանորոգման և վերականգնման աշխատանքներ | G8: Նախագծահե- տազոտական, գեոդեզիա- քարտեզագրա- կան աշխա- տանքներ | H8: Ոչ ֆինանսական այլ ակտիվների ձեռքբերում
C9: ԸՆԴԱՄԵՆԸ | D9: =SUM(E9:H9) -> 0 | E9: =E11 -> 0 | F9: =F11 -> -22380 | G9: =G11 -> 22380 | H9: =H11 -> 0
C10: այդ թվում՝
C11: ՀՀ ՏԱՐԱԾՔԱՅԻՆ ԿԱՌԱՎԱՐՄԱՆ ԵՎ ԵՆԹԱԿԱՌՈՒՑՎԱԾՔՆԵՐԻ ՆԱԽԱՐԱՐՈՒԹՅՈՒՆ | D11: =SUM(E11:H11) -> 0 | E11: =E13 -> 0 | F11: =F13 -> -22380 | G11: =G13 -> 22380 | H11: =H13 -> 0
C12: այդ թվում`
A13: 1004 | B13: 31012 | C13: Գետերի և հեղեղատարների տեղամասերի ամրացման և մաքրման աշխատանքներ | D13: =SUM(E13:H13) -> 0 | F13: =SUM(F15:F21) -> -22380 | G13: =G15 -> 22380
C14: այդ թվում`
C15: ՀՀ Արարատի մարզի Արաքսավան և Բուրաստան համայնքների Արաքս գետի N16-ից մինչև N14 սահմանների միջակայքում Արաքս գետի նախկին հունի վերականգման և N16 սահմանանշանի մոտակայքում Արաքս գետի հայկական կողմի մոտ 130 մ երկարությամբ և 8 մ խորությամբ ողողված պատնեշի վերականգնման աշխատանքների նախագծանախահաշվային փաստաթղթերի ձեռքբերում | D15: =SUM(E15:H15) -> 22380 | G15: 22380
C16: Այգեձորի մայր ջրանցքին զուգահեռ հենապատի ամրացում մոտ 70մ երկարությամբ | D16: =SUM(E16:H16) -> -2686.6 | F16: -2686.6
C17: Գավառագետի հունի մաքրում մոտ 4200 մ | D17: =SUM(E17:H17) -> -16410.5 | F17: -16410.5
C18: Մեծամորի հեղեղատարի հունի մաքրում մոտ 1000 մ և ափապատնեշի բարձրացում մոտ 150 մ երկարությամբ | D18: =SUM(E18:H18) -> -1694.3 | F18: -1694.3
C19: Գետիկ հունի մաքրում շուրջ 1600 մ և ափերի ամրացում շուրջ 150 մ Ճամբարակ խոշորացված համայնքի Մարտունի գյուղի տարածքում | D19: =SUM(E19:H19) -> -809.4 | F19: -809.4
C20: Որոտան գետի հունի մաքրում Սիսիան քաղաքի կենտրոնական կամրջից վերև և ներքև մոտ 1400 մ հատվածում | D20: =SUM(E20:H20) -> -664.8 | F20: -664.8
C21: Երվանդաշատ համայնքի Արաքս գետի ափապաշտպան արգելաթմբի բարձրացում | D21: =SUM(E21:H21) -> -114.4 | F21: -114.4

Sheet 2
H1: Հավելված N 2
A2: ՀՀ կառավարության 2022 թվականի
A3: -ի N -Ն որոշման
A4: ՀԱՅԱՍՏԱՆԻ ՀԱՆՐԱՊԵՏՈՒԹՅԱՆ ԿԱՌԱՎԱՐՈՒԹՅԱՆ 2021 ԹՎԱԿԱՆԻ ԴԵԿՏԵՄԲԵՐԻ 23-Ի N 2121-Ն ՈՐՈՇՄԱՆ N 3 ԵՎ N 4 ՀԱՎԵԼՎԱԾՆԵՐՈՒՄ ԿԱՏԱՐՎՈՂ ՓՈՓՈԽՈՒԹՅՈՒՆՆԵՐԸ ԵՎ ԼՐԱՑՈՒՄՆԵՐԸ
I6: (հազ. դրամ)
A7: Գործառական դասիչը | D7: Ծրագրային դասիչը | F7: Բյուջետային ծախսերի գործառական դասակարգման բաժինների, խմբերի և դասերի, բյուջետային ծրագրերի միջոցառումների, բյուջետային հատկացումների գլխավոր կարգադրիչների անվանումները | G7: Ցուցանիշների փոփոխությունը (ավելացումները նշված են դրական նշանով, իսկ նվազեցումները՝ փակագծերում)
G8: Առաջին կիսամյակ | H8: Ինն ամիս | I8: Տարի
A9: Բաժին | B9: Խումբ | C9: Դաս | D9: Ծրագիր | E9: Միջոցառում
F10: ԸՆԴԱՄԵՆԸ ԾԱԽՍԵՐ | G10: =G12 -> 0 | H10: =H12 -> 0 | I10: =I12 -> 0
F11: այդ թվում`
A12: 04 | F12: ՏՆՏԵՍԱԿԱՆ ՀԱՐԱԲԵՐՈՒԹՅՈՒՆՆԵՐ | G12: =G14 -> 0 | H12: =H14 -> 0 | I12: =I14 -> 0
F13: այդ թվում`
B14: 02 | F14: Գյուղատնտեսություն, անտառային տնտեսություն, ձկնորսություն և որսորդություն | G14: =G16 -> 0 | H14: =H16 -> 0 | I14: =I16 -> 0
F15: այդ թվում`
C16: 04 | F16: Ոռոգում | G16: =G18 -> 0 | H16: =H18 -> 0 | I16: =I18 -> 0
F17: այդ թվում`
F18: ՀՀ տարածքային կառավարման և ենթակառուցվածքների նախարարություն | G18: =G20 -> 0 | H18: =H20 -> 0 | I18: =I20 -> 0
F19: այդ թվում`
D20: 1004 | F20: Ոռոգման համակարգի առողջացում | G20: =G22 -> 0 | H20: =H22 -> 0 | I20: =I22 -> 0
F21: այդ թվում`
E22: 31012 | F22: Գետերի և հեղեղատարների տեղամասերի ամրացման և մաքրման աշխատանքներ | G22: =G26 -> 0 | H22: =H26 -> 0 | I22: =I26 -> 0
F23: այդ թվում` ըստ կատարողների
F24: ՀՀ տարածքային կառավարման և ենթակառուցվածքների նախարարության ջրային կոմիտե | G24: =G26 -> 0 | H24: =H26 -> 0 | I24: =I26 -> 0
F25: այդ թվում` բյուջետային ծախսերի տնտեսագիտական դասակարգման հոդվածներ
F26: ԸՆԴԱՄԵՆԸ ԾԱԽՍԵՐ | G26: =G27 -> 0 | H26: =H27 -> 0 | I26: =I27 -> 0
F27: ՈՉ ՖԻՆԱՆՍԱԿԱՆ ԱԿՏԻՎՆԵՐԻ ԳԾՈՎ ԾԱԽՍԵՐ | G27: =G28 -> 0 | H27: =H28 -> 0 | I27: =I28 -> 0
F28: ՀԻՄՆԱԿԱՆ ՄԻՋՈՑՆԵՐ | G28: =G31 -> 0 | H28: =H31+H29 -> 0 | I28: =I31+I29 -> 0
F29: ՇԵՆՔԵՐ ԵՎ ՇԻՆՈՒԹՅՈՒՆՆԵՐ | H29: =H30 -> -22380 | I29: =I30 -> -22380
F30: - Շենքերի և շինությունների կապիտալ վերանորոգում | H30: -22380 | I30: =H30 -> -22380
F31: ԱՅԼ ՀԻՄՆԱԿԱՆ ՄԻՋՈՑՆԵՐ | G31: =G32 -> 0 | H31: =H32 -> 22380 | I31: =I32 -> 22380
F32: - Նախագծահետազոտական ծախսեր | G32: 0 | H32: ='1'!G15 -> 22380 | I32: =H32 -> 22380

Sheet 3
A1: Հավելված N 3
A2: ՀՀ կառավարության 2022 թվականի
A3: -ի N -Ն որոշման
A4: ՀԱՅԱՍՏԱՆԻ ՀԱՆՐԱՊԵՏՈՒԹՅԱՆ ԿԱՌԱՎԱՐՈՒԹՅԱՆ 2021 ԹՎԱԿԱՆԻ ԴԵԿՏԵՄԲԵՐԻ 23-Ի N 2121-Ն ՈՐՈՇՄԱՆ N 5 ՀԱՎԵԼՎԱԾԻ N 2 ԱՂՅՈՒՍԱԿՈՒՄ ԿԱՏԱՐՎՈՂ ՓՈՓՈԽՈՒԹՅՈՒՆՆԵՐԸ ԵՎ ԼՐԱՑՈՒՄՆԵՐԸ
F5: (հազ. դրամ)
A6: Ծրագրային դասիչ | C6: Բյուջետային գլխավոր կարգադրիչների, ծրագրերի, միջոցառումների, միջոցառումները կատարող պետական մարմինների և ուղղությունների անվանումները | D6: Ցուցանիշների փոփոխությունը (ավելացումները նշված են դրական նշանով, իսկ նվազեցումները` փակագծերում)
D7: Առաջին կիսամյակ | E7: Ինն ամիս | F7: Տարի
A8: Ծրագիր | B8: Միջոցառում
C9: ԸՆԴԱՄԵՆԸ | D9: =D11 -> 0 | E9: =E11 -> 1.563194e-12 | F9: =F11 -> 1.563194e-12
C10: այդ թվում՝
C11: ՀՀ ՏԱՐԱԾՔԱՅԻՆ ԿԱՌԱՎԱՐՄԱՆ ԵՎ ԵՆԹԱԿԱՌՈՒՑՎԱԾՔՆԵՐԻ ՆԱԽԱՐԱՐՈՒԹՅՈՒՆ | D11: =D13 -> 0 | E11: =E13 -> 1.563194e-12 | F11: =F13 -> 1.563194e-12
C12: այդ թվում`
A13: 1004 | B13: 31012 | C13: Գետերի և հեղեղատարների տեղամասերի ամրացման և մաքրման աշխատանքներ | D13: =D15 -> 0 | E13: =E15 -> 1.563194e-12 | F13: =F15 -> 1.563194e-12
C14: այդ թվում` ըստ կատարողների
C15: ՀՀ տարածքային կառավարման և ենթակառուցվածքների նախարարության ջրային կոմիտե | D15: =SUM(D17:D23) -> 0 | E15: =SUM(E17:E23) -> 1.563194e-12 | F15: =SUM(F17:F23) -> 1.563194e-12
C16: այդ թվում` ըստ ուղղությունների
C17: ='1'!C15 -> ՀՀ Արարատի մարզի Արաքսավան և Բուրաստան համայնքների Արաքս գետի N16-ից մինչև N14 սահմանների միջակայքում Արաքս գետի նախկին հունի վերականգման և N16 սահմանանշանի մոտակայքում Արաքս գետի հայկական կողմի մոտ 130 մ երկարությամբ և 8 մ խորությամբ ողողված պատնեշի վերականգնման աշխատանքների նախագծանախահաշվային փաստաթղթերի ձեռքբերում | E17: ='1'!G15 -> 22380 | F17: =E17 -> 22380
C18: Այգեձորի մայր ջրանցքին զուգահեռ հենապատի ամրացում մոտ 70մ երկարությամբ | E18: ='1'!F16 -> -2686.6 | F18: =E18 -> -2686.6
C19: Գավառագետի հունի մաքրում մոտ 4200 մ | E19: ='1'!F17 -> -16410.5 | F19: =E19 -> -16410.5
C20: Մեծամորի հեղեղատարի հունի մաքրում մոտ 1000 մ և ափապատնեշի բարձրացում մոտ 150 մ երկարությամբ | E20: ='1'!F18 -> -1694.3 | F20: =E20 -> -1694.3
C21: Գետիկ հունի մաքրում շուրջ 1600 մ և ափերի ամրացում շուրջ 150 մ Ճամբարակ խոշորացված համայնքի Մարտունի գյուղի տարածքում | E21: ='1'!F19 -> -809.4 | F21: =E21 -> -809.4
C22: Որոտան գետի հունի մաքրում Սիսիան քաղաքի կենտրոնական կամրջից վերև և ներքև մոտ 1400 մ հատվածում | E22: ='1'!F20 -> -664.8 | F22: =E22 -> -664.8
C23: Երվանդաշատ համայնքի Արաքս գետի ափապաշտպան արգելաթմբի բարձրացում | E23: ='1'!F21 -> -114.4 | F23: =E23 -> -114.4

Sheet 4-1
E1: Հավելված N 4
E2: ՀՀ կառավարության 2022 թվականի
E3: -ի N -Ն որոշման
E4: Աղյուսակ 1
A5: ՀԱՅԱՍՏԱՆԻ ՀԱՆՐԱՊԵՏՈՒԹՅԱՆ ԿԱՌԱՎԱՐՈՒԹՅԱՆ 2021 ԹՎԱԿԱՆԻ ԴԵԿՏԵՄԲԵՐԻ 23-Ի N 2121-Ն ՈՐՈՇՄԱՆ N 9 ՀԱՎԵԼՎԱԾԻ N 9.7 ԱՂՅՈՒՍԱԿՈՒՄ ԿԱՏԱՐՎՈՂ ՓՈՓՈԽՈՒԹՅՈՒՆՆԵՐԸ ԵՎ ԼՐԱՑՈՒՄՆԵՐԸ
E7: Աղյուսակ 9.7
A8: ՀՀ տարածքային կառավարման և ենթակառուցվածքների նախարարություն
A9: Ծրագրի դասիչը | B9: Ծրագրի անվանումը
A10: 1004 | B10: Ոռոգման համակարգի առողջացում
A11: Ծրագրի միջոցառումները
A14: Ծրագրի դասիչը` | B14: 1004 | C14: Ցուցանիշների փոփոխությունը (ավելացումները նշված են դրական նշանով)
A16: Միջոցառման դասիչը` | B16: 31012 | C16: Առաջին կիսամյակ | D16: Ինն ամիս | E16: Տարի
A17: Միջոցառման անվանումը` | B17: Գետերի և հեղեղատարների տեղամասերի ամրացման և մաքրման աշխատանքներ
A18: Նկարագրությունը` | B18: Գետերի և հեղեղատարների տեղամասերի ամրացման և մաքրման համար նախագծերի և աշխատանքների ձեռքբերում
A19: Միջոցառման տեսակը` | B19: Պետական մարմինների կողմից օգտագործվող ոչ ֆինանսական ակտիվների հետ գործառնություններ
A20: Ակտիվն օգտագործող կազմակերպության(ների) անվանում(ները)՛ | B20: ՀՀ ՏԿԵՆ ջրային կոմիտե
A21: Արդյունքի չափորոշիչներ
A22: Նախագծանախահաշվային փաստաթղթեր, հատ | D22: 1 | E22: 1
A23: Միջոցառման վրա կատարվող ծախսը (հազար դրամ) | C23: 0 | D23: 0 | E23: 0

Sheet 4-2
D1: Աղյուսակ 2
A2: ՀԱՅԱՍՏԱՆԻ ՀԱՆՐԱՊԵՏՈՒԹՅԱՆ ԿԱՌԱՎԱՐՈՒԹՅԱՆ 2021 ԹՎԱԿԱՆԻ ԴԵԿՏԵՄԲԵՐԻ 23-Ի N 2121-Ն ՈՐՈՇՄԱՆ N 9.1 ՀԱՎԵԼՎԱԾԻ N 9.1.26 ԱՂՅՈՒՍԱԿՈՒՄ ԿԱՏԱՐՎՈՂ ՓՈՓՈԽՈՒԹՅՈՒՆՆԵՐԸ ԵՎ ԼՐԱՑՈՒՄՆԵՐԸ
E3: Աղյուսակ 9.1.26
A4: ՀՀ տարածքային կառավարման և ենթակառուցվածքների նախարարության ջրային կոմիտե
A5: Ծրագրի դասիչը | B5: Ծրագրի անվանումը
A6: 1004 | B6: Ոռոգման համակարգի առողջացում
A7: Ծրագրի միջոցառումները
A10: Ծրագրի դասիչը` | B10: 1004 | C10: Ցուցանիշների փոփոխությունը (ավելացումները նշված են դրական նշանով)
A12: Միջոցառման դասիչը` | B12: 31012 | C12: Առաջին կիսամյակ | D12: Ինն ամիս | E12: Տարի
A13: Միջոցառման անվանումը` | B13: Գետերի և հեղեղատարների տեղամասերի ամրացման և մաքրման աշխատանքներ
A14: Նկարագրությունը` | B14: Գետերի և հեղեղատարների տեղամասերի ամրացման և մաքրման համար նախագծերի և աշխատանքների ձեռքբերում
A15: Միջոցառման տեսակը` | B15: Պետական մարմինների կողմից օգտագործվող ոչ ֆինանսական ակտիվների հետ գործառնություններ
A16: Ակտիվն օգտագործող կազմակերպության(ների) անվանում(ները)՛ | B16: ՀՀ ՏԿԵՆ ջրային կոմիտե
A17: Արդյունքի չափորոշիչներ
A18: Նախագծանախահաշվային փաստաթղթեր, հատ | D18: 1 | E18: 1
A19: Միջոցառման վրա կատարվող ծախսը (հազար դրամ) | C19: ='4-1'!C23 -> 0 | D19: ='4-1'!D23 -> 0 | E19: =D19 -> 0

Sheet 5
A1: Հավելված N 5
A2: ՀՀ կառավարության 2022 թվականի
A3: -ի N -Ն որոշման
A5: ՀՀ ԿԱՌԱՎԱՐՈՒԹՅԱՆ 2021 ԹՎԱԿԱՆԻ ԴԵԿՏԵՄԲԵՐԻ 23-Ի N 2121-Ն ՈՐՈՇՄԱՆ N 10 ՀԱՎԵԼՎԱԾՈՒՄ ԿԱՏԱՐՎՈՂ ՓՈՓՈԽՈՒԹՅՈՒՆԸ ԵՎ ԼՐԱՑՈՒՄՆԵՐԸ
A7: Կոդը | B7: Անվանումը | C7: Գնման ձևը | D7: Չափի միավորը | E7: Ցուցանիշների փոփոխությունը (ավելացումները նշված են դրական նշանով, իսկ նվազեցումները՝ փակագծերում)
E8: Միավորի գինը | F8: քանակը | G8: գումարը (հազ. դրամ)
A9: ՀՀ տարածքային կառավարման և ենթակառուցվածքների նախարարության ջրային կոմիտե | G9: =G11+G21 -> -0.01
A10: Բաժին N 04 | B10: Խումբ N 02 | C10: Դաս N 04 | D10: Ոռոգում
A11: 1004 31012 | B11: Գետերի և հեղեղատարների տեղամասերի ամրացման և մաքրման աշխատանքներ | G11: =G12+G19 -> -22380.01
B12: ՄԱՍ II ԱՇԽԱՏԱՆՔՆԵՐ | G12: =G13+G14+G15+G16+G17+G18 -> -22262.21
A13: 45241133/506 | B13: գետերի ափերի պաշտպանության աշխատանքներ | C13: ԲՄ | D13: դրամ | G13: -2568.8
A14: 45241133/507 | B14: գետերի ափերի պաշտպանության աշխատանքներ | C14: ԲՄ | D14: դրամ | G14: -16410.5
A15: 45241133/508 | B15: գետերի ափերի պաշտպանության աշխատանքներ | C15: ԲՄ | D15: դրամ | G15: -1694.31
A16: 45241133/510 | B16: գետերի ափերի պաշտպանության աշխատանքներ | C16: ԲՄ | D16: դրամ | G16: -809.4
A17: 45241133/12 | B17: գետերի ափերի պաշտպանության աշխատանքներ | C17: ՀԲՄ | D17: դրամ | G17: -664.8
A18: 45241133/13 | B18: գետերի ափերի պաշտպանության աշխատանքներ | C18: ՀԲՄ | D18: դրամ | G18: -114.4
B19: ՄԱՍ III ԾԱՌԱՅՈՒԹՅՈՒՆՆԵՐ | G19: =G20 -> -117.8
A20: 71351540/11 | B20: տեխնիկական հսկողության ծառայություններ | C20: ԳՀ | D20: դրամ | G20: -117.8
A21: 1004 31012 | B21: Գետերի և հեղեղատարների տեղամասերի ամրացման և մաքրման աշխատանքներ | G21: =G22 -> 22380
B22: ՄԱՍ III ԾԱՌԱՅՈՒԹՅՈՒՆՆԵՐ | G22: =G23+G24 -> 22380
A23: 71241200/501 | B23: Նախագծերի պատրաստում, ծախսերի գնահատում | C23: ԳՀ | D23: դրամ | E23: 19980000 | F23: 1 | G23: =E23*F23/1000 -> 19980
A24: 50531140/ | B24: Փորձաքննության ծառայություններ | C24: ԳՀ | D24: դրամ | E24: 2400000 | F24: 1 | G24: 2400
