Workbook
Name AgencyCode: #REF!
Name AgencyCode: #REF!
Name AgencyName: #REF!
Name AgencyName: #REF!
Name Functional1: #REF!
Name Functional1: #REF!
Name PANature: #REF!
Name PANature: #REF!
Name PAType: #REF!
Name PAType: #REF!
Name Performance2: #REF!
Name Performance2: #REF!
Name PerformanceType: #REF!
Name PerformanceType: #REF!

Sheet 1
D1: Հավելված 1
D2: ՀՀ կառավարության 2021 թվականի
D3: ______________ ի ___Ն որոշման
A5: «ՀԱՅԱUՏԱՆԻ ՀԱՆՐԱՊԵՏՈՒԹՅԱՆ 2022 ԹՎԱԿԱՆԻ ՊԵՏԱԿԱՆ ԲՅՈՒՋԵԻ ՄԱUԻՆ» OՐԵՆՔԻ N 1 ՀԱՎԵԼՎԱԾԻ N 2 ԱՂՅՈՒՍԱԿՈՒՄ ԿԱՏԱՐՎՈՂ ՎԵՐԱԲԱՇԽՈՒՄԸ ԵՎ ՀԱՅԱՍՏԱՆԻ ՀԱՆՐԱՊԵՏՈՒԹՅԱՆ ԿԱՌԱՎԱՐՈՒԹՅԱՆ 2021 ԹՎԱԿԱՆԻ ԴԵԿՏԵՄԲԵՐԻ 23-Ի N 2121-Ն ՈՐՈՇՄԱՆ N5 ՀԱՎԵԼՎԱԾԻ N1 ԱՂՅՈՒՍԱԿՈՒՄ ԿԱՏԱՐՎՈՂ ՓՈՓՈԽՈՒԹՅՈՒՆՆԵՐԸ ԵՎ ԼՐԱՑՈՒՄՆԵՐԸ
E6: հազ․ դրամ
A7: Ծրագրային դասիչը | C7: Բյուջետային հատկացումների գլխավոր կարգադրիչների, ծրագրերի և միջոցառումների անվանումները | D7: Ցուցանիշների փոփոխությունները (ավելացումները նշված են դրական նշանով, իսկ նվազեցումները՝ փակագծերում)
A8: Ծրագիր | B8: Միջոցառում | D8: Ինն ամիս | E8: Տարի
C9: ԸՆԴԱՄԵՆԸ | D9: =+D11+D25 -> 0 | E9: =+D9 -> 0
C10: այդ թվում
B11: ՀՀ տարածքային կառավարման և ենթակառուցվածքների նախարարություն | D11: =+D13 -> -241897.5 | E11: =+D11 -> -241897.5
A12: 1070 | C12: Ծրագրի անվանումը`
C13: Աջակցություն փախստականների ինտեգրմանը | D13: -241897.5 | E13: =+D13 -> -241897.5
C14: Ծրագրի նպատակը`
C15: Փախստականների ինտեգրում հասարակություն
C16: Վերջնական արդյունքի նկարագրությունը`
C17: Փախստականներին մատուցվող ծառայությունների ընդգրկման և ծառայությունների շրջանակի ընդլայնում
C18: Ծրագրի միջոցառումներ
B19: 12003 | C19: Միջոցառման անվանումը`
C20: 1988-1992 թվականներին Ադրբեջանից բռնագաղթված և Հայաստանի Հանրապետությունում ապաստանած փախստական ընտանիքների բնակարանային ապահովում | D20: =+D13 -> -241897.5 | E20: =+D20 -> -241897.5
C21: Միջոցառման նկարագրությունը`
C22: 1988-1992 թվականներին Ադրբեջանից բռնագաղթված և Հայաստանի Հանրապետությունում ապաստանած բնակության վայր չունեցող փախստական ընտանիքներին բնակարանային ապահովման աջակցություն
C23: Միջոցառման տեսակը
C24: Տրանսֆերտների տրամադրում
C25: ՀՀ աշխատանքի և սոցիական հարցերի նախարարություն | D25: 241897.5 | E25: =+D25 -> 241897.5
A26: 1098 | C26: Ծրագրի անվանումը`
C27: Բնակարանային ապահովում | D27: =+D25 -> 241897.5 | E27: =+D27 -> 241897.5
C28: Ծրագրի նպատակը`
C29: Հանրապետությունում մշտական բնակության վայր չունեցող անօթևան անձանց բնակարանային ապահովմանն աջակցություն
C30: Վերջնական արդյունքի նկարագրությունը`
C31: Հանրապետությունում մշտական բնակության վայր չունեցող անօթևան անձանց բնակարանային ապահովվածության բարելավում
C32: Ծրագրի միջոցառումներ
B33: 12005 | C33: Միջոցառման անվանումը`
C34: Հայաստանի Հանրապետության տարածքում քանդման ենթակա վթարային, ինչպես նաև քանդված բնակարանային ֆոնդի շենքերի բնակիչներին անվտանգ բնակելի տարածքով ապահովում | D34: =+D27 -> 241897.5 | E34: =+D34 -> 241897.5
C35: Միջոցառման նկարագրությունը`
C36: Հայաստանի Հանրապետության տարածքում քանդման ենթակա վթարային, ինչպես նաև քանդված բնակարանային ֆոնդի շենքերի բնակիչներին (բացառությամբ աղետի գոտու վերականգնման ծրագրի շահառուների) անվտանգ բնակելի տարածքով ապահովում
C37: Միջոցառման տեսակը
C38: Տրանսֆերտների տրամադրում
B39: ՀՀ կառավարություն | C39: ՀՀ կառավարություն | D39: =+D41 -> 0 | E39: =+E41 -> 0
A40: 1139 | C40: Ծրագրի անվանումը`
C41: ՀՀ կառավարության պահուստային ֆոնդ | D41: =+D47+D53 -> 0 | E41: =+D41 -> 0
...

Sheet 2
G1: Հավելված 2
G2: ՀՀ կառավարության 2022 թվականի
G3: ______________ ի ___Ն որոշման
A5: ՀԱՅԱՍՏԱՆԻ ՀԱՆՐԱՊԵՏՈՒԹՅԱՆ ԿԱՌԱՎԱՐՈՒԹՅԱՆ 2021 ԹՎԱԿԱՆԻ ԴԵԿՏԵՄԲԵՐԻ 23-Ի N 2121-Ն ՈՐՈՇՄԱՆ N 3 ԵՎ N 4 ՀԱՎԵԼՎԱԾՆԵՐՈՒՄ ԿԱՏԱՐՎՈՂ ՓՈՓՈԽՈՒԹՅՈՒՆՆԵՐԸ ԵՎ ԼՐԱՑՈՒՄՆԵՐԸ
H6: հազ․ դրամ
A7: Գործառական դասիչը | D7: Ծրագրային դասիչը | F7: Բյուջետային ծախսերի գործառական դասակարգման բաժինների, խմբերի և դասերի, բյուջետային հատկացումների գլխավոր կարգադրիչների, ծրագրերի, միջոցառումների և միջոցառումները կատարող պետական մարմինների անվանումները | G7: Ցուցանիշների փոփոխությունները (ավելացումները նշված են դրական նշանով, իսկ նվազեցումները՝ փակագծերում)
A8: Բաժին | B8: Խումբ | C8: Դաս | D8: Ծրագիր | E8: Միջոցա ռում | G8: Ինն ամիս | H8: Տարի
F9: ԸՆԴԱՄԵՆԸ | G9: 0 | H9: 0
F10: այդ թվում
A11: 10 | F11: ՍՈՑԻԱԼԱԿԱՆ ՊԱՇՏՊԱՆՈՒԹՅՈՒՆ | G11: 0 | H11: 0
F12: այդ թվում`
B13: 06 | F13: Բնակարանային ապահովում | G13: 0 | H13: 0
F14: այդ թվում`
C15: 01 | F15: Բնակարանային ապահովում | G15: 0 | H15: 0
F16: այդ թվում`
F17: ՀՀ տարածքային կառավարման և ենթակառուցվածքների նախարարություն | G17: =-241897.5 -> -241897.5 | H17: =+G17 -> -241897.5
F18: այդ թվում`
D19: 1070 | F19: Աջակցություն փախստականների ինտեգրմանը | G19: =+G17 -> -241897.5 | H19: =+H17 -> -241897.5
F20: այդ թվում`
E21: 12003 | F21: 1988-1992 թվականներին Ադրբեջանից բռնագաղթված և Հայաստանի Հանրապետությունում ապաստանած փախստական ընտանիքների բնակարանային ապահովում | G21: =+G19 -> -241897.5 | H21: =+H19 -> -241897.5
F22: այդ թվում` ըստ կատարողների
F23: ՀՀ տարածքային կառավարման և ենթակառուցվածքների նախարարության միգրացիոն ծառայություն | G23: =+G21 -> -241897.5 | H23: =+H21 -> -241897.5
F24: այդ թվում` բյուջետային ծախսերի տնտեսագիտական դասակարգման հոդվածներ
F25: ԸՆԴԱՄԵՆԸ ԾԱԽՍԵՐ | G25: =+G23 -> -241897.5 | H25: =+H23 -> -241897.5
F26: ԸՆԹԱՑԻԿ ԾԱԽՍԵՐ | G26: =+G25 -> -241897.5 | H26: =+H25 -> -241897.5
F27: ԴՐԱՄԱՇՆՈՐՀՆԵՐ | G27: =+G26 -> -241897.5 | H27: =+H26 -> -241897.5
F28: Կապիտալ դրամաշնորհներ պետական հատվածի այլ մակարդակներին | G28: =+G27 -> -241897.5 | H28: =+H27 -> -241897.5
F29: - Այլ կապիտալ դրամաշնորհներ | G29: =+G28 -> -241897.5 | H29: =+H28 -> -241897.5
F30: ՀՀ աշխատանքի և սոցիալական հարցերի նախարարություն | G30: =241897.5 -> 241897.5 | H30: =+G30 -> 241897.5
F31: այդ թվում`
D32: 1098 | F32: Բնակարանային ապահովում | G32: =+G30 -> 241897.5 | H32: =+H30 -> 241897.5
F33: այդ թվում`
E34: 12005 | F34: Հայաստանի Հանրապետության տարածքում քանդման ենթակա վթարային, ինչպես նաև քանդված բնակարանային ֆոնդի շենքերի բնակիչներին անվտանգ բնակելի տարածքով ապահովում | G34: =+G32 -> 241897.5 | H34: =+G34 -> 241897.5
F35: ՀՀ Կոտայքի մարզպետարան | G35: =+G34 -> 241897.5 | H35: =+G35 -> 241897.5
F36: այդ թվում` բյուջետային ծախսերի տնտեսագիտական դասակարգման հոդվածներ
F37: ԸՆԴԱՄԵՆԸ ԾԱԽՍԵՐ | G37: =+G35 -> 241897.5 | H37: =+G37 -> 241897.5
F38: ԸՆԹԱՑԻԿ ԾԱԽՍԵՐ | G38: =+G37 -> 241897.5 | H38: =+G38 -> 241897.5
F39: ԴՐԱՄԱՇՆՈՐՀՆԵՐ | G39: =+G38 -> 241897.5 | H39: =+G39 -> 241897.5
F40: Կապիտալ դրամաշնորհներ պետական հատվածի այլ մակարդակներին | G40: =+G39 -> 241897.5 | H40: =+H39 -> 241897.5
F41: - Այլ կապիտալ դրամաշնորհներ | G41: =+G40 -> 241897.5 | H41: =+H40 -> 241897.5
...

Sheet 3
C1: Հավելված 3
C2: ՀՀ կառավարության 2022 թվականի
C3: ______________ ի ___Ն որոշման
A5: ՀԱՅԱՍՏԱՆԻ ՀԱՆՐԱՊԵՏՈՒԹՅԱՆ ԿԱՌԱՎԱՐՈՒԹՅԱՆ 2021 ԹՎԱԿԱՆԻ ԴԵԿՏԵՄԲԵՐԻ 23-Ի N 2121-Ն ՈՐՈՇՄԱՆ N 9 ՀԱՎԵԼՎԱԾԻ NN 9․7, 9.15 ԵՎ 9․47 ԱՂՅՈՒՍԱԿՆԵՐՈՒՄ ԿԱՏԱՐՎՈՂ ԼՐԱՑՈՒՄՆԵՐԸ ՈՒ ՓՈՓՈԽՈՒԹՅՈՒՆՆԵՐԸ
D7: Աղյուսակ 9.7
A8: ՀՀ տարածքային կառավարման և ենթակառուցվածքների նախարարություն
A10: ՄԱՍ 2. ՊԵՏԱԿԱՆ ՄԱՐՄՆԻ ԳԾՈՎ ԱՐԴՅՈՒՆՔԱՅԻՆ (ԿԱՏԱՐՈՂԱԿԱՆ) ՑՈՒՑԱՆԻՇՆԵՐԸ
A12: Ծրագրի դասիչը | B12: Ծրագրի անվանումը
A13: 1070 | B13: Աջակցություն փախստականների ինտեգրմանը
A15: Ծրագրի միջոցառումները
A17: Ծրագրի դասիչը` | B17: 1070 | C17: Ցուցանիշների փոփոխությունը (նվազեցումները նշված են փակագծերում)
A18: Միջոցառման դասիչը` | B18: 12003 | C18: Ինն ամիս | D18: Տարի
A19: Միջոցառման անվանումը` | B19: 1988-1992 թվականներին Ադրբեջանից բռնագաղթված և Հայաստանի Հանրապետությունում ապաստանած փախստական ընտանիքների բնակարանային ապահովում
A20: Նկարագրությունը` | B20: 1988-1992 թվականներին Ադրբեջանից բռնագաղթված և Հայաստանի Հանրապետությունում ապաստանած բնակության վայր չունեցող փախստական ընտանիքներին բնակարանային ապահովման աջակցություն
A21: Միջոցառման տեսակը` | B21: Տրանսֆերտների տրամադրում
A22: Շահառուների ընտրության չափանիշներ | B22: Ադրբեջանից բռնագաղթված, Հայաստանի Հանրապետությունում քաղաքացիություն ստացած բնակության վայր չունեցող ընտանիքներ
A23: Արդյունքի չափորոշիչներ
A24: Բնակարանով ապահովված շահառուների թիվ, ընտանիք | C24: -20 | D24: -20
A25: Միջոցառման վրա կատարվող ծախսը (հազար դրամ) | C25: =+'2'!G17 -> -241897.5 | D25: =+C25 -> -241897.5
D28: Աղյուսակ N9.15
A29: ՀՀ աշխատանքի և սոցիալական հարցերի նախարարություն
A30: ՄԱՍ 2. ՊԵՏԱԿԱՆ ՄԱՐՄՆԻ ԳԾՈՎ ԱՐԴՅՈՒՆՔԱՅԻՆ (ԿԱՏԱՐՈՂԱԿԱՆ) ՑՈՒՑԱՆԻՇՆԵՐԸ
A32: Ծրագրի դասիչը | B32: Ծրագրի անվանումը
A33: 1098 | B33: Բնակարանային ապահովում
A35: Ծրագրի միջոցառումները
A37: Ծրագրի դասիչը` | B37: 1098 | C37: Ցուցանիշների փոփոխությունը (ավելացումները նշված են դրական նշանով)
A38: Միջոցառման դասիչը` | B38: 12005 | C38: Ինն ամիս | D38: Տարի
A39: Միջոցառման անվանումը` | B39: Հայաստանի Հանրապետության տարածքում քանդման ենթակա վթարային, ինչպես նաև քանդված բնակարանային ֆոնդի շենքերի բնակիչներին անվտանգ բնակելի տարածքով ապահովում
A40: Նկարագրությունը` | B40: Հայաստանի Հանրապետության տարածքում քանդման ենթակա վթարային, ինչպես նաև քանդված բնակարանային ֆոնդի շենքերի բնակիչներին (բացառությամբ աղետի գոտու վերականգնման ծրագրի շահառուների) անվտանգ բնակելի տարածքով ապահովում
A41: Միջոցառման տեսակը` | B41: Տրանսֆերտների տրամադրում
A42: Շահառուների ընտրության չափանիշներ | B42: ՀՀ Կոտայքի մարզի Ողջաբերդ համայնքի 4-րդ և 5-րդ կարգի վնասվածության աստիճան ունեցող բնակելի տների սեփականատերեր
A43: Արդյունքի չափորոշիչներ
A44: Բնակարանով ապահովված ընտանիքների թիվ, ընտանիք | C44: 15 | D44: 15
A45: Միջոցառման վրա կատարվող ծախսը (հազար դրամ) | C45: =+'2'!G35 -> 241897.5 | D45: =+C45 -> 241897.5
D48: Աղյուսակ 9.47
B49: ՀՀ կառավարություն
A50: ՄԱՍ 2. ՊԵՏԱԿԱՆ ՄԱՐՄՆԻ ԳԾՈՎ ԱՐԴՅՈՒՆՔԱՅԻՆ (ԿԱՏԱՐՈՂԱԿԱՆ) ՑՈՒՑԱՆԻՇՆԵՐԸ
A52: Ծրագրի դասիչը | B52: Ծրագրի անվանումը
A53: 1139 | B53: ՀՀ կառավարության պահուստային ֆոնդ
A55: Ծրագրի միջոցառումները
...

Sheet 4
C1: Հավելված 4
C2: ՀՀ կառավարության 2022 թվականի
C3: ______________ ի ___Ն որոշման
A5: ՀԱՅԱՍՏԱՆԻ ՀԱՆՐԱՊԵՏՈՒԹՅԱՆ ԿԱՌԱՎԱՐՈՒԹՅԱՆ 2021 ԹՎԱԿԱՆԻ ԴԵԿՏԵՄԲԵՐԻ 23-Ի N 2121-Ն ՈՐՈՇՄԱՆ N 9.1 ՀԱՎԵԼՎԱԾԻ NN 9․1․35, 9.1.54 ԵՎ 9.1.59 ԱՂՅՈՒՍԱԿՆԵՐՈՒՄ ԿԱՏԱՐՎՈՂ ԼՐԱՑՈՒՄՆԵՐ ՈՒ ՓՈՓՈԽՈՒԹՅՈՒՆՆԵՐԸ
D7: Աղյուսակ 9.1.35
A8: ՀՀ տարածքային կառավարման և ենթակառուցվածքների նախարարության միգրացիոն ծառայություն
A9: ՄԱՍ 1. ՊԵՏԱԿԱՆ ՄԱՐՄՆԻ ԳԾՈՎ ԱՐԴՅՈՒՆՔԱՅԻՆ (ԿԱՏԱՐՈՂԱԿԱՆ) ՑՈՒՑԱՆԻՇՆԵՐԸ
A11: Ծրագրի դասիչը | B11: Ծրագրի անվանումը
A12: 1070 | B12: Աջակցություն փախստականների ինտեգրմանը
A14: Ծրագրի միջոցառումները
A15: Ծրագրի դասիչը` | B15: 1070 | C15: Ցուցանիշների փոփոխությունը (նվազեցումները նշված են փակագծերում)
A16: Միջոցառման դասիչը` | B16: 12003 | C16: Ինն ամիս | D16: Տարի
A17: Միջոցառման անվանումը` | B17: 1988-1992 թվականներին Ադրբեջանից բռնագաղթված և Հայաստանի Հանրապետությունում ապաստանած փախստական ընտանիքների բնակարանային ապահովում
A18: Նկարագրությունը` | B18: 1988-1992 թվականներին Ադրբեջանից բռնագաղթված և Հայաստանի Հանրապետությունում ապաստանած բնակության վայր չունեցող փախստական ընտանիքներին բնակարանային ապահովման աջակցություն
A19: Միջոցառման տեսակը` | B19: Տրանսֆերտների տրամադրում
A20: Շահառուների ընտրության չափանիշներ | B20: Ադրբեջանից բռնագաղթված, Հայաստանի Հանրապետությունում քաղաքացիություն ստացած բնակության վայր չունեցող ընտանիքներ
A21: Արդյունքի չափորոշիչներ
A22: Բնակարանով ապահովված շահառուների թիվ, ընտանիք | C22: -20 | D22: =+C22 -> -20
A23: Միջոցառման վրա կատարվող ծախսը (հազար դրամ) | C23: =+'3'!C25 -> -241897.5 | D23: =+C23 -> -241897.5
D25: Աղյուսակ N 9․1․54
A26: ՀՀ Կոտայքի մարզպետարան
A27: ՄԱՍ 1. ՊԵՏԱԿԱՆ ՄԱՐՄՆԻ ԳԾՈՎ ԱՐԴՅՈՒՆՔԱՅԻՆ (ԿԱՏԱՐՈՂԱԿԱՆ) ՑՈՒՑԱՆԻՇՆԵՐԸ
A29: Ծրագրի դասիչը | B29: Ծրագրի անվանումը
A30: 1098 | B30: Բնակարանային ապահովում
A32: Ծրագրի միջոցառումները
A34: Ծրագրի դասիչը` | B34: 1098 | C34: Ցուցանիշների փոփոխությունը (ավելացումները նշված են դրական նշանով)
A35: Միջոցառման դասիչը` | B35: 12005 | C35: Ինն ամիս | D35: Տարի
A36: Միջոցառման անվանումը` | B36: Հայաստանի Հանրապետության տարածքում քանդման ենթակա վթարային, ինչպես նաև քանդված բնակարանային ֆոնդի շենքերի բնակիչներին անվտանգ բնակելի տարածքով ապահովում
A37: Նկարագրությունը` | B37: Հայաստանի Հանրապետության տարածքում քանդման ենթակա վթարային, ինչպես նաև քանդված բնակարանային ֆոնդի շենքերի բնակիչներին (բացառությամբ աղետի գոտու վերականգնման ծրագրի շահառուների) անվտանգ բնակելի տարածքով ապահովում
A38: Միջոցառման տեսակը` | B38: Տրանսֆերտների տրամադրում
A39: Շահառուների ընտրության չափանիշներ | B39: ՀՀ Կոտայքի մարզի Ողջաբերդ համայնքի 4-րդ և 5-րդ կարգի վնասվածության աստիճան ունեցող բնակելի տների սեփականատերեր
A40: Արդյունքի չափորոշիչներ
A41: Բնակարանով ապահովված շահառուների թիվ, ընտանիք | C41: 15 | D41: 15
A42: Միջոցառման վրա կատարվող ծախսը (հազար դրամ) | C42: =+'3'!C45 -> 241897.5 | D42: =+C42 -> 241897.5
D44: Աղյուսակ 9.1.59
A45: ՀՀ կառավարություն
A46: ՄԱՍ 2. ՊԵՏԱԿԱՆ ՄԱՐՄՆԻ ԳԾՈՎ ԱՐԴՅՈՒՆՔԱՅԻՆ (ԿԱՏԱՐՈՂԱԿԱՆ) ՑՈՒՑԱՆԻՇՆԵՐԸ
A48: Ծրագրի դասիչը | B48: Ծրագրի անվանումը
A49: 1139 | B49: ՀՀ կառավարության պահուստային ֆոնդ
A51: Ծրագրի միջոցառումները
...
