Workbook

Sheet havelvac 1
F1: Հավելված 1
F2: ՀՀ կառավարության 2022 թվականի
F3: ______________ ի ___Ն որոշման
B6: «ՀԱՅԱUՏԱՆԻ ՀԱՆՐԱՊԵՏՈՒԹՅԱՆ 2022 ԹՎԱԿԱՆԻ ՊԵՏԱԿԱՆ ԲՅՈՒՋԵԻ ՄԱUԻՆ» OՐԵՆՔԻ N 1 ՀԱՎԵԼՎԱԾԻ N 2 ԱՂՅՈՒՍԱԿՈՒՄ ԿԱՏԱՐՎՈՂ ՎԵՐԱԲԱՇԽՈՒՄԸ ԵՎ ՀԱՅԱՍՏԱՆԻ ՀԱՆՐԱՊԵՏՈՒԹՅԱՆ ԿԱՌԱՎԱՐՈՒԹՅԱՆ 2021 ԹՎԱԿԱՆԻ ԴԵԿՏԵՄԲԵՐԻ 23-Ի N 2121-Ն ՈՐՈՇՄԱՆ N 5 ՀԱՎԵԼՎԱԾԻ N 1 ԱՂՅՈՒՍԱԿՈՒՄ ԿԱՏԱՐՎՈՂ ՓՈՓՈԽՈՒԹՅՈՒՆՆԵՐԸ
B8: հազ. դրամներով
B9: Ծրագրային դասիչը | D9: Բյուջետային հատկացումների գլխավոր կարգադրիչների, ծրագրերի և միջոցառումների անվանումները
B10: Ծրագիր | C10: Միջոցառում | E10: Ինն ամիս | F10: Տարի
D11: ԸՆԴԱՄԵՆԸ | E11: =E12 -> 0 | F11: =F12 -> 0
D12: ՀՀ տարածքային կառավարման և ենթակառուցվածքների նախարարություն | E12: =E13+E33 -> 0 | F12: =F13+F33 -> 0
B13: 1070 | D13: Ծրագրի անվանումը` | E13: =+E20 -> -8157.7 | F13: =+F20 -> -8157.7
D14: Աջակցություն փախստականների ինտեգրմանը
D15: Ծրագրի նպատակը`
D16: Փախստականների ինտեգրում հասարակություն
D17: Վերջնական արդյունքի նկարագրությունը`
D18: Փախստականներին մատուցվող ծառայությունների ընդգրկման և ծառայությունների շրջանակի ընդլայնում
D19: Ծրագրի միջոցառումներ
C20: 12003 | D20: Միջոցառման անվանումը` | E20: =-E33 -> -8157.7 | F20: =-F33 -> -8157.7
D21: 1988-1992 թվականներին Ադրբեջանից բռնագաղթված և Հայաստանի Հանրապետությունում ապաստանած փախստական ընտանիքների բնակարանային ապահովում
D22: Միջոցառման նկարագրությունը`
D23: 1988-1992 թվականներին Ադրբեջանից բռնագաղթված և Հայաստանի Հանրապետությունում ապաստանած բնակության վայր չունեցող փախստական ընտանիքներին բնակարանային ապահովման աջակցություն
D24: Միջոցառման տեսակը
D25: Տրանսֆերտների տրամադրում
B26: 1040 | D26: Ծրագրի անվանումը` | E26: =+E33 -> 8157.7 | F26: =+F33 -> 8157.7
D27: Կոշտ թափոնների կառավարում
D28: Ծրագրի նպատակը`
D29: Կենցաղային թափոնների արդյունավետ կառավարում սոցիալական և բնապահպանական խնդիրների լուծում
D30: Վերջնական արդյունքի նկարագրությունը`
D31: Կենցաղային թափոնների արդյունավետ կառավարում
D32: Ծրագրի միջոցառումներ
C33: 12003 | D33: Միջոցառման անվանումը` | E33: =-'havelvac 2'!H24 -> 8157.7 | F33: =-'havelvac 2'!I24 -> 8157.7
D34: Վերակառուցման և զարգացման եվրոպական բանկի աջակցությամբ իրականացվող «Կոտայքի և Գեղարքունիքի մարզի կոշտ թափոնների կառավարման ծրագրի շրջանակներում «Կոտայքի և Գեղարքունիքի Կոշտ կենցաղային թափոնների կառավարում» ՍՊԸ-ին ֆինանսական աջակցության տրամադրում»
D35: Միջոցառման նկարագրությունը`
D36: Վերակառուցման և զարգացման եվրոպական բանկի աջակցությամբ իրականացվող «Կոտայքի և Գեղարքունիքի մարզի կոշտ թափոնների կառավարման ծրագրի շրջանակներում ստեղծված «Կոտայքի և Գեղարքունիքի Կոշտ կենցաղային թափոնների կառավարում» ՍՊԸ-ին ֆինանսական աջակցության տրամադրում՝ հարկերի գծով ծախսերի փոխհատուցման նպատակով
D37: Միջոցառման տեսակը
D38: Տրանսֆերտների տրամադրում

Sheet havelvac 2
I1: Հավելված 2
I2: ՀՀ կառավարության 2022 թվականի
I3: ______________ ի ___Ն որոշման
B6: ՀԱՅԱՍՏԱՆԻ ՀԱՆՐԱՊԵՏՈՒԹՅԱՆ ԿԱՌԱՎԱՐՈՒԹՅԱՆ 2021 ԹՎԱԿԱՆԻ ԴԵԿՏԵՄԲԵՐԻ 23-Ի N 2121-Ն ՈՐՈՇՄԱՆ N 3 ԵՎ N 4 ՀԱՎԵԼՎԱԾՆԵՐՈՒՄ ԿԱՏԱՐՎՈՂ ՓՈՓՈԽՈՒԹՅՈՒՆՆԵՐԸ ԵՎ ԼՐԱՑՈՒՄՆԵՐԸ
B8: հազ. դրամներով
B9: Գործառական դասիչը | E9: Ծրագրային դասիչը | G9: Բյուջետային հատկացումների գլխավոր կարգադրիչների, ծրագրերի, միջոցառումների և միջոցառումները կատարող պետական մարմինների անվանումները
B10: Բաժին | C10: Խումբ | D10: Դաս | E10: Ծրագիր | F10: Միջոցառում | H10: Ինն ամիս | I10: Տարի
G11: ԸՆԴԱՄԵՆԸ | H11: =+H12+H27 -> 0 | I11: =+I12+I27 -> 0
B12: 10 | G12: ՍՈՑԻԱԼԱԿԱՆ ՊԱՇՏՊԱՆՈՒԹՅՈՒՆ | H12: =+H14 -> -8157.7 | I12: =+I14 -> -8157.7
G13: այդ թվում`
C14: 06 | G14: Բնակարանային ապահովում | H14: =+H16 -> -8157.7 | I14: =+I16 -> -8157.7
G15: այդ թվում`
D16: 01 | G16: Բնակարանային ապահովում | H16: =+H18 -> -8157.7 | I16: =+I18 -> -8157.7
G17: այդ թվում`
E18: 1070 | F18: 12003 | G18: 1988-1992 թվականներին Ադրբեջանից բռնագաղթված և Հայաստանի Հանրապետությունում ապաստանած փախստական ընտանիքների բնակարանային ապահովում | H18: =+H20 -> -8157.7 | I18: =+I20 -> -8157.7
G19: այդ թվում` ըստ կատարողների
G20: ՀՀ տարածքային կառավարման և ենթակառուցվածքների նախարարություն | H20: =+H22 -> -8157.7 | I20: =+I22 -> -8157.7
G21: այդ թվում` բյուջետային ծախսերի տնտեսագիտական դասակարգման հոդվածներ
G22: ԸՆԴԱՄԵՆԸ ԾԱԽՍԵՐ | H22: =+H23 -> -8157.7 | I22: =+I23 -> -8157.7
G23: ԸՆԹԱՑԻԿ ԾԱԽՍԵՐ | H23: =+H24 -> -8157.7 | I23: =+I24 -> -8157.7
G24: ԴՐԱՄԱՇՆՈՐՀՆԵՐ | H24: =+H25 -> -8157.7 | I24: =+I25 -> -8157.7
G25: Կապիտալ դրամաշնորհներ պետական հատվածի այլ մակարդակներին | H25: =+H26 -> -8157.7 | I25: =+I26 -> -8157.7
G26: - Այլ կապիտալ դրամաշնորհներ | H26: =-H27 -> -8157.7 | I26: =-I27 -> -8157.7
B27: 05 | G27: ՇՐՋԱԿԱ ՄԻՋԱՎԱՅՐԻ ՊԱՇՏՊԱՆՈՒԹՅՈՒՆ | H27: =+H29 -> 8157.7 | I27: =+I29 -> 8157.7
G28: այդ թվում`
C29: 01 | G29: Աղբահանում | H29: =+H31 -> 8157.7 | I29: =+I31 -> 8157.7
G30: այդ թվում`
D31: 01 | G31: Աղբահանում | H31: =+H33 -> 8157.7 | I31: =+I33 -> 8157.7
G32: այդ թվում`
E33: 1040 | G33: Կոշտ թափոնների կառավարում | H33: =+H35 -> 8157.7 | I33: =+I35 -> 8157.7
G34: այդ թվում`
F35: 12003 | G35: Վերակառուցման և զարգացման եվրոպական բանկի աջակցությամբ իրականացվող «Կոտայքի և Գեղարքունիքի մարզի կոշտ թափոնների կառավարման ծրագրի շրջանակներում «Կոտայքի և Գեղարքունիքի Կոշտ կենցաղային թափոնների կառավարում» ՍՊԸ-ին ֆինանսական աջակցության տրամադրում» | H35: =+H37 -> 8157.7 | I35: =+I37 -> 8157.7
G36: այդ թվում` ըստ կատարողների
G37: ՀՀ տարածքային կառավարման և ենթակառուցվածքների նախարարություն | H37: =+H38 -> 8157.7 | I37: =+I38 -> 8157.7
G38: այդ թվում` բյուջետային ծախսերի տնտեսագիտական դասակարգման հոդվածներ | H38: =+H39 -> 8157.7 | I38: =+I39 -> 8157.7
G39: ԸՆԴԱՄԵՆԸ ԾԱԽՍԵՐ | H39: =+H40 -> 8157.7 | I39: =+I40 -> 8157.7
G40: ԸՆԹԱՑԻԿ ԾԱԽՍԵՐ | H40: =+H41 -> 8157.7 | I40: =+I41 -> 8157.7
G41: ԴՐԱՄԱՇՆՈՐՀՆԵՐ | H41: =+I41 -> 8157.7 | I41: =+I42 -> 8157.7
G42: ԸՆԹԱՑԻԿ ԴՐԱՄԱՇՆՈՐՀՆԵՐ ՊԵՏԱԿԱՆ ՀԱՏՎԱԾԻ ԱՅԼ ՄԱԿԱՐԴԱԿՆԵՐԻՆ | H42: 8157.7 | I42: 8157.7
G43: Այլ ընթացիկ դրամաշնորհներ | H43: 8157.7 | I43: 8157.7

Sheet havelvac 3
I1: Հավելված 3
I2: ՀՀ կառավարության 2022 թվականի
I3: ______________ ի ___Ն որոշման
A5: ՀԱՅԱՍՏԱՆԻ ՀԱՆՐԱՊԵՏՈՒԹՅԱՆ ԿԱՌԱՎԱՐՈՒԹՅԱՆ 2021 ԹՎԱԿԱՆԻ ԴԵԿՏԵՄԲԵՐԻ 23-Ի N 2121-Ն ՈՐՈՇՄԱՆ N 5 ՀԱՎԵԼՎԱԾԻ N 7 ԱՂՅՈՒՍԱԿՈՒՄ ԿԱՏԱՐՎՈՂ ԼՐԱՑՈՒՄՆԵՐԸ
I8: հազար դրամներով
B9: Ծրագրային դասիչ | D9: Բյուջետային հատկացումների գլխավոր կարգադրիչների, ծրագրերի, միջոցառումների, ծախսային ուղղությունների անվանումները | G9: Միջոցառումները կատարող պետական մարմինների և դրամաշնորհ ստացող տնտեսվարող սուբյեկտների անվանումները | H9: Ինն ամիս | I9: Տարի
B10: Ծրագիր | C10: Միջոցառում
B11: ԸՆԴԱՄԵՆԸ | H11: =+H12 -> 8157.7 | I11: =+I12 -> 8157.7
B12: ՀՀ տարածքային կառավարման և ենթակառուցվածքների նախարարություն | H12: =+H13 -> 8157.7 | I12: =+I13 -> 8157.7
B13: =+'havelvac 2'!E33 -> 1040 | C13: =+'havelvac 2'!G33 -> Կոշտ թափոնների կառավարում | H13: =+H14 -> 8157.7 | I13: =+I14 -> 8157.7
C14: =+'havelvac 1'!C33 -> 12003 | D14: =+'havelvac 1'!D34 -> Վերակառուցման և զարգացման եվրոպական բանկի աջակցությամբ իրականացվող «Կոտայքի և Գեղարքունիքի մարզի կոշտ թափոնների կառավարման ծրագրի շրջանակներում «Կոտայքի և Գեղարքունիքի Կոշտ կենցաղային թափոնների կառավարում» ՍՊԸ-ին ֆինանսական աջակցության տրամադրում» | G14: =+B12 -> ՀՀ տարածքային կառավարման և ենթակառուցվածքների նախարարություն | H14: =+H15 -> 8157.7 | I14: =+I15 -> 8157.7
G15: «Կոտայքի և Գեղարքունիքի ԿԿԹԿ» ՍՊԸ | H15: =+'havelvac 2'!H42 -> 8157.7 | I15: =+'havelvac 2'!I42 -> 8157.7

Sheet havelvac 4
E1: Հավելված 5
D2: ՀՀ կառավարության 2022 թվականի
E3: ______________ ի ___Ն որոշման
B5: ՀԱՅԱՍՏԱՆԻ ՀԱՆՐԱՊԵՏՈՒԹՅԱՆ ԿԱՌԱՎԱՐՈՒԹՅԱՆ 2021 ԹՎԱԿԱՆԻ ԴԵԿՏԵՄԲԵՐԻ 23-Ի N 2121-Ն ՈՐՈՇՄԱՆ N 9 ՀԱՎԵԼՎԱԾԻ N 9.7 ԱՂՅՈՒՍԱԿՈՒՄ ԿԱՏԱՐՎՈՂ ՓՈՓՈԽՈՒԹՅՈՒՆՆԵՐԸ
E7: Աղյուսակ 9.7
B8: ՀՀ տարածքային կառավարման և ենթակառուցվածքների նախարարություն
B10: ՄԱՍ 2. ՊԵՏԱԿԱՆ ՄԱՐՄՆԻ ԳԾՈՎ ԱՐԴՅՈՒՆՔԱՅԻՆ (ԿԱՏԱՐՈՂԱԿԱՆ) ՑՈՒՑԱՆԻՇՆԵՐԸ
B12: Ծրագրի դասիչը | C12: Ծրագրի անվանումը
B13: 1070 | C13: Աջակցություն փախստականների ինտեգրմանը
B15: Ծրագրի միջոցառումները
B17: Ծրագրի դասիչը՝ | C17: 1070
B18: Միջոցառման դասիչը՝ | C18: 12003 | D18: Ինն ամիս | E18: Տարի
B19: Միջոցառման անվանումը՝ | C19: 1988-1992 թվականներին Ադրբեջանից բռնագաղթված և Հայաստանի Հանրապետությունում ապաստանած փախստական ընտանիքների բնակարանային ապահովում
B20: Նկարագրությունը՝ | C20: 1988-1992 թվականներին Ադրբեջանից բռնագաղթված և Հայաստանի Հանրապետությունում ապաստանած բնակության վայր չունեցող փախստական ընտանիքներին բնակարանային ապահովման աջակցություն
B21: Միջոցառման տեսակը՝ | C21: Տրանսֆերտների տրամադրում
B22: Շահառուների ընտրության չափանիշներ | C22: Ադրբեջանից բռնագաղթված, Հայաստանի Հանրապետությունում քաղաքացիություն ստացած բնակության վայր չունեցող ընտանիքներ
B23: Արդյունքի չափորոշիչներ
B24: Միջոցառման վրա կատարվող ծախսը (հազար դրամ) | D24: =+'havelvac 2'!H25 -> -8157.7 | E24: =+'havelvac 2'!I25 -> -8157.7
B27: Ծրագրի դասիչը | C27: Ծրագրի անվանումը
B28: 1040 | C28: Կոշտ թափոնների կառավարում
B30: Ծրագրի միջոցառումները
B32: Ծրագրի դասիչը` | C32: 1040
B33: Միջոցառման դասիչը` | C33: 12003 | D33: Ինն ամիս | E33: Տարի
B34: Միջոցառման անվանումը` | C34: ='havelvac 1'!D34 -> Վերակառուցման և զարգացման եվրոպական բանկի աջակցությամբ իրականացվող «Կոտայքի և Գեղարքունիքի մարզի կոշտ թափոնների կառավարման ծրագրի շրջանակներում «Կոտայքի և Գեղարքունիքի Կոշտ կենցաղային թափոնների կառավարում» ՍՊԸ-ին ֆինանսական աջակցության տրամադրում»
B35: Նկարագրությունը` | C35: ='havelvac 1'!D36 -> Վերակառուցման և զարգացման եվրոպական բանկի աջակցությամբ իրականացվող «Կոտայքի և Գեղարքունիքի մարզի կոշտ թափոնների կառավարման ծրագրի շրջանակներում ստեղծված «Կոտայքի և Գեղարքունիքի Կոշտ կենցաղային թափոնների կառավարում» ՍՊԸ-ին ֆինանսական աջակցության տրամադրում՝ հարկերի գծով ծախսերի փոխհատուցման նպատակով
B36: Միջոցառման տեսակը` | C36: Տրանսֆերտների տրամադրում
B37: Միջոցառումն իրականացնողի անվանումը՝ | C37: ՀՀ տարածքային կառավարման և ենթակառուցվածքների նախարարություն
B38: Արդյունքի չափորոշիչներ
B39: Ծրագրի շրջանակներում ստեղծված ընկերություն, հատ | D39: 1 | E39: 1
B40: Ընկերության կողմից նախատեսվող աղբահանության ծառայությունների մատուցման համայնքների թիվը | D40: 17 | E40: 17
B41: Միջոցառման վրա կատարվող ծախսը (հազար դրամ) | D41: =-D24 -> 8157.7 | E41: =-E24 -> 8157.7

Sheet havelvac 5
F1: Հավելված 5
F2: ՀՀ կառավարության 2022 թվականի
E3: ______________ ի ___Ն որոշման
B5: ՀԱՅԱՍՏԱՆԻ ՀԱՆՐԱՊԵՏՈՒԹՅԱՆ ԿԱՌԱՎԱՐՈՒԹՅԱՆ 2021 ԹՎԱԿԱՆԻ ԴԵԿՏԵՄԲԵՐԻ 23-Ի N 2121-Ն ՈՐՈՇՄԱՆ N 9.1 ՀԱՎԵԼՎԱԾԻ NN 9.1.8 ԵՎ 9.1.35 ԱՂՅՈՒՍԱԿՆԵՐՈՒՄ ԿԱՏԱՐՎՈՂ ՓՈՓՈԽՈՒԹՅՈՒՆՆԵՐԸ
F6: Աղյուսակ 9.1.35
C7: ՀՀ տարածքային կառավարման և ենթակառուցվածքների նախարարության միգրացիոն ծառայություն
C9: ՄԱՍ 1. ՊԵՏԱԿԱՆ ՄԱՐՄՆԻ ԳԾՈՎ ԱՐԴՅՈՒՆՔԱՅԻՆ (ԿԱՏԱՐՈՂԱԿԱՆ) ՑՈՒՑԱՆԻՇՆԵՐԸ
C12: Ծրագրի դասիչը | D12: Ծրագրի անվանումը
C13: 1070 | D13: Աջակցություն փախստականների ինտեգրմանը
C15: Ծրագրի միջոցառումները
C17: Ծրագրի դասիչը՝ | D17: 1070
C18: Միջոցառման դասիչը՝ | D18: 12003 | E18: Ինն ամիս | F18: Տարի
C19: Միջոցառման անվանումը՝ | D19: 1988-1992 թվականներին Ադրբեջանից բռնագաղթված և Հայաստանի Հանրապետությունում ապաստանած փախստական ընտանիքների բնակարանային ապահովում
C20: Նկարագրությունը՝ | D20: ՀՀ պետական բյուջեում նախատեսված ելքերի լրացուցիչ ֆինանսավորման՝ պետական բյուջեում չկանխատեսված ելքերի՝ ինչպես նաև բյուջետային երաշխիքների ապահովման ելքերի ֆինանսավորման ապահովում
C21: Միջոցառման տեսակը՝ | D21: Տրանսֆերտների տրամադրում
C22: Միջոցառումն իրականացնողի անվանումը | D22: ՀՀ տարածքային կառավարման և ենթակառուցվածքների նախարարության միգրացիոն ծառայություն
D23: Արդյունքի չափորոշիչներ
C24: Միջոցառման վրա կատարվող ծախսը (հազար դրամ) | E24: =-E45 -> -8157.7 | F24: =-F45 -> -8157.7
F26: Աղյուսակ 9.1.8
C27: ՀՀ տարածքային կառավարման և ենթակառուցվածքների նախարարություն
C29: ՄԱՍ 1. ՊԵՏԱԿԱՆ ՄԱՐՄՆԻ ԳԾՈՎ ԱՐԴՅՈՒՆՔԱՅԻՆ (ԿԱՏԱՐՈՂԱԿԱՆ) ՑՈՒՑԱՆԻՇՆԵՐԸ
C31: Ծրագրի դասիչը | D31: Ծրագրի անվանումը
C32: 1040 | D32: Կոշտ թափոնների կառավարում
C34: Ծրագրի միջոցառումները
C36: Ծրագրի դասիչը` | D36: 1040
C37: Միջոցառման դասիչը` | D37: 12003 | E37: Ինն ամիս | F37: Տարի
C38: Միջոցառման անվանումը` | D38: ='havelvac 1'!D34 -> Վերակառուցման և զարգացման եվրոպական բանկի աջակցությամբ իրականացվող «Կոտայքի և Գեղարքունիքի մարզի կոշտ թափոնների կառավարման ծրագրի շրջանակներում «Կոտայքի և Գեղարքունիքի Կոշտ կենցաղային թափոնների կառավարում» ՍՊԸ-ին ֆինանսական աջակցության տրամադրում»
C39: Նկարագրությունը` | D39: ='havelvac 1'!D36 -> Վերակառուցման և զարգացման եվրոպական բանկի աջակցությամբ իրականացվող «Կոտայքի և Գեղարքունիքի մարզի կոշտ թափոնների կառավարման ծրագրի շրջանակներում ստեղծված «Կոտայքի և Գեղարքունիքի Կոշտ կենցաղային թափոնների կառավարում» ՍՊԸ-ին ֆինանսական աջակցության տրամադրում՝ հարկերի գծով ծախսերի փոխհատուցման նպատակով
C40: Միջոցառման տեսակը` | D40: Տրանսֆերտների տրամադրում
C41: Միջոցառումն իրականացնողի անվանումը՝ | D41: ՀՀ տարածքային կառավարման և ենթակառուցվածքների նախարարություն
C42: Արդյունքի չափորոշիչներ
C43: Ծրագրի շրջանակներում ստեղծված ընկերություն, հատ | E43: 1 | F43: 1
C44: Ընկերության կողմից նախատեսվող աղբահանության ծառայությունների մատուցման համայնքների թիվը | E44: 17 | F44: 17
C45: Միջոցառման վրա կատարվող ծախսը (հազար դրամ) | E45: =+'havelvac 2'!H38 -> 8157.7 | F45: =+'havelvac 2'!I38 -> 8157.7
