Workbook
Name AgencyCode: #REF!
Name AgencyCode: #REF!
Name AgencyName: #REF!
Name AgencyName: #REF!
Name davit: #REF!
Name davit: #REF!
Name Functional1: #REF!
Name Functional1: #REF!
Name ggg: #REF!
Name ggg: #REF!
Name PANature: #REF!
Name PANature: #REF!
Name PAType: #REF!
Name PAType: #REF!
Name Performance2: #REF!
Name Performance2: #REF!
Name PerformanceType: #REF!
Name PerformanceType: #REF!
Name Հավելված: #REF!
Name Հավելված: #REF!
Name Մաս: #REF!
Name Մաս: #REF!
Name շախմատիստ: #REF!
Name շախմատիստ: #REF!

Sheet Havelvats 1
C1: Հավելված N 1
C2: ՀՀ կառավարության 2022 թվականի
C3: ______________ ի ___Ն որոշման
A6: ՀԱՅԱՍՏԱՆԻ ՀԱՆՐԱՊԵՏՈՒԹՅԱՆ ԿԱՌԱՎԱՐՈՒԹՅԱՆ 2021 ԹՎԱԿԱՆԻ ԴԵԿՏԵՄԲԵՐԻ 23-Ի N 2121-Ն ՈՐՈՇՄԱՆ N 5 ՀԱՎԵԼՎԱԾԻ N 1 ԱՂՅՈՒՍԱԿՈՒՄ ԿԱՏԱՐՎՈՂ ՓՈՓՈԽՈՒԹՅՈՒՆԸ ԵՎ ԼՐԱՑՈՒՄԸ
E8: հազ. դրամներով
A9: Ծրագրային դասիչը | C9: Բյուջետային հատկացումների գլխավոր կարգադրիչների, ծրագրերի և միջոցառումների անվանումները | D9: Ցուցանիշների փոփոխությունը (ավելացումները նշված են դրական նշանով, իսկ նվազեցումները՝ փակագծերում)
A10: Ծրագիր | B10: Միջոցառում | D10: Ինն ամիս | E10: Տարի
C11: ԸՆԴԱՄԵՆԸ | D11: =+D13+D27 -> 0 | E11: =+E13+E27 -> 0.002
C12: այդ թվում
C13: ՀՀ ԿՐԹՈՒԹՅԱՆ, ԳԻՏՈՒԹՅԱՆ, ՄՇԱԿՈՒՅԹԻ ԵՎ ՍՊՈՐՏԻ ՆԱԽԱՐԱՐՈՒԹՅՈՒՆ | D13: =+D15 -> -50000 | E13: =+E15 -> 0.002
A14: 1183 | C14: Ծրագրի անվանումը`
C15: Ապահով դպրոց | D15: =+D22 -> -50000 | E15: =+E22 -> 0.002
C16: Ծրագրի նպատակը`
C17: Դպրոցներին սպառնացող աղետների ռիսկի կառավարման կարողությունների հզորացում, դպրոցի անձնակազմի և աշակերտների անվտանգության ապահովման մակարդակի բարձրացում՛ կիրառելով ներառական և երեխայակենտրոն մոտեցում
C18: Վերջնական արդյունքի նկարագրությունը`
C19: Դպրոցական միջավայրի բարելավում
C20: Ծրագրի միջոցառումներ
B21: 32003 | C21: Միջոցառման անվանումը`
C22: Փոքրաքանակ երեխաներով համալրված հանրակրթական դպրոցների մոդուլային շենքերի կառուցում | D22: =+'Havelvats 2'!G22 -> -50000 | E22: =+'Havelvats 2'!H22 -> 0.002
C23: Միջոցառման նկարագրությունը`
C24: Կրթական հաստատությունների կառուցում համայնքային կենտրոնների մոդելով _x000D_
C25: Միջոցառման տեսակը
C26: Այլ պետական կազմակերպությունների կողմից օգտագործվող ոչ ֆինանսական ակտիվների հետ գործառնություններ
C27: ՀՀ ԿԱՌԱՎԱՐՈՒԹՅՈՒՆ | D27: =+D29 -> 50000 | E27: =+E29 -> 0
A28: 1139 | C28: Ծրագրի անվանումը`
C29: ՀՀ կառավարության պահուստային ֆոնդ | D29: =+D36 -> 50000 | E29: =+E36 -> 0
C30: Ծրագրի նպատակը`
C31: Պետական բյուջեում չկանխատեսված, ինչպես նաև բյուջետային երաշխիքների ապահովման ծախսերի ֆինանսավորման ապահովում
C32: Վերջնական արդյունքի նկարագրությունը`
C33: Պահուստային ֆոնդի կառավարման արդյունավետության և թափանցիկության ապահովում
C34: Ծրագրի միջոցառումներ
B35: 11001 | C35: Միջոցառման անվանումը`
C36: ՀՀ կառավարության պահուստային ֆոնդ | D36: =+'Havelvats 2'!G42 -> 50000 | E36: =+'Havelvats 2'!H42 -> 0
C37: Միջոցառման նկարագրությունը`
C38: ՀՀ պետական բյուջեում նախատեսված ելքերի լրացուցիչ ֆինանսավորման՝ պետական բյուջեում չկանխատեսված ելքերի, ինչպես նաև բյուջետային երաշխիքների ապահովման ելքերի ֆինանսավորման ապահովում
C39: Միջոցառման տեսակը
C40: Ծառայությունների մատուցում

Sheet Havelvats 2
F1: Հավելված N 2
F2: ՀՀ կառավարության 2022 թվականի
F3: ______________ ի ___Ն որոշման
A5: ՀԱՅԱՍՏԱՆԻ ՀԱՆՐԱՊԵՏՈՒԹՅԱՆ ԿԱՌԱՎԱՐՈՒԹՅԱՆ 2021 ԹՎԱԿԱՆԻ ԴԵԿՏԵՄԲԵՐԻ 23-Ի N 2121-Ն ՈՐՈՇՄԱՆ N 3 ԵՎ N 4 ՀԱՎԵԼՎԱԾՆԵՐՈՒՄ ԿԱՏԱՐՎՈՂ ՓՈՓՈԽՈՒԹՅՈՒՆԸ ԵՎ ԼՐԱՑՈՒՄԸ
H6: հազ. դրամներով
A7: Գործառական դասիչը | D7: Ծրագրային դասիչը | F7: Բյուջետային հատկացումների գլխավոր կարգադրիչների, ծրագրերի, միջոցառումների և միջոցառումները կատարող պետական մարմինների անվանումները | G7: Ցուցանիշների փոփոխությունը (ավելացումները նշված են դրական նշանով, իսկ նվազեցումները՝ փակագծերում)
A8: Բաժին | B8: Խումբ | C8: Դաս | D8: Ծրագիր | E8: Միջոցառում | G8: Ինն ամիս | H8: Տարի
F9: ԸՆԴԱՄԵՆԸ | G9: =+G11+G31 -> 0 | H9: =+H11+H31 -> 0.002
F10: այդ թվում
F11: ՀՀ ԿՐԹՈՒԹՅԱՆ, ԳԻՏՈՒԹՅԱՆ, ՄՇԱԿՈՒՅԹԻ ԵՎ ՍՊՈՐՏԻ ՆԱԽԱՐԱՐՈՒԹՅՈՒՆ | G11: =+G12 -> -50000 | H11: =+H12 -> 0.002
A12: 09 | F12: ԿՐԹՈՒԹՅՈՒՆ | G12: =+G14 -> -50000 | H12: =+H14 -> 0.002
F13: այդ թվում`
B14: 06 | F14: Կրթությանը տրամադրվող օժանդակ ծառայություններ | G14: =+G16 -> -50000 | H14: =+H16 -> 0.002
F15: այդ թվում`
C16: 01 | F16: Կրթությանը տրամադրվող օժանդակ ծառայություններ | G16: =+G18 -> -50000 | H16: =+H18 -> 0.002
F17: այդ թվում`
F18: ՀՀ կրթության, գիտության, մշակույթի և սպորտի նախարարություն | G18: =+G20 -> -50000 | H18: =+H20 -> 0.002
F19: այդ թվում`
D20: 1183 | E20: Ապահով դպրոց | G20: =+G22 -> -50000 | H20: =+H22 -> 0.002
F21: այդ թվում`
E22: 32003 | F22: Փոքրաքանակ երեխաներով համալրված հանրակրթական դպրոցների մոդուլային շենքերի կառուցում | G22: =+G24 -> -50000 | H22: =+H24 -> 0.002
F23: այդ թվում` ըստ կատարողների
F24: ՀՀ քաղաքաշինության կոմիտե | G24: =+G26 -> -50000 | H24: =+H26 -> 0.002
F25: այդ թվում՝ բյուջետային ծախսերի տնտեսագիտական դասակարգման հոդվածներ
F26: ԸՆԴԱՄԵՆԸ ԾԱԽՍԵՐ | G26: =+G27 -> -50000 | H26: =+H27 -> 0.002
F27: ՈՉ ՖԻՆԱՆՍԱԿԱՆ ԱԿՏԻՎՆԵՐԻ ԳԾՈՎ ԾԱԽՍԵՐ | G27: =+G28 -> -50000 | H27: =+H28 -> 0.002
F28: ՀԻՄՆԱԿԱՆ ՄԻՋՈՑՆԵՐ | G28: =+G29 -> -50000 | H28: =+H29 -> 0.002
F29: ԱՅԼ ՀԻՄՆԱԿԱՆ ՄԻՋՈՑՆԵՐ | G29: =+G30 -> -50000 | H29: =+H30 -> 0.002
F30: - Նախագծահետազոտական ծախսեր | G30: =+'Havelvats 4'!E14 -> -50000 | H30: =+'Havelvats 4'!F14 -> 0.002
F31: ՀՀ ԿԱՌԱՎԱՐՈՒԹՅՈՒՆ | G31: =+G32 -> 50000 | H31: =+H32 -> 0
A32: 11 | F32: ՀԻՄՆԱԿԱՆ ԲԱԺԻՆՆԵՐԻՆ ՉԴԱՍՎՈՂ ՊԱՀՈՒՍՏԱՅԻՆ ՖՈՆԴԵՐ | G32: =+G34 -> 50000 | H32: =+H34 -> 0
F33: այդ թվում`
B34: 01 | F34: ՀՀ կառավարության և համայնքների պահուստային ֆոնդ | G34: =+G36 -> 50000 | H34: =+H36 -> 0
F35: այդ թվում`
C36: 01 | F36: ՀՀ կառավարության պահուստային ֆոնդ | G36: =+G38 -> 50000 | H36: =+H38 -> 0
F37: այդ թվում`
F38: ՀՀ կառավարություն | G38: =+G40 -> 50000 | H38: =+H40 -> 0
F39: այդ թվում`
D40: 1139 | E40: ՀՀ կառավարության պահուստային ֆոնդ | F40: ՀՀ կառավարության պահուստային ֆոնդ | G40: =+G42 -> 50000 | H40: =+H42 -> 0
F41: այդ թվում`
E42: 11001 | F42: ՀՀ կառավարության պահուստային ֆոնդ | G42: =+G44 -> 50000 | H42: =+H44 -> 0
F43: այդ թվում` ըստ կատարողների
F44: ՀՀ կառավարություն | G44: =+G46 -> 50000 | H44: =+H46 -> 0
F45: այդ թվում` բյուջետային ծախսերի տնտեսագիտական դասակարգման հոդվածներ
F46: ԸՆԴԱՄԵՆԸ ԾԱԽՍԵՐ | G46: =+G47 -> 50000 | H46: =+H47 -> 0
F47: ԸՆԹԱՑԻԿ ԾԱԽՍԵՐ | G47: =+G48 -> 50000 | H47: =+H48 -> 0
F48: ԱՅԼ ԾԱԽՍԵՐ | G48: =+G49 -> 50000 | H48: =+H49 -> 0
F49: -Պահուստային միջոցներ | G49: 50000 | H49: 0

Sheet Havelvats 3
F1: Հավելված N 3
F2: ՀՀ կառավարության 2022 թվականի
F3: ______________ ի ___Ն որոշման
A5: «ՀԱՅԱUՏԱՆԻ ՀԱՆՐԱՊԵՏՈՒԹՅԱՆ 2022 ԹՎԱԿԱՆԻ ՊԵՏԱԿԱՆ ԲՅՈՒՋԵԻ ՄԱUԻՆ» ՀԱՅԱUՏԱՆԻ ՀԱՆՐԱՊԵՏՈՒԹՅԱՆ OՐԵՆՔԻ N 1 ՀԱՎԵԼՎԱԾԻ N 3 ԱՂՅՈՒՍԱԿՈՒՄ ԿԱՏԱՐՎՈՂ ՓՈՓՈԽՈՒԹՅՈՒՆՆԵՐԸ ԵՎ ԼՐԱՑՈՒՄՆԵՐԸ
G8: հազ. դրամներով
A9: Ծրագրային դասիչ | C9: Բյուջետային գլխավոր կարգադրիչների, ծրագրերի, միջոցառումների, միջոցառումները կատարող պետական մարմինների և ուղղությունների անվանումները | D9: Ընդամենը | E9: Ցուցանիշների փոփոխությունը (ավելացումները նշված են դրական նշանով, իսկ նվազեցումները՝ փակագծերում)
A10: Ծրագիր | B10: Միջոցառում | E10: Կառուցման աշխատանքներ | F10: Վերակառուցման, վերանորոգման և վերականգնման աշխատանքներ | G10: Նախագծահե- տազոտական, գեոդեզիա- քարտեզագրա- կան աշխա- տանքներ | H10: Ոչ ֆինանսական այլ ակտիվների ձեռքբերում
C11: ԸՆԴԱՄԵՆԸ | D11: =SUM(E11:H11) -> 0.002 | E11: =+E13 -> 0.002 | F11: =+F13 -> 0 | G11: =+G13 -> 0 | H11: =+H13 -> 0
C12: այդ թվում՝
C13: ՀՀ ԿՐԹՈՒԹՅԱՆ, ԳԻՏՈՒԹՅԱՆ, ՄՇԱԿՈՒՅԹԻ ԵՎ ՍՊՈՐՏԻ ՆԱԽԱՐԱՐՈՒԹՅՈՒՆ | D13: =SUM(E13:H13) -> 0.002 | E13: =+E15 -> 0.002 | F13: =+F15 -> 0 | G13: =+G15 -> 0 | H13: =+H15 -> 0
C14: այդ թվում`
A15: 1183 | B15: 32003 | C15: Փոքրաքանակ երեխաներով համալրված հանրակրթական դպրոցների մոդուլային շենքերի կառուցում | D15: =SUM(E15:H15) -> 0.002 | E15: =+E17+E18+E20+E22+E24+E26+E28+E30+E33+E35 -> 0.002 | F15: =+F17+F18+F20+F22+F24+F26+F28+F30+F33+F35 -> 0 | G15: =+G17+G18+G20+G22+G24+G26+G28+G30+G33+G35 -> 0 | H15: =+H17+H18+H20+H22+H24+H26+H28+H30+H33+H35 -> 0
C16: այդ թվում`
C17: Փոքրաքանակ երեխաներով համալրված «Մոդուլային» տիպի հանրակրթական դպրոցների բազմակի օգտագործման օրինակելի նախագծանախահաշվային փաստաթղթերի մշակում և համապատասխան համայնքներում տեղակապում | D17: =SUM(E17:H17) -> -50000 | E17: =SUM(E19:E23) -> 0 | F17: =SUM(F19:F23) -> 0 | G17: -50000 | H17: =SUM(H19:H23) -> 0
C18: ՀՀ Արագածոտնի մարզ | D18: =SUM(E18:H18) -> 5000 | E18: =+E19 -> 0 | F18: =+F19 -> 0 | G18: =+G19 -> 5000 | H18: =+H19 -> 0
C19: «Հացաշենի հիմնական դպրոց» ՊՈԱԿ | D19: =SUM(E19:H19) -> 5000 | G19: =+'Havelvats 7'!I24+'Havelvats 7'!I34 -> 5000
C20: ՀՀ Արարատի մարզ | D20: =SUM(E20:H20) -> 5000 | E20: =+E21 -> 0 | F20: =+F21 -> 0 | G20: =+G21 -> 5000 | H20: =+H21 -> 0
C21: «Նիզամիի միջնակարգ դպրոց» ՊՈԱԿ | D21: =SUM(E21:H21) -> 5000 | G21: =+'Havelvats 7'!I25+'Havelvats 7'!I35 -> 5000
C22: ՀՀ Արմավիրի մարզ | D22: =SUM(E22:H22) -> 5000 | E22: =+E23 -> 0 | F22: =+F23 -> 0 | G22: =+G23 -> 5000 | H22: =+H23 -> 0
C23: «Հայկաշենի Գ. Կիրակոսյանի անվան միջնակարգ դպրոց» ՊՈԱԿ | D23: =SUM(E23:H23) -> 5000 | G23: =+'Havelvats 7'!I26+'Havelvats 7'!I36 -> 5000
C24: ՀՀ Գեղարքունիքի մարզ | D24: =SUM(E24:H24) -> 5000 | E24: =+E25 -> 0 | F24: =+F25 -> 0 | G24: =+G25 -> 5000 | H24: =+H25 -> 0
C25: «Արփունք գյուղի միջնակարգ դպրոց» ՊՈԱԿ | D25: =SUM(E25:H25) -> 5000 | G25: =+'Havelvats 7'!I27+'Havelvats 7'!I37 -> 5000
C26: ՀՀ Լոռու մարզ | D26: =SUM(E26:H26) -> 5000 | E26: =+E27 -> 0 | F26: =+F27 -> 0 | G26: =+G27 -> 5000 | H26: =+H27 -> 0
C27: «Բլագոդարնոյեի հիմնական դպրոց» ՊՈԱԿ | D27: =SUM(E27:H27) -> 5000 | G27: =+'Havelvats 7'!I28+'Havelvats 7'!I38 -> 5000
C28: ՀՀ Կոտայքի մարզ | D28: =SUM(E28:H28) -> 5000 | E28: =+E29 -> 0 | F28: =+F29 -> 0 | G28: =+G29 -> 5000 | H28: =+H29 -> 0
C29: «Նուռնուսի միջնակարգ դպրոց» ՊՈԱԿ | D29: =SUM(E29:H29) -> 5000 | G29: =+'Havelvats 7'!I29+'Havelvats 7'!I39 -> 5000
C30: ՀՀ Շիրակի մարզ | D30: =SUM(E30:H30) -> -155000 | E30: =+E31+E32 -> -160000 | F30: =+F31+F32 -> 0 | G30: =+G31+G32 -> 5000 | H30: =+H31+H32 -> 0
C31: «Հովունիի միջնակարգ դպրոց» ՊՈԱԿ | D31: =SUM(E31:H31) -> 5000 | G31: =+'Havelvats 7'!I30+'Havelvats 7'!I40 -> 5000
C32: «Բերդաշենի միջնակարգ դպրոց» ՊՈԱԿ | D32: =SUM(E32:H32) -> -160000 | E32: =+'Havelvats 7'!I17+'Havelvats 7'!I20-889.3 -> -160000
C33: ՀՀ Վայոց Ձորի մարզ | D33: =SUM(E33:H33) -> 5000 | E33: =+E34 -> 0 | F33: =+F34 -> 0 | G33: =+G34 -> 5000 | H33: =+H34 -> 0
C34: «Գողթանիկի հիմնական դպրոց» ՊՈԱԿ | D34: =SUM(E34:H34) -> 5000 | G34: =+'Havelvats 7'!I31+'Havelvats 7'!I41 -> 5000
C35: ՀՀ Տավուշի մարզ | D35: =SUM(E35:H35) -> 170000 | E35: =+E36+E37+E38 -> 160000 | F35: =+F36+F37+F38 -> 0 | G35: =+G36+G37+G38 -> 10000 | H35: =+H36+H37+H38 -> 0
C36: «Գոշի միջնակարգ դպրոց» ՊՈԱԿ | D36: =SUM(E36:H36) -> 5000 | G36: =+'Havelvats 7'!I32+'Havelvats 7'!I42 -> 5000
C37: «Նավուրի միջնակարգ դպրոց» ՊՈԱԿ | D37: =SUM(E37:H37) -> 5000 | G37: =+'Havelvats 7'!I33+'Havelvats 7'!I43 -> 5000
C38: «Դովեղի միջնակարգ դպրոց» ՊՈԱԿ | D38: =SUM(E38:H38) -> 160000 | E38: =+'Havelvats 7'!I18+'Havelvats 7'!I21+1040.8 -> 160000

Sheet Havelvats 4
E1: Հավելված N 4
E2: ՀՀ կառավարության 2022 թվականի
E3: ______________ ի ___Ն որոշման
B5: ՀԱՅԱՍՏԱՆԻ ՀԱՆՐԱՊԵՏՈՒԹՅԱՆ ԿԱՌԱՎԱՐՈՒԹՅԱՆ 2021 ԹՎԱԿԱՆԻ ԴԵԿՏԵՄԲԵՐԻ 23-Ի N 2121-Ն ՈՐՈՇՄԱՆ N 5 ՀԱՎԵԼՎԱԾԻ N 2 ԱՂՅՈՒՍԱԿՈՒՄ ԿԱՏԱՐՎՈՂ ՓՈՓՈԽՈՒԹՅՈՒՆՆԵՐԸ ԵՎ ԼՐԱՑՈՒՄՆԵՐԸ
F7: հազ. դրամներով
B8: Ծրագրային դասիչ | D8: Բյուջետային գլխավոր կարգադրիչների, ծրագրերի, միջոցառումների, միջոցառումները կատարող պետական մարմինների և ուղղությունների անվանումները | E8: Ցուցանիշների փոփոխությունը (ավելացումները նշված են դրական նշանովավելացումները նշված են դրական նշանով, իսկ նվազեցումները՝ փակագծերում)
B9: Ծրագիր | C9: Միջոցառում | E9: Ինն ամիս | F9: Տարի
D10: ՀՀ ԿՐԹՈՒԹՅԱՆ, ԳԻՏՈՒԹՅԱՆ, ՄՇԱԿՈՒՅԹԻ ԵՎ ՍՊՈՐՏԻ ՆԱԽԱՐԱՐՈՒԹՅՈՒՆ | E10: =+E12 -> -50000 | F10: =+F12 -> 0.002
D11: այդ թվում՝
B12: 1183 | C12: 32003 | D12: Փոքրաքանակ երեխաներով համալրված հանրակրթական դպրոցների մոդուլային շենքերի կառուցում | E12: =+E14 -> -50000 | F12: =+F14 -> 0.002
D13: այդ թվում` ըստ կատարողների
D14: ՀՀ քաղաքաշինության կոմիտե | E14: =+E16+E17+E19+E21+E23+E25+E27+E29+E32+E34 -> -50000 | F14: =+F16+F17+F19+F21+F23+F25+F27+F29+F32+F34 -> 0.002
D15: այդ թվում`ըստ ուղղությունների
D16: Փոքրաքանակ երեխաներով համալրված «Մոդուլային» տիպի հանրակրթական դպրոցների բազմակի օգտագործման օրինակելի նախագծանախահաշվային փաստաթղթերի մշակում և համապատասխան համայնքներում տեղակապում | E16: -50000 | F16: =+'Havelvats 3'!D17 -> -50000
D17: ՀՀ Արագածոտնի մարզ | E17: =+E18 -> 0 | F17: =+F18 -> 5000
D18: «Հացաշենի հիմնական դպրոց» ՊՈԱԿ | F18: =+'Havelvats 3'!D19 -> 5000
D19: ՀՀ Արարատի մարզ | E19: =+E20 -> 0 | F19: =+F20 -> 5000
D20: «Նիզամիի միջնակարգ դպրոց» ՊՈԱԿ | F20: =+'Havelvats 3'!D21 -> 5000
D21: ՀՀ Արմավիրի մարզ | E21: =+E22 -> 0 | F21: =+F22 -> 5000
D22: «Հայկաշենի Գ. Կիրակոսյանի անվան միջնակարգ դպրոց» ՊՈԱԿ | F22: =+'Havelvats 3'!D23 -> 5000
D23: ՀՀ Գեղարքունիքի մարզ | E23: =+E24 -> 0 | F23: =+F24 -> 5000
D24: «Արփունք գյուղի միջնակարգ դպրոց» ՊՈԱԿ | F24: =+'Havelvats 3'!D25 -> 5000
D25: ՀՀ Լոռու մարզ | E25: =+E26 -> 0 | F25: =+F26 -> 5000
D26: «Բլագոդարնոյեի հիմնական դպրոց» ՊՈԱԿ | F26: =+'Havelvats 3'!D27 -> 5000
D27: ՀՀ Կոտայքի մարզ | E27: =+E28 -> 0 | F27: =+F28 -> 5000
D28: «Նուռնուսի միջնակարգ դպրոց» ՊՈԱԿ | F28: =+'Havelvats 3'!D29 -> 5000
D29: ՀՀ Շիրակի մարզ | E29: =+E30+E31 -> -50882.6 | F29: =+F30+F31 -> -155000
D30: «Հովունիի միջնակարգ դպրոց» ՊՈԱԿ | F30: =+'Havelvats 3'!D31 -> 5000
D31: «Բերդաշենի միջնակարգ դպրոց» ՊՈԱԿ | E31: -50882.6 | F31: =+'Havelvats 3'!D32 -> -160000
D32: ՀՀ Վայոց Ձորի մարզ | E32: =+E33 -> 0 | F32: =+F33 -> 5000
D33: «Գողթանիկի հիմնական դպրոց» ՊՈԱԿ | F33: =+'Havelvats 3'!D34 -> 5000
D34: ՀՀ Տավուշի մարզ | E34: =+E35+E36+E37 -> 50882.6 | F34: =+F35+F36+F37 -> 170000
D35: «Գոշի միջնակարգ դպրոց» ՊՈԱԿ | F35: =+'Havelvats 3'!D36 -> 5000
D36: «Նավուրի միջնակարգ դպրոց» ՊՈԱԿ | F36: =+'Havelvats 3'!D37 -> 5000
D37: «Դովեղի միջնակարգ դպրոց» ՊՈԱԿ | E37: 50882.6 | F37: =+'Havelvats 3'!D38 -> 160000

Sheet Havelvats 5
D1: Հավելված N 5
D2: ՀՀ կառավարության 2022 թվականի
D3: ______________ ի ___Ն որոշման
B5: ՀԱՅԱՍՏԱՆԻ ՀԱՆՐԱՊԵՏՈՒԹՅԱՆ ԿԱՌԱՎԱՐՈՒԹՅԱՆ 2021 ԹՎԱԿԱՆԻ ԴԵԿՏԵՄԲԵՐԻ 23-Ի N 2121-Ն ՈՐՈՇՄԱՆ N 9 ՀԱՎԵԼՎԱԾԻ N 9.13 ԵՎ 9.47 ԱՂՅՈՒՍԱԿՆԵՐՈՒՄ ԿԱՏԱՐՎՈՂ ՓՈՓՈԽՈՒԹՅՈՒՆՆԵՐԸ ԵՎ ԼՐԱՑՈՒՄՆԵՐԸ
A8: Աղյուսակ 9.13
C9: ՀՀ կրթության, գիտության, մշակույթի և սպորտի նախարարություն
B10: ՄԱՍ 2. ՊԵՏԱԿԱՆ ՄԱՐՄՆԻ ԳԾՈՎ ԱՐԴՅՈՒՆՔԱՅԻՆ (ԿԱՏԱՐՈՂԱԿԱՆ) ՑՈՒՑԱՆԻՇՆԵՐԸ
B14: Ծրագրի դասիչը | C14: Ծրագրի անվանումը
B15: 1183 | C15: Ապահով դպրոց
B17: Ծրագրի միջոցառումները
B18: Ծրագրի դասիչը՝ | C18: 1183 | D18: Ցուցանիշների փոփոխությունը (ավելացումները նշված են դրական նշանով, իսկ նվազեցումները փակագծերում)
B19: Միջոցառման դասիչը՝ | C19: 32003 | D19: Ինն ամիս | E19: Տարի
B20: Միջոցառման անվանումը` | C20: Փոքրաքանակ երեխաներով համալրված հանրակրթական դպրոցների մոդուլային շենքերի կառուցում
B21: Նկարագրությունը` | C21: Կրթական հաստատությունների կառուցում համայնքային կենտրոնների մոդելով
B22: Միջոցառման տեսակը` | C22: Այլ պետական կազմակերպությունների կողմից օգտագործվող ոչ ֆինանսական ակտիվների հետ գործառնություններ
B23: Ակտիվն օգտագործող կազմակերպությունների անվանումները | C23: Փոքրաքանակ երեխաներով համալրված հանրակրթական դպրոցներ
B24: Արդյունքի չափորոշիչներ
B25: Կառուցվող ուսումնական հաստատությունների քանակ, հատ | D25: 1 | E25: 1
B26: Հաստատությունների քանակ, որոնց շինարարական աշխատանքների ավարտվածության աստիճանը 100% է, հատ | E26: -1
B27: Միջոցառման վրա կատարվող ծախսը (հազար դրամ) | D27: =+'Havelvats 1'!D22 -> -50000 | E27: =+'Havelvats 1'!E22 -> 0.002
A31: Աղյուսակ 9.47
C32: ՀՀ կառավարություն
B33: ՄԱՍ 2. ՊԵՏԱԿԱՆ ՄԱՐՄՆԻ ԳԾՈՎ ԱՐԴՅՈՒՆՔԱՅԻՆ (ԿԱՏԱՐՈՂԱԿԱՆ) ՑՈՒՑԱՆԻՇՆԵՐԸ
B36: Ծրագրի դասիչը | C36: Ծրագրի անվանումը
B37: 1139 | C37: ՀՀ կառավարության պահուստային ֆոնդ
B38: Ծրագրի միջոցառումները
B39: Ծրագրի դասիչը՝ | C39: 1139 | D39: Ցուցանիշների փոփոխությունը (ավելացումները նշված են դրական նշանով)
B40: Միջոցառման դասիչը՝ | C40: 11001 | D40: Ինն ամիս | E40: Տարի
B41: Միջոցառման անվանումը՝ | C41: ՀՀ կառավարության պահուստային ֆոնդ
B42: Նկարագրությունը՝ | C42: ՀՀ պետական բյուջեում նախատեսված ելքերի լրացուցիչ ֆինանսավորման՝ պետական բյուջեում չկանխատեսված ելքերի, ինչպես նաև բյուջետային երաշխիքների ապահովման ելքերի ֆինանսավորման ապահովում
B43: Միջոցառման տեսակը՝ | C43: Ծառայությունների մատուցում
B44: Միջոցառումն իրականացնողի անվանումը | C44: ՀՀ կառավարություն
C45: Արդյունքի չափորոշիչներ
B46: Միջոցառման վրա կատարվող ծախսը (հազար դրամ) | D46: =+'Havelvats 1'!D36 -> 50000 | E46: =+'Havelvats 1'!E36 -> 0

Sheet Havelvats 6
D1: Հավելված N 6
D2: ՀՀ կառավարության 2022 թվականի
D3: ______________ ի ___Ն որոշման
B5: ՀԱՅԱՍՏԱՆԻ ՀԱՆՐԱՊԵՏՈՒԹՅԱՆ ԿԱՌԱՎԱՐՈՒԹՅԱՆ 2021 ԹՎԱԿԱՆԻ ԴԵԿՏԵՄԲԵՐԻ 23-Ի N 2121-Ն ՈՐՈՇՄԱՆ N 9.1 ՀԱՎԵԼՎԱԾԻ NN 9.1.42 ԵՎ N 9.1.59 ԱՂՅՈՒՍԱԿՆԵՐՈՒՄ ԿԱՏԱՐՎՈՂ ՓՈՓՈԽՈՒԹՅՈՒՆՆԵՐԸ ԵՎ ԼՐԱՑՈՒՄՆԵՐԸ
A8: Աղյուսակ 9.1.42
C9: ՀՀ քաղաքաշինության կոմիտե
B10: ՄԱՍ 1. ՊԵՏԱԿԱՆ ՄԱՐՄՆԻ ԳԾՈՎ ԱՐԴՅՈՒՆՔԱՅԻՆ (ԿԱՏԱՐՈՂԱԿԱՆ) ՑՈՒՑԱՆԻՇՆԵՐԸ
B13: Ծրագրի դասիչը | C13: Ծրագրի անվանումը
B14: 1183 | C14: Ապահով դպրոց
B16: Ծրագրի միջոցառումները
B17: Ծրագրի դասիչը՝ | C17: 1183 | D17: Ցուցանիշների փոփոխությունը (ավելացումները նշված են դրական նշանով, իսկ նվազեցումները փակագծերում)
B18: Միջոցառման դասիչը՝ | C18: 32003 | D18: Ինն ամիս | E18: Տարի
B19: Միջոցառման անվանումը` | C19: Փոքրաքանակ երեխաներով համալրված հանրակրթական դպրոցների մոդուլային շենքերի կառուցում
B20: Նկարագրությունը` | C20: Կրթական հաստատությունների կառուցում համայնքային կենտրոնների մոդելով
B21: Միջոցառման տեսակը` | C21: Այլ պետական կազմակերպությունների կողմից օգտագործվող ոչ ֆինանսական ակտիվների հետ գործառնություններ
B22: Ակտիվն օգտագործող կազմակերպությունների անվանումները | C22: Փոքրաքանակ երեխաներով համալրված հանրակրթական դպրոցներ
B23: Արդյունքի չափորոշիչներ
B24: Կառուցվող ուսումնական հաստատությունների քանակ, հատ | D24: 1 | E24: 1
B25: Հաստատությունների քանակ, որոնց շինարարական աշխատանքների ավարտվածության աստիճանը 100% է, հատ | E25: -1
B26: Միջոցառման վրա կատարվող ծախսը (հազար դրամ) | D26: =+'Havelvats 2'!G24 -> -50000 | E26: =+'Havelvats 2'!H24 -> 0.002
A30: Աղյուսակ 9.1.59
C31: ՀՀ կառավարություն
B32: ՄԱՍ 1. ՊԵՏԱԿԱՆ ՄԱՐՄՆԻ ԳԾՈՎ ԱՐԴՅՈՒՆՔԱՅԻՆ (ԿԱՏԱՐՈՂԱԿԱՆ) ՑՈՒՑԱՆԻՇՆԵՐԸ
B35: Ծրագրի դասիչը | C35: Ծրագրի անվանումը
B36: 1139 | C36: ՀՀ կառավարության պահուստային ֆոնդ
B37: Ծրագրի միջոցառումները
B38: Ծրագրի դասիչը՝ | C38: 1139 | D38: Ցուցանիշների փոփոխությունը (ավելացումները նշված են դրական նշանով)
B39: Միջոցառման դասիչը՝ | C39: 11001 | D39: Ինն ամիս | E39: Տարի
B40: Միջոցառման անվանումը՝ | C40: ՀՀ կառավարության պահուստային ֆոնդ
B41: Նկարագրությունը՝ | C41: ՀՀ պետական բյուջեում նախատեսված ելքերի լրացուցիչ ֆինանսավորման՝ պետական բյուջեում չկանխատեսված ելքերի, ինչպես նաև բյուջետային երաշխիքների ապահովման ելքերի ֆինանսավորման ապահովում
B42: Միջոցառման տեսակը՝ | C42: Ծառայությունների մատուցում
B43: Միջոցառումն իրականացնողի անվանումը | C43: ՀՀ կառավարություն
C44: Արդյունքի չափորոշիչներ
B45: Միջոցառման վրա կատարվող ծախսը (հազար դրամ) | D45: =+'Havelvats 2'!G44 -> 50000 | E45: =+'Havelvats 2'!H44 -> 0

Sheet Havelvats 7
H1: Հավելված N 7
H2: ՀՀ կառավարության 2021 թվականի
H3: ______________ ի ___Ն որոշման
A6: ՀԱՅԱՍՏԱՆԻ ՀԱՆՐԱՊԵՏՈՒԹՅԱՆ ԿԱՌԱՎԱՐՈՒԹՅԱՆ 2020 ԹՎԱԿԱՆԻ ԴԵԿՏԵՄԲԵՐԻ 30-Ի N 2215-Ն ՈՐՈՇՄԱՆ N 10 ՀԱՎԵԼՎԱԾՈՒՄ ԿԱՏԱՐՎՈՂ ՓՈՓՈԽՈՒԹՅՈՒՆԸ ԵՎ ԼՐԱՑՈՒՄՆԵՐԸ
A10: Կոդը | B10: Անվանումը | E10: Գնման ձևը | F10: Չափման միավորը | G10: Միավորի գինը | H10: Ցուցանիշների փոփոխությունը (ավելացումները նշված են դրական նշանով, իսկ նվազեցումները՝ փակագծերում)
H11: Քանակը | I11: Գումարը (հազար դրամ)
A12: 1 | B12: 2 | E12: 3 | F12: 4 | G12: 5 | H12: 6 | I12: 7
A13: ՀՀ քաղաքաշինության կոմիտե | I13: =+I14 -> 0.002
A14: Բաժին N 09 | B14: Խումբ N 06 | C14: Դաս N 01 | D14: Կրթությանը տրամադրվող օժանդակ ծառայություններ | I14: =+I15+I44 -> 0.002
A15: 1183-32003 | B15: Փոքրաքանակ երեխաներով համալրված հանրակրթական դպրոցների մոդուլային շենքերի կառուցում | I15: =+I16+I19 -> 0.002
B16: ՄԱՍ II. ԱՇԽԱՏԱՆՔՆԵՐ | I16: =+I17+I18 -> 4783.402
A17: 45211231-13 | B17: միջնակարգ դպրոցների կառուցման աշխատանքներ | E17: ԲՄ | F17: դրամ | I17: -152441.2
A18: 45211231 | B18: միջնակարգ դպրոցների կառուցման աշխատանքներ | E18: ԲՄ | F18: դրամ | G18: 157224600 | H18: 1 | I18: 157224.6 | K18: =+J18+J19+J20+I17+I20 -> -159110.7
B19: ՄԱՍ III. ԾԱՌԱՅՈՒԹՅՈՒՆՆԵՐ | I19: =SUM(I20:I43) -> -4783.4
A20: 71351540-70 | B20: տեխնիկական հսկողության ծառայություններ | E20: ԳՀ | F20: դրամ | I20: -6669.5
A21: 71351540-73 | B21: տեխնիկական հսկողության ծառայություններ | E21: ԳՀ | F21: դրամ | I21: 1734.6
A22: 98111140-37 | B22: հեղինակային հսկողության ծառայություններ | E22: ՄԱ | F22: դրամ | I22: =-889.3+1040.8 -> 151.5
A23: 71241200-34 | B23: նախագծերի պատրաստում, ծախսերի գնահատում | E23: ԳՀ | F23: դրամ | G23: 50000000 | H23: -1 | I23: =+G23*H23/1000 -> -50000
A24: 71241200 | B24: նախագծերի պատրաստում, ծախսերի գնահատում | E24: ՄԱ | F24: դրամ | G24: 4500000 | H24: 1 | I24: =+G24*H24/1000 -> 4500
A25: 71241200 | B25: նախագծերի պատրաստում, ծախսերի գնահատում | E25: ՄԱ | F25: դրամ | G25: 4500000 | H25: 1 | I25: =+G25*H25/1000 -> 4500
A26: 71241200 | B26: նախագծերի պատրաստում, ծախսերի գնահատում | E26: ՄԱ | F26: դրամ | G26: 4500000 | H26: 1 | I26: =+G26*H26/1000 -> 4500
A27: 71241200 | B27: նախագծերի պատրաստում, ծախսերի գնահատում | E27: ՄԱ | F27: դրամ | G27: 4500000 | H27: 1 | I27: =+G27*H27/1000 -> 4500
A28: 71241200 | B28: նախագծերի պատրաստում, ծախսերի գնահատում | E28: ՄԱ | F28: դրամ | G28: 4500000 | H28: 1 | I28: =+G28*H28/1000 -> 4500
A29: 71241200 | B29: նախագծերի պատրաստում, ծախսերի գնահատում | E29: ՄԱ | F29: դրամ | G29: 4500000 | H29: 1 | I29: =+G29*H29/1000 -> 4500
A30: 71241200 | B30: նախագծերի պատրաստում, ծախսերի գնահատում | E30: ՄԱ | F30: դրամ | G30: 4500000 | H30: 1 | I30: =+G30*H30/1000 -> 4500
A31: 71241200 | B31: նախագծերի պատրաստում, ծախսերի գնահատում | E31: ՄԱ | F31: դրամ | G31: 4500000 | H31: 1 | I31: =+G31*H31/1000 -> 4500
A32: 71241200 | B32: նախագծերի պատրաստում, ծախսերի գնահատում | E32: ՄԱ | F32: դրամ | G32: 4500000 | H32: 1 | I32: =+G32*H32/1000 -> 4500
A33: 71241200 | B33: նախագծերի պատրաստում, ծախսերի գնահատում | E33: ՄԱ | F33: դրամ | G33: 4500000 | H33: 1 | I33: =+G33*H33/1000 -> 4500
A34: 50531140 | B34: փորձաքննության ծառայություններ | E34: ԳՀ | F34: դրամ | G34: 500000 | H34: 1 | I34: =+G34*H34/1000 -> 500
A35: 50531140 | B35: փորձաքննության ծառայություններ | E35: ԳՀ | F35: դրամ | G35: 500000 | H35: 1 | I35: =+G35*H35/1000 -> 500
... A43: 50531140 | B43: փորձաքննության ծառայություններ | E43: ԳՀ | F43: դրամ | G43: 500000 | H43: 1 | I43: =+G43*H43/1000 -> 500
A44: 1183-32007 | B44: Հանրակրթական կրթություն իրականացնող ուսումնական հաստատությունների նոր մարզադահլիճների կառուցում | I44: =+I45+I48 -> 0
B45: ՄԱՍ II. ԱՇԽԱՏԱՆՔՆԵՐ | I45: =SUM(I46:I47) -> -3882.4
A46: 45221142-535 | B46: ընդհանուր շինարարական աշխատանքներ | E46: ԲՄ | F46: դրամ | I46: -1862.7
A47: 45221142-536 | B47: ընդհանուր շինարարական աշխատանքներ | E47: ԲՄ | F47: դրամ | I47: -2019.7
B48: ՄԱՍ III. ԾԱՌԱՅՈՒԹՅՈՒՆՆԵՐ | I48: =SUM(I49:I52) -> 3882.4
A49: 71351540-504 | B49: տեխնիկական հսկողության ծառայություններ | E49: ԳՀ | F49: դրամ | I49: 1623.8
A50: 71351540-505 | B50: տեխնիկական հսկողության ծառայություններ | E50: ԳՀ | F50: դրամ | I50: 1774.2
A51: 98111140-52 | B51: հեղինակային հսկողության ծառայություններ | E51: ՄԱ | F51: դրամ | I51: 238.9
A52: 98111140-53 | B52: հեղինակային հսկողության ծառայություններ | E52: ՄԱ | F52: դրամ | I52: 245.5

Sheet Havelvats 8
B1: Հավելված N 8
B2: ՀՀ կառավարության 2022 թվականի
B3: ______________ ի ___Ն որոշման
A6: «ՀԱՅԱUՏԱՆԻ ՀԱՆՐԱՊԵՏՈՒԹՅԱՆ 2022 ԹՎԱԿԱՆԻ ՊԵՏԱԿԱՆ ԲՅՈՒՋԵԻ ՄԱUԻՆ» ՀԱՅԱUՏԱՆԻ ՀԱՆՐԱՊԵՏՈՒԹՅԱՆ OՐԵՆՔԻ N 6 ՀԱՎԵԼՎԱԾՈՒՄ ԿԱՏԱՐՎՈՂ ՓՈՓՈԽՈՒԹՅՈՒՆԸ
B8: հազ. դրամներով
B9: ԲԳԿ/Միջոցառում | C9: Ցուցանիշների փոփոխությունը (նվազեցումները նշված են փակագծերում)
C10: Ընդամենը
B11: ԸՆԴԱՄԵՆԸ | C11: =+C13 -> -160000
B12: այդ թվում՝
A13: 6 | B13: ՀՀ կրթության, գիտության, մշակույթի և սպորտի նախարարություն | C13: =SUM(C15:C15) -> -160000
B14: այդ թվում`
A15: 6.10 | B15: Փոքրաքանակ երեխաներով համալրված հանրակրթական դպրոցների մոդուլային շենքերի կառուցում | C15: =-'Havelvats 3'!D38 -> -160000
