Workbook
Name AgencyCode: #REF!
Name AgencyCode: #REF!
Name AgencyCode: #REF!
Name AgencyCode: #REF!
Name AgencyName: #REF!
Name AgencyName: #REF!
Name AgencyName: #REF!
Name AgencyName: #REF!
Name Functional1: #REF!
Name Functional1: #REF!
Name Functional1: #REF!
Name Functional1: #REF!
Name PANature: #REF!
Name PANature: #REF!
Name PANature: #REF!
Name PANature: #REF!
Name PAType: #REF!
Name PAType: #REF!
Name PAType: #REF!
Name PAType: #REF!
Name Performance2: #REF!
Name Performance2: #REF!
Name Performance2: #REF!
Name Performance2: #REF!
Name PerformanceType: #REF!
Name PerformanceType: #REF!
Name PerformanceType: #REF!
Name PerformanceType: #REF!

Sheet հավելված1
E1: Հավելված 1
D2: ՀՀ կառավարության 2022 թվականի
D3: ______________ ի ___Ն որոշման
A6: «ՀԱՅԱUՏԱՆԻ ՀԱՆՐԱՊԵՏՈՒԹՅԱՆ 2022 ԹՎԱԿԱՆԻ ՊԵՏԱԿԱՆ ԲՅՈՒՋԵԻ ՄԱUԻՆ» OՐԵՆՔԻ N 1 ՀԱՎԵԼՎԱԾԻ N 2 ԱՂՅՈՒՍԱԿՈՒՄ ԿԱՏԱՐՎՈՂ ՎԵՐԱԲԱՇԽՈՒՄԸ ԵՎ ՀԱՅԱՍՏԱՆԻ ՀԱՆՐԱՊԵՏՈՒԹՅԱՆ ԿԱՌԱՎԱՐՈՒԹՅԱՆ 2021 ԹՎԱԿԱՆԻ ԴԵԿՏԵՄԲԵՐԻ 23-Ի N 2121-Ն ՈՐՈՇՄԱՆ N 5 ՀԱՎԵԼՎԱԾԻ N 1 ԱՂՅՈՒՍԱԿՈՒՄ ԿԱՏԱՐՎՈՂ ՓՈՓՈԽՈՒԹՅՈՒՆՆԵՐԸ ԵՎ ԼՐԱՑՈՒՄՆԵՐԸ
E8: (հազար դրամներով)
A9: Ծրագրային դասիչը | C9: Բյուջետային հատկացումների գլխավոր կարգադրիչների, ծրագրերի և միջոցառումների անվանումները | D9: Ցուցանիշների փոփոխությունը (ավելացումները նշված են դրական նշանով, իսկ նվազեցումները` փակագծերում)
A10: Ծրագիր | B10: Միջոցառում | D10: Ինն ամիս | E10: Տարի
C11: ԸՆԴԱՄԵՆԸ | D11: =D12+D44 -> 0 | E11: =E12+E44 -> 0
B12: ՀՀ քննչական կոմիտե | D12: =D13 -> 203170.6 | E12: =E13 -> 217550.9
A13: 1180 | C13: Ծրագրի անվանումը | D13: =D20+D26+D38+D33 -> 203170.6 | E13: =E20+E26+E38+E33 -> 217550.9
C14: ՀՀ քննչական ծառայություններ
C15: Ծրագրի նպատակը
C16: Հանցագործությունների օբյեկտիվ և արդյունավետ նախաքննության իրականացման ապահովում
C17: Վերջնական արդյունքի նկարագրությունը
C18: Հանցագործությունների արդյունավետ նախաքննություն, նախաքննության ժամկետների կրճատում:
C19: Ծրագրի միջոցառումներ
B20: 11001 | C20: Միջոցառման անվանումը՝ | D20: -10895.9 | E20: -16545.2
C21: Քրեական գործերով վարույթի իրականացում
C22: Միջոցառման նկարագրությունը՝
C23: Հայաստանի հանրապետության քրեական դատավարության օրենսգրքով ՀՀ քննչական կոմիտեի իրավասությանը վերապահված՝ ենթադրյալ հանցագործությունների կապակցությամբ նախաքննություն
C24: Միջոցառման տեսակը՝
C25: Ծառայությունների մատուցում
B26: 11003 | C26: Միջոցառման անվանումը՝ | D26: -660 | E26: -660
C27: ՀՀ քննչական կոմիտեի պահուստային ֆոնդ
C28: Միջոցառման նկարագրությունը՝
C29: ՀՀ քննչական կոմիտեի արդյունավետ գործունեությանը նպաստում, չկանխատեսված ծախսերի կատարման ապահովում
C30: Միջոցառման տեսակը՝
C31: Ծառայությունների մատուցում
B32: 31001 | C32: Միջոցառման անվանումը՝
C33: ՀՀ քննչական կոմիտեի տեխնիկական հագեցվածության բարելավում | D33: 140670 | E33: 140670
C34: Միջոցառման նկարագրությունը՝
C35: Համակարգչային տեխնիկայի, սարքավորումների և գրասենյակային գույքի ձեռքբերում
C36: Միջոցառման տեսակը՝
C37: Պետական մարմինների կողմից օգտագործվող ոչ ֆինանսական ակտիվների հետ գործառնություններ
B38: 31004 | C38: Միջոցառման անվանումը՝ | D38: 74056.5 | E38: 94086.1
C39: ՀՀ քննչական կոմիտեի շենքային պայմանների բարելավում
C40: Միջոցառման նկարագրությունը՝
C41: ՀՀ քննչական կոմիտեի վարչական շենքերի կապիտալ վերանորոգում
C42: Միջոցառման տեսակը՝
C43: Պետական մարմինների կողմից օգտագործվող ոչ ֆինանսական ակտիվների հետ գործառնություններ
B44: ՀՀ կառավարություն | D44: =D45 -> -203170.6 | E44: =E45 -> -217550.9
A45: 1139 | C45: Ծրագրի անվանումը` | D45: =D52 -> -203170.6 | E45: =E52 -> -217550.9
C46: ՀՀ կառավարության պահուստային ֆոնդ
C47: Ծրագրի նպատակը`
C48: Պետական բյուջեում չկանխատեսված՝ ինչպես նաևւ բյուջետային երաշխիքների ապահովման ծախսերի ֆինանսավորման ապահովում
C49: Վերջնական արդյունքի նկարագրությունը`
C50: Պահուստային ֆոնդի կառավարման արդյունավետության և թափանցիկության ապահովում
C51: Ծրագրի միջոցառումներ
B52: 11001 | C52: Միջոցառման անվանումը` | D52: -203170.6 | E52: -217550.9
C53: ՀՀ կառավարության պահուստային ֆոնդ
C54: Միջոցառման նկարագրությունը`
C55: ՀՀ պետական բյուջեում նախատեսված ելքերի լրացուցիչ ֆինանսավորման՝ պետական բյուջեում չկանխատեսված ելքերի՝ ինչպես նաև բյուջետային երաշխիքների ապահովման ելքերի ֆինանսավորման ապահովում
C56: Միջոցառման տեսակը
C57: Ծառայությունների մատուցում

Sheet հավելված2
F1: Հավելված N 2
D2: ՀՀ կառավարության 2022 թվականի
D3: ___________ ___-ի N _______ -Ն որոշման
A4: «ՀԱՅԱUՏԱՆԻ ՀԱՆՐԱՊԵՏՈՒԹՅԱՆ 2022 ԹՎԱԿԱՆԻ ՊԵՏԱԿԱՆ ԲՅՈՒՋԵԻ ՄԱUԻՆ» ՕՐԵՆՔԻ N 1 ՀԱՎԵԼՎԱԾԻ N 3 ԱՂՅՈՒՍԱԿՈՒՄ ԿԱՏԱՐՎՈՂ ԼՐԱՑՈՒՄՆԵՐԸ
G5: (հազար դրամներով)
A6: Շրագրային դասիչը | C6: Բյուջետային գլխավոր կարգադրիչների, ծրագրերի և միջոցառումների և ուղղությունների անվանումները | D6: Ընդամենը, | E6: Ցուցանիշների փոփոխությունը (ավելացումները նշված են դրական նշանով)
E7: այդ թվում
A8: Ծրագիր | B8: Միջոցառում | E8: Կառուցման աշխատանքներ | F8: Վերակառուցման, վերանորոգման և վերականգնման աշխատանքներ | G8: Նախագծահետազոտական, գեոդեզիա-քարտեզագրական աշխատանքներ | H8: Ոչ ֆինանսական այլ ակտիվների ձեռքբերում
C9: ԸՆԴԱՄԵՆԸ | D9: =D11 -> 234756.1 | F9: =F11 -> 94086.1 | H9: =H11 -> 140670
C10: այդ թվում`
C11: ՀՀ ՔՆՆՉԱԿԱՆ ԿՈՄԻՏԵ | D11: =D14+D13 -> 234756.1 | F11: =F14 -> 94086.1 | H11: =H13 -> 140670
C12: այդ թվում`
A13: 1180 | B13: 31001 | C13: ՀՀ քննչական կոմիտեի տեխնիկական հագեցվածության բարելավում | D13: =H13 -> 140670 | H13: 140670
A14: 1180 | B14: 31004 | C14: ՀՀ քննչական կոմիտեի շենքային պայմանների բարելավում | D14: 94086.1 | F14: 94086.1

Sheet հավելված3
H1: Հավելված 3
G2: ՀՀ կառավարության 2022 թվականի
G3: ______________ ի ___Ն որոշման
A6: ՀԱՅԱՍՏԱՆԻ ՀԱՆՐԱՊԵՏՈՒԹՅԱՆ ԿԱՌԱՎԱՐՈՒԹՅԱՆ 2021 ԹՎԱԿԱՆԻ ԴԵԿՏԵՄԲԵՐԻ 23-Ի N 2121-Ն ՈՐՈՇՄԱՆ N 3 և N 4 ՀԱՎԵԼՎԱԾՆԵՐՈՒՄ ԿԱՏԱՐՎՈՂ ՓՈՓՈԽՈՒԹՅՈՒՆՆԵՐԸ և ԼՐԱՑՈՒՄՆԵՐԸ
H8: (հազար դրամներով)
A9: Գործառական դասիչը | D9: Ծրագրային դասիչը | F9: Բյուջետային հատկացումների գլխավոր կարգադրիչների, ծրագրերի, միջոցառումների և միջոցառումները կատարող պետական մարմինների անվանումները | G9: Ցուցանիշների փոփոխությունը (ավելացումները նշված են դրական նշանով, իսկ նվազեցումները` փակագծերում)
A10: Բաժին | B10: Խումբ | C10: Դաս | D10: Ծրագիր | E10: Միջոցառում | G10: Ինն ամիս | H10: Տարի
F11: ԸՆԴԱՄԵՆԸ | G11: =G12+G65 -> 0 | H11: =H12+H65 -> 0
A12: 03 | F12: ՀԱՍԱՐԱԿԱԿԱՆ ԿԱՐԳ, ԱՆՎՏԱՆԳՈՒԹՅՈՒՆ ԵՎ ԴԱՏԱԿԱՆ ԳՈՐԾՈՒՆԵՈՒԹՅՈՒՆ | G12: =G14 -> 203170.6 | H12: =H14 -> 217550.9
F13: այդ թվում`
B14: 07 | F14: Նախաքննություն | G14: =G16 -> 203170.6 | H14: =H16 -> 217550.9
F15: այդ թվում`
C16: 01 | F16: Նախաքննություն | G16: =G19 -> 203170.6 | H16: =H19 -> 217550.9
F17: այդ թվում`
F18: ՀՀ քննչական կոմիտե | G18: =G19 -> 203170.6 | H18: =H19 -> 217550.9
D19: 1180 | F19: ՀՀ քննչական ծառայություններ | G19: =G21+G38+G56+G47 -> 203170.6 | H19: =H21+H38+H56+H47 -> 217550.9
F20: այդ թվում`
E21: 11001 | F21: Քրեական գործերով վարույթի իրականացում | G21: =G23 -> -10895.9 | H21: =H23 -> -16545.2
F22: այդ թվում` ըստ կատարողների
F23: ՀՀ քննչական կոմիտե | G23: =G25 -> -10895.9 | H23: =H25 -> -16545.2
F24: այդ թվում` բյուջետային ծախսերի տնտեսագիտական դասակարգման հոդվածներ
F25: ԸՆԴԱՄԵՆԸ ԾԱԽՍԵՐ | G25: =G26 -> -10895.9 | H25: =H26 -> -16545.2
F26: ԸՆԹԱՑԻԿ ԾԱԽՍԵՐ | G26: =G27 -> -10895.9 | H26: =H27 -> -16545.2
F27: ԾԱՌԱՅՈՒԹՅՈՒՆՆԵՐԻ ԵՎ ԱՊՐԱՆՔՆԵՐԻ ՁԵՌՔԲԵՐՈՒՄ | G27: =G28+G30+G34 -> -10895.9 | H27: =H28+H30+H34 -> -16545.2
F28: ՇԱՐՈՒՆԱԿԱԿԱՆ ԾԱԽՍԵՐ | G28: =G29 -> -5000 | H28: =H29 -> -9823.9
F29: -Կապի ծառայություններ | G29: -5000 | H29: -9823.9
F30: ՊԱՅՄԱՆԱԳՐԱՅԻՆ ԵՎ ԱՅԼ ԾԱՌԱՅՈՒԹՅՈՒՆՆԵՐԻ ՁԵՌՔԲԵՐՈՒՄ | G30: =SUM(G31:G33) -> -320.4 | H30: =SUM(H31:H33) -> -739
F31: -Համակարգչային ծառայություններ | G31: -100 | H31: -350
F32: -Տեղեկատվական ծառայություններ | G32: -120.4 | H32: -120.4
F33: -Ընդհանուր բնույթի այլ ծառայություններ | G33: -100 | H33: -268.6
F34: ՆՅՈՒԹԵՐ (ԱՊՐԱՆՔՆԵՐ) | G34: =SUM(G35:G37) -> -5575.5 | H34: =SUM(H35:H37) -> -5982.3
F35: - Գրասենյակային նյութեր և հագուստ | G35: -5504.1 | H35: -5504.1
F36: -Կենցաղային և հանրային սննդի նյութեր | G36: -71.4 | H36: -71.4
F37: -Հատուկ նպատակային այլ նյութեր | G37: 0 | H37: -406.8
E38: 11003 | F38: ՀՀ քննչական կոմիտեի պահուստային ֆոնդ | G38: =G40 -> -660 | H38: =H40 -> -660
F39: այդ թվում` ըստ կատարողների
F40: ՀՀ քննչական կոմիտե | G40: =G42 -> -660 | H40: =H42 -> -660
F41: այդ թվում` բյուջետային ծախսերի տնտեսագիտական դասակարգման հոդվածներ
F42: ԸՆԴԱՄԵՆԸ ԾԱԽՍԵՐ | G42: =G43 -> -660 | H42: =H43 -> -660
F43: ԸՆԹԱՑԻԿ ԾԱԽՍԵՐ | G43: =G44 -> -660 | H43: =H44 -> -660
F44: ԾԱՌԱՅՈՒԹՅՈՒՆՆԵՐԻ ԵՎ ԱՊՐԱՆՔՆԵՐԻ ՁԵՌՔԲԵՐՈՒՄ | G44: =G45 -> -660 | H44: =H45 -> -660
F45: ՊԱՅՄԱՆԱԳՐԱՅԻՆ ԵՎ ԱՅԼ ԾԱՌԱՅՈՒԹՅՈՒՆՆԵՐԻ ՁԵՌՔԲԵՐՈՒՄ | G45: =G46 -> -660 | H45: =H46 -> -660
F46: -Համակարգչային ծառայություններ | G46: -660 | H46: -660
E47: 31001 | F47: ՀՀ քննչական կոմիտեի տեխնիկական հագեցվածության բարելավում | G47: =G49 -> 140670 | H47: =H49 -> 140670
F48: այդ թվում` ըստ կատարողների
F49: ՀՀ քննչական կոմիտե | G49: =G51 -> 140670 | H49: =H51 -> 140670
F50: այդ թվում` բյուջետային ծախսերի տնտեսագիտական դասակարգման հոդվածներ
F51: ԸՆԴԱՄԵՆԸ ԾԱԽՍԵՐ | G51: =G52 -> 140670 | H51: =H52 -> 140670
F52: ՈՉ ՖԻՆԱՆՍԱԿԱՆ ԱԿՏԻՎՆԵՐԻ ԳԾՈՎ ԾԱԽՍԵՐ | G52: =G53 -> 140670 | H52: =H53 -> 140670
F53: ՀԻՄՆԱԿԱՆ ՄԻՋՈՑՆԵՐ | G53: =G54 -> 140670 | H53: =H54 -> 140670
F54: ՄԵՔԵՆԱՆԵՐ ԵՎ ՍԱՐՔԱՎՈՐՈՒՄՆԵՐ | G54: =G55 -> 140670 | H54: =H55 -> 140670
F55: - Վարչական սարքավորումներ | G55: 140670 | H55: 140670
E56: 31004 | F56: ՀՀ քննչական կոմիտեի շենքային պայմանների բարելավում | G56: =G58 -> 74056.5 | H56: =H58 -> 94086.1
F57: այդ թվում` ըստ կատարողների
F58: ՀՀ քննչական կոմիտե | G58: =G60 -> 74056.5 | H58: =H60 -> 94086.1
F59: այդ թվում` բյուջետային ծախսերի տնտեսագիտական դասակարգման հոդվածներ
F60: ԸՆԴԱՄԵՆԸ ԾԱԽՍԵՐ | G60: =G61 -> 74056.5 | H60: =H61 -> 94086.1
F61: ՈՉ ՖԻՆԱՆՍԱԿԱՆ ԱԿՏԻՎՆԵՐԻ ԳԾՈՎ ԾԱԽՍԵՐ | G61: =G62 -> 74056.5 | H61: =H62 -> 94086.1
F62: ՀԻՄՆԱԿԱՆ ՄԻՋՈՑՆԵՐ | G62: =G63 -> 74056.5 | H62: =H63 -> 94086.1
F63: ՇԵՆՔԵՐ ԵՎ ՇԻՆՈՒԹՅՈՒՆՆԵՐ | G63: =G64 -> 74056.5 | H63: =H64 -> 94086.1
F64: - Շենքերի և շինությունների կապիտալ վերանորոգում | G64: 74056.5 | H64: 94086.1
A65: 11 | F65: ՀԻՄՆԱԿԱՆ ԲԱԺԻՆՆԵՐԻՆ ՉԴԱՍՎՈՂ ՊԱՀՈՒՍՏԱՅԻՆ ՖՈՆԴԵՐ | G65: =G67 -> -203170.6 | H65: =H67 -> -217550.9
F66: այդ թվում`
B67: 01 | F67: ՀՀ կառավարության և համայնքների պահուստային ֆոնդ | G67: =G69 -> -203170.6 | H67: =H69 -> -217550.9
F68: այդ թվում`
C69: 01 | F69: ՀՀ կառավարության պահուստային ֆոնդ | G69: =G73 -> -203170.6 | H69: =H73 -> -217550.9
F70: այդ թվում`
F71: ՀՀ կառավարություն | G71: =G72 -> -203170.6 | H71: =H72 -> -217550.9
D72: 1139 | F72: ՀՀ կառավարության պահուստային ֆոնդ | G72: =G73 -> -203170.6 | H72: =H73 -> -217550.9
E73: 11001 | F73: ՀՀ կառավարության պահուստային ֆոնդ | G73: =G75 -> -203170.6 | H73: =H75 -> -217550.9
F74: այդ թվում` ըստ կատարողների
F75: ՀՀ կառավարություն | G75: =G77 -> -203170.6 | H75: =H77 -> -217550.9
F76: այդ թվում` բյուջետային ծախսերի տնտեսագիտական դասակարգման հոդվածներ
F77: ԸՆԴԱՄԵՆԸ ԾԱԽՍԵՐ | G77: =G78 -> -203170.6 | H77: =H78 -> -217550.9
F78: ԸՆԹԱՑԻԿ ԾԱԽՍԵՐ | G78: =G79 -> -203170.6 | H78: =H79 -> -217550.9
F79: ԱՅԼ ԾԱԽՍԵՐ | G79: =G80 -> -203170.6 | H79: =H80 -> -217550.9
F80: Պահուստային միջոցներ | G80: -203170.6 | H80: -217550.9

Sheet հավելված4
E1: Հավելված N 4
D2: ՀՀ կառավարության 2022 թվականի
D3: ______________ ի ___Ն որոշման
A6: ՀԱՅԱՍՏԱՆԻ ՀԱՆՐԱՊԵՏՈՒԹՅԱՆ ԿԱՌԱՎԱՐՈՒԹՅԱՆ 2021 ԹՎԱԿԱՆԻ ԴԵԿՏԵՄԲԵՐԻ 23-Ի N 2121-Ն ՈՐՈՇՄԱՆ N 5 ՀԱՎԵԼՎԱԾԻ N 2 ԱՂՅՈՒՍԱԿՈՒՄ ԿԱՏԱՐՎՈՂ ՓՈՓՈԽՈՒԹՅՈՒՆՆԵՐԸ ԵՎ ԼՐԱՑՈՒՄՆԵՐԸ
E7: (հազար դրամներով)
A8: Շրագրային դասիչը | C8: Բյուջետային գլխավոր կարգադրիչների, ծրագրերի, միջոցառումների, միջոցառումները կատարող պետական մարմինների և ուղղությունների անվանումները | D8: Ցուցանիշների փոփոխությունը (ավելացումները նշված են դրական նշանով, իսկ նվազեցումները` փակագծերում)
A10: Ծրագիր | B10: Միջոցառում | D10: Ինն ամիս | E10: Տարի
C11: ԸՆԴԱՄԵՆԸ | D11: =D13 -> 214726.54 | E11: =E13 -> 234756.14
C12: այդ թվում`
C13: ՀՀ ՔՆՆՉԱԿԱՆ ԿՈՄԻՏԵ | D13: =D15+D18 -> 214726.54 | E13: =E15+E18 -> 234756.14
C14: այդ թվում`
A15: 1180 | B15: 31001 | C15: ՀՀ քննչական կոմիտեի տեխնիկական հագեցվածության բարելավում | D15: =D17 -> 140670 | E15: =E17 -> 140670
C16: այդ թվում` ըստ կատարողների
C17: ՀՀ քննչական կոմիտե | D17: 140670 | E17: 140670
A18: 1180 | B18: 31004 | C18: ՀՀ քննչական կոմիտեի շենքային պայմանների բարելավում | D18: =D20 -> 74056.54 | E18: =E20 -> 94086.14
C19: այդ թվում` ըստ կատարողների
C20: ՀՀ քննչական կոմիտե | D20: =SUM(D22:D24) -> 74056.54 | E20: =SUM(E22:E24) -> 94086.14
C21: այդ թվում` ըստ ուղղությունների
C22: ՀՀ քննչական կոմիտեի Արմավիրի մարզի Վաղարշապատ քաղաքի քննչական բաժնի Մեսրոպ Մաշտոցի փողոցի N81 հասցեի վարչական շենքի կապիտալ վերանորոգում | D22: -8438.36 | E22: -10179.96
C23: ՀՀ քննչական կոմիտեի Արմավիրի մարզի Արմավիր քաղաքի քննչական բաժնի Չարենցի փողոցի N24 հասցեի վարչական շենքի կապիտալ վերանորոգում | D23: -10038 | E23: -13579.2
C24: ՀՀ քննչական կոմիտեի Տավուշի մարզի Գետահովիտ համայնքի 1-ի փողոցի 3/3 վեցերորդ կայազորային քննչական բաժնի վարչական շենքի կապիտալ վերանորոգում | D24: 92532.9 | E24: 117845.3

Sheet հավելված5
D1: Հավելված N5
D2: ՀՀ կառավարության 2022 թվականի
D3: ______________ ի ___Ն որոշման
B6: ՀԱՅԱՍՏԱՆԻ ՀԱՆՐԱՊԵՏՈՒԹՅԱՆ ԿԱՌԱՎԱՐՈՒԹՅԱՆ 2021 ԹՎԱԿԱՆԻ ԴԵԿՏԵՄԲԵՐԻ 23-Ի N 2121-Ն ՈՐՈՇՄԱՆ N 9 ՀԱՎԵԼՎԱԾԻ 9.32 ԱՂՅՈՒՍԱԿՈՒՄ ԿԱՏԱՐՎՈՂ ՓՈՓՈԽՈՒԹՅՈՒՆՆԵՐԸ ԵՎ ԼՐԱՑՈՒՄՆԵՐԸ
B8: ՀՀ քննչական կոմիտե
B9: ՄԱՍ 2. ՊԵՏԱԿԱՆ ՄԱՐՄՆԻ ԳԾՈՎ ԱՐԴՅՈՒՆՔԱՅԻՆ (ԿԱՏԱՐՈՂԱԿԱՆ) ՑՈՒՑԱՆԻՇՆԵՐԸ
B10: Ծրագրի դասիչը | C10: Ծրագրի անվանումը
B11: 1180 | C11: ՀՀ քննչական ծառայություններ
B12: Ծրագրի միջոցառումները
B14: Ծրագրի դասիչը՝ | C14: 1180 | D14: Ցուցանիշների փոփոխությունը (նվազեցումները նշված են փակագծերում)
B15: Միջոցառման դասիչը՝ | C15: 11001 | D15: Ինն ամիս | E15: Տարի
B16: Միջոցառման անվանումը՝ | C16: Քրեական գործերով վարույթի իրականացում
B17: Նկարագրությունը՝ | C17: Հայաստանի հանրապետության քրեական դատավարության օրենսգրքով ՀՀ քննչական կոմիտեի իրավասությանը վերապահված՝ ենթադրյալ հանցագործությունների կապակցությամբ նախաքննություն
B18: Միջոցառման տեսակը՝ | C18: Ծառայությունների մատուցում
B19: Ծառայություն մատուցող կազմակերպության անվանումը | C19: ՀՀ քննչական կոմիտե
B20: Միջոցառման վրա կատարվող ծախսը (հազար դրամ) | D20: =հավելված3!G21 -> -10895.9 | E20: =հավելված3!H21 -> -16545.2
B22: Ծրագրի դասիչը՝ | C22: 1180 | D22: Ցուցանիշների փոփոխությունը (նվազեցումները նշված են փակագծերում)
B23: Միջոցառման դասիչը՝ | C23: 11003 | D23: Ինն ամիս | E23: Տարի
B24: Միջոցառման անվանումը՝ | C24: ՀՀ քննչական կոմիտեի պահուստային ֆոնդ
B25: Նկարագրությունը՝ | C25: ՀՀ քննչական կոմիտեի արդյունավետ գործունեությանը նպաստում, չկանխատեսված ծախսերի կատարման պահպանում
B26: Միջոցառման տեսակը՝ | C26: Ծառայությունների մատուցում
B27: Ծառայություն մատուցող կազմակերպության անվանումը | C27: ՀՀ քննչական կոմիտե
B28: Միջոցառման վրա կատարվող ծախսը (հազար դրամ) | D28: =հավելված3!G38 -> -660 | E28: =հավելված3!H38 -> -660
B30: Ծրագրի դասիչը՝ | C30: 1180 | D30: Ցուցանիշների փոփոխությունը (ավելացումները նշված են դրական նշանով)
B31: Միջոցառման դասիչը՝ | C31: 31001 | D31: Ինն ամիս | E31: Տարի
B32: Միջոցառման անվանումը՝ | C32: ՀՀ քննչական կոմիտեի տեխնիկական հագեցվածության բարելավում
B33: Նկարագրությունը՝ | C33: Համակարգչային տեխնիկայի, սարքավորումների և գրասենյակային գույքի ձեռքբերում
B34: Միջոցառման տեսակը՝ | C34: Պետական մարմինների կողմից օգտագործվող ոչ ֆինանսական ակտիվների հետ գործառնություններ
B35: Ակտիվն օգտագործող կազմակերպության անվանումը | C35: ՀՀ քննչական կոմիտե
C36: Արդյունքի չափորոշիչներ
B37: Սարքավորումների ծառայության կանխատեսվող միջին ժամկետ, տարի | E37: 5
B38: Միջոցառման վրա կատարվող ծախսը (հազար դրամ) | D38: =հավելված3!G47 -> 140670 | E38: =հավելված3!H47 -> 140670
B40: Ծրագրի դասիչը՝ | C40: 1180 | D40: Ցուցանիշների փոփոխությունը (ավելացումները նշված են դրական նշանով)
B41: Միջոցառման դասիչը՝ | C41: 31004 | D41: Ինն ամիս | E41: Տարի
B42: Միջոցառման անվանումը՝ | C42: ՀՀ քննչական կոմիտեի շենքային պայմանների բարելավում
B43: Նկարագրությունը՝ | C43: ՀՀ քննչական կոմիտեի վարչական շենքերի կապիտալ վերանորոգում
B44: Միջոցառման տեսակը՝ | C44: Պետական մարմինների կողմից օգտագործվող ոչ ֆինանսական ակտիվների հետ գործառնություններ
B45: Ակտիվն օգտագործող կազմակերպության անվանումը | C45: ՀՀ քննչական կոմիտե
C46: Արդյունքի չափորոշիչներ
B47: Կապիտալ վերանորոգման ենթակա օբյեկտների թիվը, հատ | D47: 1 | E47: 1
B48: Վերանորոգման ենթակա մակերես, քմ | D48: 240.26 | E48: 240.26
B49: Միջոցառման վրա կատարվող ծախսը (հազ. դրամ) | D49: =հավելված3!G56 -> 74056.5 | E49: =հավելված3!H56 -> 94086.1
A52: ՀԱՅԱՍՏԱՆԻ ՀԱՆՐԱՊԵՏՈՒԹՅԱՆ ԿԱՌԱՎԱՐՈՒԹՅԱՆ 2021 ԹՎԱԿԱՆԻ ԴԵԿՏԵՄԲԵՐԻ 23-Ի N 2121-Ն ՈՐՈՇՄԱՆ N9 ՀԱՎԵԼՎԱԾԻ 9.47 ԱՂՅՈՒՍԱԿՈՒՄ ԿԱՏԱՐՎՈՂ ՓՈՓՈԽՈՒԹՅՈՒՆԸ
B54: ՀՀ կառավարություն
B55: ՄԱՍ 2. ՊԵՏԱԿԱՆ ՄԱՐՄՆԻ ԳԾՈՎ ԱՐԴՅՈՒՆՔԱՅԻՆ (ԿԱՏԱՐՈՂԱԿԱՆ) ՑՈՒՑԱՆԻՇՆԵՐԸ
B57: Ծրագրի դասիչը | C57: Ծրագրի անվանումը
B58: 1139 | C58: ՀՀ կառավարության պահուստային ֆոնդ
B60: Ծրագրի միջոցառումները
B62: Ծրագրի դասիչը՝ | C62: 1139 | D62: Ցուցանիշների փոփոխությունը (նվազեցումները նշված են փակագծերում)
B63: Միջոցառման դասիչը՝ | C63: 11001 | D63: Ինն ամիս | E63: Տարի
B64: Միջոցառման անվանումը՝ | C64: ՀՀ կառավարության պահուստային ֆոնդ
B65: Նկարագրությունը՝ | C65: ՀՀ պետական բյուջեում նախատեսված ելքերի լրացուցիչ ֆինանսավորման՝ պետական բյուջեում չկանխատեսված ելքերի՝ ինչպես նաև բյուջետային երաշխիքների ապահովման ելքերի ֆինանսավորման ապահովում
B66: Միջոցառման տեսակը՝ | C66: Ծառայությունների մատուցում
B67: Միջոցառումն իրականացնողի անվանումը | C67: ՀՀ կառավարություն
C68: Արդյունքի չափորոշիչներ
B69: Միջոցառման վրա կատարվող ծախսը (հազար դրամ) | D69: =հավելված3!G65 -> -203170.6 | E69: =հավելված3!H65 -> -217550.9

Sheet հավելված6
D1: Հավելված N6
D2: ՀՀ կառավարության 2022 թվականի
D3: ______________ ի ___Ն որոշման
B6: ՀԱՅԱՍՏԱՆԻ ՀԱՆՐԱՊԵՏՈՒԹՅԱՆ ԿԱՌԱՎԱՐՈՒԹՅԱՆ 2021 ԹՎԱԿԱՆԻ ԴԵԿՏԵՄԲԵՐԻ 23-Ի N 2121-Ն ՈՐՈՇՄԱՆ N 9.1 ՀԱՎԵԼՎԱԾԻ N 9.1.41 ԱՂՅՈՒՍԱԿՈՒՄ ԿԱՏԱՐՎՈՂ ՓՈՓՈԽՈՒԹՅՈՒՆՆԵՐԸ ԵՎ ԼՐԱՑՈՒՄՆԵՐԸ
B8: ՀՀ քննչական կոմիտե
B9: ՄԱՍ 1. ՊԵՏԱԿԱՆ ՄԱՐՄՆԻ ԳԾՈՎ ԱՐԴՅՈՒՆՔԱՅԻՆ (ԿԱՏԱՐՈՂԱԿԱՆ) ՑՈՒՑԱՆԻՇՆԵՐԸ
B10: Ծրագրի դասիչը | C10: Ծրագրի անվանումը
B11: 1180 | C11: ՀՀ քննչական ծառայություններ
B12: Ծրագրի միջոցառումները
B14: Ծրագրի դասիչը՝ | C14: 1180 | D14: Ցուցանիշների փոփոխությունը (նվազեցումները նշված են փակագծերում)
B15: Միջոցառման դասիչը՝ | C15: 11001 | D15: Ինն ամիս | E15: Տարի
B16: Միջոցառման անվանումը՝ | C16: Քրեական գործերով վարույթի իրականացում
B17: Նկարագրությունը՝ | C17: Հայաստանի հանրապետության քրեական դատավարության օրենսգրքով ՀՀ քննչական կոմիտեի իրավասությանը վերապահված՝ ենթադրյալ հանցագործությունների կապակցությամբ նախաքննություն
B18: Միջոցառման տեսակը՝ | C18: Ծառայությունների մատուցում
B19: Ծառայություն մատուցող կազմակերպության անվանումը | C19: ՀՀ քննչական կոմիտե
B20: Միջոցառման վրա կատարվող ծախսը (հազար դրամ) | D20: =հավելված5!D20 -> -10895.9 | E20: =հավելված5!E20 -> -16545.2
B22: Ծրագրի դասիչը՝ | C22: 1180 | D22: Ցուցանիշների փոփոխությունը (նվազեցումները նշված են փակագծերում)
B23: Միջոցառման դասիչը՝ | C23: 11003 | D23: Ինն ամիս | E23: Տարի
B24: Միջոցառման անվանումը՝ | C24: ՀՀ քննչական կոմիտեի պահուստային ֆոնդ
B25: Նկարագրությունը՝ | C25: ՀՀ քննչական կոմիտեի արդյունավետ գործունեությանը նպաստում, չկանխատեսված ծախսերի կատարման պահպանում
B26: Միջոցառման տեսակը՝ | C26: Ծառայությունների մատուցում
B27: Ծառայություն մատուցող կազմակերպության անվանումը | C27: ՀՀ քննչական կոմիտե
B28: Միջոցառման վրա կատարվող ծախսը (հազար դրամ) | D28: =հավելված5!D28 -> -660 | E28: =հավելված5!E28 -> -660
B30: Ծրագրի դասիչը՝ | C30: 1180 | D30: Ցուցանիշների փոփոխությունը (ավելացումները նշված են դրական նշանով)
B31: Միջոցառման դասիչը՝ | C31: 31001 | D31: Ինն ամիս | E31: Տարի
B32: Միջոցառման անվանումը՝ | C32: ՀՀ քննչական կոմիտեի տեխնիկական հագեցվածության բարելավում
B33: Նկարագրությունը՝ | C33: Համակարգչային տեխնիկայի, սարքավորումների և գրասենյակային գույքի ձեռքբերում
B34: Միջոցառման տեսակը՝ | C34: Պետական մարմինների կողմից օգտագործվող ոչ ֆինանսական ակտիվների հետ գործառնություններ
B35: Ակտիվն օգտագործող կազմակերպության անվանումը | C35: ՀՀ քննչական կոմիտե
C36: Արդյունքի չափորոշիչներ
B37: Սարքավորումների ծառայության կանխատեսվող միջին ժամկետ, տարի | E37: 5
B38: Միջոցառման վրա կատարվող ծախսը (հազար դրամ) | D38: =հավելված5!D38 -> 140670 | E38: =հավելված5!E38 -> 140670
B40: Ծրագրի դասիչը՝ | C40: 1180 | D40: Ցուցանիշների փոփոխությունը (ավելացումները նշված են դրական նշանով)
B41: Միջոցառման դասիչը՝ | C41: 31004 | D41: ինն ամիս | E41: տարի
B42: Միջոցառման անվանումը՝ | C42: ՀՀ քննչական կոմիտեի շենքային պայմանների բարելավում
B43: Նկարագրությունը՝ | C43: ՀՀ քննչական կոմիտեի վարչական շենքերի կապիտալ վերանորոգում
B44: Միջոցառման տեսակը՝ | C44: Պետական մարմինների կողմից օգտագործվող ոչ ֆինանսական ակտիվների հետ գործառնություններ
B45: Ակտիվն օգտագործող կազմակերպության անվանումը | C45: ՀՀ քննչական կոմիտե
C46: Արդյունքի չափորոշիչներ
B47: Կապիտալ վերանորոգման ենթակա օբյեկտների թիվը, հատ | D47: 1 | E47: 1
B48: Վերանորոգման ենթակա մակերես, քմ | D48: 240.26 | E48: 240.26
B49: Միջոցառման վրա կատարվող ծախսը (հազ. դրամ) | D49: =հավելված5!D49 -> 74056.5 | E49: =հավելված5!E49 -> 94086.1
A52: ՀԱՅԱՍՏԱՆԻ ՀԱՆՐԱՊԵՏՈՒԹՅԱՆ ԿԱՌԱՎԱՐՈՒԹՅԱՆ 2021ԹՎԱԿԱՆԻ ԴԵԿՏԵՄԲԵՐԻ 23-Ի N 2121-Ն ՈՐՈՇՄԱՆ N 9.1 ՀԱՎԵԼՎԱԾԻ N 9.1.59 ԱՂՅՈՒՍԱԿՈՒՄ ԿԱՏԱՐՎՈՂ ՓՈՓՈԽՈՒԹՅՈՒՆԸ
B54: ՀՀ կառավարություն
B55: ՄԱՍ 1. ՊԵՏԱԿԱՆ ՄԱՐՄՆԻ ԳԾՈՎ ԱՐԴՅՈՒՆՔԱՅԻՆ (ԿԱՏԱՐՈՂԱԿԱՆ) ՑՈՒՑԱՆԻՇՆԵՐԸ
B57: Ծրագրի դասիչը | C57: Ծրագրի անվանումը
B58: 1139 | C58: ՀՀ կառավարության պահուստային ֆոնդ
B60: Ծրագրի միջոցառումները
B62: Ծրագրի դասիչը՝ | C62: 1139 | D62: Ցուցանիշների փոփոխությունը (նվազեցումները նշված են փակագծերում)
B63: Միջոցառման դասիչը՝ | C63: 11001 | D63: Ինն ամիս | E63: տարի
B64: Միջոցառման անվանումը՝ | C64: ՀՀ կառավարության պահուստային ֆոնդ
B65: Նկարագրությունը՝ | C65: ՀՀ պետական բյուջեում նախատեսված ելքերի լրացուցիչ ֆինանսավորման՝ պետական բյուջեում չկանխատեսված ելքերի՝ ինչպես նաև բյուջետային երաշխիքների ապահովման ելքերի ֆինանսավորման ապահովում
B66: Միջոցառման տեսակը՝ | C66: Ծառայությունների մատուցում
B67: Միջոցառումն իրականացնողի անվանումը | C67: ՀՀ կառավարություն
C68: Արդյունքի չափորոշիչներ
B69: Միջոցառման վրա կատարվող ծախսը (հազար դրամ) | D69: =հավելված5!D69 -> -203170.6 | E69: =հավելված5!E69 -> -217550.9

Sheet հավելված7
A1: Հավելված N 7
A2: ՀՀ կառավարության 2022 թվականի - ի N -Ն որոշման
A4: ՀԱՅԱՍՏԱՆԻ ՀԱՆՐԱՊԵՏՈՒԹՅԱՆ ԿԱՌԱՎԱՐՈՒԹՅԱՆ 2021 ԹՎԱԿԱՆԻ ԴԵԿՏԵՄԲԵՐԻ 23-Ի N 2121-Ն ՈՐՈՇՄԱՆ N 10 ՀԱՎԵԼՎԱԾՈՒՄ ԿԱՏԱՐՎՈՂ ՓՈՓՈԽՈՒԹՅՈՒՆՆԵՐԸ ԵՎ ԼՐԱՑՈՒՄՆԵՐԸ
A6: Կոդ | B6: Անվանումը | D6: Գնման ձևը | E6: Չափման միավորը | F6: Միավորի գինը | G6: Ցուցանիշների փոփոխություն (ավելացումները նշված են դրական նշանով, իսկ նվազեցումները` փակագծերով)
G7: Քանակը | H7: Գումարը (հազար դրամներով)
A8: ՀՀ քննչական կոմիտե | H8: =H9 -> 217550.88
A9: Բաժին N 03 | B9: Խումբ N 07 | C9: Դաս N 01 | D9: Նախաքննություն | H9: =H10+H57+H61+H70 -> 217550.88
A10: 1180 11001 | B10: ՀՀ քննչական կոմիտեի պահպանում | H10: =H11+H49 -> -16545.225
B11: ՄԱՍ I ԱՊՐԱՆՔՆԵՐ | H11: =SUM(H12:H48) -> -11802.8
A12: 18141100-2 | B12: աշխատանքային ձեռնոցներ | D12: ԷԱՃ | E12: զույգ | H12: -5.8
A13: 18331200-1 | B13: վերնաշապիկներ | D13: ԷԱՃ | E13: հատ | H13: -2.5
A14: 18331200-2 | B14: վերնաշապիկներ | D14: ԷԱՃ | E14: հատ | H14: -2.5
A15: 18331200-3 | B15: վերնաշապիկներ | D15: ԷԱՃ | E15: հատ | H15: -1.9
A16: 18511180-10 | B16: մեդալներ, կրծքանշաններ | D16: ԷԱՃ | E16: հատ | H16: -15.9
A17: 18511180-5 | B17: մեդալներ, կրծքանշաններ | D17: ԷԱՃ | E17: հատ | H17: -11.3
A18: 18511180-6 | B18: մեդալներ, կրծքանշաններ | D18: ԷԱՃ | E18: հատ | H18: -33.8
A19: 18511180-7 | B19: մեդալներ, կրծքանշաններ | D19: ԷԱՃ | E19: հատ | H19: -34
A20: 19641000-4 | B20: պոլիէթիլենային պարկ, աղբի համար | D20: ԷԱՃ | E20: հատ | H20: -5.8
A21: 22451180-3 | B21: պատվերով տպագրվող նյութեր | D21: ԷԱՃ | E21: հատ | H21: -3.6
A22: 22451180-4 | B22: պատվերով տպագրվող նյութեր | D22: ԷԱՃ | E22: հատ | H22: -2
A23: 22451180-7 | B23: պատվերով տպագրվող նյութեր | D23: ԷԱՃ | E23: հատ | H23: -104.3
... A48: 44423400-2 | B48: ցուցանակներ և հարակից առարկաներ | D48: ԷԱՃ | E48: հատ | H48: -5
B49: ՄԱՍ III. ԾԱՌԱՅՈՒԹՅՈՒՆՆԵՐ | H49: =SUM(H50:H56) -> -4742.425
A50: 48781300-1 | B50: բովանդակության կառավարման համակարգչային ծրագրային փաթեթներ | D50: ԷԱՃ | E50: դրամ | H50: -344
A51: 50711100-1 | B51: շենքերում տեղակայված էլեկտրական սարքերի վերանորոգման ― պահպանման ծառայություններ | D51: ԳՀ | E51: դրամ | H51: -50
A52: 50751100-2 | B52: վերելակների վերանորոգման ― պահպանման ծառայություններ | D52: ԳՀ | E52: դրամ | H52: -115
A53: 64211100-2 | B53: հանրային հեռախոսային ծառայություններ | D53: ՄԱ | E53: դրամ | H53: -4123.825
A54: 72721100-1 | B54: տարածքային ցանցի հետ կապված ծառայություններ | D54: ԳՀ | E54: դրամ | H54: -6
A55: 76131100-1 | B55: գազասպառման համակարգի տեխնիկական սպասարկման ծառայություններ | D55: ՄԱ | E55: դրամ | H55: -3.6
A56: 92511110-1 | B56: արխիվային ծառայություններ | D56: ԷԱՃ | E56: դրամ | H56: -100
A57: 1180 11003 | B57: ՀՀ քննչական կոմիտեի պահուստային ֆոնդ | H57: =H58 -> -660
H58: =SUM(H59) -> -660
A59: 72261180-8 | B59: տեղեկատվական տեխնոլոգիաների ծրագրային ապահովման սպասարկում | D59: ԷԱՃ | E59: դրամ | H59: -660
A60: 1180 31001 | B60: ՀՀ քննչական կոմիտեի տեխնիկական հագեցվածության բարելավում | H60: 140670
B61: ՄԱՍ I ԱՊՐԱՆՔՆԵՐ | H61: =SUM(H62:H69) -> 140670
A62: 39121360- | B62: Սեղան՝ ղեկավարի | D62: ԷԱՃ | E62: Հատ | F62: 95000 | G62: 210 | H62: 19950
A63: 39138120- | B63: Աթոռ փայտյա | D63: ԷԱՃ | E63: Հատ | F63: 12000 | G63: 850 | H63: 10200
A64: 39121520- | B64: Գրապահարաններ | D64: ԷԱՃ | E64: Հատ | F64: 50000 | G64: 150 | H64: 7500
A65: 39141260- | B65: Զգեստապահարաններ | D65: ԷԱՃ | E65: Հատ | F65: 55000 | G65: 60 | H65: 3300
A66: 44421300- | B66: Չհրկիզվող պահարաններ | D66: ԷԱՃ | E66: Հատ | F66: 90000 | G66: 100 | H66: 9000
A67: 30239170- | B67: Բազմաֆունկցիոնալ սարք՝ լազերային | D67: ԷԱՃ | E67: Հատ | F67: 132000 | G67: 210 | H67: 27720
A68: 30211220- | B68: Սեղանի համակարգիչներ | D68: ԷԱՃ | E68: Հատ | F68: 260000 | G68: 210 | H68: 54600
A69: 31151120- | B69: Անխափան սնուցման աղբյուրներ | D69: ԷԱՃ | E69: Հատ | F69: 40000 | G69: 210 | H69: 8400
A70: 1180 31004 | B70: ՀՀ քննչական կոմիտեի շենքային պայմանների բարելավում | H70: =H71+H75 -> 94086.1
B71: ՄԱՍ II ԱՇԽԱՏԱՆՔՆԵՐ | H71: =SUM(H72:H74) -> 91841
A72: 45611300- | B72: այլ շենքերի, շինությունների հիմնանորոգում | D72: ԲՄ | E72: դրամ | F72: 115199200 | G72: 1 | H72: 115199.2
A73: 45611300-1 | B73: այլ շենքերի, շինությունների հիմնանորոգում | D73: ԲՄ | E73: դրամ | H73: -13217
A74: 45611300-2 | B74: այլ շենքերի, շինությունների հիմնանորոգում | D74: ԳՀ | E74: դրամ | H74: -10141.2
B75: ՄԱՍ III ԾԱՌԱՅՈՒԹՅՈՒՆՆԵՐ | H75: =SUM(H76:H79) -> 2245.1
A76: 71351540-1 | B76: տեխնիկական հսկողության ծառայություններ | D76: ԳՀ | E76: դրամ | H76: -362.24
A77: 71351540-2 | B77: տեխնիկական հսկողության ծառայություններ | D77: ԳՀ | E77: դրամ | H77: -38.76
A78: 71351540- | B78: տեխնիկական հսկողության ծառայություններ | D78: ԳՀ | E78: դրամ | F78: 1984600 | G78: 1 | H78: 1984.6
A79: 98111140- | B79: հեղինակային հսկողության ծառայություններ | D79: ՄԱ | E79: դրամ | F79: 661500 | G79: 1 | H79: 661.5

Sheet հավելված8
G1: Հավելված N 8
H2: ՀՀ կառավարության 2022 թվականի
H3: ______________ ի ___Ն որոշման
A4: ՀԱՅԱՍՏԱՆԻ ՀԱՆՐԱՊԵՏՈՒԹՅԱՆ 2022 ԹՎԱԿԱՆԻ ՊԵՏԱԿԱՆ ԲՅՈՒՋԵՈՎ ՆԱԽԱՏԵՍՎԱԾ՝ ՀԱՅԱՍՏԱՆԻ ՀԱՆՐԱՊԵՏՈՒԹՅԱՆ ԿԱՌԱՎԱՐՈՒԹՅԱՆ ՊԱՀՈՒՍՏԱՅԻՆ ՖՈՆԴԻՑ ՀԱՏԿԱՑՈՒՄՆԵՐ ԿԱՏԱՐԵԼՈՒ ՎԵՐԱԲԵՐՅԱԼ
H5: (հազար դրամներով)
A6: Գործառական դասիչը | D6: Ծրագրային դասիչը | F6: Բյուջետային հատկացումների գլխավոր կարգադրիչների, ծրագրերի, միջոցառումների և միջոցառումները կատարող պետական մարմինների անվանումները | G6: Ցուցանիշների փոփոխությունը (ավելացումները նշված են դրական նշանով, իսկ նվազեցումները՝ փակագծերում)
A7: Բաժին | B7: Խումբ | C7: Դաս | D7: Ծրագիր | E7: Միջոցառում | G7: Ինն ամիս | H7: Տարի
F8: ԸՆԴԱՄԵՆԸ | G8: =+G10+G39 -> 0 | H8: =+H10+H39 -> 0
F9: այդ թվում
F10: ՀՀ ՔՆՆՉԱԿԱՆ ԿՈՄԻՏԵ | G10: =+G11 -> 203170.6 | H10: =+H11 -> 217550.9
A11: 03 | F11: ՀԱՍԱՐԱԿԱԿԱՆ ԿԱՐԳ, ԱՆՎՏԱՆԳՈՒԹՅՈՒՆ ԵՎ ԴԱՏԱԿԱՆ ԳՈՐԾՈՒՆԵՈՒԹՅՈՒՆ | G11: =+G13 -> 203170.6 | H11: =+H13 -> 217550.9
F12: այդ թվում`
B13: 07 | F13: Նախաքննություն | G13: =+G15 -> 203170.6 | H13: =+H15 -> 217550.9
F14: այդ թվում`
C15: 01 | F15: Նախաքննություն | G15: =+G17 -> 203170.6 | H15: =+H17 -> 217550.9
F16: այդ թվում`
F17: ՀՀ քննչական կոմիտե | G17: =+G19 -> 203170.6 | H17: =+H19 -> 217550.9
F18: այդ թվում`
D19: 1180 | E19: ՀՀ քննչական ծառայություններ | G19: =+G21+G30 -> 203170.6 | H19: =+H21+H30 -> 217550.9
F20: այդ թվում`
E21: 31001 | F21: ՀՀ քննչական կոմիտեի տեխնիկական հագեցվածության բարելավում | G21: =+G23 -> 140670 | H21: =+H23 -> 140670
F22: այդ թվում` ըստ կատարողների
F23: ՀՀ քննչական կոմիտե | G23: =+G25 -> 140670 | H23: =+H25 -> 140670
F24: այդ թվում՝ բյուջետային ծախսերի տնտեսագիտական դասակարգման հոդվածներ
F25: ԸՆԴԱՄԵՆԸ ԾԱԽՍԵՐ | G25: =+G26 -> 140670 | H25: =+H26 -> 140670
F26: ՈՉ ՖԻՆԱՆՍԱԿԱՆ ԱԿՏԻՎՆԵՐԻ ԳԾՈՎ ԾԱԽՍԵՐ | G26: =+G27 -> 140670 | H26: =+H27 -> 140670
F27: ՀԻՄՆԱԿԱՆ ՄԻՋՈՑՆԵՐ | G27: =+G28 -> 140670 | H27: =+H28 -> 140670
F28: ՄԵՔԵՆԱՆԵՐ ԵՎ ՍԱՐՔԱՎՈՐՈՒՄՆԵՐ | G28: =+G29 -> 140670 | H28: =+H29 -> 140670
F29: - Վարչական սարքավորումներ | G29: 140670 | H29: 140670
E30: 31004 | F30: ՀՀ քննչական կոմիտեի շենքային պայմանների բարելավում | G30: =+G32 -> 62500.6 | H30: =+H32 -> 76880.9
F31: այդ թվում` ըստ կատարողների
F32: ՀՀ քննչական կոմիտե | G32: =+G34 -> 62500.6 | H32: =+H34 -> 76880.9
F33: այդ թվում՝ բյուջետային ծախսերի տնտեսագիտական դասակարգման հոդվածներ
F34: ԸՆԴԱՄԵՆԸ ԾԱԽՍԵՐ | G34: =+G35 -> 62500.6 | H34: =+H35 -> 76880.9
F35: ՈՉ ՖԻՆԱՆՍԱԿԱՆ ԱԿՏԻՎՆԵՐԻ ԳԾՈՎ ԾԱԽՍԵՐ | G35: =+G36 -> 62500.6 | H35: =+H36 -> 76880.9
F36: ՀԻՄՆԱԿԱՆ ՄԻՋՈՑՆԵՐ | G36: =+G37 -> 62500.6 | H36: =+H37 -> 76880.9
F37: ՇԵՆՔԵՐ ԵՎ ՇԻՆՈՒԹՅՈՒՆՆԵՐ | G37: =+G38 -> 62500.6 | H37: =+H38 -> 76880.9
F38: - Շենքերի և շինությունների կապիտալ վերանորոգում | G38: 62500.6 | H38: 76880.9
F39: ՀՀ ԿԱՌԱՎԱՐՈՒԹՅՈՒՆ | G39: =+G40 -> -203170.6 | H39: =+H40 -> -217550.9
A40: 11 | F40: ՀԻՄՆԱԿԱՆ ԲԱԺԻՆՆԵՐԻՆ ՉԴԱՍՎՈՂ ՊԱՀՈՒՍՏԱՅԻՆ ՖՈՆԴԵՐ | G40: =+G42 -> -203170.6 | H40: =+H42 -> -217550.9
F41: այդ թվում`
B42: 01 | F42: ՀՀ կառավարության և համայնքների պահուստային ֆոնդ | G42: =+G44 -> -203170.6 | H42: =+H44 -> -217550.9
F43: այդ թվում`
C44: 01 | F44: ՀՀ կառավարության պահուստային ֆոնդ | G44: =+G46 -> -203170.6 | H44: =+H46 -> -217550.9
F45: այդ թվում`
F46: ՀՀ կառավարություն | G46: =+G48 -> -203170.6 | H46: =+H48 -> -217550.9
F47: այդ թվում`
D48: 1139 | E48: ՀՀ կառավարության պահուստային ֆոնդ | F48: ՀՀ կառավարության պահուստային ֆոնդ | G48: =+G50 -> -203170.6 | H48: =+H50 -> -217550.9
F49: այդ թվում`
E50: 11001 | F50: ՀՀ կառավարության պահուստային ֆոնդ | G50: =+G52 -> -203170.6 | H50: =+H52 -> -217550.9
F51: այդ թվում` ըստ կատարողների
F52: ՀՀ կառավարություն | G52: =+G54 -> -203170.6 | H52: =+H54 -> -217550.9
F53: այդ թվում` բյուջետային ծախսերի տնտեսագիտական դասակարգման հոդվածներ
F54: ԸՆԴԱՄԵՆԸ ԾԱԽՍԵՐ | G54: =+G55 -> -203170.6 | H54: =+H55 -> -217550.9
F55: ԸՆԹԱՑԻԿ ԾԱԽՍԵՐ | G55: =+G56 -> -203170.6 | H55: =+H56 -> -217550.9
F56: ԱՅԼ ԾԱԽՍԵՐ | G56: =+G57 -> -203170.6 | H56: =+H57 -> -217550.9
F57: - Պահուստային միջոցներ | G57: -203170.6 | H57: =-217550.9 -> -217550.9
