Workbook
Name a: #REF!
Name a: #REF!
Name a: #REF!
Name a: #REF!
Name AgencyCode: #REF!
Name AgencyCode: #REF!
Name AgencyCode: #REF!
Name AgencyCode: #REF!
Name AgencyCode: #REF!
Name AgencyCode: #REF!
Name AgencyCode: #REF!
Name AgencyCode: #REF!
Name AgencyName: #REF!
Name AgencyName: #REF!
Name AgencyName: #REF!
Name AgencyName: #REF!
Name davit: #REF!
Name davit: #REF!
Name davit: #REF!
Name Functional1: #REF!
Name Functional1: #REF!
Name Functional1: #REF!
Name Functional1: #REF!
Name ggg: #REF!
Name ggg: #REF!
Name ggg: #REF!
Name PANature: #REF!
Name PANature: #REF!
Name PANature: #REF!
Name PANature: #REF!
Name PAType: #REF!
Name PAType: #REF!
Name PAType: #REF!
Name PAType: #REF!
Name Performance2: #REF!
Name Performance2: #REF!
Name Performance2: #REF!
Name Performance2: #REF!
Name PerformanceType: #REF!
Name PerformanceType: #REF!
Name PerformanceType: #REF!
Name PerformanceType: #REF!
Name Հավելված: #REF!
Name Հավելված: #REF!
Name Հավելված: #REF!
Name Հավելված: #REF!
Name Մաս: #REF!
Name Մաս: #REF!
Name Մաս: #REF!
Name շախմատիստ: #REF!
Name շախմատիստ: #REF!
Name շախմատիստ: #REF!

Sheet Հավելված N 1
D1: Հավելված N 1
D2: ՀՀ կառավարության 2022 թվականի
D3: ______________ ի ___Ն որոշման
A5: «ՀԱՅԱUՏԱՆԻ ՀԱՆՐԱՊԵՏՈՒԹՅԱՆ 2022 ԹՎԱԿԱՆԻ ՊԵՏԱԿԱՆ ԲՅՈՒՋԵԻ ՄԱUԻՆ» ՀԱՅԱUՏԱՆԻ ՀԱՆՐԱՊԵՏՈՒԹՅԱՆ OՐԵՆՔԻ N 1 ՀԱՎԵԼՎԱԾԻ N 2 ԱՂՅՈՒՍԱԿՈՒՄ ԿԱՏԱՐՎՈՂ ՎԵՐԱԲԱՇԽՈՒՄԸ ԵՎ ՀԱՅԱՍՏԱՆԻ ՀԱՆՐԱՊԵՏՈՒԹՅԱՆ ԿԱՌԱՎԱՐՈՒԹՅԱՆ 2021 ԹՎԱԿԱՆԻ ԴԵԿՏԵՄԲԵՐԻ 23-Ի N 2121-Ն ՈՐՈՇՄԱՆ N 5 ՀԱՎԵԼՎԱԾԻ N 1 ԱՂՅՈՒՍԱԿՈՒՄ ԿԱՏԱՐՎՈՂ ՓՈՓՈԽՈՒԹՅՈՒՆՆԵՐԸ ԵՎ ԼՐԱՑՈՒՄՆԵՐԸ
E7: հազ. դրամներով
A8: Ծրագրային դասիչը | C8: Բյուջետային հատկացումների գլխավոր կարգադրիչների, ծրագրերի և միջոցառումների անվանումները | D8: Ցուցանիշների փոփոխությունը (ավելացումները նշված են դրական նշանով, իսկ նվազեցումները փակագծերում)
A9: Ծրագիր | B9: Միջոցառում | D9: Ինն ամիս | E9: Տարի
A10: 1192 | C10: ԸՆԴԱՄԵՆԸ | D10: =+D12+D59 -> 0 | E10: =+E12+E59 -> 0
C11: այդ թվում
C12: ՀՀ ԿՐԹՈՒԹՅԱՆ, ԳԻՏՈՒԹՅԱՆ, ՄՇԱԿՈՒՅԹԻ ԵՎ ՍՊՈՐՏԻ ՆԱԽԱՐԱՐՈՒԹՅՈՒՆ | D12: =+D14+D27+D46 -> 0 | E12: =+E14+E27+E46 -> 0
A13: 1045 | C13: Ծրագրի անվանումը`
C14: Նախնական (արհեստագործական) և միջին մասնագիտական կրթություն | D14: =+D21 -> -8698 | E14: =+E21 -> 0
C15: Ծրագրի նպատակը`
C16: Աշխատաշուկայի արդի պահանջներին համապատասխան նախնական մասնագիտական (արհեստագործական) և միջին մասնագիտական կրթության որակավորում ունեցող մասնագետների պատրաստում, կրթության մատչելիության ապահովում:
C17: Վերջնական արդյունքի նկարագրությունը`
C18: Նախնական (արհեստագործական) և միջին մասնագիտական կրթության գրավչության բարձրացում, մատչելի և մրցունակ նախնական (արհեստագործական) և միջին մասնագիտական կրթության ապահովում
C19: Ծրագրի միջոցառումներ
B20: 12003 | C20: Միջոցառման անվանումը`
C21: Նախնական մասնագիտական (արհեստագործական) կրթության գծով ուսանողական նպաստների տրամադրում | D21: =+'Հավելված N 2'!G54 -> -8698 | E21: =+'Հավելված N 2'!H54 -> 0
C22: Միջոցառման նկարագրությունը`
C23: Նախնական մասնագիտական (արհեստագործական) կրթության գծով ուսանողական նպաստների տրամադրում
C24: Միջոցառման տեսակը
C25: Տրանսֆերտների տրամադրում
A26: 1075 | C26: Ծրագրի անվանումը`
C27: Մշակութային ժառանգության ծրագիր | D27: =+D34+D40 -> 8698 | E27: =+E34+E40 -> 8698
C28: Ծրագրի նպատակը`
C29: Մշակութային ժառանգության պահպանում, օգտագործում, համալրում և հանրահռչակում
C30: Վերջնական արդյունքի նկարագրությունը`
C31: Մշակութային ժառանգության շարունակական պահպանում, մշակութային զբոսաշրջության զարգացում և խթանում
C32: Ծրագրի միջոցառումներ
B33: 11006 | C33: Միջոցառման անվանումը`
C34: Հայաստանի Հանրապետությունում տեղակայված և տեղակայվող արձանների և քանդակների հարակից հողատարածքների արժեքի գնահատում և գույքային իրավունքների գրանցում | D34: =+'Հավելված N 2'!G23 -> 73 | E34: =+'Հավելված N 2'!H23 -> 73
C35: Միջոցառման նկարագրությունը`
C36: Հայաստանի Հանրապետությունում արդեն տեղակայված և նոր պատրաստվող ու տեղակայվող արձանների և քանդակների հարակից, մասնավոր սեփականությունը հանդիսացող հողատարածքների նկատմամբ հանրության գերակա շահ ճանաչելու արդյունքում այդ հողատարածքների շուկայական արժեքի գնահատման, գույքային իրավունքների գրանցման հետ կապված և այլ հարակից պարտադիր վճարների կատարում
C37: Միջոցառման տեսակը
C38: Ծառայությունների մատուցում
B39: 21005 | C39: Միջոցառման անվանումը`
C40: Հայաստանի Հանրապետությունում տեղակայված և տեղակայվող արձանների և քանդակների հարակից հողատարածքների ձեռքբերում | D40: =+'Հավելված N 2'!G35 -> 8625 | E40: =+'Հավելված N 2'!H35 -> 8625
C41: Միջոցառման նկարագրությունը`
C42: Հայաստանի Հանրապետությունում արդեն տեղակայված և նոր պատրաստվող ու տեղակայվող արձանների և քանդակների հարակից, մասնավոր սեփականությունը հանդիսացող հողատարածքների նկատմամբ հանրության գերակա շահ ճանաչելու արդյունքում գույքային իրավունքների ձեռքբերում
...

Sheet Հավելված N 2
F1: Հավելված N 2
F2: ՀՀ կառավարության 2022 թվականի
F3: ______________ ի ___Ն որոշման
A5: ՀԱՅԱՍՏԱՆԻ ՀԱՆՐԱՊԵՏՈՒԹՅԱՆ ԿԱՌԱՎԱՐՈՒԹՅԱՆ 2021 ԹՎԱԿԱՆԻ ԴԵԿՏԵՄԲԵՐԻ 23-Ի N2121-Ն ՈՐՈՇՄԱՆ N 3 ԵՎ N 4 ՀԱՎԵԼՎԱԾՆԵՐՈՒՄ ԿԱՏԱՐՎՈՂ ՓՈՓՈԽՈՒԹՅՈՒՆՆԵՐԸ ԵՎ ԼՐԱՑՈՒՄՆԵՐԸ
H7: հազ. դրամներով
A8: Գործառական դասիչը | D8: Ծրագրային դասիչը | F8: Բյուջետային հատկացումների գլխավոր կարգադրիչների, ծրագրերի, միջոցառումների և միջոցառումները կատարող պետական մարմինների անվանումները | G8: Ցուցանիշների փոփոխությունը (ավելացումները նշված են դրական նշանով, իսկ նվազեցումները փակագծերում)
A9: Բաժին | B9: Խումբ | C9: Դաս | D9: Ծրագիր | E9: Միջոցառում | G9: Ինն ամիս | H9: Տարի
F10: ԸՆԴԱՄԵՆԸ | G10: =+G12+G81 -> 0 | H10: =+H12+H81 -> 0
F11: այդ թվում
F12: ՀՀ ԿՐԹՈՒԹՅԱՆ, ԳԻՏՈՒԹՅԱՆ, ՄՇԱԿՈՒՅԹԻ ԵՎ ՍՊՈՐՏԻ ՆԱԽԱՐԱՐՈՒԹՅՈՒՆ | G12: =+G13+G44 -> 0 | H12: =+H13+H44 -> 0
A13: 08 | F13: ՀԱՆԳԻՍՏ, ՄՇԱԿՈՒՅԹ ԵՎ ԿՐՈՆ | G13: =+G15 -> 8698 | H13: =+H15 -> 8698
F14: այդ թվում`
B15: 02 | F15: Մշակութային ծառայություններ | G15: =+G17 -> 8698 | H15: =+H17 -> 8698
F16: այդ թվում`
C17: 07 | F17: Հուշարձանների և մշակութային արժեքների վերականգնում և պահպանում | G17: =+G19 -> 8698 | H17: =+H19 -> 8698
F18: այդ թվում`
F19: ՀՀ կրթության, գիտության, մշակույթի և սպորտի նախարարություն | G19: =+G21 -> 8698 | H19: =+H21 -> 8698
F20: այդ թվում`
D21: 1075 | E21: Մշակութային ժառանգության ծրագիր | G21: =+G23+G35 -> 8698 | H21: =+H23+H35 -> 8698
F22: այդ թվում`
E23: 11006 | F23: Հայաստանի Հանրապետությունում տեղակայված և տեղակայվող արձանների և քանդակների հարակից հողատարածքների արժեքի գնահատում և գույքային իրավունքների գրանցում | G23: =+G25 -> 73 | H23: =+H25 -> 73
F24: այդ թվում` ըստ կատարողների
F25: ՀՀ Կոտայքի մարզպետարան | G25: =+G27 -> 73 | H25: =+H27 -> 73
F26: այդ թվում՝ բյուջետային ծախսերի տնտեսագիտական դասակարգման հոդվածներ
F27: ԸՆԴԱՄԵՆԸ ԾԱԽՍԵՐ | G27: =+G28 -> 73 | H27: =+H28 -> 73
F28: ԸՆԹԱՑԻԿ ԾԱԽՍԵՐ | G28: =+G29+G32 -> 73 | H28: =+H29+H32 -> 73
F29: ԾԱՌԱՅՈՒԹՅՈՒՆՆԵՐԻ ԵՎ ԱՊՐԱՆՔՆԵՐԻ ՁԵՌՔ ԲԵՐՈՒՄ | G29: =+G30 -> 70 | H29: =+H30 -> 70
F30: ԱՅԼ ՄԱՍՆԱԳԻՏԱԿԱՆ ԾԱՌԱՅՈՒԹՅՈՒՆՆԵՐԻ ՁԵՌՔ ԲԵՐՈՒՄ | G30: =+G31 -> 70 | H30: =+H31 -> 70
F31: - Մասնագիտական ծառայություններ | G31: =+'Հավելված N 8'!I16 -> 70 | H31: =+G31 -> 70
F32: ԱՅԼ ԾԱԽՍԵՐ | G32: =+G33 -> 3 | H32: =+H33 -> 3
F33: ՀԱՐԿԵՐ, ՊԱՐՏԱԴԻՐ ՎՃԱՐՆԵՐ ԵՎ ՏՈՒՅԺԵՐ, ՈՐՈՆՔ ԿԱՌԱՎԱՐՄԱՆ ՏԱՐԲԵՐ ՄԱԿԱՐԴԱԿՆԵՐԻ ԿՈՂՄԻՑ ԿԻՐԱՌՎՈՒՄ ԵՆ ՄԻՄՅԱՆՑ ՆԿԱՏՄԱՄԲ | G33: =+G34 -> 3 | H33: =+H34 -> 3
F34: - Պարտադիր վճարներ | G34: 3 | H34: 3
E35: 21005 | F35: Հայաստանի Հանրապետությունում տեղակայված և տեղակայվող արձանների և քանդակների հարակից հողատարածքների ձեռքբերում | G35: =+G37 -> 8625 | H35: =+H37 -> 8625
F36: այդ թվում` ըստ կատարողների
F37: ՀՀ Կոտայքի մարզպետարան | G37: =+G39 -> 8625 | H37: =+H39 -> 8625
F38: այդ թվում՝ բյուջետային ծախսերի տնտեսագիտական դասակարգման հոդվածներ
F39: ԸՆԴԱՄԵՆԸ ԾԱԽՍԵՐ | G39: =+G40 -> 8625 | H39: =+H40 -> 8625
F40: ՈՉ ՖԻՆԱՆՍԱԿԱՆ ԱԿՏԻՎՆԵՐԻ ԳԾՈՎ ԾԱԽՍԵՐ | G40: =+G41 -> 8625 | H40: =+H41 -> 8625
F41: ՉԱՐՏԱԴՐՎԱԾ ԱԿՏԻՎՆԵՐ | G41: =+G42 -> 8625 | H41: =+H42 -> 8625
F42: ՀՈՂ | G42: =+G43 -> 8625 | H42: =+H43 -> 8625
...

Sheet Հավելված 3
F1: Հավելված N 3
F2: ՀՀ կառավարության 2022 թվականի
F3: ______________ ի ___Ն որոշման
A5: «ՀԱՅԱUՏԱՆԻ ՀԱՆՐԱՊԵՏՈՒԹՅԱՆ 2022 ԹՎԱԿԱՆԻ ՊԵՏԱԿԱՆ ԲՅՈՒՋԵԻ ՄԱUԻՆ» ՀԱՅԱUՏԱՆԻ ՀԱՆՐԱՊԵՏՈՒԹՅԱՆ OՐԵՆՔԻ N 1 ՀԱՎԵԼՎԱԾԻ N 3 ԱՂՅՈՒՍԱԿՈՒՄ ԿԱՏԱՐՎՈՂ ԼՐԱՑՈՒՄԸ
G8: հազ. դրամներով
A9: Ծրագրային դասիչ | C9: Բյուջետային գլխավոր կարգադրիչների, ծրագրերի, միջոցառումների, միջոցառումները կատարող պետական մարմինների և ուղղությունների անվանումները | D9: Ընդամենը | E9: Ցուցանիշների փոփոխությունը (ավելացումները նշված են դրական նշանով)
A10: Ծրագիր | B10: Միջոցառում | E10: Կառուցման աշխատանքներ | F10: Վերակառուցման, վերանորոգման և վերականգնման աշխատանքներ | G10: Նախագծահե- տազոտական, գեոդեզիա- քարտեզագրա- կան աշխա- տանքներ | H10: Ոչ ֆինանսական այլ ակտիվների ձեռքբերում
C11: ԸՆԴԱՄԵՆԸ | D11: =SUM(E11:H11) -> 8625 | E11: =+E13 -> 0 | F11: =+F13 -> 0 | G11: =+G13 -> 0 | H11: =+H13 -> 8625
C12: այդ թվում՝
C13: ՀՀ ԿՐԹՈՒԹՅԱՆ, ԳԻՏՈՒԹՅԱՆ, ՄՇԱԿՈՒՅԹԻ ԵՎ ՍՊՈՐՏԻ ՆԱԽԱՐԱՐՈՒԹՅՈՒՆ | D13: =SUM(E13:H13) -> 8625 | E13: =+E15 -> 0 | F13: =+F15 -> 0 | G13: =+G15 -> 0 | H13: =+H15 -> 8625
C14: այդ թվում`
A15: 1075 | B15: 21005 | C15: Հայաստանի Հանրապետությունում տեղակայված և տեղակայվող արձանների և քանդակների հարակից հողատարածքների ձեռքբերում | D15: =SUM(E15:H15) -> 8625 | E15: =+E17 -> 0 | F15: =+F17 -> 0 | G15: =+G17 -> 0 | H15: =+H17 -> 8625
C16: այդ թվում`
C17: ՀՀ Կոտայքի մարզ | D17: =SUM(E17:H17) -> 8625 | E17: =+E18 -> 0 | F17: =+F18 -> 0 | G17: =+G18 -> 0 | H17: =+H18 -> 8625
C18: «Արձագանք» քանդակի հարակից տարածքի` 0,16 հեկտար 07-051-0315-0003 կադաստրային ծածկագրով հողամաս | D18: =+E18+F18+G18+H18 -> 8625 | H18: 8625

Sheet Հավելված 4
E1: Հավելված N 4
E2: ՀՀ կառավարության 2022 թվականի
E3: ______________ ի ___Ն որոշման
B5: ՀԱՅԱՍՏԱՆԻ ՀԱՆՐԱՊԵՏՈՒԹՅԱՆ ԿԱՌԱՎԱՐՈՒԹՅԱՆ 2021 ԹՎԱԿԱՆԻ ԴԵԿՏԵՄԲԵՐԻ 23-Ի N 2121-Ն ՈՐՈՇՄԱՆ N 5 ՀԱՎԵԼՎԱԾԻ N 2 ԱՂՅՈՒՍԱԿՈՒՄ ԿԱՏԱՐՎՈՂ ԼՐԱՑՈՒՄԸ
F7: հազ. դրամներով
B8: Ծրագրային դասիչ | D8: Բյուջետային գլխավոր կարգադրիչների, ծրագրերի, միջոցառումների, միջոցառումները կատարող պետական մարմինների և ուղղությունների անվանումները | E8: Ցուցանիշների փոփոխությունը (ավելացումները նշված են դրական նշանով)
B9: Ծրագիր | C9: Միջոցառում | E9: Ինն ամիս | F9: Տարի
D10: ՀՀ ԿՐԹՈՒԹՅԱՆ, ԳԻՏՈՒԹՅԱՆ, ՄՇԱԿՈՒՅԹԻ ԵՎ ՍՊՈՐՏԻ ՆԱԽԱՐԱՐՈՒԹՅՈՒՆ | E10: =+E12 -> 8625 | F10: =+F12 -> 8625
D11: այդ թվում՝
B12: 1075 | C12: 21005 | D12: Հայաստանի Հանրապետությունում տեղակայված և տեղակայվող արձանների և քանդակների հարակից հողատարածքների ձեռքբերում | E12: =+E14 -> 8625 | F12: =+F14 -> 8625
D13: այդ թվում` ըստ կատարողների
D14: ՀՀ Կոտայքի մարզպետարան | E14: =+E16 -> 8625 | F14: =+F16 -> 8625
D15: այդ թվում՝ ըստ ուղղությունների
D16: ՀՀ Կոտայքի մարզ | E16: =+E17 -> 8625 | F16: =+F17 -> 8625
D17: «Արձագանք» քանդակի հարակից տարածքի` 0,16 հեկտար 07-051-0315-0003 կադաստրային ծածկագրով հողամաս | E17: =+'Հավելված 3'!D18 -> 8625 | F17: =+E17 -> 8625

Sheet Հավելված N 5
F1: Հավելված N 5
F2: ՀՀ կառավարության 2021 թվականի
F3: ______________ ի ___Ն որոշման
A6: ՀԱՅԱՍՏԱՆԻ ՀԱՆՐԱՊԵՏՈՒԹՅԱՆ ԿԱՌԱՎԱՐՈՒԹՅԱՆ 2021 ԹՎԱԿԱՆԻ ԴԵԿՏԵՄԲԵՐԻ 23-Ի N 2121-Ն ՈՐՈՇՄԱՆ N 5 ՀԱՎԵԼՎԱԾԻ N 7 ԱՂՅՈՒՍԱԿՈՒՄ ԿԱՏԱՐՎՈՂ ՓՈՓՈԽՈՒԹՅՈՒՆԸ
G7: հազ. դրամներով
A8: Ծրագրային դասիչը | C8: Բյուջետային հատկացումների գլխավոր կարգադրիչների, ծրագրերի, միջոցառումների և միջոցառումները կատարող պետական մարմինների անվանումները | F8: Միջոցառումները կատարող պետական մարմինների և դրամաշնորհ ստացող տնտեսվարող սուբյեկտների անվանումները | G8: Ցուցանիշների փոփոխությունը (նվազեցումները նշված են փակագծերում)
A9: Ծրագիր | B9: Միջոցառում | G9: Տարի
A10: ՀՀ կրթության, գիտության, մշակույթի և սպորտի նախարարություն | G10: =+G11 -> -8698
A11: 1193 | B11: Համընդհանուր ներառական կրթության համակարգի ներդրում | G11: =+G12 -> -8698
B12: 11001 | C12: Մանկավարժահոգեբանական աջակցության ծառայություններ և կրթության առանձնահատուկ պայմանների կարիք ունեցող երեխաների կրթության կազմակերպմանն օժանդակող միջոցառումներ | F12: ՀՀ կրթության, գիտության, մշակույթի և սպորտի նախարարություն | G12: =SUM(G13:G13) -> -8698
F13: Մրցույթով ընտրված կազմակերպություն | G13: -8698

Sheet Հավելված N 6
C1: Հավելված N 6
C2: ՀՀ կառավարության 2022 թվականի
C3: ______________ ի ___Ն որոշման
B5: ՀԱՅԱՍՏԱՆԻ ՀԱՆՐԱՊԵՏՈՒԹՅԱՆ ԿԱՌԱՎԱՐՈՒԹՅԱՆ 2021 ԹՎԱԿԱՆԻ ԴԵԿՏԵՄԲԵՐԻ 23-Ի N 2121-Ն ՈՐՈՇՄԱՆ N 9 ՀԱՎԵԼՎԱԾԻ N 9.13 ԵՎ 9.47 ԱՂՅՈՒՍԱԿՆԵՐՈՒՄ ԿԱՏԱՐՎՈՂ ՓՈՓՈԽՈՒԹՅՈՒՆՆԵՐԸ ԵՎ ԼՐԱՑՈՒՄՆԵՐԸ
A7: Աղյուսակ 9․13
C8: ՀՀ կրթության, գիտության, մշակույթի և սպորտի նախարարություն
B9: ՄԱՍ 2. ՊԵՏԱԿԱՆ ՄԱՐՄՆԻ ԳԾՈՎ ԱՐԴՅՈՒՆՔԱՅԻՆ (ԿԱՏԱՐՈՂԱԿԱՆ) ՑՈՒՑԱՆԻՇՆԵՐԸ
B12: Ծրագրի դասիչը | C12: Ծրագրի անվանումը
B13: 1075 | C13: Մշակութային ժառանգության ծրագիր
B15: Ծրագրի միջոցառումները
B16: Ծրագրի դասիչը՝ | C16: 1075 | D16: Ցուցանիշների փոփոխությունը (ավելացումները նշված են դրական նշանով)
B17: Միջոցառման դասիչը՝ | C17: 11006 | D17: Ինն ամիս | E17: Տարի
B18: Միջոցառման անվանումը՝ | C18: Հայաստանի Հանրապետությունում տեղակայված և տեղակայվող արձանների և քանդակների հարակից հողատարածքների արժեքի գնահատում և գույքային իրավունքների գրանցում
B19: Նկարագրությունը՝ | C19: ՀՀ-ում տեղակայված և տեղակայվող արձանների և քանդակների հարակից, մասնավոր սեփականություն հանդիսացող հողամասերի նկատմամբ հանրության գերակա շահ ճանաչելու արդյունքում դրանց արժեքի գնահատման, գույքային իրավունքների գրանցման համար և այլ վճարների կատարում
B20: Միջոցառման տեսակը՝ | C20: Ծառայությունների մատուցում
B21: Ծառայությունը մատուցող կազմակերպության անվանումը | C21: Մասնագիտացված կազմակերպություններ
B22: Արդյունքի չափորոշիչներ
B23: Գույքային իրավունքների գրանցման համար վճարված պետական տուրքի տեսակ, հատ | D23: 1 | E23: 1
B24: Գույքի արժեքի գնահատման համար ձեռքբերված եզրակացությունների քանակ, հատ | D24: 1 | E24: 1
B25: Միջոցառման վրա կատարվող ծախսը (հազար դրամ) | D25: =+'Հավելված N 1'!D34 -> 73 | E25: =+'Հավելված N 1'!E34 -> 73
B27: Ծրագրի միջոցառումները
B28: Ծրագրի դասիչը՝ | C28: 1075 | D28: Ցուցանիշների փոփոխությունը (ավելացումները նշված են դրական նշանով)
B29: Միջոցառման դասիչը՝ | C29: 21005 | D29: Ինն ամիս | E29: Տարի
B30: Միջոցառման անվանումը՝ | C30: Հայաստանի Հանրապետությունում տեղակայված և տեղակայվող արձանների և քանդակների հարակից հողատարածքների ձեռքբերում
B31: Նկարագրությունը՝ | C31: Հայաստանի Հանրապետությունում արդեն տեղակայված և նոր պատրաստվող ու տեղակայվող արձանների և քանդակների հարակից, մասնավոր սեփականությունը հանդիսացող հողատարածքների նկատմամբ հանրության գերակա շահ ճանաչելու արդյունքում գույքային իրավունքների ձեռքբերում
B32: Միջոցառման տեսակը՝ | C32: Հանրության կողմից անմիջականորեն օգտագործվող ակտիվների հետ կապված միջոցառումներ
B33: Ակտիվն օգտագործող կազմակերպությունների անվանում | C33: Մասնագիտացված միավոր
B34: Արդյունքի չափորոշիչներ
B35: Ձեռքբերվող հողատարածքի մակերես, քմ | D35: 1600 | E35: 1600
B36: Ձեռքբերվող հողատարածքի վրա տեղակայաված արձանի (քանդակի) քանակ, հատ | D36: 1 | E36: 1
B37: Միջոցառման վրա կատարվող ծախսը (հազար դրամ) | D37: =+'Հավելված N 1'!D40 -> 8625 | E37: =+'Հավելված N 1'!E40 -> 8625
B39: Ծրագրի դասիչը | C39: Ծրագրի անվանումը
B40: 1045 | C40: Նախնական (արհեստագործական) և միջին մասնագիտական կրթություն
B42: Ծրագրի միջոցառումները
B43: Ծրագրի դասիչը՝ | C43: 1045 | D43: Ցուցանիշների փոփոխությունը (նվազեցումները նշված են փակագծերում)
B44: Միջոցառման դասիչը՝ | C44: 12003 | D44: Ինն ամիս | E44: Տարի
B45: Միջոցառման անվանումը՝ | C45: Նախնական մասնագիտական (արհեստագործական) կրթության գծով ուսանողական նպաստների տրամադրում
B46: Նկարագրությունը՝ | C46: Նախնական մասնագիտական (արհեստագործական) կրթության գծով ուսանողական նպաստների տրամադրում
B47: Միջոցառման տեսակը՝ | C47: Տրանսֆերտների տրամադրում
B48: Շահառուների ընտրության չափորոշիչները՛ | C48: Նախնական մասնագիտական (արհեստագործական) կրթություն ստացող ուսանողներ
...

Sheet Հավելված N 7
C1: Հավելված N 7
C2: ՀՀ կառավարության 2022 թվականի
C3: ______________ ի ___Ն որոշման
B5: ՀԱՅԱՍՏԱՆԻ ՀԱՆՐԱՊԵՏՈՒԹՅԱՆ ԿԱՌԱՎԱՐՈՒԹՅԱՆ 2021 ԹՎԱԿԱՆԻ ԴԵԿՏԵՄԲԵՐԻ 23-Ի N 2121-Ն ՈՐՈՇՄԱՆ N 9.1 ՀԱՎԵԼՎԱԾԻ N 9.1.14, 9.1.54 ԵՎ 9․1.59 ԱՂՅՈՒՍԱԿՆԵՐՈՒՄ ԿԱՏԱՐՎՈՂ ՓՈՓՈԽՈՒԹՅՈՒՆՆԵՐԸ ԵՎ ԼՐԱՑՈՒՄՆԵՐԸ
A7: Աղյուսակ 9․1.14
C8: ՀՀ կրթության, գիտության, մշակույթի և սպորտի նախարարություն
B9: ՄԱՍ 1. ՊԵՏԱԿԱՆ ՄԱՐՄՆԻ ԳԾՈՎ ԱՐԴՅՈՒՆՔԱՅԻՆ (ԿԱՏԱՐՈՂԱԿԱՆ) ՑՈՒՑԱՆԻՇՆԵՐԸ
B12: Ծրագրի դասիչը | C12: Ծրագրի անվանումը
B13: 1045 | C13: Նախնական (արհեստագործական) և միջին մասնագիտական կրթություն
B15: Ծրագրի միջոցառումները
B16: Ծրագրի դասիչը՝ | C16: 1045 | D16: Ցուցանիշների փոփոխությունը (նվազեցումները նշված են փակագծերում)
B17: Միջոցառման դասիչը՝ | C17: 12003 | D17: Ինն ամիս | E17: Տարի
B18: Միջոցառման անվանումը՝ | C18: Նախնական մասնագիտական (արհեստագործական) կրթության գծով ուսանողական նպաստների տրամադրում
B19: Նկարագրությունը՝ | C19: Նախնական մասնագիտական (արհեստագործական) կրթության գծով ուսանողական նպաստների տրամադրում
B20: Միջոցառման տեսակը՝ | C20: Տրանսֆերտների տրամադրում
B21: Շահառուների ընտրության չափորոշիչները՛ | C21: Նախնական մասնագիտական (արհեստագործական) կրթություն ստացող ուսանողներ
B22: Արդյունքի չափորոշիչներ
B23: Միջոցառման վրա կատարվող ծախսը (հազար դրամ) | D23: =+'Հավելված N 2'!G56 -> -8698 | E23: =+'Հավելված N 2'!H56 -> 0
B25: Ծրագրի դասիչը | C25: Ծրագրի անվանումը
B26: 1193 | C26: Համընդհանուր ներառական կրթության համակարգի ներդրում
B28: Ծրագրի միջոցառումները
B29: Ծրագրի դասիչը՝ | C29: 1193 | D29: Ցուցանիշների փոփոխությունը (նվազեցումները նշված են փակագծերում)
B30: Միջոցառման դասիչը՝ | C30: 11001 | D30: Ինն ամիս | E30: Տարի
B31: Միջոցառման անվանումը՝ | C31: Մանկավարժահոգեբանական աջակցության ծառայություններ և կրթության առանձնահատուկ պայմանների կարիք ունեցող երեխաների կրթության կազմակերպմանն օժանդակող միջոցառումներ
B32: Նկարագրությունը՝ | C32: Երեխաների կրթության առանձնահատուկ պայմանների կարիքի բացահայտում և գնահատում, կրթության աջակցության ծառայությունների իրականացում և կրթության կազմակերպման համար նախատեսված ծրագրերի, ձեռնարկների, ուսումնական այլ նյութերի մշակում, հրատարակում և ձեռքբերում
B33: Միջոցառման տեսակը՝ | C33: Ծառայությունների մատուցում
B34: Ծառայությունը մատուցող կազմակերպության(ների) անվանում(ներ)ը | C34: Մասնագիտացված կազմակերպություններ,
B35: Արդյունքի չափորոշիչներ
B36: Միջոցառման վրա կատարվող ծախսը (հազար դրամ) | D36: =+'Հավելված N 2'!G73 -> 0 | E36: =+'Հավելված N 2'!H73 -> -8698
A42: Աղյուսակ 9․1.54
C43: ՀՀ Կոտայքի մարզպետարան
B44: ՄԱՍ 1. ՊԵՏԱԿԱՆ ՄԱՐՄՆԻ ԳԾՈՎ ԱՐԴՅՈՒՆՔԱՅԻՆ (ԿԱՏԱՐՈՂԱԿԱՆ) ՑՈՒՑԱՆԻՇՆԵՐԸ
B47: Ծրագրի դասիչը | C47: Ծրագրի անվանումը
B48: 1075 | C48: Մշակութային ժառանգության ծրագիր
B50: Ծրագրի միջոցառումները
B51: Ծրագրի դասիչը՝ | C51: 1075 | D51: Ցուցանիշների փոփոխությունը (ավելացումները նշված են դրական նշանով)
B52: Միջոցառման դասիչը՝ | C52: 11006 | D52: Ինն ամիս | E52: Տարի
B53: Միջոցառման անվանումը՝ | C53: Հայաստանի Հանրապետությունում տեղակայված և տեղակայվող արձանների և քանդակների հարակից հողատարածքների արժեքի գնահատում և գույքային իրավունքների գրանցում
B54: Նկարագրությունը՝ | C54: ՀՀ-ում տեղակայված և տեղակայվող արձանների և քանդակների հարակից, մասնավոր սեփականություն հանդիսացող հողամասերի նկատմամբ հանրության գերակա շահ ճանաչելու արդյունքում դրանց արժեքի գնահատման, գույքային իրավունքների գրանցման համար և այլ վճարների կատարում
B55: Միջոցառման տեսակը՝ | C55: Ծառայությունների մատուցում
...

Sheet Հավելված N 8
H1: Հավելված N 8
H2: ՀՀ կառավարության 2021 թվականի
H3: ______________ ի ___Ն որոշման
A6: ՀԱՅԱՍՏԱՆԻ ՀԱՆՐԱՊԵՏՈՒԹՅԱՆ ԿԱՌԱՎԱՐՈՒԹՅԱՆ 2021 ԹՎԱԿԱՆԻ ԴԵԿՏԵՄԲԵՐԻ 23-Ի N 2121-Ն N 10 ՀԱՎԵԼՎԱԾՈՒՄ ԿԱՏԱՐՎՈՂ ԼՐԱՑՈՒՄԸ
A10: Կոդը | B10: Անվանումը | E10: Գնման ձևը | F10: Չափման միավորը | G10: Միավորի գինը | H10: Ցուցանիշների փոփոխությունը (ավելացումները նշված են դրական նշանով)
H11: Քանակը | I11: Գումարը (հազար դրամ)
A12: 1 | B12: 2 | E12: 3 | F12: 4 | G12: 5 | H12: 6 | I12: 7
A13: ՀՀ Կոտայքի մարզպետարան | I13: =+I14 -> 70
A14: Բաժին N 08 | B14: Խումբ N 02 | C14: Դաս N 07 | D14: Հուշարձանների և մշակութային արժեքների վերականգնում և պահպանում | I14: =+I15 -> 70
A15: 1075-11006 | B15: Հայաստանի Հանրապետությունում տեղակայված և տեղակայվող արձանների և քանդակների հարակից հողատարածքների արժեքի գնահատում և գույքային իրավունքների գրանցում | I15: =+I16 -> 70
B16: ՄԱՍ III. ԾԱՌԱՅՈՒԹՅՈՒՆՆԵՐ | I16: =SUM(I17:I17) -> 70
A17: 70331800 | B17: անշարժ գույքի գնահատման ծառայություններ | E17: ՄԱ | F17: դրամ | G17: 70000 | H17: 1 | I17: =+G17*H17/1000 -> 70

Sheet Հավելված N 9
G1: Հավելված N 9
H2: ՀՀ կառավարության 2022 թվականի
H3: ______________ ի ___Ն որոշման
A6: ՀԱՅԱՍՏԱՆԻ ՀԱՆՐԱՊԵՏՈՒԹՅԱՆ 2022 ԹՎԱԿԱՆԻ ՊԵՏԱԿԱՆ ԲՅՈՒՋԵՈՎ ՆԱԽԱՏԵՍՎԱԾ՝ ՀԱՅԱՍՏԱՆԻ ՀԱՆՐԱՊԵՏՈՒԹՅԱՆ ԿԱՌԱՎԱՐՈՒԹՅԱՆ ՊԱՀՈՒՍՏԱՅԻՆ ՖՈՆԴԻՑ ՀԱՏԿԱՑՈՒՄՆԵՐ ԿԱՏԱՐԵԼՈՒ ՎԵՐԱԲԵՐՅԱԼ
H9: հազ. դրամներով
A10: Գործառական դասիչը | D10: Ծրագրային դասիչը | F10: Բյուջետային հատկացումների գլխավոր կարգադրիչների, ծրագրերի, միջոցառումների և միջոցառումները կատարող պետական մարմինների անվանումները | G10: Ցուցանիշների փոփոխությունը (ավելացումները նշված են դրական նշանով, իսկ նվազեցումները՝ փակագծերում)
A11: Բաժին | B11: Խումբ | C11: Դաս | D11: Ծրագիր | E11: Միջոցառում | G11: Ինն ամիս | H11: Տարի
F12: ԸՆԴԱՄԵՆԸ | G12: =+G34+G14 -> 0 | H12: =+H34+H14 -> 0
F13: այդ թվում
F14: ՀՀ ԿԱՌԱՎԱՐՈՒԹՅՈՒՆ | G14: =+G15 -> -8698 | H14: =+H15 -> -8698
A15: 11 | F15: ՀԻՄՆԱԿԱՆ ԲԱԺԻՆՆԵՐԻՆ ՉԴԱՍՎՈՂ ՊԱՀՈՒՍՏԱՅԻՆ ՖՈՆԴԵՐ | G15: =+G17 -> -8698 | H15: =+H17 -> -8698
F16: այդ թվում`
B17: 01 | F17: ՀՀ կառավարության և համայնքների պահուստային ֆոնդ | G17: =+G19 -> -8698 | H17: =+H19 -> -8698
F18: այդ թվում`
C19: 01 | F19: ՀՀ կառավարության պահուստային ֆոնդ | G19: =+G21 -> -8698 | H19: =+H21 -> -8698
F20: այդ թվում`
F21: ՀՀ կառավարություն | G21: =+G23 -> -8698 | H21: =+H23 -> -8698
F22: այդ թվում`
D23: 1139 | E23: ՀՀ կառավարության պահուստային ֆոնդ | F23: ՀՀ կառավարության պահուստային ֆոնդ | G23: =+G25 -> -8698 | H23: =+H25 -> -8698
F24: այդ թվում`
E25: 11001 | F25: ՀՀ կառավարության պահուստային ֆոնդ | G25: =+G27 -> -8698 | H25: =+H27 -> -8698
F26: այդ թվում` ըստ կատարողների
F27: ՀՀ կառավարություն | G27: =+G29 -> -8698 | H27: =+H29 -> -8698
F28: այդ թվում` բյուջետային ծախսերի տնտեսագիտական դասակարգման հոդվածներ
F29: ԸՆԴԱՄԵՆԸ ԾԱԽՍԵՐ | G29: =+G30 -> -8698 | H29: =+H30 -> -8698
F30: ԸՆԹԱՑԻԿ ԾԱԽՍԵՐ | G30: =+G31 -> -8698 | H30: =+H31 -> -8698
F31: ԱՅԼ ԾԱԽՍԵՐ | G31: =+G32 -> -8698 | H31: =+H32 -> -8698
F32: Պահուստային միջոցներ | G32: =+'Հավելված N 2'!G107 -> -8698 | H32: =+'Հավելված N 2'!H107 -> -8698
F34: ՀՀ ԿՐԹՈՒԹՅԱՆ, ԳԻՏՈՒԹՅԱՆ, ՄՇԱԿՈՒՅԹԻ ԵՎ ՍՊՈՐՏԻ ՆԱԽԱՐԱՐՈՒԹՅՈՒՆ | G34: =+G35 -> 8698 | H34: =+H35 -> 8698
A35: 08 | F35: ՀԱՆԳԻՍՏ, ՄՇԱԿՈՒՅԹ ԵՎ ԿՐՈՆ | G35: =+G37 -> 8698 | H35: =+H37 -> 8698
F36: այդ թվում`
B37: 02 | F37: Մշակութային ծառայություններ | G37: =+G39 -> 8698 | H37: =+H39 -> 8698
F38: այդ թվում`
C39: 07 | F39: Արվեստ | G39: =+G41 -> 8698 | H39: =+H41 -> 8698
F40: այդ թվում`
F41: ՀՀ կրթության, գիտության, մշակույթի և սպորտի նախարարություն | G41: =+G43 -> 8698 | H41: =+H43 -> 8698
F42: այդ թվում`
D43: 1075 | E43: Մշակութային ժառանգության ծրագիր | G43: =+G45+G57 -> 8698 | H43: =+H45+H57 -> 8698
F44: այդ թվում`
E45: 11006 | F45: Հայաստանի Հանրապետությունում տեղակայված և տեղակայվող արձանների և քանդակների հարակից հողատարածքների արժեքի գնահատում և գույքային իրավունքների գրանցում | G45: =+G47 -> 73 | H45: =+H47 -> 73
...
