Workbook
Name a: #REF!
Name a: #REF!
Name a: #REF!
Name a: #REF!
Name AgencyCode: #REF!
Name AgencyCode: #REF!
Name AgencyCode: #REF!
Name AgencyCode: #REF!
Name AgencyCode: #REF!
Name AgencyCode: #REF!
Name AgencyCode: #REF!
Name AgencyCode: #REF!
Name AgencyName: #REF!
Name AgencyName: #REF!
Name AgencyName: #REF!
Name AgencyName: #REF!
Name davit: #REF!
Name davit: #REF!
Name davit: #REF!
Name Functional1: #REF!
Name Functional1: #REF!
Name Functional1: #REF!
Name Functional1: #REF!
Name ggg: #REF!
Name ggg: #REF!
Name ggg: #REF!
Name PANature: #REF!
Name PANature: #REF!
Name PANature: #REF!
Name PANature: #REF!
Name PAType: #REF!
Name PAType: #REF!
Name PAType: #REF!
Name PAType: #REF!
Name Performance2: #REF!
Name Performance2: #REF!
Name Performance2: #REF!
Name Performance2: #REF!
Name PerformanceType: #REF!
Name PerformanceType: #REF!
Name PerformanceType: #REF!
Name PerformanceType: #REF!
Name Հավելված: #REF!
Name Հավելված: #REF!
Name Հավելված: #REF!
Name Հավելված: #REF!
Name Մաս: #REF!
Name Մաս: #REF!
Name Մաս: #REF!
Name շախմատիստ: #REF!
Name շախմատիստ: #REF!
Name շախմատիստ: #REF!

Sheet Հավելված N 1
D1: Հավելված N 1
D2: ՀՀ կառավարության 2022 թվականի
D3: ______________ ի ___Ն որոշման
A5: «ՀԱՅԱUՏԱՆԻ ՀԱՆՐԱՊԵՏՈՒԹՅԱՆ 2022 ԹՎԱԿԱՆԻ ՊԵՏԱԿԱՆ ԲՅՈՒՋԵԻ ՄԱUԻՆ» ՀԱՅԱUՏԱՆԻ ՀԱՆՐԱՊԵՏՈՒԹՅԱՆ OՐԵՆՔԻ N 1 ՀԱՎԵԼՎԱԾԻ N 2 ԱՂՅՈՒՍԱԿՈՒՄ ԿԱՏԱՐՎՈՂ ՎԵՐԱԲԱՇԽՈՒՄԸ ԵՎ ՀԱՅԱՍՏԱՆԻ ՀԱՆՐԱՊԵՏՈՒԹՅԱՆ ԿԱՌԱՎԱՐՈՒԹՅԱՆ 2021 ԹՎԱԿԱՆԻ ԴԵԿՏԵՄԲԵՐԻ 23-Ի N 2121-Ն ՈՐՈՇՄԱՆ N 5 ՀԱՎԵԼՎԱԾԻ N 1 ԱՂՅՈՒՍԱԿՈՒՄ ԿԱՏԱՐՎՈՂ ՓՈՓՈԽՈՒԹՅՈՒՆՆԵՐԸ ԵՎ ԼՐԱՑՈՒՄՆԵՐԸ
E7: հազ. դրամներով
A8: Ծրագրային դասիչը | C8: Բյուջետային հատկացումների գլխավոր կարգադրիչների, ծրագրերի և միջոցառումների անվանումները | D8: Ցուցանիշների փոփոխությունը (ավելացումները նշված են դրական նշանով, իսկ նվազեցումները փակագծերում)
A9: Ծրագիր | B9: Միջոցառում | D9: Ինն ամիս | E9: Տարի
A10: 1192 | C10: ԸՆԴԱՄԵՆԸ | D10: =+D12+D59 -> 0 | E10: =+E12+E59 -> 0
C11: այդ թվում
C12: ՀՀ ԿՐԹՈՒԹՅԱՆ, ԳԻՏՈՒԹՅԱՆ, ՄՇԱԿՈՒՅԹԻ ԵՎ ՍՊՈՐՏԻ ՆԱԽԱՐԱՐՈՒԹՅՈՒՆ | D12: =+D14+D27+D46 -> 0 | E12: =+E14+E27+E46 -> 0
A13: 1045 | C13: Ծրագրի անվանումը`
C14: Նախնական (արհեստագործական) և միջին մասնագիտական կրթություն | D14: =+D21 -> -8698 | E14: =+E21 -> 0
C15: Ծրագրի նպատակը`
C16: Աշխատաշուկայի արդի պահանջներին համապատասխան նախնական մասնագիտական (արհեստագործական) և միջին մասնագիտական կրթության որակավորում ունեցող մասնագետների պատրաստում, կրթության մատչելիության ապահովում:
C17: Վերջնական արդյունքի նկարագրությունը`
C18: Նախնական (արհեստագործական) և միջին մասնագիտական կրթության գրավչության բարձրացում, մատչելի և մրցունակ նախնական (արհեստագործական) և միջին մասնագիտական կրթության ապահովում
C19: Ծրագրի միջոցառումներ
B20: 12003 | C20: Միջոցառման անվանումը`
C21: Նախնական մասնագիտական (արհեստագործական) կրթության գծով ուսանողական նպաստների տրամադրում | D21: =+'Հավելված N 2'!G54 -> -8698 | E21: =+'Հավելված N 2'!H54 -> 0
C22: Միջոցառման նկարագրությունը`
C23: Նախնական մասնագիտական (արհեստագործական) կրթության գծով ուսանողական նպաստների տրամադրում
C24: Միջոցառման տեսակը
C25: Տրանսֆերտների տրամադրում
A26: 1075 | C26: Ծրագրի անվանումը`
C27: Մշակութային ժառանգության ծրագիր | D27: =+D34+D40 -> 8698 | E27: =+E34+E40 -> 8698
C28: Ծրագրի նպատակը`
C29: Մշակութային ժառանգության պահպանում, օգտագործում, համալրում և հանրահռչակում
C30: Վերջնական արդյունքի նկարագրությունը`
C31: Մշակութային ժառանգության շարունակական պահպանում, մշակութային զբոսաշրջության զարգացում և խթանում
C32: Ծրագրի միջոցառումներ
B33: 11006 | C33: Միջոցառման անվանումը`
C34: Հայաստանի Հանրապետությունում տեղակայված և տեղակայվող արձանների և քանդակների հարակից հողատարածքների արժեքի գնահատում և գույքային իրավունքների գրանցում | D34: =+'Հավելված N 2'!G23 -> 73 | E34: =+'Հավելված N 2'!H23 -> 73
C35: Միջոցառման նկարագրությունը`
C36: Հայաստանի Հանրապետությունում արդեն տեղակայված և նոր պատրաստվող ու տեղակայվող արձանների և քանդակների հարակից, մասնավոր սեփականությունը հանդիսացող հողատարածքների նկատմամբ հանրության գերակա շահ ճանաչելու արդյունքում այդ հողատարածքների շուկայական արժեքի գնահատման, գույքային իրավունքների գրանցման հետ կապված և այլ հարակից պարտադիր վճարների կատարում
C37: Միջոցառման տեսակը
C38: Ծառայությունների մատուցում
B39: 21005 | C39: Միջոցառման անվանումը`
C40: Հայաստանի Հանրապետությունում տեղակայված և տեղակայվող արձանների և քանդակների հարակից հողատարածքների ձեռքբերում | D40: =+'Հավելված N 2'!G35 -> 8625 | E40: =+'Հավելված N 2'!H35 -> 8625
C41: Միջոցառման նկարագրությունը`
C42: Հայաստանի Հանրապետությունում արդեն տեղակայված և նոր պատրաստվող ու տեղակայվող արձանների և քանդակների հարակից, մասնավոր սեփականությունը հանդիսացող հողատարածքների նկատմամբ հանրության գերակա շահ ճանաչելու արդյունքում գույքային իրավունքների ձեռքբերում
C43: Միջոցառման տեսակը
C44: Հանրության կողմից անմիջականորեն օգտագործվող ակտիվների հետ կապված միջոցառումներ
A45: 1193 | C45: Ծրագրի անվանումը`
C46: Համընդհանուր ներառական կրթության համակարգի ներդրում | D46: =+D53 -> 0 | E46: =+E53 -> -8698
C47: Ծրագրի նպատակը`
C48: Յուրաքանչյուր երեխայի համար կրթության մատչելիության, հավասար մասնակցության հնարավորության և որակի ապահովում՛ զարգացման առանձնահատկություններին համապատասխան և անհրաժեշտ պայմանների ստեղծման միջոցով
C49: Վերջնական արդյունքի նկարագրությունը`
C50: Խոցելի խմբերի երեխաների ընդգրկվածության ապահովում հանրակրթական հաստատություններում
C51: Ծրագրի միջոցառումներ
B52: 11001 | C52: Միջոցառման անվանումը`
C53: Մանկավարժահոգեբանական աջակցության ծառայություններ և կրթության առանձնահատուկ պայմանների կարիք ունեցող երեխաների կրթության կազմակերպմանն օժանդակող միջոցառումներ | D53: =+'Հավելված N 2'!G71 -> 0 | E53: =+'Հավելված N 2'!H71 -> -8698
C54: Միջոցառման նկարագրությունը`
C55: Երեխաների կրթության առանձնահատուկ պայմանների կարիքի բացահայտում և գնահատում, կրթության աջակցության ծառայությունների իրականացում և կրթության կազմակերպման համար նախատեսված ծրագրերի, ձեռնարկների, ուսումնական այլ նյութերի մշակում, հրատարակում և ձեռքբերում
C56: Միջոցառման տեսակը
C57: Ծառայությունների մատուցում
C59: ՀՀ ԿԱՌԱՎԱՐՈՒԹՅՈՒՆ | D59: =+D61 -> 0 | E59: =+E61 -> 0
A60: 1139 | C60: Ծրագրի անվանումը`
C61: ՀՀ կառավարության պահուստային ֆոնդ | D61: =+D67+D73 -> 0 | E61: =+E67+E73 -> 0
C62: Ծրագրի նպատակը`
C63: Պետական բյուջեում չկանխատեսված, ինչպես նաև բյուջետային երաշխիքների ապահովման ծախսերի ֆինանսավորման ապահովում
C64: Վերջնական արդյունքի նկարագրությունը`
C65: Պահուստային ֆոնդի կառավարման արդյունավետության և թափանցիկության ապահովում
B66: 11001 | C66: Միջոցառման անվանումը`
C67: ՀՀ կառավարության պահուստային ֆոնդ | D67: =+'Հավելված N 2'!G92 -> 8698 | E67: =+'Հավելված N 2'!H92 -> 8698
C68: Միջոցառման նկարագրությունը`
C69: ՀՀ պետական բյուջեում նախատեսված ելքերի լրացուցիչ ֆինանսավորման՝ պետական բյուջեում չկանխատեսված ելքերի, ինչպես նաև բյուջետային երաշխիքների ապահովման ելքերի ֆինանսավորման ապահովում
C70: Միջոցառման տեսակը
C71: Ծառայությունների մատուցում
B72: 11001 | C72: Միջոցառման անվանումը`
C73: ՀՀ կառավարության պահուստային ֆոնդ | D73: =+'Հավելված N 2'!G100 -> -8698 | E73: =+'Հավելված N 2'!H100 -> -8698
C74: Միջոցառման նկարագրությունը`
C75: ՀՀ պետական բյուջեում նախատեսված ելքերի լրացուցիչ ֆինանսավորման՝ պետական բյուջեում չկանխատեսված ելքերի, ինչպես նաև բյուջետային երաշխիքների ապահովման ելքերի ֆինանսավորման ապահովում
C76: Միջոցառման տեսակը
C77: Ծառայությունների մատուցում

Sheet Հավելված N 2
F1: Հավելված N 2
F2: ՀՀ կառավարության 2022 թվականի
F3: ______________ ի ___Ն որոշման
A5: ՀԱՅԱՍՏԱՆԻ ՀԱՆՐԱՊԵՏՈՒԹՅԱՆ ԿԱՌԱՎԱՐՈՒԹՅԱՆ 2021 ԹՎԱԿԱՆԻ ԴԵԿՏԵՄԲԵՐԻ 23-Ի N2121-Ն ՈՐՈՇՄԱՆ N 3 ԵՎ N 4 ՀԱՎԵԼՎԱԾՆԵՐՈՒՄ ԿԱՏԱՐՎՈՂ ՓՈՓՈԽՈՒԹՅՈՒՆՆԵՐԸ ԵՎ ԼՐԱՑՈՒՄՆԵՐԸ
H7: հազ. դրամներով
A8: Գործառական դասիչը | D8: Ծրագրային դասիչը | F8: Բյուջետային հատկացումների գլխավոր կարգադրիչների, ծրագրերի, միջոցառումների և միջոցառումները կատարող պետական մարմինների անվանումները | G8: Ցուցանիշների փոփոխությունը (ավելացումները նշված են դրական նշանով, իսկ նվազեցումները փակագծերում)
A9: Բաժին | B9: Խումբ | C9: Դաս | D9: Ծրագիր | E9: Միջոցառում | G9: Ինն ամիս | H9: Տարի
F10: ԸՆԴԱՄԵՆԸ | G10: =+G12+G81 -> 0 | H10: =+H12+H81 -> 0
F11: այդ թվում
F12: ՀՀ ԿՐԹՈՒԹՅԱՆ, ԳԻՏՈՒԹՅԱՆ, ՄՇԱԿՈՒՅԹԻ ԵՎ ՍՊՈՐՏԻ ՆԱԽԱՐԱՐՈՒԹՅՈՒՆ | G12: =+G13+G44 -> 0 | H12: =+H13+H44 -> 0
A13: 08 | F13: ՀԱՆԳԻՍՏ, ՄՇԱԿՈՒՅԹ ԵՎ ԿՐՈՆ | G13: =+G15 -> 8698 | H13: =+H15 -> 8698
F14: այդ թվում`
B15: 02 | F15: Մշակութային ծառայություններ | G15: =+G17 -> 8698 | H15: =+H17 -> 8698
F16: այդ թվում`
C17: 07 | F17: Հուշարձանների և մշակութային արժեքների վերականգնում և պահպանում | G17: =+G19 -> 8698 | H17: =+H19 -> 8698
F18: այդ թվում`
F19: ՀՀ կրթության, գիտության, մշակույթի և սպորտի նախարարություն | G19: =+G21 -> 8698 | H19: =+H21 -> 8698
F20: այդ թվում`
D21: 1075 | E21: Մշակութային ժառանգության ծրագիր | G21: =+G23+G35 -> 8698 | H21: =+H23+H35 -> 8698
F22: այդ թվում`
E23: 11006 | F23: Հայաստանի Հանրապետությունում տեղակայված և տեղակայվող արձանների և քանդակների հարակից հողատարածքների արժեքի գնահատում և գույքային իրավունքների գրանցում | G23: =+G25 -> 73 | H23: =+H25 -> 73
F24: այդ թվում` ըստ կատարողների
F25: ՀՀ Կոտայքի մարզպետարան | G25: =+G27 -> 73 | H25: =+H27 -> 73
F26: այդ թվում՝ բյուջետային ծախսերի տնտեսագիտական դասակարգման հոդվածներ
F27: ԸՆԴԱՄԵՆԸ ԾԱԽՍԵՐ | G27: =+G28 -> 73 | H27: =+H28 -> 73
F28: ԸՆԹԱՑԻԿ ԾԱԽՍԵՐ | G28: =+G29+G32 -> 73 | H28: =+H29+H32 -> 73
F29: ԾԱՌԱՅՈՒԹՅՈՒՆՆԵՐԻ ԵՎ ԱՊՐԱՆՔՆԵՐԻ ՁԵՌՔ ԲԵՐՈՒՄ | G29: =+G30 -> 70 | H29: =+H30 -> 70
F30: ԱՅԼ ՄԱՍՆԱԳԻՏԱԿԱՆ ԾԱՌԱՅՈՒԹՅՈՒՆՆԵՐԻ ՁԵՌՔ ԲԵՐՈՒՄ | G30: =+G31 -> 70 | H30: =+H31 -> 70
F31: - Մասնագիտական ծառայություններ | G31: =+'Հավելված N 8'!I16 -> 70 | H31: =+G31 -> 70
F32: ԱՅԼ ԾԱԽՍԵՐ | G32: =+G33 -> 3 | H32: =+H33 -> 3
F33: ՀԱՐԿԵՐ, ՊԱՐՏԱԴԻՐ ՎՃԱՐՆԵՐ ԵՎ ՏՈՒՅԺԵՐ, ՈՐՈՆՔ ԿԱՌԱՎԱՐՄԱՆ ՏԱՐԲԵՐ ՄԱԿԱՐԴԱԿՆԵՐԻ ԿՈՂՄԻՑ ԿԻՐԱՌՎՈՒՄ ԵՆ ՄԻՄՅԱՆՑ ՆԿԱՏՄԱՄԲ | G33: =+G34 -> 3 | H33: =+H34 -> 3
F34: - Պարտադիր վճարներ | G34: 3 | H34: 3
E35: 21005 | F35: Հայաստանի Հանրապետությունում տեղակայված և տեղակայվող արձանների և քանդակների հարակից հողատարածքների ձեռքբերում | G35: =+G37 -> 8625 | H35: =+H37 -> 8625
F36: այդ թվում` ըստ կատարողների
F37: ՀՀ Կոտայքի մարզպետարան | G37: =+G39 -> 8625 | H37: =+H39 -> 8625
F38: այդ թվում՝ բյուջետային ծախսերի տնտեսագիտական դասակարգման հոդվածներ
F39: ԸՆԴԱՄԵՆԸ ԾԱԽՍԵՐ | G39: =+G40 -> 8625 | H39: =+H40 -> 8625
F40: ՈՉ ՖԻՆԱՆՍԱԿԱՆ ԱԿՏԻՎՆԵՐԻ ԳԾՈՎ ԾԱԽՍԵՐ | G40: =+G41 -> 8625 | H40: =+H41 -> 8625
F41: ՉԱՐՏԱԴՐՎԱԾ ԱԿՏԻՎՆԵՐ | G41: =+G42 -> 8625 | H41: =+H42 -> 8625
F42: ՀՈՂ | G42: =+G43 -> 8625 | H42: =+H43 -> 8625
F43: - Հող | G43: =+'Հավելված 4'!E14 -> 8625 | H43: =+'Հավելված 4'!F14 -> 8625
A44: 09 | F44: ԿՐԹՈՒԹՅՈՒՆ | G44: =+G46+G63 -> -8698 | H44: =+H46+H63 -> -8698
F45: այդ թվում`
B46: 03 | F46: Նախնական մասնագիտական (արհեստագործական) և միջին մասնագիտական կրթություն | G46: =+G48 -> -8698 | H46: =+H48 -> 0
F47: այդ թվում`
C48: 01 | F48: Նախնական մասնագիտական (արհեստագործական) կրթություն | G48: =+G50 -> -8698 | H48: =+H50 -> 0
F49: այդ թվում`
F50: ՀՀ կրթության, գիտության, մշակույթի և սպորտի նախարարություն | G50: =+G52 -> -8698 | H50: =+H52 -> 0
F51: այդ թվում`
D52: 1045 | E52: Նախնական (արհեստագործական) և միջին մասնագիտական կրթություն | G52: =+G54 -> -8698 | H52: =+H54 -> 0
F53: այդ թվում`
E54: 12003 | F54: Նախնական մասնագիտական (արհեստագործական) կրթության գծով ուսանողական նպաստների տրամադրում | G54: =+G56 -> -8698 | H54: =+H56 -> 0
F55: այդ թվում` ըստ կատարողների
F56: ՀՀ կրթության, գիտության, մշակույթի և սպորտի նախարարություն | G56: =G58 -> -8698 | H56: =H58 -> 0
F57: այդ թվում՝ բյուջետային ծախսերի տնտեսագիտական դասակարգման հոդվածներ
F58: ԸՆԴԱՄԵՆԸ ԾԱԽՍԵՐ | G58: =G59 -> -8698 | H58: =H59 -> 0
F59: ԸՆԹԱՑԻԿ ԾԱԽՍԵՐ | G59: =G60 -> -8698 | H59: =H60 -> 0
F60: ՍՈՑԻԱԼԱԿԱՆ ՆՊԱՍՏՆԵՐ ԵՎ ԿԵՆՍԱԹՈՇԱԿՆԵՐ | G60: =+G61 -> -8698 | H60: =+H61 -> 0
F61: Սոցիալական օգնության դրամական արտահայտությամբ նպաստներ (բյուջեից) | G61: =+G62 -> -8698 | H61: =+H62 -> 0
F62: - Այլ նպաստներ բյուջեից | G62: -8698 | H62: 0
B63: 06 | F63: Կրթությանը տրամադրվող օժանդակ ծառայություններ | G63: =+G65 -> 0 | H63: =+H65 -> -8698
F64: այդ թվում`
C65: 01 | F65: Կրթությանը տրամադրվող օժանդակ ծառայություններ | G65: =+G67 -> 0 | H65: =+H67 -> -8698
F66: այդ թվում`
F67: ՀՀ կրթության, գիտության, մշակույթի և սպորտի նախարարություն | G67: =+G69 -> 0 | H67: =+H69 -> -8698
F68: այդ թվում`
D69: 1193 | E69: Համընդհանուր ներառական կրթության համակարգի ներդրում | G69: =+G71 -> 0 | H69: =+H71 -> -8698
F70: այդ թվում`
E71: 11001 | F71: Մանկավարժահոգեբանական աջակցության ծառայություններ և կրթության առանձնահատուկ պայմանների կարիք ունեցող երեխաների կրթության կազմակերպմանն օժանդակող միջոցառումներ | G71: =+G73 -> 0 | H71: =+H73 -> -8698
F72: այդ թվում` ըստ կատարողների
F73: ՀՀ կրթության, գիտության, մշակույթի և սպորտի նախարարություն | G73: =G75 -> 0 | H73: =H75 -> -8698
F74: այդ թվում՝ բյուջետային ծախսերի տնտեսագիտական դասակարգման հոդվածներ
F75: ԸՆԴԱՄԵՆԸ ԾԱԽՍԵՐ | G75: =G76 -> 0 | H75: =H76 -> -8698
F76: ԸՆԹԱՑԻԿ ԾԱԽՍԵՐ | G76: =G77 -> 0 | H76: =H77 -> -8698
F77: ԴՐԱՄԱՇՆՈՐՀՆԵՐ | G77: =+G78 -> 0 | H77: =+H78 -> -8698
F78: ԸՆԹԱՑԻԿ ԴՐԱՄԱՇՆՈՐՀՆԵՐ ՊԵՏԱԿԱՆ ՀԱՏՎԱԾԻ ԱՅԼ ՄԱԿԱՐԴԱԿՆԵՐԻՆ | G78: =+G79 -> 0 | H78: =+H79 -> -8698
F79: - Այլ ընթացիկ դրամաշնորհներ | G79: 0 | H79: =+'Հավելված N 5'!G12 -> -8698
F81: ՀՀ ԿԱՌԱՎԱՐՈՒԹՅՈՒՆ | G81: =+G82 -> 0 | H81: =+H82 -> 0
A82: 11 | F82: ՀԻՄՆԱԿԱՆ ԲԱԺԻՆՆԵՐԻՆ ՉԴԱՍՎՈՂ ՊԱՀՈՒՍՏԱՅԻՆ ՖՈՆԴԵՐ | G82: =+G84 -> 0 | H82: =+H84 -> 0
F83: այդ թվում`
B84: 01 | F84: ՀՀ կառավարության և համայնքների պահուստային ֆոնդ | G84: =+G86 -> 0 | H84: =+H86 -> 0
F85: այդ թվում`
C86: 01 | F86: ՀՀ կառավարության պահուստային ֆոնդ | G86: =+G88 -> 0 | H86: =+H88 -> 0
F87: այդ թվում`
F88: ՀՀ կառավարություն | G88: =+G90 -> 0 | H88: =+H90 -> 0
F89: այդ թվում`
D90: 1139 | E90: ՀՀ կառավարության պահուստային ֆոնդ | F90: ՀՀ կառավարության պահուստային ֆոնդ | G90: =+G92+G100 -> 0 | H90: =+H92+H100 -> 0
F91: այդ թվում`
E92: 11001 | F92: ՀՀ կառավարության պահուստային ֆոնդ | G92: =+G94 -> 8698 | H92: =+H94 -> 8698
F93: այդ թվում` ըստ կատարողների
F94: ՀՀ կառավարություն | G94: =+G96 -> 8698 | H94: =+H96 -> 8698
F95: այդ թվում` բյուջետային ծախսերի տնտեսագիտական դասակարգման հոդվածներ
F96: ԸՆԴԱՄԵՆԸ ԾԱԽՍԵՐ | G96: =+G97 -> 8698 | H96: =+H97 -> 8698
F97: ԸՆԹԱՑԻԿ ԾԱԽՍԵՐ | G97: =+G98 -> 8698 | H97: =+H98 -> 8698
F98: ԱՅԼ ԾԱԽՍԵՐ | G98: =+G99 -> 8698 | H98: =+H99 -> 8698
F99: Պահուստային միջոցներ | G99: 8698 | H99: 8698
E100: 11001 | F100: ՀՀ կառավարության պահուստային ֆոնդ | G100: =+G102 -> -8698 | H100: =+H102 -> -8698
F101: այդ թվում` ըստ կատարողների
F102: ՀՀ կառավարություն | G102: =+G104 -> -8698 | H102: =+H104 -> -8698
F103: այդ թվում` բյուջետային ծախսերի տնտեսագիտական դասակարգման հոդվածներ
...

Sheet Հավելված 3
F1: Հավելված N 3
F2: ՀՀ կառավարության 2022 թվականի
F3: ______________ ի ___Ն որոշման
A5: «ՀԱՅԱUՏԱՆԻ ՀԱՆՐԱՊԵՏՈՒԹՅԱՆ 2022 ԹՎԱԿԱՆԻ ՊԵՏԱԿԱՆ ԲՅՈՒՋԵԻ ՄԱUԻՆ» ՀԱՅԱUՏԱՆԻ ՀԱՆՐԱՊԵՏՈՒԹՅԱՆ OՐԵՆՔԻ N 1 ՀԱՎԵԼՎԱԾԻ N 3 ԱՂՅՈՒՍԱԿՈՒՄ ԿԱՏԱՐՎՈՂ ԼՐԱՑՈՒՄԸ
G8: հազ. դրամներով
A9: Ծրագրային դասիչ | C9: Բյուջետային գլխավոր կարգադրիչների, ծրագրերի, միջոցառումների, միջոցառումները կատարող պետական մարմինների և ուղղությունների անվանումները | D9: Ընդամենը | E9: Ցուցանիշների փոփոխությունը (ավելացումները նշված են դրական նշանով)
A10: Ծրագիր | B10: Միջոցառում | E10: Կառուցման աշխատանքներ | F10: Վերակառուցման, վերանորոգման և վերականգնման աշխատանքներ | G10: Նախագծահե- տազոտական, գեոդեզիա- քարտեզագրա- կան աշխա- տանքներ | H10: Ոչ ֆինանսական այլ ակտիվների ձեռքբերում
C11: ԸՆԴԱՄԵՆԸ | D11: =SUM(E11:H11) -> 8625 | E11: =+E13 -> 0 | F11: =+F13 -> 0 | G11: =+G13 -> 0 | H11: =+H13 -> 8625
C12: այդ թվում՝
C13: ՀՀ ԿՐԹՈՒԹՅԱՆ, ԳԻՏՈՒԹՅԱՆ, ՄՇԱԿՈՒՅԹԻ ԵՎ ՍՊՈՐՏԻ ՆԱԽԱՐԱՐՈՒԹՅՈՒՆ | D13: =SUM(E13:H13) -> 8625 | E13: =+E15 -> 0 | F13: =+F15 -> 0 | G13: =+G15 -> 0 | H13: =+H15 -> 8625
C14: այդ թվում`
A15: 1075 | B15: 21005 | C15: Հայաստանի Հանրապետությունում տեղակայված և տեղակայվող արձանների և քանդակների հարակից հողատարածքների ձեռքբերում | D15: =SUM(E15:H15) -> 8625 | E15: =+E17 -> 0 | F15: =+F17 -> 0 | G15: =+G17 -> 0 | H15: =+H17 -> 8625
C16: այդ թվում`
C17: ՀՀ Կոտայքի մարզ | D17: =SUM(E17:H17) -> 8625 | E17: =+E18 -> 0 | F17: =+F18 -> 0 | G17: =+G18 -> 0 | H17: =+H18 -> 8625
C18: «Արձագանք» քանդակի հարակից տարածքի` 0,16 հեկտար 07-051-0315-0003 կադաստրային ծածկագրով հողամաս | D18: =+E18+F18+G18+H18 -> 8625 | H18: 8625

Sheet Հավելված 4
E1: Հավելված N 4
E2: ՀՀ կառավարության 2022 թվականի
E3: ______________ ի ___Ն որոշման
B5: ՀԱՅԱՍՏԱՆԻ ՀԱՆՐԱՊԵՏՈՒԹՅԱՆ ԿԱՌԱՎԱՐՈՒԹՅԱՆ 2021 ԹՎԱԿԱՆԻ ԴԵԿՏԵՄԲԵՐԻ 23-Ի N 2121-Ն ՈՐՈՇՄԱՆ N 5 ՀԱՎԵԼՎԱԾԻ N 2 ԱՂՅՈՒՍԱԿՈՒՄ ԿԱՏԱՐՎՈՂ ԼՐԱՑՈՒՄԸ
F7: հազ. դրամներով
B8: Ծրագրային դասիչ | D8: Բյուջետային գլխավոր կարգադրիչների, ծրագրերի, միջոցառումների, միջոցառումները կատարող պետական մարմինների և ուղղությունների անվանումները | E8: Ցուցանիշների փոփոխությունը (ավելացումները նշված են դրական նշանով)
B9: Ծրագիր | C9: Միջոցառում | E9: Ինն ամիս | F9: Տարի
D10: ՀՀ ԿՐԹՈՒԹՅԱՆ, ԳԻՏՈՒԹՅԱՆ, ՄՇԱԿՈՒՅԹԻ ԵՎ ՍՊՈՐՏԻ ՆԱԽԱՐԱՐՈՒԹՅՈՒՆ | E10: =+E12 -> 8625 | F10: =+F12 -> 8625
D11: այդ թվում՝
B12: 1075 | C12: 21005 | D12: Հայաստանի Հանրապետությունում տեղակայված և տեղակայվող արձանների և քանդակների հարակից հողատարածքների ձեռքբերում | E12: =+E14 -> 8625 | F12: =+F14 -> 8625
D13: այդ թվում` ըստ կատարողների
D14: ՀՀ Կոտայքի մարզպետարան | E14: =+E16 -> 8625 | F14: =+F16 -> 8625
D15: այդ թվում՝ ըստ ուղղությունների
D16: ՀՀ Կոտայքի մարզ | E16: =+E17 -> 8625 | F16: =+F17 -> 8625
D17: «Արձագանք» քանդակի հարակից տարածքի` 0,16 հեկտար 07-051-0315-0003 կադաստրային ծածկագրով հողամաս | E17: =+'Հավելված 3'!D18 -> 8625 | F17: =+E17 -> 8625

Sheet Հավելված N 5
F1: Հավելված N 5
F2: ՀՀ կառավարության 2021 թվականի
F3: ______________ ի ___Ն որոշման
A6: ՀԱՅԱՍՏԱՆԻ ՀԱՆՐԱՊԵՏՈՒԹՅԱՆ ԿԱՌԱՎԱՐՈՒԹՅԱՆ 2021 ԹՎԱԿԱՆԻ ԴԵԿՏԵՄԲԵՐԻ 23-Ի N 2121-Ն ՈՐՈՇՄԱՆ N 5 ՀԱՎԵԼՎԱԾԻ N 7 ԱՂՅՈՒՍԱԿՈՒՄ ԿԱՏԱՐՎՈՂ ՓՈՓՈԽՈՒԹՅՈՒՆԸ
G7: հազ. դրամներով
A8: Ծրագրային դասիչը | C8: Բյուջետային հատկացումների գլխավոր կարգադրիչների, ծրագրերի, միջոցառումների և միջոցառումները կատարող պետական մարմինների անվանումները | F8: Միջոցառումները կատարող պետական մարմինների և դրամաշնորհ ստացող տնտեսվարող սուբյեկտների անվանումները | G8: Ցուցանիշների փոփոխությունը (նվազեցումները նշված են փակագծերում)
A9: Ծրագիր | B9: Միջոցառում | G9: Տարի
A10: ՀՀ կրթության, գիտության, մշակույթի և սպորտի նախարարություն | G10: =+G11 -> -8698
A11: 1193 | B11: Համընդհանուր ներառական կրթության համակարգի ներդրում | G11: =+G12 -> -8698
B12: 11001 | C12: Մանկավարժահոգեբանական աջակցության ծառայություններ և կրթության առանձնահատուկ պայմանների կարիք ունեցող երեխաների կրթության կազմակերպմանն օժանդակող միջոցառումներ | F12: ՀՀ կրթության, գիտության, մշակույթի և սպորտի նախարարություն | G12: =SUM(G13:G13) -> -8698
F13: Մրցույթով ընտրված կազմակերպություն | G13: -8698

Sheet Հավելված N 6
C1: Հավելված N 6
C2: ՀՀ կառավարության 2022 թվականի
C3: ______________ ի ___Ն որոշման
B5: ՀԱՅԱՍՏԱՆԻ ՀԱՆՐԱՊԵՏՈՒԹՅԱՆ ԿԱՌԱՎԱՐՈՒԹՅԱՆ 2021 ԹՎԱԿԱՆԻ ԴԵԿՏԵՄԲԵՐԻ 23-Ի N 2121-Ն ՈՐՈՇՄԱՆ N 9 ՀԱՎԵԼՎԱԾԻ N 9.13 ԵՎ 9.47 ԱՂՅՈՒՍԱԿՆԵՐՈՒՄ ԿԱՏԱՐՎՈՂ ՓՈՓՈԽՈՒԹՅՈՒՆՆԵՐԸ ԵՎ ԼՐԱՑՈՒՄՆԵՐԸ
A7: Աղյուսակ 9․13
C8: ՀՀ կրթության, գիտության, մշակույթի և սպորտի նախարարություն
B9: ՄԱՍ 2. ՊԵՏԱԿԱՆ ՄԱՐՄՆԻ ԳԾՈՎ ԱՐԴՅՈՒՆՔԱՅԻՆ (ԿԱՏԱՐՈՂԱԿԱՆ) ՑՈՒՑԱՆԻՇՆԵՐԸ
B12: Ծրագրի դասիչը | C12: Ծրագրի անվանումը
B13: 1075 | C13: Մշակութային ժառանգության ծրագիր
B15: Ծրագրի միջոցառումները
B16: Ծրագրի դասիչը՝ | C16: 1075 | D16: Ցուցանիշների փոփոխությունը (ավելացումները նշված են դրական նշանով)
B17: Միջոցառման դասիչը՝ | C17: 11006 | D17: Ինն ամիս | E17: Տարի
B18: Միջոցառման անվանումը՝ | C18: Հայաստանի Հանրապետությունում տեղակայված և տեղակայվող արձանների և քանդակների հարակից հողատարածքների արժեքի գնահատում և գույքային իրավունքների գրանցում
B19: Նկարագրությունը՝ | C19: ՀՀ-ում տեղակայված և տեղակայվող արձանների և քանդակների հարակից, մասնավոր սեփականություն հանդիսացող հողամասերի նկատմամբ հանրության գերակա շահ ճանաչելու արդյունքում դրանց արժեքի գնահատման, գույքային իրավունքների գրանցման համար և այլ վճարների կատարում
B20: Միջոցառման տեսակը՝ | C20: Ծառայությունների մատուցում
B21: Ծառայությունը մատուցող կազմակերպության անվանումը | C21: Մասնագիտացված կազմակերպություններ
B22: Արդյունքի չափորոշիչներ
B23: Գույքային իրավունքների գրանցման համար վճարված պետական տուրքի տեսակ, հատ | D23: 1 | E23: 1
B24: Գույքի արժեքի գնահատման համար ձեռքբերված եզրակացությունների քանակ, հատ | D24: 1 | E24: 1
B25: Միջոցառման վրա կատարվող ծախսը (հազար դրամ) | D25: =+'Հավելված N 1'!D34 -> 73 | E25: =+'Հավելված N 1'!E34 -> 73
B27: Ծրագրի միջոցառումները
B28: Ծրագրի դասիչը՝ | C28: 1075 | D28: Ցուցանիշների փոփոխությունը (ավելացումները նշված են դրական նշանով)
B29: Միջոցառման դասիչը՝ | C29: 21005 | D29: Ինն ամիս | E29: Տարի
B30: Միջոցառման անվանումը՝ | C30: Հայաստանի Հանրապետությունում տեղակայված և տեղակայվող արձանների և քանդակների հարակից հողատարածքների ձեռքբերում
B31: Նկարագրությունը՝ | C31: Հայաստանի Հանրապետությունում արդեն տեղակայված և նոր պատրաստվող ու տեղակայվող արձանների և քանդակների հարակից, մասնավոր սեփականությունը հանդիսացող հողատարածքների նկատմամբ հանրության գերակա շահ ճանաչելու արդյունքում գույքային իրավունքների ձեռքբերում
B32: Միջոցառման տեսակը՝ | C32: Հանրության կողմից անմիջականորեն օգտագործվող ակտիվների հետ կապված միջոցառումներ
B33: Ակտիվն օգտագործող կազմակերպությունների անվանում | C33: Մասնագիտացված միավոր
B34: Արդյունքի չափորոշիչներ
B35: Ձեռքբերվող հողատարածքի մակերես, քմ | D35: 1600 | E35: 1600
B36: Ձեռքբերվող հողատարածքի վրա տեղակայաված արձանի (քանդակի) քանակ, հատ | D36: 1 | E36: 1
B37: Միջոցառման վրա կատարվող ծախսը (հազար դրամ) | D37: =+'Հավելված N 1'!D40 -> 8625 | E37: =+'Հավելված N 1'!E40 -> 8625
B39: Ծրագրի դասիչը | C39: Ծրագրի անվանումը
B40: 1045 | C40: Նախնական (արհեստագործական) և միջին մասնագիտական կրթություն
B42: Ծրագրի միջոցառումները
B43: Ծրագրի դասիչը՝ | C43: 1045 | D43: Ցուցանիշների փոփոխությունը (նվազեցումները նշված են փակագծերում)
B44: Միջոցառման դասիչը՝ | C44: 12003 | D44: Ինն ամիս | E44: Տարի
B45: Միջոցառման անվանումը՝ | C45: Նախնական մասնագիտական (արհեստագործական) կրթության գծով ուսանողական նպաստների տրամադրում
B46: Նկարագրությունը՝ | C46: Նախնական մասնագիտական (արհեստագործական) կրթության գծով ուսանողական նպաստների տրամադրում
B47: Միջոցառման տեսակը՝ | C47: Տրանսֆերտների տրամադրում
B48: Շահառուների ընտրության չափորոշիչները՛ | C48: Նախնական մասնագիտական (արհեստագործական) կրթություն ստացող ուսանողներ
B49: Արդյունքի չափորոշիչներ
B50: Միջոցառման վրա կատարվող ծախսը (հազար դրամ) | D50: =+'Հավելված N 1'!D21 -> -8698 | E50: =+'Հավելված N 1'!E21 -> 0
B52: Ծրագրի դասիչը | C52: Ծրագրի անվանումը
B53: 1193 | C53: Համընդհանուր ներառական կրթության համակարգի ներդրում
B55: Ծրագրի միջոցառումները
B56: Ծրագրի դասիչը՝ | C56: 1193 | D56: Ցուցանիշների փոփոխությունը (նվազեցումները նշված են փակագծերում)
B57: Միջոցառման դասիչը՝ | C57: 11001 | D57: Ինն ամիս | E57: Տարի
B58: Միջոցառման անվանումը՝ | C58: Մանկավարժահոգեբանական աջակցության ծառայություններ և կրթության առանձնահատուկ պայմանների կարիք ունեցող երեխաների կրթության կազմակերպմանն օժանդակող միջոցառումներ
B59: Նկարագրությունը՝ | C59: Երեխաների կրթության առանձնահատուկ պայմանների կարիքի բացահայտում և գնահատում, կրթության աջակցության ծառայությունների իրականացում և կրթության կազմակերպման համար նախատեսված ծրագրերի, ձեռնարկների, ուսումնական այլ նյութերի մշակում, հրատարակում և ձեռքբերում
B60: Միջոցառման տեսակը՝ | C60: Ծառայությունների մատուցում
B61: Ծառայությունը մատուցող կազմակերպության(ների) անվանում(ներ)ը | C61: Մասնագիտացված կազմակերպություններ,
B62: Արդյունքի չափորոշիչներ
B63: Միջոցառման վրա կատարվող ծախսը (հազար դրամ) | D63: =+'Հավելված N 1'!D53 -> 0 | E63: =+'Հավելված N 1'!E53 -> -8698
A67: Աղյուսակ 9․47
C68: ՀՀ կառավարություն
B69: ՄԱՍ 2. ՊԵՏԱԿԱՆ ՄԱՐՄՆԻ ԳԾՈՎ ԱՐԴՅՈՒՆՔԱՅԻՆ (ԿԱՏԱՐՈՂԱԿԱՆ) ՑՈՒՑԱՆԻՇՆԵՐԸ
B72: Ծրագրի դասիչը | C72: Ծրագրի անվանումը
B73: 1139 | C73: ՀՀ կառավարության պահուստային ֆոնդ
B75: Ծրագրի միջոցառումները
B76: Ծրագրի դասիչը՝ | C76: 1139 | D76: Ցուցանիշների փոփոխությունը (ավելացումները նշված են դրական նշանով)
B77: Միջոցառման դասիչը՝ | C77: 11001 | D77: Ինն ամիս | E77: Տարի
B78: Միջոցառման անվանումը՝ | C78: ՀՀ կառավարության պահուստային ֆոնդ
B79: Նկարագրությունը՝ | C79: ՀՀ պետական բյուջեում նախատեսված ելքերի լրացուցիչ ֆինանսավորման՝ պետական բյուջեում չկանխատեսված ելքերի, ինչպես նաև բյուջետային երաշխիքների ապահովման ելքերի ֆինանսավորման ապահովում
B80: Միջոցառման տեսակը՝ | C80: Ծառայությունների մատուցում
B81: Միջոցառումն իրականացնողի անվանումը | C81: ՀՀ կառավարություն
C82: Արդյունքի չափորոշիչներ
B83: Միջոցառման վրա կատարվող ծախսը (հազար դրամ) | D83: =+'Հավելված N 1'!D67 -> 8698 | E83: =+'Հավելված N 1'!E67 -> 8698
B85: Ծրագրի դասիչը՝ | C85: 1139 | D85: Ցուցանիշների փոփոխությունը (նվազեցումները նշված են փակագծերում)
B86: Միջոցառման դասիչը՝ | C86: 11001 | D86: Ինն ամիս | E86: Տարի
B87: Միջոցառման անվանումը՝ | C87: ՀՀ կառավարության պահուստային ֆոնդ
B88: Նկարագրությունը՝ | C88: ՀՀ պետական բյուջեում նախատեսված ելքերի լրացուցիչ ֆինանսավորման՝ պետական բյուջեում չկանխատեսված ելքերի, ինչպես նաև բյուջետային երաշխիքների ապահովման ելքերի ֆինանսավորման ապահովում
B89: Միջոցառման տեսակը՝ | C89: Ծառայությունների մատուցում
B90: Միջոցառումն իրականացնողի անվանումը | C90: ՀՀ կառավարություն
C91: Արդյունքի չափորոշիչներ
B92: Միջոցառման վրա կատարվող ծախսը (հազար դրամ) | D92: =+'Հավելված N 1'!D73 -> -8698 | E92: =+'Հավելված N 1'!E73 -> -8698

Sheet Հավելված N 7
C1: Հավելված N 7
C2: ՀՀ կառավարության 2022 թվականի
C3: ______________ ի ___Ն որոշման
B5: ՀԱՅԱՍՏԱՆԻ ՀԱՆՐԱՊԵՏՈՒԹՅԱՆ ԿԱՌԱՎԱՐՈՒԹՅԱՆ 2021 ԹՎԱԿԱՆԻ ԴԵԿՏԵՄԲԵՐԻ 23-Ի N 2121-Ն ՈՐՈՇՄԱՆ N 9.1 ՀԱՎԵԼՎԱԾԻ N 9.1.14, 9.1.54 ԵՎ 9․1.59 ԱՂՅՈՒՍԱԿՆԵՐՈՒՄ ԿԱՏԱՐՎՈՂ ՓՈՓՈԽՈՒԹՅՈՒՆՆԵՐԸ ԵՎ ԼՐԱՑՈՒՄՆԵՐԸ
A7: Աղյուսակ 9․1.14
C8: ՀՀ կրթության, գիտության, մշակույթի և սպորտի նախարարություն
B9: ՄԱՍ 1. ՊԵՏԱԿԱՆ ՄԱՐՄՆԻ ԳԾՈՎ ԱՐԴՅՈՒՆՔԱՅԻՆ (ԿԱՏԱՐՈՂԱԿԱՆ) ՑՈՒՑԱՆԻՇՆԵՐԸ
B12: Ծրագրի դասիչը | C12: Ծրագրի անվանումը
B13: 1045 | C13: Նախնական (արհեստագործական) և միջին մասնագիտական կրթություն
B15: Ծրագրի միջոցառումները
B16: Ծրագրի դասիչը՝ | C16: 1045 | D16: Ցուցանիշների փոփոխությունը (նվազեցումները նշված են փակագծերում)
B17: Միջոցառման դասիչը՝ | C17: 12003 | D17: Ինն ամիս | E17: Տարի
B18: Միջոցառման անվանումը՝ | C18: Նախնական մասնագիտական (արհեստագործական) կրթության գծով ուսանողական նպաստների տրամադրում
B19: Նկարագրությունը՝ | C19: Նախնական մասնագիտական (արհեստագործական) կրթության գծով ուսանողական նպաստների տրամադրում
B20: Միջոցառման տեսակը՝ | C20: Տրանսֆերտների տրամադրում
B21: Շահառուների ընտրության չափորոշիչները՛ | C21: Նախնական մասնագիտական (արհեստագործական) կրթություն ստացող ուսանողներ
B22: Արդյունքի չափորոշիչներ
B23: Միջոցառման վրա կատարվող ծախսը (հազար դրամ) | D23: =+'Հավելված N 2'!G56 -> -8698 | E23: =+'Հավելված N 2'!H56 -> 0
B25: Ծրագրի դասիչը | C25: Ծրագրի անվանումը
B26: 1193 | C26: Համընդհանուր ներառական կրթության համակարգի ներդրում
B28: Ծրագրի միջոցառումները
B29: Ծրագրի դասիչը՝ | C29: 1193 | D29: Ցուցանիշների փոփոխությունը (նվազեցումները նշված են փակագծերում)
B30: Միջոցառման դասիչը՝ | C30: 11001 | D30: Ինն ամիս | E30: Տարի
B31: Միջոցառման անվանումը՝ | C31: Մանկավարժահոգեբանական աջակցության ծառայություններ և կրթության առանձնահատուկ պայմանների կարիք ունեցող երեխաների կրթության կազմակերպմանն օժանդակող միջոցառումներ
B32: Նկարագրությունը՝ | C32: Երեխաների կրթության առանձնահատուկ պայմանների կարիքի բացահայտում և գնահատում, կրթության աջակցության ծառայությունների իրականացում և կրթության կազմակերպման համար նախատեսված ծրագրերի, ձեռնարկների, ուսումնական այլ նյութերի մշակում, հրատարակում և ձեռքբերում
B33: Միջոցառման տեսակը՝ | C33: Ծառայությունների մատուցում
B34: Ծառայությունը մատուցող կազմակերպության(ների) անվանում(ներ)ը | C34: Մասնագիտացված կազմակերպություններ,
B35: Արդյունքի չափորոշիչներ
B36: Միջոցառման վրա կատարվող ծախսը (հազար դրամ) | D36: =+'Հավելված N 2'!G73 -> 0 | E36: =+'Հավելված N 2'!H73 -> -8698
A42: Աղյուսակ 9․1.54
C43: ՀՀ Կոտայքի մարզպետարան
B44: ՄԱՍ 1. ՊԵՏԱԿԱՆ ՄԱՐՄՆԻ ԳԾՈՎ ԱՐԴՅՈՒՆՔԱՅԻՆ (ԿԱՏԱՐՈՂԱԿԱՆ) ՑՈՒՑԱՆԻՇՆԵՐԸ
B47: Ծրագրի դասիչը | C47: Ծրագրի անվանումը
B48: 1075 | C48: Մշակութային ժառանգության ծրագիր
B50: Ծրագրի միջոցառումները
B51: Ծրագրի դասիչը՝ | C51: 1075 | D51: Ցուցանիշների փոփոխությունը (ավելացումները նշված են դրական նշանով)
B52: Միջոցառման դասիչը՝ | C52: 11006 | D52: Ինն ամիս | E52: Տարի
B53: Միջոցառման անվանումը՝ | C53: Հայաստանի Հանրապետությունում տեղակայված և տեղակայվող արձանների և քանդակների հարակից հողատարածքների արժեքի գնահատում և գույքային իրավունքների գրանցում
B54: Նկարագրությունը՝ | C54: ՀՀ-ում տեղակայված և տեղակայվող արձանների և քանդակների հարակից, մասնավոր սեփականություն հանդիսացող հողամասերի նկատմամբ հանրության գերակա շահ ճանաչելու արդյունքում դրանց արժեքի գնահատման, գույքային իրավունքների գրանցման համար և այլ վճարների կատարում
B55: Միջոցառման տեսակը՝ | C55: Ծառայությունների մատուցում
B56: Ծառայությունը մատուցող կազմակերպության անվանումը | C56: Մասնագիտացված կազմակերպություններ
B57: Արդյունքի չափորոշիչներ
B58: Գույքային իրավունքների գրանցման համար վճարված պետական տուրքի տեսակ, հատ | D58: 1 | E58: 1
B59: Գույքի արժեքի գնահատման համար ձեռքբերված եզրակացությունների քանակ, հատ | D59: 1 | E59: 1
B60: Միջոցառման վրա կատարվող ծախսը (հազար դրամ) | D60: =+'Հավելված N 2'!G25 -> 73 | E60: =+'Հավելված N 2'!H25 -> 73
B62: Ծրագրի միջոցառումները
B63: Ծրագրի դասիչը՝ | C63: 1075 | D63: Ցուցանիշների փոփոխությունը (ավելացումները նշված են դրական նշանով)
B64: Միջոցառման դասիչը՝ | C64: 21005 | D64: Ինն ամիս | E64: Տարի
B65: Միջոցառման անվանումը՝ | C65: Հայաստանի Հանրապետությունում տեղակայված և տեղակայվող արձանների և քանդակների հարակից հողատարածքների ձեռքբերում
B66: Նկարագրությունը՝ | C66: Հայաստանի Հանրապետությունում արդեն տեղակայված և նոր պատրաստվող ու տեղակայվող արձանների և քանդակների հարակից, մասնավոր սեփականությունը հանդիսացող հողատարածքների նկատմամբ հանրության գերակա շահ ճանաչելու արդյունքում գույքային իրավունքների ձեռքբերում
B67: Միջոցառման տեսակը՝ | C67: Հանրության կողմից անմիջականորեն օգտագործվող ակտիվների հետ կապված միջոցառումներ
B68: Ակտիվն օգտագործող կազմակերպությունների անվանում | C68: Մասնագիտացված միավոր
B69: Արդյունքի չափորոշիչներ
B70: Ձեռքբերվող հողատարածքի մակերես, քմ | D70: 1600 | E70: 1600
B71: Ձեռքբերվող հողատարածքի վրա տեղակայաված արձանի (քանդակի) քանակ, հատ | D71: 1 | E71: 1
B72: Միջոցառման վրա կատարվող ծախսը (հազար դրամ) | D72: =+'Հավելված N 2'!G37 -> 8625 | E72: =+'Հավելված N 2'!H37 -> 8625
A78: Աղյուսակ 9․1.58
C79: ՀՀ կառավարություն
B80: ՄԱՍ 1. ՊԵՏԱԿԱՆ ՄԱՐՄՆԻ ԳԾՈՎ ԱՐԴՅՈՒՆՔԱՅԻՆ (ԿԱՏԱՐՈՂԱԿԱՆ) ՑՈՒՑԱՆԻՇՆԵՐԸ
B83: Ծրագրի դասիչը | C83: Ծրագրի անվանումը
B84: 1139 | C84: ՀՀ կառավարության պահուստային ֆոնդ
B86: Ծրագրի միջոցառումները
B87: Ծրագրի դասիչը՝ | C87: 1139 | D87: Ցուցանիշների փոփոխությունը (ավելացումները նշված են դրական նշանով)
B88: Միջոցառման դասիչը՝ | C88: 11001 | D88: Ինն ամիս | E88: Տարի
B89: Միջոցառման անվանումը՝ | C89: ՀՀ կառավարության պահուստային ֆոնդ
B90: Նկարագրությունը՝ | C90: ՀՀ պետական բյուջեում նախատեսված ելքերի լրացուցիչ ֆինանսավորման՝ պետական բյուջեում չկանխատեսված ելքերի, ինչպես նաև բյուջետային երաշխիքների ապահովման ելքերի ֆինանսավորման ապահովում
B91: Միջոցառման տեսակը՝ | C91: Ծառայությունների մատուցում
B92: Միջոցառումն իրականացնողի անվանումը | C92: ՀՀ կառավարություն
C93: Արդյունքի չափորոշիչներ
B94: Միջոցառման վրա կատարվող ծախսը (հազար դրամ) | D94: =+'Հավելված N 2'!G94 -> 8698 | E94: =+'Հավելված N 2'!H94 -> 8698
B96: Ծրագրի դասիչը՝ | C96: 1139 | D96: Ցուցանիշների փոփոխությունը (նվազեցումները նշված են փակագծերում)
B97: Միջոցառման դասիչը՝ | C97: 11001 | D97: Ինն ամիս | E97: Տարի
B98: Միջոցառման անվանումը՝ | C98: ՀՀ կառավարության պահուստային ֆոնդ
B99: Նկարագրությունը՝ | C99: ՀՀ պետական բյուջեում նախատեսված ելքերի լրացուցիչ ֆինանսավորման՝ պետական բյուջեում չկանխատեսված ելքերի, ինչպես նաև բյուջետային երաշխիքների ապահովման ելքերի ֆինանսավորման ապահովում
B100: Միջոցառման տեսակը՝ | C100: Ծառայությունների մատուցում
B101: Միջոցառումն իրականացնողի անվանումը | C101: ՀՀ կառավարություն
C102: Արդյունքի չափորոշիչներ
B103: Միջոցառման վրա կատարվող ծախսը (հազար դրամ) | D103: =+'Հավելված N 2'!G102 -> -8698 | E103: =+'Հավելված N 2'!H102 -> -8698

Sheet Հավելված N 8
H1: Հավելված N 8
H2: ՀՀ կառավարության 2021 թվականի
H3: ______________ ի ___Ն որոշման
A6: ՀԱՅԱՍՏԱՆԻ ՀԱՆՐԱՊԵՏՈՒԹՅԱՆ ԿԱՌԱՎԱՐՈՒԹՅԱՆ 2021 ԹՎԱԿԱՆԻ ԴԵԿՏԵՄԲԵՐԻ 23-Ի N 2121-Ն N 10 ՀԱՎԵԼՎԱԾՈՒՄ ԿԱՏԱՐՎՈՂ ԼՐԱՑՈՒՄԸ
A10: Կոդը | B10: Անվանումը | E10: Գնման ձևը | F10: Չափման միավորը | G10: Միավորի գինը | H10: Ցուցանիշների փոփոխությունը (ավելացումները նշված են դրական նշանով)
H11: Քանակը | I11: Գումարը (հազար դրամ)
A12: 1 | B12: 2 | E12: 3 | F12: 4 | G12: 5 | H12: 6 | I12: 7
A13: ՀՀ Կոտայքի մարզպետարան | I13: =+I14 -> 70
A14: Բաժին N 08 | B14: Խումբ N 02 | C14: Դաս N 07 | D14: Հուշարձանների և մշակութային արժեքների վերականգնում և պահպանում | I14: =+I15 -> 70
A15: 1075-11006 | B15: Հայաստանի Հանրապետությունում տեղակայված և տեղակայվող արձանների և քանդակների հարակից հողատարածքների արժեքի գնահատում և գույքային իրավունքների գրանցում | I15: =+I16 -> 70
B16: ՄԱՍ III. ԾԱՌԱՅՈՒԹՅՈՒՆՆԵՐ | I16: =SUM(I17:I17) -> 70
A17: 70331800 | B17: անշարժ գույքի գնահատման ծառայություններ | E17: ՄԱ | F17: դրամ | G17: 70000 | H17: 1 | I17: =+G17*H17/1000 -> 70

Sheet Հավելված N 9
G1: Հավելված N 9
H2: ՀՀ կառավարության 2022 թվականի
H3: ______________ ի ___Ն որոշման
A6: ՀԱՅԱՍՏԱՆԻ ՀԱՆՐԱՊԵՏՈՒԹՅԱՆ 2022 ԹՎԱԿԱՆԻ ՊԵՏԱԿԱՆ ԲՅՈՒՋԵՈՎ ՆԱԽԱՏԵՍՎԱԾ՝ ՀԱՅԱՍՏԱՆԻ ՀԱՆՐԱՊԵՏՈՒԹՅԱՆ ԿԱՌԱՎԱՐՈՒԹՅԱՆ ՊԱՀՈՒՍՏԱՅԻՆ ՖՈՆԴԻՑ ՀԱՏԿԱՑՈՒՄՆԵՐ ԿԱՏԱՐԵԼՈՒ ՎԵՐԱԲԵՐՅԱԼ
H9: հազ. դրամներով
A10: Գործառական դասիչը | D10: Ծրագրային դասիչը | F10: Բյուջետային հատկացումների գլխավոր կարգադրիչների, ծրագրերի, միջոցառումների և միջոցառումները կատարող պետական մարմինների անվանումները | G10: Ցուցանիշների փոփոխությունը (ավելացումները նշված են դրական նշանով, իսկ նվազեցումները՝ փակագծերում)
A11: Բաժին | B11: Խումբ | C11: Դաս | D11: Ծրագիր | E11: Միջոցառում | G11: Ինն ամիս | H11: Տարի
F12: ԸՆԴԱՄԵՆԸ | G12: =+G34+G14 -> 0 | H12: =+H34+H14 -> 0
F13: այդ թվում
F14: ՀՀ ԿԱՌԱՎԱՐՈՒԹՅՈՒՆ | G14: =+G15 -> -8698 | H14: =+H15 -> -8698
A15: 11 | F15: ՀԻՄՆԱԿԱՆ ԲԱԺԻՆՆԵՐԻՆ ՉԴԱՍՎՈՂ ՊԱՀՈՒՍՏԱՅԻՆ ՖՈՆԴԵՐ | G15: =+G17 -> -8698 | H15: =+H17 -> -8698
F16: այդ թվում`
B17: 01 | F17: ՀՀ կառավարության և համայնքների պահուստային ֆոնդ | G17: =+G19 -> -8698 | H17: =+H19 -> -8698
F18: այդ թվում`
C19: 01 | F19: ՀՀ կառավարության պահուստային ֆոնդ | G19: =+G21 -> -8698 | H19: =+H21 -> -8698
F20: այդ թվում`
F21: ՀՀ կառավարություն | G21: =+G23 -> -8698 | H21: =+H23 -> -8698
F22: այդ թվում`
D23: 1139 | E23: ՀՀ կառավարության պահուստային ֆոնդ | F23: ՀՀ կառավարության պահուստային ֆոնդ | G23: =+G25 -> -8698 | H23: =+H25 -> -8698
F24: այդ թվում`
E25: 11001 | F25: ՀՀ կառավարության պահուստային ֆոնդ | G25: =+G27 -> -8698 | H25: =+H27 -> -8698
F26: այդ թվում` ըստ կատարողների
F27: ՀՀ կառավարություն | G27: =+G29 -> -8698 | H27: =+H29 -> -8698
F28: այդ թվում` բյուջետային ծախսերի տնտեսագիտական դասակարգման հոդվածներ
F29: ԸՆԴԱՄԵՆԸ ԾԱԽՍԵՐ | G29: =+G30 -> -8698 | H29: =+H30 -> -8698
F30: ԸՆԹԱՑԻԿ ԾԱԽՍԵՐ | G30: =+G31 -> -8698 | H30: =+H31 -> -8698
F31: ԱՅԼ ԾԱԽՍԵՐ | G31: =+G32 -> -8698 | H31: =+H32 -> -8698
F32: Պահուստային միջոցներ | G32: =+'Հավելված N 2'!G107 -> -8698 | H32: =+'Հավելված N 2'!H107 -> -8698
F34: ՀՀ ԿՐԹՈՒԹՅԱՆ, ԳԻՏՈՒԹՅԱՆ, ՄՇԱԿՈՒՅԹԻ ԵՎ ՍՊՈՐՏԻ ՆԱԽԱՐԱՐՈՒԹՅՈՒՆ | G34: =+G35 -> 8698 | H34: =+H35 -> 8698
A35: 08 | F35: ՀԱՆԳԻՍՏ, ՄՇԱԿՈՒՅԹ ԵՎ ԿՐՈՆ | G35: =+G37 -> 8698 | H35: =+H37 -> 8698
F36: այդ թվում`
B37: 02 | F37: Մշակութային ծառայություններ | G37: =+G39 -> 8698 | H37: =+H39 -> 8698
F38: այդ թվում`
C39: 07 | F39: Արվեստ | G39: =+G41 -> 8698 | H39: =+H41 -> 8698
F40: այդ թվում`
F41: ՀՀ կրթության, գիտության, մշակույթի և սպորտի նախարարություն | G41: =+G43 -> 8698 | H41: =+H43 -> 8698
F42: այդ թվում`
D43: 1075 | E43: Մշակութային ժառանգության ծրագիր | G43: =+G45+G57 -> 8698 | H43: =+H45+H57 -> 8698
F44: այդ թվում`
E45: 11006 | F45: Հայաստանի Հանրապետությունում տեղակայված և տեղակայվող արձանների և քանդակների հարակից հողատարածքների արժեքի գնահատում և գույքային իրավունքների գրանցում | G45: =+G47 -> 73 | H45: =+H47 -> 73
F46: այդ թվում` ըստ կատարողների
F47: ՀՀ Կոտայքի մարզպետարան | G47: =+G49 -> 73 | H47: =+H49 -> 73
F48: այդ թվում՝ բյուջետային ծախսերի տնտեսագիտական դասակարգման հոդվածներ
F49: ԸՆԴԱՄԵՆԸ ԾԱԽՍԵՐ | G49: =+G50 -> 73 | H49: =+H50 -> 73
F50: ԸՆԹԱՑԻԿ ԾԱԽՍԵՐ | G50: =+G51+G54 -> 73 | H50: =+H51+H54 -> 73
F51: ԾԱՌԱՅՈՒԹՅՈՒՆՆԵՐԻ ԵՎ ԱՊՐԱՆՔՆԵՐԻ ՁԵՌՔ ԲԵՐՈՒՄ | G51: =+G52 -> 70 | H51: =+H52 -> 70
F52: ԱՅԼ ՄԱՍՆԱԳԻՏԱԿԱՆ ԾԱՌԱՅՈՒԹՅՈՒՆՆԵՐԻ ՁԵՌՔ ԲԵՐՈՒՄ | G52: =+G53 -> 70 | H52: =+H53 -> 70
F53: - Մասնագիտական ծառայություններ | G53: =+'Հավելված N 2'!G31 -> 70 | H53: =+'Հավելված N 2'!H31 -> 70
F54: ԱՅԼ ԾԱԽՍԵՐ | G54: =+G55 -> 3 | H54: =+H55 -> 3
F55: ՀԱՐԿԵՐ, ՊԱՐՏԱԴԻՐ ՎՃԱՐՆԵՐ ԵՎ ՏՈՒՅԺԵՐ, ՈՐՈՆՔ ԿԱՌԱՎԱՐՄԱՆ ՏԱՐԲԵՐ ՄԱԿԱՐԴԱԿՆԵՐԻ ԿՈՂՄԻՑ ԿԻՐԱՌՎՈՒՄ ԵՆ ՄԻՄՅԱՆՑ ՆԿԱՏՄԱՄԲ | G55: =+G56 -> 3 | H55: =+H56 -> 3
F56: - Պարտադիր վճարներ | G56: =+'Հավելված N 2'!G34 -> 3 | H56: 3
E57: 21005 | F57: Հայաստանի Հանրապետությունում տեղակայված և տեղակայվող արձանների և քանդակների հարակից հողատարածքների ձեռքբերում | G57: =+G59 -> 8625 | H57: =+H59 -> 8625
F58: այդ թվում` ըստ կատարողների
F59: ՀՀ Կոտայքի մարզպետարան | G59: =+G61 -> 8625 | H59: =+H61 -> 8625
F60: այդ թվում՝ բյուջետային ծախսերի տնտեսագիտական դասակարգման հոդվածներ
F61: ԸՆԴԱՄԵՆԸ ԾԱԽՍԵՐ | G61: =+G62 -> 8625 | H61: =+H62 -> 8625
F62: ՈՉ ՖԻՆԱՆՍԱԿԱՆ ԱԿՏԻՎՆԵՐԻ ԳԾՈՎ ԾԱԽՍԵՐ | G62: =+G63 -> 8625 | H62: =+H63 -> 8625
F63: ՉԱՐՏԱԴՐՎԱԾ ԱԿՏԻՎՆԵՐ | G63: =+G64 -> 8625 | H63: =+H64 -> 8625
F64: ՀՈՂ | G64: =+G65 -> 8625 | H64: =+H65 -> 8625
F65: - Հող | G65: =+'Հավելված N 2'!G43 -> 8625 | H65: =+'Հավելված N 2'!H43 -> 8625
