Workbook
Name _tab10: #REF!
Name _tab11: #REF!
Name _tab12: #REF!
Name _tab13: #REF!
Name _tab14: #REF!
Name _tab15: #REF!
Name _tab16: #REF!
Name _tab17: #REF!
Name _tab18: #REF!
Name _tab19: #REF!
Name _tab20: #REF!
Name _tab21: #REF!
Name _tab22: #REF!
Name _tab23: #REF!
Name _tab24: #REF!
Name _tab5: #REF!
Name _tab6: #REF!
Name _tab7: #REF!
Name _tab8: #REF!
Name _tab9: #REF!
Name AgencyCode: #REF!
Name AgencyName: #REF!
Name åû: #REF!
Name davit: #REF!
Name Functional1: #REF!
Name ggg: #REF!
Name mas: #REF!
Name mass: #REF!
Name PANature: #REF!
Name par_count: #REF!,#REF!,#REF!,#REF!,#REF!,#REF!,#REF!,#REF!,#REF!,#REF!,#REF!,#REF!,#REF!,#REF!,#REF!
Name par_qual: #REF!,#REF!,#REF!,#REF!,#REF!
Name par_time: #REF!,#REF!,#REF!,#REF!
Name par2.12s: #REF!
Name par2.4s: #REF!,#REF!,#REF!,#REF!,#REF!,#REF!,#REF!,#REF!,#REF!,#REF!,#REF!,#REF!,#REF!,#REF!,#REF!,#REF!
Name par2.5s: #REF!,#REF!
Name par2.6s: #REF!,#REF!,#REF!,#REF!
Name par2.7s: #REF!,#REF!
Name par2.9s: #REF!,#REF!,#REF!,#REF!,#REF!,#REF!,#REF!,#REF!,#REF!,#REF!,#REF!,#REF!,#REF!,#REF!,#REF!,#REF!
Name par4.10s: #REF!,#REF!
Name par4.11d: #REF!,#REF!,#REF!,#REF!,#REF!
Name par4.12d: #REF!
Name par4.13s: #REF!
Name par4.14: #REF!,#REF!,#REF!,#REF!,#REF!,#REF!
Name par4.15: #REF!,#REF!,#REF!
Name par4.16: #REF!,#REF!,#REF!
Name par4.17: #REF!,#REF!,#REF!,#REF!
Name par4.18d: #REF!,#REF!
Name par4.19s: #REF!
Name par4.20f: #REF!
Name par4.21f: #REF!
Name par4.22: #REF!
Name par4.4: #REF!
Name par4.5: #REF!
Name par4.6s: #REF!
Name par4.7s: #REF!
Name par4.8: #REF!,#REF!,#REF!,#REF!,#REF!
Name par4.9: #REF!,#REF!,#REF!,#REF!,#REF!,#REF!
Name par5.1: #REF!,#REF!
Name par5.3: #REF!,#REF!,#REF!,#REF!,#REF!,#REF!
Name par5.4: #REF!,#REF!,#REF!,#REF!,#REF!

Sheet 1
A1: Հավելված N 1 ՀՀ կառավարության 2022 թվականի -ի N -Ն որոշման
A3: «ՀԱՅԱՍՏԱՆԻ ՀԱՆՐԱՊԵՏՈՒԹՅԱՆ 2022 ԹՎԱԿԱՆԻ ՊԵՏԱԿԱՆ ԲՅՈՒՋԵԻ ՄԱՍԻՆ» ՀԱՅԱՍՏԱՆԻ ՀԱՆՐԱՊԵՏՈՒԹՅԱՆ ՕՐԵՆՔԻ N 1 ՀԱՎԵԼՎԱԾԻ N 2 ԱՂՅՈՒՍԱԿՈՒՄ ԵՎ ՀԱՅԱՍՏԱՆԻ ՀԱՆՐԱՊԵՏՈՒԹՅԱՆ ԿԱՌԱՎԱՐՈՒԹՅԱՆ 2021 ԹՎԱԿԱՆԻ ԴԵԿՏԵՄԲԵՐԻ 23-Ի N 2121-Ն ՈՐՈՇՄԱՆ N 5 ՀԱՎԵԼՎԱԾԻ N 1 ԱՂՅՈՒՍԱԿՈՒՄ ԿԱՏԱՐՎՈՂ ՓՈՓՈԽՈՒԹՅՈՒՆՆԵՐԸ
D4: հազար դրամ
A5: Ծրագրային դասիչը | C5: Բյուջետային գլխավոր կարգադրիչների, ծրագրերի և միջոցառումների անվանումները | D5: Ցուցանիշների փոփոխությունը (ավելացումները նշված են դրական նշանով, իսկ նվազեցումները փակագծերում)
A6: Ծրագիր | B6: Միջոցառում | D6: Տարի
C7: ԸՆԴԱՄԵՆԸ ԾԱԽՍԵՐ | D7: =+D8+D33 -> 0
C8: ՀՀ ազգային անվտանգության ծառայություն | D8: =SUM(D9) -> 2156949.1
A9: 1138 | C9: Ծրագրի անվանումը` | D9: =+D15+D21+D27 -> 2156949.1
C10: Ազգային անվտանգություն
C11: Ծրագրի նպատակը`
C12: Ներքին և արտաքին սպառնալիքներից անձի, հասարակության ու պետության անվտանգության ապահովում
C13: Վերջնական արդյունքի նկարագրությունը`
C14: Այլ պետությունների կողմից հետախուզական գործունեության կասեցում,պետական սահմանի անձեռնամխելիության ապահովում, կոռուպցիոն ռիսկերի շեշտակի նվազեցում
B15: 11001 | C15: Միջոցառման անվանումը` | D15: =+'3'!G18 -> 914046
C16: Հետախուզական, հակահետախուզական, ռազմական հակահետախուզության, հանցագործությունների դեմ պայքարի և պետական սահմանի պահպանության գործունեության կազմակերպում
C17: Միջոցառման նկարագրությունը`
C18: ՀՀ անվտանգությանը սպառնացող վտանգի մասին տեղեկատվության ստացում, վերլուծում, վտանգի կանխատեսում, վտանգի կանխման ու չեզոքացման վերաբերյալ առաջարկությունների մշակում
C19: Միջոցառման տեսակը
C20: Ծառայությունների մատուցում
B21: 31001 | C21: Միջոցառման անվանումը` | D21: =+'3'!G27 -> 478457.1
C22: Ազգային անվտանգության համակարգի տեխնիկական հագեցվածության բարելավում
C23: Միջոցառման նկարագրությունը`
C24: Ազգային անվտանգության համակարգի ստորաբաժանումների համար վարչական սարքավորումների ձեռքբերում
C25: Միջոցառման տեսակը
C26: Պետական մարմինների կողմից օգտագործվող ոչ ֆինանսական ակտիվների հետ գործառնություններ
B27: 31003 | C27: Միջոցառման անվանումը` | D27: =+'3'!G34 -> 764446
C28: Ազգային անվտանգության համակարգի տրանսպորտային սարքավորումների հագեցվածության բարելավում
C29: Միջոցառման նկարագրությունը`
C30: Ազգային անվտանգության համակարգի ստորաբաժանումների համար տրանսպորտային սարքավորումների ձեռքբերում
C31: Միջոցառման տեսակը
C32: Պետական մարմինների կողմից օգտագործվող ոչ ֆինանսական ակտիվների հետ գործառնություններ
C33: ՀՀ ֆինանսների նախարարություն | D33: =SUM(D34) -> -2156949.1
A34: 1006 | C34: Ծրագրի անվանումը` | D34: =+D40 -> -2156949.1
C35: Պետական պարտքի կառավարում
C36: Ծրագրի նպատակը`
C37: Կառավարության ֆինանսական կարիքների բավարարման մշտական հնարավորության ապահովումը` երկարաժամկետ հատվածում նվազեցնելով պարտքի սպասարկման մեծությունը
C38: Վերջնական արդյունքի նկարագրությունը`
C39: Կառավարության պարտքի օպտիմալ կառուցվածքի ձևավորում՛ հաշվի առնելով պոտենցիալ ռիսկերը
B40: 13001 | C40: Միջոցառման անվանումը` | D40: =+'3'!G49 -> -2156949.1
C41: Կառավարության պարտքի սպասարկում
...

Sheet 2
A1: Հավելված N 2 ՀՀ կառավարության 2022 թվականի -ի N -Ն որոշման
A3: «ՀԱՅԱՍՏԱՆԻ ՀԱՆՐԱՊԵՏՈՒԹՅԱՆ 2022 ԹՎԱԿԱՆԻ ՊԵՏԱԿԱՆ ԲՅՈՒՋԵԻ ՄԱՍԻՆ» ՀԱՅԱՍՏԱՆԻ ՀԱՆՐԱՊԵՏՈՒԹՅԱՆ ՕՐԵՆՔԻ N 1 ՀԱՎԵԼՎԱԾԻ N 3 ԱՂՅՈՒՍԱԿՈՒՄ ԿԱՏԱՐՎՈՂ ՓՈՓՈԽՈՒԹՅՈՒՆՆԵՐԸ
G4: հազար դրամ
A5: Ծրագրային դասիչ | C5: Բյուջետային գլխավոր կարգադրիչների, ծրագրերի, միջոցառումների և ուղղությունների անվանումները | D5: Ցուցանիշների փոփոխությունը (ավելացումները նշված են դրական նշանով)
D6: Ընդամենը | E6: այդ թվում՝
A7: Ծրագիր | B7: Միջոցառում | E7: Կառուցման աշխատանքներ | F7: Վերակառուցման, վերանորոգման և վերականգնման աշխատանքներ | G7: Նախագծահետազոտական, գեոդեզիա- քարտեզագրական աշխատանքներ | H7: Ոչ ֆինանսական այլ ակտիվների ձեռքբերում
C8: ԸՆԴԱՄԵՆԸ | D8: =+D10 -> 1242903.1 | E8: =+E10 -> 0 | F8: =+F10 -> 0 | G8: =+G10 -> 0 | H8: =+H10 -> 1242903.1
C9: այդ թվում՝
C10: ՀՀ ԱԶԳԱՅԻՆ ԱՆՎՏԱՆԳՈՒԹՅԱՆ ԾԱՌԱՅՈՒԹՅՈՒՆ | D10: =+D12+D13 -> 1242903.1 | E10: =+E12 -> 0 | F10: =+F12 -> 0 | G10: =+G12 -> 0 | H10: =+H12+H13 -> 1242903.1
C11: այդ թվում`
A12: 1138 | B12: 31001 | C12: Ազգային անվտանգության համակարգի տեխնիկական հագեցվածության բարելավում | D12: =SUM(E12:H12) -> 478457.1 | E12: 0 | F12: 0 | G12: 0 | H12: =+'3'!G27 -> 478457.1
A13: 1138 | B13: 31003 | C13: Ազգային անվտանգության համակարգի տրանսպորտային սարքավորումների հագեցվածության բարելավում | D13: =SUM(E13:H13) -> 764446 | E13: =+'3'!G16 -> 0 | F13: 0 | G13: 0 | H13: =+'3'!G34 -> 764446

Sheet 3
A1: Հավելված N 3 ՀՀ կառավարության 2022 թվականի -ի N -Ն որոշման
A3: ՀԱՅԱՍՏԱՆԻ ՀԱՆՐԱՊԵՏՈՒԹՅԱՆ ԿԱՌԱՎԱՐՈՒԹՅԱՆ 2021 ԹՎԱԿԱՆԻ ԴԵԿՏԵՄԲԵՐԻ 23-Ի N 2121-Ն ՈՐՈՇՄԱՆ N 3 ԵՎ 4 ՀԱՎԵԼՎԱԾՆԵՐՈՒՄ ԿԱՏԱՐՎՈՂ ՓՈՓՈԽՈՒԹՅՈՒՆՆԵՐԸ
G4: հազար դրամ
A5: Գործառական դասիչը | D5: Ծրագրային դասիչը | F5: Բյուջետային ծախսերի գործառական դասակարգման բաժինների, խմբերի և դասերի, բյուջետային ծրագրերի միջոցառումների, բյուջետային հատկացումների գլխավոր կարգադրիչների անվանումները | G5: Ցուցանիշների փոփոխությունը (ավելացումները նշված են դրական նշանով, իսկ նվազեցումները փակագծերում)
A6: Բաժին | B6: Խումբ | C6: Դաս | D6: Ծրագիր | E6: Միջոցառում | G6: Տարի
F7: ԸՆԴԱՄԵՆԸ ԾԱԽՍԵՐ | G7: =+G8+G41 -> 0
A8: 03 | F8: ՀԱՍԱՐԱԿԱԿԱՆ ԿԱՐԳ, ԱՆՎՏԱՆԳՈՒԹՅՈՒՆ ԵՎ ԴԱՏԱԿԱՆ ԳՈՐԾՈՒՆԵՈՒԹՅՈՒՆ | G8: =SUM(G10) -> 2156949.1
F9: այդ թվում`
B10: 01 | F10: Հասարակական կարգ և անվտանգություն | G10: =SUM(G12) -> 2156949.1
F11: այդ թվում`
C12: 02 | F12: Ազգային անվտանգություն | G12: =SUM(G14) -> 2156949.1
F13: այդ թվում`
D14: 1138 | F14: Ազգային անվտանգություն | G14: =+G17 -> 2156949.1
F15: այդ թվում`
F16: այդ թվում` ըստ կատարողների
F17: ՀՀ ազգային անվտանգության ծառայություն | G17: =+G18+G27+G34 -> 2156949.1
E18: 11001 | F18: Հետախուզական, հակահետախուզական, ռազմական հակահետախուզության, հանցագործությունների դեմ պայքարի և պետական սահմանի պահպանության գործունեության կազմակերպում | G18: =+G20 -> 914046
F19: այդ թվում` բյուջետային ծախսերի տնտեսագիտական դասակարգման հոդվածներ
F20: ԸՆԴԱՄԵՆԸ ԾԱԽՍԵՐ | G20: =+G21 -> 914046
F21: ԸՆԹԱՑԻԿ ԾԱԽՍԵՐ | G21: =+G22+G25 -> 914046
F22: ԾԱՌԱՅՈՒԹՅՈՒՆՆԵՐԻ ԵՎ ԱՊՐԱՆՔՆԵՐԻ ՁԵՌՔԲԵՐՈՒՄ | G22: =+G23 -> 326850
F23: Նյութեր (Ապրանքներ) | G23: =+G24 -> 326850
F24: - Գրասենյակային նյութեր և հագուստ | G24: 326850
F25: ԱՅԼ ԾԱԽՍԵՐ | G25: =+G26 -> 587196
F26: - Այլ ծախսեր | G26: 587196
E27: 31001 | F27: Ազգային անվտանգության համակարգի տեխնիկական հագեցվածության բարելավում | G27: =+G29 -> 478457.1
F28: այդ թվում` բյուջետային ծախսերի տնտեսագիտական դասակարգման հոդվածներ
F29: ԸՆԴԱՄԵՆԸ ԾԱԽՍԵՐ | G29: =+G30 -> 478457.1
F30: ՈՉ ՖԻՆԱՆՍԱԿԱՆ ԱԿՏԻՎՆԵՐԻ ԳԾՈՎ ԾԱԽՍԵՐ | G30: =+G31 -> 478457.1
F31: ՀԻՄՆԱԿԱՆ ՄԻՋՈՑՆԵՐ | G31: =+G32 -> 478457.1
F32: ՄԵՔԵՆԱՆԵՐ ԵՎ ՍԱՐՔԱՎՈՐՈՒՄՆԵՐ | G32: =+G33 -> 478457.1
F33: - Վարչական սարքավորումներ | G33: 478457.1
E34: 31003 | F34: Ազգային անվտանգության համակարգի տրանսպորտային սարքավորումների հագեցվածության բարելավում | G34: =+G36 -> 764446
F35: այդ թվում` բյուջետային ծախսերի տնտեսագիտական դասակարգման հոդվածներ
F36: ԸՆԴԱՄԵՆԸ ԾԱԽՍԵՐ | G36: =+G37 -> 764446
F37: ՈՉ ՖԻՆԱՆՍԱԿԱՆ ԱԿՏԻՎՆԵՐԻ ԳԾՈՎ ԾԱԽՍԵՐ | G37: =+G38 -> 764446
F38: ՀԻՄՆԱԿԱՆ ՄԻՋՈՑՆԵՐ | G38: =+G39 -> 764446
F39: ՄԵՔԵՆԱՆԵՐ ԵՎ ՍԱՐՔԱՎՈՐՈՒՄՆԵՐ | G39: =+G40 -> 764446
F40: - Տրանսպորտային սարքավորումներ | G40: 764446
A41: 01 | F41: ԸՆԴՀԱՆՈՒՐ ԲՆՈՒՅԹԻ ՀԱՆՐԱՅԻՆ ԾԱՌԱՅՈՒԹՅՈՒՆՆԵՐ | G41: =SUM(G43) -> -2156949.1
...

Sheet 4
A1: Հավելված N 4 ՀՀ կառավարության 2022 թվականի -ի N -Ն որոշման
A3: ՀԱՅԱՍՏԱՆԻ ՀԱՆՐԱՊԵՏՈՒԹՅԱՆ ԿԱՌԱՎԱՐՈՒԹՅԱՆ 2021 ԹՎԱԿԱՆԻ ԴԵԿՏԵՄԲԵՐԻ 23-Ի N 2121-Ն ՈՐՈՇՄԱՆ N 5 ՀԱՎԵԼՎԱԾԻ N 2 ԱՂՅՈՒՍԱԿՈՒՄ ԿԱՏԱՐՎՈՂ ՓՈՓՈԽՈՒԹՅՈՒՆՆԵՐԸ
D4: հազար դրամ
A5: Ծրագրային դասիչ | C5: Բյուջետային գլխավոր կարգադրիչների, ծրագրերի, միջոցառումների և ուղղությունների անվանումները | D5: Ցուցանիշների փոփոխությունը (ավելացումները նշված են դրական նշանով)
A6: Ծրագիր | B6: Միջոցառում | D6: Տարի
C7: ԸՆԴԱՄԵՆԸ | D7: =+D9 -> 1242903.1
C8: այդ թվում՝
C9: ՀՀ ԱԶԳԱՅԻՆ ԱՆՎՏԱՆԳՈՒԹՅԱՆ ԾԱՌԱՅՈՒԹՅՈՒՆ | D9: =+D11+D14 -> 1242903.1
C10: այդ թվում`
A11: 1138 | B11: 31001 | C11: Ազգային անվտանգության համակարգի տեխնիկական հագեցվածության բարելավում | D11: =D13 -> 478457.1
C12: այդ թվում` ըստ կատարողների
C13: ՀՀ ազգային անվտանգության ծառայություն | D13: =+'3'!G27 -> 478457.1
A14: 1138 | B14: 31003 | C14: Ազգային անվտանգության համակարգի տրանսպորտային սարքավորումների հագեցվածության բարելավում | D14: =D16 -> 764446
C15: այդ թվում` ըստ կատարողների
C16: ՀՀ ազգային անվտանգության ծառայություն | D16: =+'3'!G34 -> 764446

Sheet 5
A1: Հավելված N 5 ՀՀ կառավարության 2022 թվականի -ի N -Ն որոշման
A3: ՀԱՅԱՍՏԱՆԻ ՀԱՆՐԱՊԵՏՈՒԹՅԱՆ ԿԱՌԱՎԱՐՈՒԹՅԱՆ 2021 ԹՎԱԿԱՆԻ ԴԵԿՏԵՄԲԵՐԻ 23-Ի N 2121-Ն ՈՐՈՇՄԱՆ N 9 ՀԱՎԵԼՎԱԾԻ N 9.26 ԵՎ N 9.1 ՀԱՎԵԼՎԱԾԻ N 9.1.32 ԱՂՅՈՒՍԱԿՆԵՐՈՒՄ ԿԱՏԱՐՎՈՂ ՓՈՓՈԽՈՒԹՅՈՒՆՆԵՐ
A4: ՀՀ ազգային անվտանգության ծառայություն
A6: Ծրագրի դասիչը | B6: Ծրագրի անվանումը
A7: 1138 | B7: Ազգային անվտանգություն
A9: Ծրագրի միջոցառումները
A11: Ծրագրի դասիչը` | B11: 1138 | C11: Ցուցանիշների փոփոխությունը (ավելացումները նշված են դրական նշանով)
A12: Միջոցառման դասիչը` | B12: 11001 | C12: Տարի
A13: Միջոցառման անվանումը` | B13: Հետախուզական, հակահետախուզական, ռազմական հակահետախուզության, հանցագործությունների դեմ պայքարի և պետական սահմանի պահպանության գործունեության կազմակերպում
A14: Նկարագրությունը` | B14: ՀՀ անվտանգությանը սպառնացող վտանգի մասին տեղեկատվության ստացում, վերլուծում, վտանգի կանխատեսում, վտանգի կանխման ու չեզոքացման վերաբերյալ առաջարկությունների մշակում
A15: Միջոցառման տեսակը` | B15: Ծառայությունների մատուցում
A16: Ծառայությունը մատուցող կազմակերպության(ների) անվանում(ներ)ը՝ | B16: ՀՀ ազգային անվտանգության ծառայություն
A17: Արդյունքի չափորոշիչներ
A18: Միջոցառման վրա կատարվող ծախսը (հազար դրամ) | C18: =+'3'!G18 -> 914046
A20: Ծրագրի դասիչը` | B20: 1138 | C20: Ցուցանիշների փոփոխությունը (ավելացումները նշված են դրական նշանով)
A21: Միջոցառման դասիչը` | B21: 31001 | C21: Տարի
A22: Միջոցառման անվանումը` | B22: Ազգային անվտանգության համակարգի տեխնիկական հագեցվածության բարելավում
A23: Նկարագրությունը` | B23: Ազգային անվտանգության համակարգի ստորաբաժանումների համար վարչական սարքավորումների ձեռքբերում
A24: Միջոցառման տեսակը` | B24: Պետական մարմինների կողմից օգտագործվող ոչ ֆինանսական ակտիվների հետ գործառնություններ
A25: Ալտիվն օգտագործող կազմակերպության(ների) անվանում(ներ)ը՝ | B25: ՀՀ ազգային անվտանգության ծառայություն
A26: Արդյունքի չափորոշիչներ
A27: Միջոցառման վրա կատարվող ծախսը (հազար դրամ) | C27: =+'3'!G27 -> 478457.1
A29: Ծրագրի դասիչը` | B29: 1138 | C29: Ցուցանիշների փոփոխությունը (ավելացումները նշված են դրական նշանով)
A30: Միջոցառման դասիչը` | B30: 31003 | C30: Տարի
A31: Միջոցառման անվանումը` | B31: Ազգային անվտանգության համակարգի տրանսպորտային սարքավորումների հագեցվածության բարելավում
A32: Նկարագրությունը` | B32: Ազգային անվտանգության համակարգի ստորաբաժանումների համար տրանսպորտային սարքավորումների ձեռքբերում
A33: Միջոցառման տեսակը` | B33: Պետական մարմինների կողմից օգտագործվող ոչ ֆինանսական ակտիվների հետ գործառնություններ
A34: Ծառայությունը մատուցող կազմակերպության(ների) անվանում(ներ)ը՝ | B34: ՀՀ ազգային անվտանգության ծառայություն
A35: Արդյունքի չափորոշիչներ
A36: Միջոցառման վրա կատարվող ծախսը (հազար դրամ) | C36: =+'3'!G34 -> 764446

Sheet 6
A1: Հավելված N 6 ՀՀ կառավարության 2022 թվականի -ի N -Ն որոշման
A3: ՀԱՅԱՍՏԱՆԻ ՀԱՆՐԱՊԵՏՈՒԹՅԱՆ ԿԱՌԱՎԱՐՈՒԹՅԱՆ 2021 ԹՎԱԿԱՆԻ ԴԵԿՏԵՄԲԵՐԻ 23-Ի N 2121-Ն ՈՐՈՇՄԱՆ N 9 ՀԱՎԵԼՎԱԾԻ N 9.17 ԵՎ N 9.1 ՀԱՎԵԼՎԱԾԻ N 9.1.18 ԱՂՅՈՒՍԱԿՆԵՐՈՒՄ ԿԱՏԱՐՎՈՂ ՓՈՓՈԽՈՒԹՅՈՒՆՆԵՐ
A4: ՀՀ ֆինանսների նախարարություն
A6: Ծրագրի դասիչը | B6: Ծրագրի անվանումը
A7: 1006 | B7: Պետական պարտքի կառավարում
A9: Ծրագրի միջոցառումները
A11: Ծրագրի դասիչը` | B11: 1006 | C11: Ցուցանիշների փոփոխությունը (նվազեցումները նշված են փակագծերում)
A12: Միջոցառման դասիչը` | B12: 13001 | C12: Տարի
A13: Միջոցառման անվանումը` | B13: Կառավարության պարտքի սպասարկում
A14: Նկարագրությունը` | B14: Կառավարության պարտքի սպասարկում (տոկոսավճարներ)
A15: Միջոցառման տեսակը` | B15: Ֆինանսավորման ծախսերի իրականացում
A16: Միջոցառումն իրականացնողի անվանումը՝ | B16: ՀՀ ֆինանսների նախարարություն
A17: Արդյունքի չափորոշիչներ
A18: Մշակված չէ
A19: Միջոցառման վրա կատարվող ծախսը (հազար դրամ) | C19: =+'3'!G49 -> -2156949.1
