Workbook
Name AgencyCode: #REF!
Name AgencyCode: #REF!
Name AgencyCode: #REF!
Name AgencyCode: #REF!
Name AgencyName: #REF!
Name AgencyName: #REF!
Name AgencyName: #REF!
Name AgencyName: #REF!
Name åû: #REF!
Name åû: #REF!
Name åû: #REF!
Name åû: #REF!
Name Functional1: #REF!
Name Functional1: #REF!
Name Functional1: #REF!
Name Functional1: #REF!
Name Gay: #REF!
Name Gaya: #REF!
Name Gayan: #REF!
Name gfsgsgsd: #REF!
Name Goh: #REF!
Name kKari: #REF!
Name mas: #REF!
Name mas: #REF!
Name mas: #REF!
Name mas: #REF!
Name mass: #REF!
Name mass: #REF!
Name mass: #REF!
Name mass: #REF!
Name Muk: #REF!
Name PANature: #REF!
Name PANature: #REF!
Name PANature: #REF!
Name PANature: #REF!
Name PAType: #REF!
Name PAType: #REF!
Name PAType: #REF!
Name PAType: #REF!
Name Performance2: #REF!
Name Performance2: #REF!
Name Performance2: #REF!
Name Performance2: #REF!
Name PerformanceType: #REF!
Name PerformanceType: #REF!
Name PerformanceType: #REF!
Name PerformanceType: #REF!
Name sdfsfsfs: #REF!
Name x: #REF!
Name x: #REF!
Name x: #REF!
Name x: #REF!

Sheet Hav_1
D1: Հավելված 1
D2: ՀՀ կառավարության 2022 թվականի
D3: հոկտեմբերի __-ի թիվ ______Ն որոշման
A5: «ՀԱՅԱUՏԱՆԻ ՀԱՆՐԱՊԵՏՈՒԹՅԱՆ 2022 ԹՎԱԿԱՆԻ ՊԵՏԱԿԱՆ ԲՅՈՒՋԵԻ ՄԱUԻՆ» ՀԱՅԱUՏԱՆԻ ՀԱՆՐԱՊԵՏՈՒԹՅԱՆ OՐԵՆՔԻ N 1 ՀԱՎԵԼՎԱԾԻ N 2 ԱՂՅՈՒՍԱԿՈՒՄ ԿԱՏԱՐՎՈՂ ՎԵՐԱԲԱՇԽՈՒՄԸ ԵՎ ՀԱՅԱՍՏԱՆԻ ՀԱՆՐԱՊԵՏՈՒԹՅԱՆ ԿԱՌԱՎԱՐՈՒԹՅԱՆ 2021 ԹՎԱԿԱՆԻ ԴԵԿՏԵՄԲԵՐԻ 23-Ի N 2121-Ն ՈՐՈՇՄԱՆ N 5 ՀԱՎԵԼՎԱԾԻ N 1 ԱՂՅՈՒՍԱԿՈՒՄ ԿԱՏԱՐՎՈՂ ՓՈՓՈԽՈՒԹՅՈՒՆՆԵՐԸ ԵՎ ԼՐԱՑՈՒՄՆԵՐԸ
D7: հազ. դրամ
A8: Ծրագրային դասիչը | C8: Բյուջետային հատկացումների գլխավոր կարգադրիչների, ծրագրերի և միջոցառումների անվանումները | D8: Ցուցանիշների փոփոխությունը (ավելացումները նշված են դրական նշանով, իսկ նվազեցումները` փակագծերում)
A9: Ծրագիր | B9: Միջոցառում | D9: Տարի
B10: ='Hav_2 '!F18 -> ՀՀ տարածքային կառավարման և ենթակառուցվածքների նախարարություն | D10: =+D18 -> -55965.6
A11: 1157 | C11: Ծրագրի անվանումը`
C12: Քաղաքային զարգացում
C13: Ծրագրի նպատակը`
C14: Քաղաքային ենթակառուցվածքների զարգացում
C15: Վերջնական արդյունքի նկարագրությունը`
C16: Քաղաքային ենթակառուցվածքների արդիականացում և բարելավում
C17: Ծրագրի միջոցառումներ
B18: 12003 | C18: Միջոցառման անվանումը` | D18: ='Hav_2 '!H23 -> -55965.6
C19: Արևելյան եվրոպայի էներգախնայողության և բնապահպանական գործընկերության ֆոնդի աջակցությամբ իրականացվող Երևանի քաղաքային լուսավորության դրամաշնորհային ծրագրի կատարման ապահովում
C20: Միջոցառման նկարագրությունը`
C21: ՀՀ համայնքներին քաղաքային լուսավորության ենթակառուցվածքի բարելավման համար տրամադրվող աջակցություն և ծառայություն
C22: Միջոցառման տեսակը
C23: Տրանսֆերտների տրամադրում
B24: =B10 -> ՀՀ տարածքային կառավարման և ենթակառուցվածքների նախարարություն
A25: 1212 | C25: Ծրագրի անվանումը` | D25: =D32 -> 55965.6
C26: Տարածքային զարգացում
C27: Ծրագրի նպատակը`
C28: Տարածքային համաչափ զարգացման խթանում
C29: Վերջնական արդյունքի նկարագրությունը`
C30: ՀՀ համայնքների կառավարման արդյունավետության բարձրացում և տնտեսական գործունեության խթանում
C31: Ծրագրի միջոցառումներ
B32: 12025 | C32: Միջոցառման անվանումը` | D32: ='Hav_2 '!H36 -> 55965.6
C33: Մարզերում առաջնահերթ լուծում պահանջող հիմնախնդիրների լուծում
C34: Միջոցառման նկարագրությունը`
C35: Մարզերում առաջնահերթ լուծում պահանջող ծրագրերի իրականացում, որի արդյունքում լուծում կտրվի բնակչության և համայնքների սոցիալական նշանակություն ունեցող հիմնախնդիրներին
C36: Միջոցառման տեսակը
C37: Տրանսֆերտների տրամադրում

Sheet Hav_2 
H1: Հավելված 2
H2: ՀՀ կառավարության 2022 թվականի
H3: հոկտեմբերի __-ի թիվ ___Ն որոշման
A6: ՀԱՅԱՍՏԱՆԻ ՀԱՆՐԱՊԵՏՈՒԹՅԱՆ ԿԱՌԱՎԱՐՈՒԹՅԱՆ 2021 ԹՎԱԿԱՆԻ ԴԵԿՏԵՄԲԵՐԻ 23-Ի N 2121-Ն ՈՐՈՇՄԱՆ N 3 ԵՎ N 4 ՀԱՎԵԼՎԱԾՆԵՐՈՒՄ ԿԱՏԱՐՎՈՂ ՓՈՓՈԽՈՒԹՅՈՒՆՆԵՐԸ ԵՎ ԼՐԱՑՈՒՄՆԵՐԸ
H8: հազ. դրամ
A9: Գործառական դասիչը | D9: Ծրագրային դասիչը | F9: Բյուջետային հատկացումների գլխավոր կարգադրիչների, ծրագրերի, միջոցառումների և միջոցառումները կատարող պետական մարմինների անվանումները | G9: Ցուցանիշների փոփոխությունը (ավելացումները նշված են դրական նշանով, իսկ նվազեցումները` փակագծերում)
A10: Բաժին | B10: Խումբ | C10: Դաս | D10: Ծրագիր | E10: Միջոցառում | G10: Ինն ամիս | H10: Տարի
F11: ԸՆԴԱՄԵՆԸ
A12: 06 | F12: ԲՆԱԿԱՐԱՆԱՅԻՆ ՇԻՆԱՐԱՐՈՒԹՅՈՒՆ ԵՎ ԿՈՄՈՒՆԱԼ ԾԱՌԱՅՈՒԹՅՈՒՆՆԵՐ | H12: =H14 -> -55965.6
F13: այդ թվում`
B14: 04 | F14: Փողոցների լուսավորում | H14: =H16 -> -55965.6
F15: այդ թվում`
C16: 01 | F16: =F14 -> Փողոցների լուսավորում | H16: =H18 -> -55965.6
F17: այդ թվում`
F18: ՀՀ տարածքային կառավարման և ենթակառուցվածքների նախարարություն | H18: =H19 -> -55965.6
D19: 1157 | F19: Քաղաքային զարգացում | H19: =H21 -> -55965.6
F20: =F17 -> այդ թվում`
E21: 12003 | F21: Արևելյան եվրոպայի էներգախնայողության և բնապահպանական գործընկերության ֆոնդի աջակցությամբ իրականացվող Երևանի քաղաքային լուսավորության դրամաշնորհային ծրագրի կատարման ապահովում | H21: =H23 -> -55965.6
F22: այդ թվում` ըստ կատարողների
F23: ՀՀ տարածքային կառավարման և ենթակառուցվածքների նախարարություն | H23: =H25 -> -55965.6
F24: այդ թվում` բյուջետային ծախսերի տնտեսագիտական դասակարգման հոդվածներ
F25: ԸՆԴԱՄԵՆԸ ԾԱԽՍԵՐ | H25: =H26 -> -55965.6
F26: ՈՉ ՖԻՆԱՆՍԱԿԱՆ ԱԿՏԻՎՆԵՐԻ ԳԾՈՎ ԾԱԽՍԵՐ | H26: =H27 -> -55965.6
F27: ՀԻՄՆԱԿԱՆ ՄԻՋՈՑՆԵՐ | H27: =H28 -> -55965.6
F28: ՇԵՆՔԵՐ ԵՎ ՇԻՆՈՒԹՅՈՒՆՆԵՐ | H28: =H29 -> -55965.6
F29: - Շենքերի և շինությունների շինարարություն | H29: =-H30 -> -55965.6
A30: 01 | F30: ԸՆԴՀԱՆՈՒՐ ԲՆՈՒՅԹԻ ՀԱՆՐԱՅԻՆ ԾԱՌԱՅՈՒԹՅՈՒՆՆԵՐ | H30: =+H32 -> 55965.6
F31: այդ թվում`
B32: 08 | F32: Կառավարության տարբեր մակարդակների միջև իրականացվող ընդհանուր բնույթի տրանսֆերտներ | H32: =+H34 -> 55965.6
F33: այդ թվում`
C34: 01 | F34: Կառավարության տարբեր մակարդակների միջև իրականացվող ընդհանուր բնույթի տրանսֆերտներ | H34: =H36 -> 55965.6
F35: այդ թվում`
F36: ՀՀ տարածքային կառավարման և ենթակառուցվածքների նախարարություն | H36: =H37 -> 55965.6
D37: 1212 | F37: Տարածքային զարգացում | H37: =+H38 -> 55965.6
E38: 12025 | F38: Մարզերում առաջնահերթ լուծում պահանջող հիմնախնդիրների լուծում | H38: =+H40+H47 -> 55965.6
F39: այդ թվում` ըստ կատարողների
F40: ՀՀ Տավուշի մարզպետարան | H40: =+H42 -> 24965.6
F41: այդ թվում` բյուջետային ծախսերի տնտեսագիտական դասակարգման հոդվածներ
F42: ԸՆԴԱՄԵՆԸ ԾԱԽՍԵՐ | H42: =+H43 -> 24965.6
F43: ԸՆԹԱՑԻԿ ԾԱԽՍԵՐ | H43: =H45 -> 24965.6
...

Sheet Hav_3
F1: Հավելված N 3
E2: ՀՀ կառավարության 2022 թվականի
E3: հոկտեմբերի __-ի թիվ ___Ն որոշման
B5: «ՀԱՅԱՍՏԱՆԻ ՀԱՆՐԱՊԵՏՈՒԹՅԱՆ 2022 ԹՎԱԿԱՆԻ ՊԵՏԱԿԱՆ ԲՅՈՒՋԵԻ ՄԱՍԻՆ» ՀԱՅԱՍՏԱՆԻ ՀԱՆՐԱՊԵՏՈՒԹՅԱՆ ՕՐԵՆՔԻ N 1 ՀԱՎԵԼՎԱԾԻ N 5 ԱՂՅՈՒՍԱԿՈՒՄ ԵՎ ՀԱՅԱՍՏԱՆԻ ՀԱՆՐԱՊԵՏՈՒԹՅԱՆ ԿԱՌԱՎԱՐՈՒԹՅԱՆ 2021 ԹՎԱԿԱՆԻ ԴԵԿՏԵՄԲԵՐԻ 23-Ի N 2121-Ն ՈՐՈՇՄԱՆ N 5 ՀԱՎԵԼՎԱԾԻ N 4 ԱՂՅՈՒՍԱԿՈՒՄ ԿԱՏԱՐՎՈՂ ՓՈՓՈԽՈՒԹՅՈՒՆՆԵՐԸ
F7: հազար դրամ
B8: Ծրագրային դասիչը | D8: Բյուջետային հատկացումների գլխավոր կարգադրիչների, ծրագրերի, միջոցառումների և միջոցառումները կատարող պետական մարմինների անվանումները | E8: Տարի
B9: Ծրագիրը | C9: Միջոցառումը | E9: ընդամենը | F9: այդ թվում ՝
F10: վարկային միջոցներ | G10: համաֆինանսավորում
D12: ԸՆԴԱՄԵՆԸ | E12: =E14 -> -55965.6 | F12: =F14 -> 0 | G12: =G14 -> -55965.6
D13: այդ թվում`
D14: ԸՆԹԱՑԻԿ ԾԱԽՍԵՐ | E14: =E15 -> -55965.6 | F14: =F15 -> 0 | G14: =G15 -> -55965.6
D15: ՈՉ ՖԻՆԱՆՍԱԿԱՆ ԱԿՏԻՎՆԵՐԻ ԳԾՈՎ ԾԱԽՍԵՐ | E15: =E16 -> -55965.6 | F15: =F16 -> 0 | G15: =G16 -> -55965.6
D16: ='Hav_2 '!F18 -> ՀՀ տարածքային կառավարման և ենթակառուցվածքների նախարարություն | E16: =E18 -> -55965.6 | F16: =F18 -> 0 | G16: =G18 -> -55965.6
D17: այդ թվում`
B18: 1157 | D18: Քաղաքային զարգացում | E18: =E20 -> -55965.6 | F18: =F20 -> 0 | G18: =G20 -> -55965.6
D19: այդ թվում`
C20: 12003 | D20: Արևելյան եվրոպայի էներգախնայողության և բնապահպանական գործընկերության ֆոնդի աջակցությամբ իրականացվող Երևանի քաղաքային լուսավորության դրամաշնորհային ծրագրի կատարման ապահովում | E20: =E22 -> -55965.6 | F20: =F22 -> 0 | G20: =G22 -> -55965.6
D21: այդ թվում` ըստ կատարողների
D22: ՀՀ տարածքային կառավարման և զարգացման նախարարություն | E22: =E24 -> -55965.6 | F22: =F24 -> 0 | G22: =G24 -> -55965.6
D23: այդ թվում` բյուջետային ծախսերի տնտեսագիտական դասակարգման հոդվածներ
D24: ԸՆԴԱՄԵՆԸ՝ ԾԱԽՍԵՐ | E24: =E25 -> -55965.6 | F24: =F25 -> 0 | G24: =G25 -> -55965.6
D25: ՈՉ ՖԻՆԱՆՍԱԿԱՆ ԱԿՏԻՎՆԵՐԻ ԳԾՈՎ ԾԱԽՍԵՐ | E25: =E26 -> -55965.6 | F25: =F26 -> 0 | G25: =G26 -> -55965.6
D26: ՀԻՄՆԱԿԱՆ ՄԻՋՈՑՆԵՐ | E26: =E27 -> -55965.6 | F26: =F27 -> 0 | G26: =G27 -> -55965.6
D27: ՇԵՆՔԵՐ ԵՎ ՇԻՆՈՒԹՅՈՒՆՆԵՐ | E27: =E28 -> -55965.6 | F27: =F28 -> 0 | G27: =G28 -> -55965.6
D28: ='Hav_2 '!F29 -> - Շենքերի և շինությունների շինարարություն | E28: =F28+G28 -> -55965.6 | F28: 0 | G28: ='Hav_2 '!H21 -> -55965.6

Sheet Hav_4
C1: Հավելված 4
C2: ՀՀ կառավարության 2022 թվականի
C3: հոկտեմբերի __-ի թիվ ___Ն որոշման
A7: ՀԱՅԱՍՏԱՆԻ ՀԱՆՐԱՊԵՏՈՒԹՅԱՆ ԿԱՌԱՎԱՐՈՒԹՅԱՆ 2021 ԹՎԱԿԱՆԻ ԴԵԿՏԵՄԲԵՐԻ 23-Ի N 2121-Ն ՈՐՈՇՄԱՆ N9 ՀԱՎԵԼՎԱԾԻ N 9.7 ԱՂՅՈՒՍԱԿՈՒՄ ԿԱՏԱՐՎՈՂ ՓՈՓՈԽՈՒԹՅՈՒՆՆԵՐԸ
A9: ='Hav 5'!B8 -> ՀՀ տարածքային կառավարման և ենթակառուցվածքների նախարարություն
A11: ՄԱՍ 2. ՊԵՏԱԿԱՆ ՄԱՐՄՆԻ ԳԾՈՎ ԱՐԴՅՈՒՆՔԱՅԻՆ (ԿԱՏԱՐՈՂԱԿԱՆ) ՑՈՒՑԱՆԻՇՆԵՐԸ
A13: Ծրագրի դասիչը | B13: Ծրագրի անվանումը
A14: 1157 | B14: ='Hav 5'!C56 -> Տարածքային զարգացում
A16: Ծրագրի միջոցառումները
A18: Ծրագրի դասիչը՝ | B18: =A14 -> 1157 | C18: Ցուցանիշների փոփոխությունը (նվազեցումները նշված են փակագծերում)
A19: Միջոցառման դասիչը՝ | B19: ='Hav 5'!C18 -> 12003 | C19: Տարի
A20: Միջոցառման անվանումը՝ | B20: ='Hav 5'!C19 -> Արևելյան եվրոպայի էներգախնայողության և բնապահպանական գործընկերության ֆոնդի աջակցությամբ իրականացվող Երևանի քաղաքային լուսավորության դրամաշնորհային ծրագրի կատարման ապահովում
A21: Նկարագրությունը՝ | B21: ='Hav 5'!C20 -> ՀՀ համայնքներին քաղաքային լուսավորության ենթակառուցվածքի բարելավման համար տրամադրվող աջակցություն և ծառայություն
A22: Միջոցառման տեսակը՝ | B22: ='Hav 5'!C21 -> Տրանսֆերտների տրամադրում
A23: ='Hav 5'!B22 -> Շահառուների ընտրության չափանիշները | B23: ='Hav 5'!C22 -> ՀՀ բնակչություն
B24: Արդյունքի չափորոշիչներ
A25: Միջոցառման վրա կատարվող ծախսը (հազար դրամ) | C25: ='Hav_2 '!H21 -> -55965.6
A27: ՀԱՅԱՍՏԱՆԻ ՀԱՆՐԱՊԵՏՈՒԹՅԱՆ ԿԱՌԱՎԱՐՈՒԹՅԱՆ 2021 ԹՎԱԿԱՆԻ ԴԵԿՏԵՄԲԵՐԻ 23-Ի N 2121-Ն ՈՐՈՇՄԱՆ N 9 ՀԱՎԵԼՎԱԾԻ N 9.7 ԱՂՅՈՒՍԱԿՈՒՄ ԿԱՏԱՐՎՈՂ ԼՐԱՑՈՒՄՆԵՐԸ
A29: ՀՀ տարածքային կառավարման և ենթակառուցվածքների նախարարություն
A31: ՄԱՍ 2. ՊԵՏԱԿԱՆ ՄԱՐՄՆԻ ԳԾՈՎ ԱՐԴՅՈՒՆՔԱՅԻՆ (ԿԱՏԱՐՈՂԱԿԱՆ) ՑՈՒՑԱՆԻՇՆԵՐԸ
A33: Ծրագրի դասիչը | B33: Ծրագրի անվանումը
A34: 1212 | B34: Տարածքային զարգացում
A36: Ծրագրի միջոցառումները
A38: Ծրագրի դասիչը` | B38: 1212 | C38: Ցուցանիշների փոփոխությունը (ավելացումները նշված են դրական նշանով)
A39: Միջոցառման դասիչը` | B39: 12025 | C39: Տարի
A40: Միջոցառման անվանումը` | B40: Մարզերում առաջնահերթ լուծում պահանջող հիմնախնդիրների լուծում
A41: Նկարագրությունը` | B41: Մարզերում առաջնահերթ լուծում պահանջող ծրագրերի իրականացում, որի արդյունքում լուծում կտրվի բնակչության և համայնքների սոցիալական նշանակություն ունեցող հիմնախնդիրներին:
A42: Միջոցառման տեսակը` | B42: Տրանսֆերտների տրամադրում
A43: Շահառուների ընտրության չափանիշները` | B43: ՀՀ համայնքներ, բնակավայրեր /բնակիչներ/
A44: Արդյունքի չափորոշիչներ
A45: Բնակավայրերի քանակ, հատ | C45: 17
A46: Ընթացիկ նորոգվող միավոր | C46: 1
A47: Միջոցառման վրա կատարվող ծախսը (հազար դրամ) | C47: ='Hav_2 '!H38 -> 55965.6

Sheet Hav 5
D2: Հավելված 5
D3: ՀՀ կառավարության 2022 թվականի
D4: հոկտեմբերի __-ի թիվ ___Ն որոշման
A6: ՀԱՅԱՍՏԱՆԻ ՀԱՆՐԱՊԵՏՈՒԹՅԱՆ ԿԱՌԱՎԱՐՈՒԹՅԱՆ 2021 ԹՎԱԿԱՆԻ ԴԵԿՏԵՄԲԵՐԻ 23-Ի N 2121-Ն ՈՐՈՇՄԱՆ N9.1 ՀԱՎԵԼՎԱԾԻ 9.1.8 ԱՂՅՈՒՍԱԿՈՒՄ ԿԱՏԱՐՎՈՂ ՓՈՓՈԽՈՒԹՅՈՒՆՆԵՐԸ
B8: ՀՀ տարածքային կառավարման և ենթակառուցվածքների նախարարություն
B9: ՄԱՍ 1. ՊԵՏԱԿԱՆ ՄԱՐՄՆԻ ԳԾՈՎ ԱՐԴՅՈՒՆՔԱՅԻՆ (ԿԱՏԱՐՈՂԱԿԱՆ) ՑՈՒՑԱՆԻՇՆԵՐԸ
B12: Ծրագրի դասիչը | C12: Ծրագրի անվանումը
B13: 1157 | C13: Քաղաքային զարգացում
B15: Ծրագրի միջոցառումները
B17: Ծրագրի դասիչը` | C17: 1157 | D17: Ցուցանիշների փոփոխությունը (նվազեցումները նշված են փակագծերում)
B18: Միջոցառման դասիչը` | C18: 12003 | D18: Տարի
B19: Միջոցառման անվանումը` | C19: Արևելյան եվրոպայի էներգախնայողության և բնապահպանական գործընկերության ֆոնդի աջակցությամբ իրականացվող Երևանի քաղաքային լուսավորության դրամաշնորհային ծրագրի կատարման ապահովում
B20: Նկարագրությունը` | C20: ՀՀ համայնքներին քաղաքային լուսավորության ենթակառուցվածքի բարելավման համար տրամադրվող աջակցություն և ծառայություն
B21: Միջոցառման տեսակը` | C21: Տրանսֆերտների տրամադրում
B22: Շահառուների ընտրության չափանիշները | C22: ՀՀ բնակչություն
B23: Արդյունքի չափորոշիչներ
B24: Միջոցառման վրա կատարվող ծախսը (հազար դրամ) | D24: =Hav_4!C25 -> -55965.6
B27: ՀԱՅԱՍՏԱՆԻ ՀԱՆՐԱՊԵՏՈՒԹՅԱՆ ԿԱՌԱՎԱՐՈՒԹՅԱՆ 2021 ԹՎԱԿԱՆԻ ԴԵԿՏԵՄԲԵՐԻ 23-Ի N 2121-Ն ՈՐՈՇՄԱՆ N 9.1 ՀԱՎԵԼՎԱԾԻ N 9.1.58 ԱՂՅՈՒՍԱԿՈՒՄ ԿԱՏԱՐՎՈՂ ԼՐԱՑՈՒՄՆԵՐԸ
B29: ՀՀ Տավուշի մարզպետարան
B31: ՄԱՍ 1. ՊԵՏԱԿԱՆ ՄԱՐՄՆԻ ԳԾՈՎ ԱՐԴՅՈՒՆՔԱՅԻՆ (ԿԱՏԱՐՈՂԱԿԱՆ) ՑՈՒՑԱՆԻՇՆԵՐԸ
B33: Ծրագրի դասիչը | C33: Ծրագրի անվանումը
B34: 1212 | C34: Տարածքային զարգացում
B36: Ծրագրի միջոցառումները
B38: Ծրագրի դասիչը` | C38: 1212 | D38: =Hav_4!C38 -> Ցուցանիշների փոփոխությունը (ավելացումները նշված են դրական նշանով)
B39: Միջոցառման դասիչը` | C39: 12025 | D39: Տարի
B40: Միջոցառման անվանումը` | C40: Մարզերում առաջնահերթ լուծում պահանջող հիմնախնդիրների լուծում
B41: Նկարագրությունը` | C41: Մարզերում առաջնահերթ լուծում պահանջող ծրագրերի իրականացում, որի արդյունքում լուծում կտրվի բնակչության և համայնքների սոցիալական նշանակություն ունեցող հիմնախնդիրներին:
B42: Միջոցառման տեսակը` | C42: Տրանսֆերտների տրամադրում
B43: Շահառուների ընտրության չափանիշները` | C43: ՀՀ համայնքներ, բնակավայրեր /բնակիչներ/
B44: Արդյունքի չափորոշիչներ
B45: Բնակավայրերի քանակ, հատ | D45: 17
B46: Միջոցառման վրա կատարվող ծախսը (հազար դրամ) | D46: ='Hav_2 '!H40 -> 24965.6
B49: ՀԱՅԱՍՏԱՆԻ ՀԱՆՐԱՊԵՏՈՒԹՅԱՆ ԿԱՌԱՎԱՐՈՒԹՅԱՆ 2021 ԹՎԱԿԱՆԻ ԴԵԿՏԵՄԲԵՐԻ 23-Ի N 2121-Ն ՈՐՈՇՄԱՆ N 9.1 ՀԱՎԵԼՎԱԾԻ N 9.1.57 ԱՂՅՈՒՍԱԿՈՒՄ ԿԱՏԱՐՎՈՂ ԼՐԱՑՈՒՄՆԵՐԸ
B51: ՀՀ Վայոց ձորի մարզպետարան
B53: ՄԱՍ 1. ՊԵՏԱԿԱՆ ՄԱՐՄՆԻ ԳԾՈՎ ԱՐԴՅՈՒՆՔԱՅԻՆ (ԿԱՏԱՐՈՂԱԿԱՆ) ՑՈՒՑԱՆԻՇՆԵՐԸ
B55: Ծրագրի դասիչը | C55: Ծրագրի անվանումը
B56: 1212 | C56: Տարածքային զարգացում
B58: Ծրագրի միջոցառումները
B60: Ծրագրի դասիչը` | C60: 1212 | D60: =Hav_4!C38 -> Ցուցանիշների փոփոխությունը (ավելացումները նշված են դրական նշանով)
B61: Միջոցառման դասիչը` | C61: 12025 | D61: Տարի
...

Sheet Hav_6
A1: Հավելված N6
A2: ՀՀ կառավարության 2022 թվականի
A3: հոկտեմբերի__ ի ________Ն որոշման
A5: ՀԱՅԱՍՏԱՆԻ ՀԱՆՐԱՊԵՏՈՒԹՅԱՆ ԿԱՌԱՎԱՐՈՒԹՅԱՆ 2021 ԹՎԱԿԱՆԻ ԴԵԿՏԵՄԲԵՐԻ 23-Ի N 2121-Ն ՈՐՈՇՄԱՆ N 10 ՀԱՎԵԼՎԱԾՈՒՄ ԿԱՏԱՐՎՈՂ ԼՐԱՑՈՒՄՆԵՐԸ
A6: Կոդը | B6: Անվանումը | C6: Գնման ձևը | D6: Չափման միավորը | E6: Միավորի գինը | F6: Ցուցանիշների փոփոխությունը (ավելացումները նշված են դրական նշանով)
F7: Քանակը | G7: Գումարը (հազար դրամով)
A8: ՀՀ տարածքային կառավարման և ենթակառուցվածքների նախարարություն | G8: =+G9 -> 55965.6
A9: Բաժին N 01 | B9: Խումբ N 08 | C9: Դաս N 01 | D9: ='Hav_2 '!F34 -> Կառավարության տարբեր մակարդակների միջև իրականացվող ընդհանուր բնույթի տրանսֆերտներ | G9: =+G10 -> 55965.6
A10: 1212 12025 | B10: ='Hav_2 '!F38 -> Մարզերում առաջնահերթ լուծում պահանջող հիմնախնդիրների լուծում | G10: =G12+G15 -> 55965.6
A11: ՀՀ Տավուշի մարզպետարան
A12: ՄԱՍ II. ԱՇԽԱՏԱՆՔՆԵՐ | G12: =G13 -> 24965.6
A13: 45461100 | B13: շենքերի, շինությունների ընթացիկ նորոգման աշխատանքներ | C13: ՀՄԱ | D13: դրամ | E13: 24965600 | F13: 1 | G13: =+F13*E13/1000 -> 24965.6
A14: ՀՀ Վայոց ձորի մարզպետարան
A15: ՄԱՍ II. ԱՇԽԱՏԱՆՔՆԵՐ | G15: =SUM(G16:G16) -> 31000
A16: 45461100 | B16: շենքերի, շինությունների ընթացիկ նորոգման աշխատանքներ | C16: ՀՄԱ | D16: դրամ | E16: 31000000 | F16: 1 | G16: =+F16*E16/1000 -> 31000
