Workbook
Name AgencyCode: #REF!
Name AgencyCode: #REF!
Name AgencyCode: #REF!
Name AgencyCode: #REF!
Name AgencyCode: #REF!
Name AgencyName: #REF!
Name AgencyName: #REF!
Name AgencyName: #REF!
Name AgencyName: #REF!
Name Functional1: #REF!
Name Functional1: #REF!
Name Functional1: #REF!
Name Functional1: #REF!
Name PANature: #REF!
Name PANature: #REF!
Name PANature: #REF!
Name PANature: #REF!
Name PAType: #REF!
Name PAType: #REF!
Name PAType: #REF!
Name PAType: #REF!
Name Performance2: #REF!
Name Performance2: #REF!
Name Performance2: #REF!
Name Performance2: #REF!
Name PerformanceType: #REF!
Name PerformanceType: #REF!
Name PerformanceType: #REF!
Name PerformanceType: #REF!

Sheet 1
G1: Հավելված N 1
G2: ՀՀ կառավարության 2022 թվականի
G3: ______________ ի ___Ն որոշման
A5: ՀԱՅԱՍՏԱՆԻ ՀԱՆՐԱՊԵՏՈՒԹՅԱՆ ԿԱՌԱՎԱՐՈՒԹՅԱՆ 2021 ԹՎԱԿԱՆԻ ԴԵԿՏԵՄԲԵՐԻ 23-Ի N 2121-Ն ՈՐՈՇՄԱՆ NN 3 ԵՎ 4 ՀԱՎԵԼՎԱԾՆԵՐՈՒՄ ԿԱՏԱՐՎՈՂ ՓՈՓՈԽՈՒԹՅՈՒՆՆԵՐԸ ԵՎ ԼՐԱՑՈՒՄՆԵՐԸ
G7: հազար դրամներով
A8: Գործառական դասիչը | D8: Ծրագրային դասիչը | F8: Բյուջետային ծախսերի գործառական դասակարգման բաժինների, խմբերի և դասերի, բյուջետային հատկացումների գլխավոր կարգադրիչների, ծրագրերի, միջոցառումների և միջոցառումները կատարող պետական մարմինների անվանումները | G8: Ցուցանիշների փոփոխությունը (ավելացումները նշված են դրական նշանով, իսկ նվազեցումները՝ փակագծերում)
A9: Բաժին | B9: Խումբ | C9: Դաս | D9: Ծրագիր | E9: Միջոցառում | G9: Տարի
F10: ԸՆԴԱՄԵՆԸ ԾԱԽՍԵՐ | G10: =G12 -> 0
F11: այդ թվում`
A12: 04 | F12: ՏՆՏԵՍԱԿԱՆ ՀԱՐԱԲԵՐՈՒԹՅՈՒՆՆԵՐ | G12: =G14 -> 0
F13: այդ թվում`
B14: 05 | F14: Տրանսպորտ | G14: =G16 -> 0
F15: այդ թվում`
C16: 05 | F16: Խողովակաշարային և այլ տրանսպորտ | G16: =G18 -> 0
F17: այդ թվում`
F18: ՀՀ տարածքային կառավարման և ենթակառուցվածքների նախարարություն | G18: =+G20 -> 0
F19: այդ թվում`
D20: 1157 | F20: Քաղաքային զարգացում | G20: =+G22 -> 0
F21: այդ թվում`
E22: 21001 | F22: Երևանի մետրոպոլիտենի ենթակառուցվածքների նորոգում | G22: =+G24+G31 -> 0
F23: այդ թվում` ըստ կատարողների
F24: ՀՀ կառավարություն | G24: =+G26 -> -499404
F25: այդ թվում` բյուջետային ծախսերի տնտեսագիտական դասակարգման հոդվածների
F26: ԸՆԴԱՄԵՆԸ ԾԱԽՍԵՐ | G26: =+G27 -> -499404
F27: ՈՉ ՖԻՆԱՆՍԱԿԱՆ ԱԿՏԻՎՆԵՐԻ ԳԾՈՎ ԾԱԽՍԵՐ | G27: =+G28 -> -499404
F28: ՀԻՄՆԱԿԱՆ ՄԻՋՈՑՆԵՐ | G28: =+G29 -> -499404
F29: ՇԵՆՔԵՐ ԵՎ ՇԻՆՈՒԹՅՈՒՆՆԵՐ | G29: =+G30 -> -499404
F30: - Շենքերի և շինությունների կապիտալ վերանորոգում | G30: =-G31 -> -499404
F31: ՀՀ տարածքային կառավարման և ենթակառուցվածքների նախարարություն | G31: =+G33 -> 499404
F32: այդ թվում` բյուջետային ծախսերի տնտեսագիտական դասակարգման հոդվածների
F33: ԸՆԴԱՄԵՆԸ ԾԱԽՍԵՐ | G33: =+G34 -> 499404
F34: ՈՉ ՖԻՆԱՆՍԱԿԱՆ ԱԿՏԻՎՆԵՐԻ ԳԾՈՎ ԾԱԽՍԵՐ | G34: =+G35 -> 499404
F35: ՀԻՄՆԱԿԱՆ ՄԻՋՈՑՆԵՐ | G35: =+G36 -> 499404
F36: ՄԵՔԵՆԱՆԵՐ ԵՎ ՍԱՐՔԱՎՈՐՈՒՄՆԵՐ | G36: =+G37 -> 499404
F37: - Այլ մեքենաներ և սարքավորումներ | G37: 499404
B41: ՀԱՅԱՍՏԱՆԻ ՀԱՆՐԱՊԵՏՈՒԹՅԱՆ ՎԱՐՉԱՊԵՏԻ ԱՇԽԱՏԱԿԱԶՄԻ ՂԵԿԱՎԱՐ

Sheet 2
F1: Հավելված N 2
E2: ՀՀ կառավարության 2022 թվականի
E3: ______________ ի ___Ն որոշման
A5: «ՀԱՅԱUՏԱՆԻ ՀԱՆՐԱՊԵՏՈՒԹՅԱՆ 2022 ԹՎԱԿԱՆԻ ՊԵՏԱԿԱՆ ԲՅՈՒՋԵԻ ՄԱUԻՆ» OՐԵՆՔԻ N 1 ՀԱՎԵԼՎԱԾԻ N 3 ԱՂՅՈՒՍԱԿՈՒՄ ԿԱՏԱՐՎՈՂ ՓՈՓՈԽՈՒԹՅՈՒՆՆԵՐԸ ԵՎ ԼՐԱՑՈՒՄՆԵՐԸ
G6: հազար դրամներով
A7: Ծրագրային դասիչ | C7: Բյուջետային գլխավոր կարգադրիչների, ծրագրերի, միջոցառումների և ուղղությունների անվանումները | D7: Ընդամենը | E7: այդ թվում`
A8: Ծրագիր | B8: Միջոցառում | E8: Կառուցման աշխատանքներ | F8: Վերակառուցման, վերանորոգման և վերականգնման աշխատանքներ | G8: Նախագծահե- տազոտական, գեոդեզիա- քարտեզագրա- կան աշխա- տանքներ | H8: Ոչ ֆինանսական այլ ակտիվների ձեռքբերում
C9: ԸՆԴԱՄԵՆԸ | D9: =+E9+F9+G9+H9 -> 0 | E9: =+E11 -> 0 | F9: =+F11 -> -499404 | G9: =+G11 -> 0 | H9: =+H11 -> 499404
C10: այդ թվում՝
C11: ՀՀ ՏԱՐԱԾՔԱՅԻՆ ԿԱՌԱՎԱՐՄԱՆ ԵՎ ԵՆԹԱԿԱՌՈՒՑՎԱԾՔՆԵՐԻ ՆԱԽԱՐԱՐՈՒԹՅՈՒՆ | D11: =+D13 -> 0 | E11: =+E13 -> 0 | F11: =+F13 -> -499404 | G11: =+G13 -> 0 | H11: =+H13 -> 499404
C12: այդ թվում`
A13: 1157 | B13: 21001 | C13: Երևանի մետրոպոլիտենի ենթակառուցվածքների նորոգում | D13: =SUM(E13:H13) -> 0 | E13: 0 | F13: =+'1'!G30 -> -499404 | G13: 0 | H13: =+'1'!G31 -> 499404
C17: ՀԱՅԱՍՏԱՆԻ ՀԱՆՐԱՊԵՏՈՒԹՅԱՆ ՎԱՐՉԱՊԵՏԻ ԱՇԽԱՏԱԿԱԶՄԻ ՂԵԿԱՎԱՐ | F17: Ա.ՀԱՐՈՒԹՅՈՒՆՅԱՆ

Sheet 3
D1: Հավելված N 3
D2: ՀՀ կառավարության 2022 թվականի
D3: ______________ ի ___Ն որոշման
A5: ՀԱՅԱՍՏԱՆԻ ՀԱՆՐԱՊԵՏՈՒԹՅԱՆ ԿԱՌԱՎԱՐՈՒԹՅԱՆ 2021 ԹՎԱԿԱՆԻ ԴԵԿՏԵՄԲԵՐԻ 23-Ի N 2121-Ն ՈՐՈՇՄԱՆ N 5 ՀԱՎԵԼՎԱԾԻ N 2 ԱՂՅՈՒՍԱԿՈՒՄ ԿԱՏԱՐՎՈՂ ՓՈՓՈԽՈՒԹՅՈՒՆՆԵՐԸ ԵՎ ԼՐԱՑՈՒՄՆԵՐԸ
D6: հազար դրամներով
A7: Ծրագրային դասիչ | C7: Բյուջետային գլխավոր կարգադրիչների, ծրագրերի, միջոցառումների և ուղղությունների անվանումները | D7: Ցուցանիշների փոփոխությունը (ավելացումները նշված են դրական նշանով, իսկ նվազեցումները՝ փակագծերում)
A8: Ծրագիր | B8: Միջոցառում | D8: Տարի
C9: ԸՆԴԱՄԵՆԸ | D9: =D11 -> 0
C10: այդ թվում՝
C11: ՀՀ ՏԱՐԱԾՔԱՅԻՆ ԿԱՌԱՎԱՐՄԱՆ ԵՎ ԵՆԹԱԿԱՌՈՒՑՎԱԾՔՆԵՐԻ ՆԱԽԱՐԱՐՈՒԹՅՈՒՆ | D11: =+D13 -> 0
C12: այդ թվում`
A13: 1157 | B13: 21001 | C13: Երևանի մետրոպոլիտենի ենթակառուցվածքների նորոգում | D13: =+D15+D16 -> 0
C14: այդ թվում` ըստ կատարողների
C15: ՀՀ կառավարություն | D15: =-D16 -> -499404
C16: ՀՀ տարածքային կառավարման և ենթակառուցվածքների նախարարություն | D16: =+'1'!G37 -> 499404
C19: ՀԱՅԱՍՏԱՆԻ ՀԱՆՐԱՊԵՏՈՒԹՅԱՆ ՎԱՐՉԱՊԵՏԻ ԱՇԽԱՏԱԿԱԶՄԻ ՂԵԿԱՎԱՐ | D19: Ա.ՀԱՐՈՒԹՅՈՒՆՅԱՆ

Sheet 4
C1: Հավելված N 4
C2: ՀՀ կառավարության 2022 թվականի
C3: ______________ ի ___Ն որոշման
A5: ՀԱՅԱՍՏԱՆԻ ՀԱՆՐԱՊԵՏՈՒԹՅԱՆ ԿԱՌԱՎԱՐՈՒԹՅԱՆ 2021 ԹՎԱԿԱՆԻ ԴԵԿՏԵՄԲԵՐԻ 23-Ի N 2121-Ն ՈՐՈՇՄԱՆ N 9 ՀԱՎԵԼՎԱԾԻ NN 9.7 ԱՂՅՈՒՍԱԿՈՒՄ ԿԱՏԱՐՎՈՂ ՓՈՓՈԽՈՒԹՅՈՒՆՆԵՐԸ ԵՎ ԼՐԱՑՈՒՄՆԵՐԸ
A7: ՀՀ ՏԱՐԱԾՔԱՅԻՆ ԿԱՌԱՎԱՐՄԱՆ ԵՎ ԵՆԹԱԿԱՌՈՒՑՎԱԾՔՆԵՐԻ ՆԱԽԱՐԱՐՈՒԹՅՈՒՆ
A8: ՄԱՍ 2. ՊԵՏԱԿԱՆ ՄԱՐՄՆԻ ԳԾՈՎ ԱՐԴՅՈՒՆՔԱՅԻՆ (ԿԱՏԱՐՈՂԱԿԱՆ) ՑՈՒՑԱՆԻՇՆԵՐԸ
A9: Ծրագրի դասիչը | B9: Ծրագրի անվանումը
A10: 1157 | B10: Քաղաքային զարգացում
A12: Ծրագրի միջոցառումները
A14: Ծրագրի դասիչը` | B14: 1157 | C14: Ցուցանիշների փոփոխությունը (ավելացումները նշված են դրական նշանով, իսկ նվազեցումները՝ փակագծերում)
A15: Միջոցառման դասիչը` | B15: 21001 | C15: Տարի
A16: Միջոցառման անվանումը` | B16: Երևանի մետրոպոլիտենի ենթակառուցվածքների նորոգում
A17: Նկարագրությունը` | B17: Երևանի մետրոպոլիտենի ենթակառուցվածքների նորոգում
A18: Միջոցառման տեսակը` | B18: Հանրության կողմից անմիջականորեն օգտագործվող ակտիվների հետ կապված միջոցառումներ
A19: Միջոցառումն իրականացնողի անվանումը | B19: Մասնագիտացված միավոր
A20: Արդյունքի չափորոշիչներ
A21: Գնացքի անվազույգերի ձեռքբերում /անվազույգ/ | C21: -12
A22: Անվասայլակի շրջանակի ձեռքբերում /շրջանակ/ | C22: -12
A23: Վագոնի օդաճնշակի ձեռքբերում /օդաճնշակ/ | C23: -6
A24: Վագոնի անվասայլակների և պնևմատիկ սարքավորումների ձեռքբերում /անվասայլակ/ | C24: -6
A25: 6 կվ մալուխների փոխարինում /մ/ | C25: -4000
A26: Թունելային հզոր օդափոխիչներ d=2400մմ հատ | C26: 6
A27: Թունելային հզոր օդափոխիչներ d=2000մմ հատ | C27: 8
A28: Կայարանային համալիրներում և թունելներում խոնավության նվազեցում, տոկոս | C28: 10
A29: Միջոցառման վրա կատարվող ծախսը (հազար դրամ) | C29: =+'3'!D13 -> 0
A33: ՀԱՅԱՍՏԱՆԻ ՀԱՆՐԱՊԵՏՈՒԹՅԱՆ ՎԱՐՉԱՊԵՏԻ ԱՇԽԱՏԱԿԱԶՄԻ ՂԵԿԱՎԱՐ | C33: Ա.ՀԱՐՈՒԹՅՈՒՆՅԱՆ

Sheet 5
C1: Հավելված N 5
C2: ՀՀ կառավարության 2022 թվականի
C3: ______________ ի ___Ն որոշման
A5: ՀԱՅԱՍՏԱՆԻ ՀԱՆՐԱՊԵՏՈՒԹՅԱՆ ԿԱՌԱՎԱՐՈՒԹՅԱՆ 2021 ԹՎԱԿԱՆԻ ԴԵԿՏԵՄԲԵՐԻ 23-Ի N 2121-Ն ՈՐՈՇՄԱՆ N 9.1 ՀԱՎԵԼՎԱԾԻ NN 9.1.8 ԵՎ 9.1.59 ԱՂՅՈՒՍԱԿՆԵՐՈՒՄ ԿԱՏԱՐՎՈՂ ԼՐԱՑՈՒՄՆԵՐԸ
C6: Աղյուսակ 9.1.8
A7: ՀՀ ՏԱՐԱԾՔԱՅԻՆ ԿԱՌԱՎԱՐՄԱՆ ԵՎ ԵՆԹԱԿԱՌՈՒՑՎԱԾՔՆԵՐԻ ՆԱԽԱՐԱՐՈՒԹՅՈՒՆ
A8: ՄԱՍ 1. ՊԵՏԱԿԱՆ ՄԱՐՄՆԻ ԳԾՈՎ ԱՐԴՅՈՒՆՔԱՅԻՆ (ԿԱՏԱՐՈՂԱԿԱՆ) ՑՈՒՑԱՆԻՇՆԵՐԸ
A9: Ծրագրի դասիչը | B9: Ծրագրի անվանումը
A10: 1157 | B10: Քաղաքային զարգացում
A12: Ծրագրի միջոցառումները
A14: Ծրագրի դասիչը` | B14: 1157 | C14: Ցուցանիշների փոփոխությունը (ավելացումները նշված են դրական նշանով)
A15: Միջոցառման դասիչը` | B15: 21001 | C15: Տարի
A16: Միջոցառման անվանումը` | B16: Երևանի մետրոպոլիտենի ենթակառուցվածքների նորոգում
A17: Նկարագրությունը` | B17: Երևանի մետրոպոլիտենի ենթակառուցվածքների նորոգում
A18: Միջոցառման տեսակը` | B18: Հանրության կողմից անմիջականորեն օգտագործվող ակտիվների հետ կապված միջոցառումներ
A19: Միջոցառումն իրականացնողի անվանումը | B19: Մասնագիտացված միավոր
A20: Արդյունքի չափորոշիչներ
A21: Թունելային հզոր օդափոխիչներ d=2400մմ հատ | C21: 6
A22: Թունելային հզոր օդափոխիչներ d=2000մմ հատ | C22: 8
A23: Կայարանային համալիրներում և թունելներում խոնավության նվազեցում, տոկոս | C23: 10
A24: Միջոցառման վրա կատարվող ծախսը (հազար դրամ) | C24: =+'3'!D16 -> 499404
C27: Աղյուսակ 9.1.59
A28: ՀՀ ԿԱՌԱՎԱՐՈՒԹՅՈՒՆ
A29: ՄԱՍ 1. ՊԵՏԱԿԱՆ ՄԱՐՄՆԻ ԳԾՈՎ ԱՐԴՅՈՒՆՔԱՅԻՆ (ԿԱՏԱՐՈՂԱԿԱՆ) ՑՈՒՑԱՆԻՇՆԵՐԸ
A30: Ծրագրի դասիչը | B30: Ծրագրի անվանումը
A31: 1157 | B31: Քաղաքային զարգացում
A33: Ծրագրի միջոցառումները
A35: Ծրագրի դասիչը` | B35: 1157 | C35: Ցուցանիշների փոփոխությունը (նվազեցումները նշված են փակագծերում)
A36: Միջոցառման դասիչը` | B36: 21001 | C36: Տարի
A37: Միջոցառման անվանումը` | B37: Երևանի մետրոպոլիտենի ենթակառուցվածքների նորոգում
A38: Նկարագրությունը` | B38: Երևանի մետրոպոլիտենի ենթակառուցվածքների նորոգում
A39: Միջոցառման տեսակը` | B39: Հանրության կողմից անմիջականորեն օգտագործվող ակտիվների հետ կապված միջոցառումներ
A40: Արդյունքի չափորոշիչներ
A41: Գնացքի անվազույգերի ձեռքբերում /անվազույգ/ | C41: -12
A42: Անվասայլակի շրջանակի ձեռքբերում /շրջանակ/ | C42: -12
A43: Վագոնի օդաճնշակի ձեռքբերում /օդաճնշակ/ | C43: -6
A44: Վագոնի անվասայլակների և պնևմատիկ սարքավորումների ձեռքբերում /անվասայլակ/ | C44: -6
A45: 6 կվ մալուխների փոխարինում /մ/ | C45: -4000
A46: Միջոցառման վրա կատարվող ծախսը (հազար դրամ) | C46: =+'1'!G24 -> -499404
A49: ՀԱՅԱՍՏԱՆԻ ՀԱՆՐԱՊԵՏՈՒԹՅԱՆ ՎԱՐՉԱՊԵՏԻ ԱՇԽԱՏԱԿԱԶՄԻ ՂԵԿԱՎԱՐ | C49: Ա.ՀԱՐՈՒԹՅՈՒՆՅԱՆ

Sheet 6
D1: Հավելված N 6
A2: ՀՀ կառավարության 2022 թվականի
A3: ______________ ի ___Ն որոշման
A5: ՀԱՅԱՍՏԱՆԻ ՀԱՆՐԱՊԵՏՈՒԹՅԱՆ ԿԱՌԱՎԱՐՈՒԹՅԱՆ 2021 ԹՎԱԿԱՆԻ ԴԵԿՏԵՄԲԵՐԻ 23-Ի N 2121-Ն ՈՐՈՇՄԱՆ N 10 ՀԱՎԵԼՎԱԾՈՒՄ ԿԱՏԱՐՎՈՂ ԼՐԱՑՈՒՄՆԵՐԸ
A7: Կոդը | B7: Անվանումը | E7: Գնման ձևը | F7: Չափման միավորը | G7: Ցուցանիշների փոփոխությունը (ավելացումները նշված են դրական նշանով)
G8: Միավորի գինը | H8: Քանակը | I8: Գումարը (հազար դրամ)
A9: 1 | B9: 2 | E9: 3 | F9: 4 | G9: 5 | H9: 6 | I9: 7
A10: ՀՀ տարածքային կառավարման և ենթակառուցվածքների նախարարություն | I10: =+I11 -> 499404
A11: Բաժին N 04 | B11: Խումբ N 05 | C11: Դաս N 05 | D11: Խողովակաշարային և այլ տրանսպորտ | I11: =+I12 -> 499404
A12: 1157-21001 | B12: Երևանի մետրոպոլիտենի ենթակառուցվածքների նորոգում | I12: =+I13 -> 499404
B13: ՄԱՍ I. ԱՊՐԱՆՔՆԵՐ | I13: =SUM(I14:I28) -> 499404
A14: 39714100 | B14: Oդափոխիչներ | E14: ԲՄ | F14: հատ | G14: 40000000 | H14: 6 | I14: =G14*H14/1000 -> 240000
A15: 39714100 | B15: Oդափոխիչներ | E15: ԲՄ | F15: հատ | G15: 30000000 | H15: 8 | I15: =G15*H15/1000 -> 240000
A16: 34631180 | B16: Էլեկտրական սարքավորումներ երկաթուղիների համար | E16: ԲՄ | F16: հատ | G16: 16400 | H16: 300 | I16: =G16*H16/1000 -> 4920
A17: 34631180 | B17: Էլեկտրական սարքավորումներ երկաթուղիների համար | E17: ԲՄ | F17: հատ | G17: 2850 | H17: 80 | I17: =G17*H17/1000 -> 228
A18: 34631180 | B18: Էլեկտրական սարքավորումներ երկաթուղիների համար | E18: ԲՄ | F18: հատ | G18: 2850 | H18: 80 | I18: =G18*H18/1000 -> 228
A19: 34631180 | B19: Էլեկտրական սարքավորումներ երկաթուղիների համար | E19: ԲՄ | F19: հատ | G19: 40800 | H19: 10 | I19: =G19*H19/1000 -> 408
A20: 34631180 | B20: Էլեկտրական սարքավորումներ երկաթուղիների համար | E20: ԲՄ | F20: հատ | G20: 42000 | H20: 10 | I20: =G20*H20/1000 -> 420
A21: 34631180 | B21: Էլեկտրական սարքավորումներ երկաթուղիների համար | E21: ԲՄ | F21: հատ | G21: 42000 | H21: 10 | I21: =G21*H21/1000 -> 420
A22: 34631180 | B22: Էլեկտրական սարքավորումներ երկաթուղիների համար | E22: ԲՄ | F22: հատ | G22: 42000 | H22: 10 | I22: =G22*H22/1000 -> 420
A23: 34631180 | B23: Էլեկտրական սարքավորումներ երկաթուղիների համար | E23: ԲՄ | F23: հատ | G23: 12600 | H23: 100 | I23: =G23*H23/1000 -> 1260
A24: 34631180 | B24: Էլեկտրական սարքավորումներ երկաթուղիների համար | E24: ԲՄ | F24: հատ | G24: 10800 | H24: 50 | I24: =G24*H24/1000 -> 540
A25: 34631180 | B25: Էլեկտրական սարքավորումներ երկաթուղիների համար | E25: ԲՄ | F25: հատ | G25: 52800 | H25: 50 | I25: =G25*H25/1000 -> 2640
A26: 34631180 | B26: Էլեկտրական սարքավորումներ երկաթուղիների համար | E26: ԲՄ | F26: հատ | G26: 52800 | H26: 50 | I26: =G26*H26/1000 -> 2640
A27: 34631180 | B27: Էլեկտրական սարքավորումներ երկաթուղիների համար | E27: ԲՄ | F27: հատ | G27: 52800 | H27: 50 | I27: =G27*H27/1000 -> 2640
A28: 34631180 | B28: Էլեկտրական սարքավորումներ երկաթուղիների համար | E28: ԲՄ | F28: հատ | G28: 52800 | H28: 50 | I28: =G28*H28/1000 -> 2640
B32: ՀԱՅԱՍՏԱՆԻ ՀԱՆՐԱՊԵՏՈՒԹՅԱՆ ՎԱՐՉԱՊԵՏԻ ԱՇԽԱՏԱԿԱԶՄԻ ՂԵԿԱՎԱՐ | G32: Ա.ՀԱՐՈՒԹՅՈՒՆՅԱՆ

Sheet 7
C1: Հավելված N 7
A2: ՀՀ կառավարության 2022 թվականի
A3: ______________ ի ___Ն որոշման
A7: Ց Ա Ն Կ « ԵՐԵՎԱՆԻ ԿԱՐԵՆ ԴԵՄԻՐՃՅԱՆԻ ԱՆՎԱՆ ՄԵՏՐՈՊՈԼԻՏԵՆ» ՓԲԸ-Ի ԿՈՂՄԻՑ 2022 ԹՎԱԿԱՆԻ ԸՆԹԱՑՔՈՒՄ «ԳՆՈՒՄՆԵՐԻ ՄԱՍԻՆ» ՕՐԵՆՔԻ 15-ՐԴ ՀՈԴՎԱԾԻ 6-ՐԴ ՄԱՍԻ ՀԻՄԱՆ ՎՐԱ ԿԱԶՄԱԿԵՐՊՎԱԾ ԱՊՐԱՆՔՆԵՐԻ ԳՆՄԱՆ ԳՈՐԾԸՆԹԱՑՆԵՐԻ ԱՐԴՅՈՒՆՔՈՒՄ ԿՆՔՎԱԾ ՊԱՅՄԱՆԱԳՐԵՐԻ
A9: NN | B9: Պայմանագրի ծածկագիրը | C9: Պայմանագրի կնքման ամսաթիվը
A10: 1 | B10: N ԵՄ-ԲՄԱՊՁԲ-22/13-1 | C10: 27 մայիս, 2022թ․
A11: 2 | B11: N ԵՄ-ԳՀԱՊՁԲ-22/45-3 | C11: 08 հունիս, 2022թ․
B15: ՀԱՅԱՍՏԱՆԻ ՀԱՆՐԱՊԵՏՈՒԹՅԱՆ ՎԱՐՉԱՊԵՏԻ ԱՇԽԱՏԱԿԱԶՄԻ ՂԵԿԱՎԱՐ | C15: Ա.ՀԱՐՈՒԹՅՈՒՆՅԱՆ
