Workbook

Sheet HAVEL. 1
D1: Հավելված N 1
D2: ՀՀ կառավարության 2022 թվականի
D3: ի Ն որոշման
A6: «ՀԱՅԱՍՏԱՆԻ ՀԱՆՐԱՊԵՏՈՒԹՅԱՆ 2022 ԹՎԱԿԱՆԻ ՊԵՏԱԿԱՆ ԲՅՈՒՋԵԻ ՄԱՍԻՆ» ՀԱՅԱՍՏԱՆԻ ՀԱՆՐԱՊԵՏՈՒԹՅԱՆ ՕՐԵՆՔԻ N 1 ՀԱՎԵԼՎԱԾԻ N 2 ԱՂՅՈՒՍԱԿՈՒՄ ԿԱՏԱՐՎՈՂ ՎԵՐԱԲԱՇԽՈՒՄԸ ԵՎ ՀԱՅԱՍՏԱՆԻ ՀԱՆՐԱՊԵՏՈՒԹՅԱՆ ԿԱՌԱՎԱՐՈՒԹՅԱՆ 2021 ԹՎԱԿԱՆԻ ԴԵԿՏԵՄԲԵՐԻ 23-ի N 2121-Ն ՈՐՈՇՄԱՆ N 5 ՀԱՎԵԼՎԱԾԻ N 1 ԱՂՅՈՒՍԱԿՈՒՄ ԿԱՏԱՐՎՈՂ ՓՈՓՈԽՈՒԹՅՈՒՆՆԵՐԸ
D7: հազ. դրամ
A8: Ծրագրային դասիչը | C8: Բյուջետային հատկացումների գլխավոր կարգադրիչների, ծրագրերի և միջոցառումների անվանումները | D8: Ցուցանիշների փոփոխությունը (ավելացումները նշված են դրական նշանով, իսկ նվազեցումները՝ փակագծերում)
A9: ծրագիր | B9: միջոցառում | D9: Տարի
C10: ԸՆԴԱՄԵՆԸ՝ | D10: =D25+D11 -> 0
C11: ՀՀ կառավարություն | D11: =D12 -> -50000
A12: 1139 | C12: Ծրագրի անվանումը` | D12: =D19 -> -50000
C13: ՀՀ կառավարության պահուստային ֆոնդ
C14: Ծրագրի նպատակը`
C15: Պետական բյուջեում չկանխատեսված, ինչպես նաեւ բյուջետային երաշխիքների ապահովման ծախսերի ֆինանսավորման ապահովում
C16: Վերջնական արդյունքի նկարագրությունը`
C17: Պահուստային ֆոնդի կառավարման արդյունավետության և թափանցիկության ապահովում
A18: Ծրագրի միջոցառումներ
B19: 11001 | C19: Միջոցառման անվանումը` | D19: -50000
C20: ՀՀ կառավարության պահուստային ֆոնդ
C21: Միջոցառման նկարագրությունը`
C22: ՀՀ պետական բյուջեում նախատեսված ելքերի լրացուցիչ ֆինանսավորման, պետական բյուջեում չկանխատեսված ելքերի, ինչպես նաև բյուջետային երաշխիքների ապահովման ելքերի ֆինանսավորման ապահովում
C23: Միջոցառման տեսակը՝
C24: Ծառայությունների մատուցում
C25: ՀՀ ազգային անվտանգության ծառայություն | D25: =D26 -> 50000
A26: 1036 | C26: Ծրագրի անվանումը` | D26: =D33 -> 50000
C27: Պետական պահպանության ապահովում
C28: Ծրագրի նպատակը`
C29: Հատուկ պետական պաշտպանության ենթակա օբյեկտների անվտանգության ապահովում
C30: Վերջնական արդյունքի նկարագրությունը`
C31: Պետական պահպանության ենթակա օբեկտների անվտանգության խախտման դեպքերի կրճատում
A32: Ծրագրի միջոցառումներ
B33: 11001 | C33: Միջոցառման անվանումը` | D33: 50000
C34: Պետական պահպանության ծառայություններ
C35: Միջոցառման նկարագրությունը`
C36: Բարձրաստիճան պաշտոնատար անձանց, նրանց բարձրաստիճան հյուրերի անվտանգության ապահովում
C37: Միջոցառման տեսակը՝
C38: Ծառայությունների մատուցում

Sheet HAVEL. 2
G1: Հավելված N 2
G2: ՀՀ կառավարության 2022 թվականի
G3: ի Ն որոշման
A7: ՀԱՅԱՍՏԱՆԻ ՀԱՆՐԱՊԵՏՈՒԹՅԱՆ ԿԱՌԱՎԱՐՈՒԹՅԱՆ 2021 ԹՎԱԿԱՆԻ ԴԵԿՏԵՄԲԵՐԻ 23-ի N 2121-Ն ՈՐՈՇՄԱՆ NN 3 ԵՎ 4 ՀԱՎԵԼՎԱԾՆԵՐՈՒՄ ԿԱՏԱՐՎՈՂ ՓՈՓՈԽՈՒԹՅՈՒՆՆԵՐԸ
G8: հազ. դրամ
A9: Գործառական դասիչը | D9: Ծրագրային դասիչը | F9: Բյուջետային ծախսերի գործառական դասակարգման բաժինների, խմբերի և դասերի, բյուջետային ծրագրերի միջոցառումների, բյուջետային հատկացումների գլխավոր կարգադրիչների անվանումները | G9: Ցուցանիշների փոփոխությունը (ավելացումները նշված են դրական նշանով, իսկ նվազեցումները՝ փակագծերում)
A10: բաժին | B10: խումբ | C10: դաս | D10: ծրագիր | E10: միջոցառում | G10: Տարի
F11: ԸՆԴԱՄԵՆԸ՝ | G11: =G28+G12 -> 0
A12: 11 | F12: ՀԻՄՆԱԿԱՆ ԲԱԺԻՆՆԵՐԻՆ ՉԴԱՍՎՈՂ ՊԱՀՈՒՍՏԱՅԻՆ ՖՈՆԴԵՐ | G12: =G14 -> -50000
F13: այդ թվում`
B14: 01 | F14: ՀՀ կառավարության և համայնքների պահուստային ֆոնդ | G14: =G16 -> -50000
F15: այդ թվում`
C16: 01 | F16: ՀՀ կառավարության պահուստային ֆոնդ | G16: =G18 -> -50000
F17: այդ թվում`
D18: 1139 | F18: ՀՀ կառավարության պահուստային ֆոնդ | G18: =G20 -> -50000
F19: այդ թվում`
E20: 11001 | F20: ՀՀ կառավարության պահուստային ֆոնդ | G20: =G22 -> -50000
F21: այդ թվում` ըստ կատարողների
F22: ՀՀ կառավարություն | G22: =G24 -> -50000
F23: այդ թվում` բյուջետային ծախսերի տնտեսագիտական դասակարգման հոդվածներ
F24: ԸՆԴԱՄԵՆԸ՝ ԾԱԽՍԵՐ | G24: =G25 -> -50000
F25: ԸՆԹԱՑԻԿ ԾԱԽՍԵՐ | G25: =G26 -> -50000
F26: ԱՅԼ ԾԱԽՍԵՐ | G26: =G27 -> -50000
F27: Պահուստային միջոցներ | G27: ='HAVEL. 1'!D19 -> -50000
A28: 03 | F28: ՀԱՍԱՐԱԿԱԿԱՆ ԿԱՐԳ, ԱՆՎՏԱՆԳՈՒԹՅՈՒՆ ԵՎ ԴԱՏԱԿԱՆ ԳՈՐԾՈՒՆԵՈՒԹՅՈՒՆ | G28: =SUM(G30) -> 50000
F29: այդ թվում`
B30: 01 | F30: Հասարակական կարգ և անվտանգություն | G30: =SUM(G32) -> 50000
F31: այդ թվում`
C32: 03 | F32: Պետական պահպանություն | G32: =G34 -> 50000
F33: այդ թվում`
F34: ՀՀ ազգային անվտանգության ծառայություն | G34: =G36 -> 50000
F35: այդ թվում`
D36: 1036 | F36: Պետական պահպանության ապահովում | G36: =G38 -> 50000
F37: այդ թվում`
E38: 11001 | F38: Պետական պահպանության ծառայություններ | G38: =G40 -> 50000
F39: այդ թվում` ըստ կատարողների
F40: ՀՀ պետական պահպանության ծառայություն | G40: =G42 -> 50000
F41: այդ թվում` բյուջետային ծախսերի տնտեսագիտական դասակարգման հոդվածներ
F42: ԸՆԴԱՄԵՆԸ՝ ԾԱԽՍԵՐ | G42: =G43 -> 50000
F43: ԸՆԹԱՑԻԿ ԾԱԽՍԵՐ | G43: =G44 -> 50000
F44: ԾԱՌԱՅՈՒԹՅՈՒՆՆԵՐԻ ԵՎ ԱՊՐԱՆՔՆԵՐԻ ՁԵՌՔԲԵՐՈՒՄ | G44: =G45 -> 50000
F45: Ծառայողական գործուղումների գծով ծախսեր | G45: =G46 -> 50000
F46: -Արտասահմանյան գործուղումների գծով ծախսեր | G46: =+'HAVEL. 1'!D33 -> 50000

Sheet HAVEL. 3
C1: Հավելված N 3
C2: ՀՀ կառավարության 2022 թվականի
C3: ի Ն որոշման
A5: ՀԱՅԱՍՏԱՆԻ ՀԱՆՐԱՊԵՏՈՒԹՅԱՆ ԿԱՌԱՎԱՐՈՒԹՅԱՆ 2021 ԹՎԱԿԱՆԻ ԴԵԿՏԵՄԲԵՐԻ 23-ի N 2121-Ն ՈՐՈՇՄԱՆ N 9 ՀԱՎԵԼՎԱԾԻ NN 9.47 ԵՎ 9.26 ԱՂՅՈՒՍԱԿՆԵՐՈՒՄ ԿԱՏԱՐՎՈՂ ՓՈՓՈԽՈՒԹՅՈՒՆՆԵՐԸ
A7: ՀՀ կառավարություն
A9: ՄԱՍ 2. ՊԵՏԱԿԱՆ ՄԱՐՄՆԻ ԳԾՈՎ ԱՐԴՅՈՒՆՔԱՅԻՆ (ԿԱՏԱՐՈՂԱԿԱՆ) ՑՈՒՑԱՆԻՇՆԵՐԸ
A11: Ծրագրի դասիչը | B11: Ծրագրի անվանումը
A12: 1139 | B12: ՀՀ կառավարության պահուստային ֆոնդ
A14: Ծրագրի միջոցառումները
A16: Ծրագրի դասիչը՝ | B16: 1139 | C16: Ցուցանիշների փոփոխությունը (նվազեցումները նշված են փակագծերում)
A17: Միջոցառման դասիչը՝ | B17: 11001 | C17: Տարի
A18: Միջոցառման անվանումը՝ | B18: ՀՀ կառավարության պահուստային ֆոնդ
A19: Նկարագրությունը՝ | B19: ՀՀ պետական բյուջեում նախատեսված ելքերի լրացուցիչ ֆինանսավորման, պետական բյուջեում չկանխատեսված ելքերի, ինչպես նաև բյուջետային երաշխիքների ապահովման ելքերի ֆինանսավորման ապահովում
A20: Միջոցառման տեսակը՝ | B20: Ծառայությունների մատուցում
A21: Արդյունքի չափորոշիչներ
A22: Միջոցառման վրա կատարվող ծախսը (հազ. դրամ) | C22: ='HAVEL. 2'!G27 -> -50000
A24: ՀՀ ազգային անվտանգության ծառայություն
A26: ՄԱՍ 2. ՊԵՏԱԿԱՆ ՄԱՐՄՆԻ ԳԾՈՎ ԱՐԴՅՈՒՆՔԱՅԻՆ (ԿԱՏԱՐՈՂԱԿԱՆ) ՑՈՒՑԱՆԻՇՆԵՐԸ
A28: Ծրագրի դասիչը | B28: Ծրագրի անվանումը
A29: 1036 | B29: Պետական պահպանության ապահովում
A31: Ծրագրի միջոցառումները
A33: Ծրագրի դասիչը՝ | B33: 1036 | C33: Ցուցանիշների փոփոխությունը (ավելացումները նշված են դրական նշանով)
A34: Միջոցառման դասիչը՝ | B34: 11001 | C34: Տարի
A35: Միջոցառման անվանումը՝ | B35: Պետական պահպանության ծառայություններ
A36: Նկարագրությունը՝ | B36: Բարձրաստիճան պաշտոնատար անձանց, նրանց բարձրաստիճան հյուրերի անվտանգության ապահովում
A37: Միջոցառման տեսակը՝ | B37: Ծառայությունների մատուցում
A38: Ծառայությունը մատուցող կազմակերպության (կազմակերպությունների) անվանումը (անվանումները) | B38: ՀՀ պետական պահպանության ծառայություն
A39: Արդյունքի չափորոշիչներ
A40: Միջոցառման վրա կատարվող ծախսը (հազ. դրամ) | C40: ='HAVEL. 2'!G46 -> 50000

Sheet HAVEL. 4
C1: Հավելված N 4
C2: ՀՀ կառավարության 2022 թվականի
C3: ի Ն որոշման
A5: ՀԱՅԱՍՏԱՆԻ ՀԱՆՐԱՊԵՏՈՒԹՅԱՆ ԿԱՌԱՎԱՐՈՒԹՅԱՆ 2021 ԹՎԱԿԱՆԻ ԴԵԿՏԵՄԲԵՐԻ 23-ի N 2121-Ն ՈՐՈՇՄԱՆ N 9.1 ՀԱՎԵԼՎԱԾԻ NN 9.1.59 ԵՎ 9.1.40 ԱՂՅՈՒՍԱԿՆԵՐՈՒՄ ԿԱՏԱՐՎՈՂ ՓՈՓՈԽՈՒԹՅՈՒՆՆԵՐԸ
A7: ՀՀ կառավարություն
A9: ՄԱՍ 1. ՊԵՏԱԿԱՆ ՄԱՐՄՆԻ ԳԾՈՎ ԱՐԴՅՈՒՆՔԱՅԻՆ (ԿԱՏԱՐՈՂԱԿԱՆ) ՑՈՒՑԱՆԻՇՆԵՐԸ
A11: Ծրագրի դասիչը | B11: Ծրագրի անվանումը
A12: 1139 | B12: ՀՀ կառավարության պահուստային ֆոնդ
A14: Ծրագրի միջոցառումները
A16: Ծրագրի դասիչը՝ | B16: 1139 | C16: Ցուցանիշների փոփոխությունը (նվազեցումները նշված են փակագծերում)
A17: Միջոցառման դասիչը՝ | B17: 11001 | C17: Տարի
A18: Միջոցառման անվանումը՝ | B18: ՀՀ կառավարության պահուստային ֆոնդ
A19: Նկարագրությունը՝ | B19: ՀՀ պետական բյուջեում նախատեսված ելքերի լրացուցիչ ֆինանսավորման, պետական բյուջեում չկանխատեսված ելքերի, ինչպես նաև բյուջետային երաշխիքների ապահովման ելքերի ֆինանսավորման ապահովում
A20: Միջոցառման տեսակը՝ | B20: Ծառայությունների մատուցում
A21: Արդյունքի չափորոշիչներ
A22: Միջոցառման վրա կատարվող ծախսը (հազ. դրամ) | C22: ='HAVEL. 3'!C22 -> -50000
A24: ՀՀ պետական պահպանության ծառայություն
A26: ՄԱՍ 1. ՊԵՏԱԿԱՆ ՄԱՐՄՆԻ ԳԾՈՎ ԱՐԴՅՈՒՆՔԱՅԻՆ (ԿԱՏԱՐՈՂԱԿԱՆ) ՑՈՒՑԱՆԻՇՆԵՐԸ
A28: Ծրագրի դասիչը | B28: Ծրագրի անվանումը
A29: 1036 | B29: Պետական պահպանության ապահովում
A31: Ծրագրի միջոցառումները
A33: Ծրագրի դասիչը ՝ | B33: 1036 | C33: Ցուցանիշների փոփոխությունը (ավելացումները նշված են դրական նշանով)
A34: Միջոցառման դասիչը՝ | B34: 11001 | C34: Տարի
A35: Միջոցառման անվանումը՝ | B35: Պետական պահպանության ծառայություններ
A36: Նկարագրությունը՝ | B36: Բարձրաստիճան պաշտոնատար անձանց, նրանց բարձրաստիճան հյուրերի անվտանգության ապահովում
A37: Միջոցառման տեսակը՝ | B37: Ծառայությունների մատուցում
A38: Ծառայությունը մատուցող կազմակերպության (կազմակերպությունների) անվանումը (անվանումները) | B38: ՀՀ պետական պահպանության ծառայություն
A39: Արդյունքի չափորոշիչներ
A40: Միջոցառման վրա կատարվող ծախսը (հազ. դրամ) | C40: ='HAVEL. 3'!C40 -> 50000
