Workbook
Name AgencyCode: #REF!
Name AgencyCode: #REF!
Name AgencyName: #REF!
Name AgencyName: #REF!
Name davit: #REF!
Name davit: #REF!
Name Functional1: #REF!
Name Functional1: #REF!
Name ggg: #REF!
Name ggg: #REF!
Name PANature: #REF!
Name PANature: #REF!
Name PAType: #REF!
Name PAType: #REF!
Name Performance2: #REF!
Name Performance2: #REF!
Name PerformanceType: #REF!
Name PerformanceType: #REF!
Name Հավելված: #REF!
Name Հավելված: #REF!
Name Մաս: #REF!
Name Մաս: #REF!
Name շախմատիստ: #REF!
Name շախմատիստ: #REF!

Sheet Հավելված 1
C1: Հավելված N 1
C2: ՀՀ կառավարության 2022 թվականի
C3: ______________ ի ___Ն որոշման
A5: «ՀԱՅԱUՏԱՆԻ ՀԱՆՐԱՊԵՏՈՒԹՅԱՆ 2022 ԹՎԱԿԱՆԻ ՊԵՏԱԿԱՆ ԲՅՈՒՋԵԻ ՄԱUԻՆ» ՀԱՅԱUՏԱՆԻ ՀԱՆՐԱՊԵՏՈՒԹՅԱՆ OՐԵՆՔԻ N 1 ՀԱՎԵԼՎԱԾԻ N 2 ԱՂՅՈՒՍԱԿՈՒՄ ԿԱՏԱՐՎՈՂ ՎԵՐԱԲԱՇԽՈՒՄԸ ԵՎ ՀԱՅԱՍՏԱՆԻ ՀԱՆՐԱՊԵՏՈՒԹՅԱՆ ԿԱՌԱՎԱՐՈՒԹՅԱՆ 2021 ԹՎԱԿԱՆԻ ԴԵԿՏԵՄԲԵՐԻ 23-Ի N 2121-Ն ՈՐՈՇՄԱՆ N 5 ՀԱՎԵԼՎԱԾԻ N 1 ԱՂՅՈՒՍԱԿՈՒՄ ԿԱՏԱՐՎՈՂ ՓՈՓՈԽՈՒԹՅՈՒՆՆԵՐԸ ԵՎ ԼՐԱՑՈՒՄՆԵՐԸ
D7: հազ. դրամներով
A8: Ծրագրային դասիչը | C8: Բյուջետային հատկացումների գլխավոր կարգադրիչների, ծրագրերի և միջոցառումների անվանումները | D8: Ցուցանիշների փոփոխությունը (ավելացումները նշված են դրական նշանով, իսկ նվազեցումները՝ փակագծերում)
A9: Ծրագիր | B9: Միջոցառում | D9: Տարի
C10: ԸՆԴԱՄԵՆԸ | D10: =+D12+D44 -> 0
C11: այդ թվում
C12: ՀՀ ԿՐԹՈՒԹՅԱՆ, ԳԻՏՈՒԹՅԱՆ, ՄՇԱԿՈՒՅԹԻ ԵՎ ՍՊՈՐՏԻ ՆԱԽԱՐԱՐՈՒԹՅՈՒՆ | D12: =+D14 -> -139780.4
A13: 1183 | C13: Ծրագրի անվանումը`
C14: Ապահով դպրոց | D14: =+D21+D27+D33+D39 -> -139780.4
C15: Ծրագրի նպատակը`
C16: Դպրոցներին սպառնացող աղետների ռիսկի կառավարման կարողությունների հզորացում, դպրոցի անձնակազմի և աշակերտների անվտանգության ապահովման մակարդակի բարձրացում՛ կիրառելով ներառական և երեխայակենտրոն մոտեցում
C17: Վերջնական արդյունքի նկարագրությունը`
C18: Դպրոցական միջավայրի բարելավում
C19: Ծրագրի միջոցառումներ
B20: 32001 | C20: Միջոցառման անվանումը`
C21: Կրթական օբյեկտների շենքային պայմանների բարելավում | D21: =+'Հավելված 2'!G22 -> -36020
C22: Միջոցառման նկարագրությունը`
C23: Կրթական օբյեկտների շենքերի (մասնաշենքերի) հիմնանորոգում (համաշինարարական աշխատանքներ, ջեռուցման համակարգի իրականացում, ներքին հարդարում, տարածքի բարեկարգում) և նախագծում
C24: Միջոցառման տեսակը
C25: Այլ պետական կազմակերպությունների կողմից օգտագործվող ոչ ֆինանսական ակտիվների հետ գործառնություններ
B26: 32002 | C26: Միջոցառման անվանումը`
C27: Կրթական օբյեկտների շենքային ապահովվածության բարելավում | D27: =+'Հավելված 2'!G31 -> -9640
C28: Միջոցառման նկարագրությունը`
C29: Կրթական օբյեկտների շենքերի (մասնաշենքերի) կառուցում (համաշինարարական աշխատանքներ, ջեռուցման համակարգի իրականացում, ներքին հարդարում, տարածքի բարեկարգում) և նախագծում
C30: Միջոցառման տեսակը
C31: Այլ պետական կազմակերպությունների կողմից օգտագործվող ոչ ֆինանսական ակտիվների հետ գործառնություններ
B32: 32003 | C32: Միջոցառման անվանումը`
C33: Փոքրաքանակ երեխաներով համալրված հանրակրթական դպրոցների մոդուլային շենքերի կառուցում | D33: =+'Հավելված 2'!G40 -> -94520.4
C34: Միջոցառման նկարագրությունը`
C35: Կրթական հաստատությունների կառուցում համայնքային կենտրոնների մոդելով _x000D_
C36: Միջոցառման տեսակը
C37: Այլ պետական կազմակերպությունների կողմից օգտագործվող ոչ ֆինանսական ակտիվների հետ գործառնություններ
B38: 32007 | C38: Միջոցառման անվանումը`
C39: Հանրակրթական կրթություն իրականացնող ուսումնական հաստատությունների նոր մարզադահլիճների կառուցում | D39: =+'Հավելված 2'!G51 -> 400
C40: Միջոցառման նկարագրությունը`
C41: Հանրակրթական ուսուցում իրականացնող ուսումնական հաստատությունների նոր մարզադահլիճների կառուցման նախագծանախահաշվային փաստաթղթերի մշակում
C42: Միջոցառման տեսակը
...

Sheet Հավելված 2
F1: Հավելված N 2
F2: ՀՀ կառավարության 2022 թվականի
F3: ______________ ի ___Ն որոշման
A5: ՀԱՅԱՍՏԱՆԻ ՀԱՆՐԱՊԵՏՈՒԹՅԱՆ ԿԱՌԱՎԱՐՈՒԹՅԱՆ 2021 ԹՎԱԿԱՆԻ ԴԵԿՏԵՄԲԵՐԻ 23-Ի N 2121-Ն ՈՐՈՇՄԱՆ N 3 ԵՎ N 4 ՀԱՎԵԼՎԱԾՆԵՐՈՒՄ ԿԱՏԱՐՎՈՂ ՓՈՓՈԽՈՒԹՅՈՒՆՆԵՐԸ ԵՎ ԼՐԱՑՈՒՄՆԵՐԸ
G6: հազ. դրամներով
A7: Գործառական դասիչը | D7: Ծրագրային դասիչը | F7: Բյուջետային հատկացումների գլխավոր կարգադրիչների, ծրագրերի, միջոցառումների և միջոցառումները կատարող պետական մարմինների անվանումները | G7: Ցուցանիշների փոփոխությունը (ավելացումները նշված են դրական նշանով, իսկ նվազեցումները՝ փակագծերում)
A8: Բաժին | B8: Խումբ | C8: Դաս | D8: Ծրագիր | E8: Միջոցառում | G8: Տարի
F9: ԸՆԴԱՄԵՆԸ | G9: =+G11+G60 -> 0
F10: այդ թվում
F11: ՀՀ ԿՐԹՈՒԹՅԱՆ, ԳԻՏՈՒԹՅԱՆ, ՄՇԱԿՈՒՅԹԻ ԵՎ ՍՊՈՐՏԻ ՆԱԽԱՐԱՐՈՒԹՅՈՒՆ | G11: =+G12 -> -139780.4
A12: 09 | F12: ԿՐԹՈՒԹՅՈՒՆ | G12: =+G14 -> -139780.4
F13: այդ թվում`
B14: 06 | F14: Կրթությանը տրամադրվող օժանդակ ծառայություններ | G14: =+G16 -> -139780.4
F15: այդ թվում`
C16: 01 | F16: Կրթությանը տրամադրվող օժանդակ ծառայություններ | G16: =+G18 -> -139780.4
F17: այդ թվում`
F18: ՀՀ կրթության, գիտության, մշակույթի և սպորտի նախարարություն | G18: =+G20 -> -139780.4
F19: այդ թվում`
D20: 1183 | E20: Ապահով դպրոց | G20: =+G22+G31+G40+G51 -> -139780.4
F21: այդ թվում`
E22: 32001 | F22: Կրթական օբյեկտների շենքային պայմանների բարելավում | G22: =+G24 -> -36020
F23: այդ թվում` ըստ կատարողների
F24: ՀՀ քաղաքաշինության կոմիտե | G24: =+G26 -> -36020
F25: այդ թվում՝ բյուջետային ծախսերի տնտեսագիտական դասակարգման հոդվածներ
F26: ԸՆԴԱՄԵՆԸ ԾԱԽՍԵՐ | G26: =+G27 -> -36020
F27: ՈՉ ՖԻՆԱՆՍԱԿԱՆ ԱԿՏԻՎՆԵՐԻ ԳԾՈՎ ԾԱԽՍԵՐ | G27: =+G28 -> -36020
F28: ՀԻՄՆԱԿԱՆ ՄԻՋՈՑՆԵՐ | G28: =+G29 -> -36020
F29: ԱՅԼ ՀԻՄՆԱԿԱՆ ՄԻՋՈՑՆԵՐ | G29: =+G30 -> -36020
F30: - Նախագծահետազոտական ծախսեր | G30: =+'Հավելված 4'!E14 -> -36020
E31: 32002 | F31: Կրթական օբյեկտների շենքային ապահովվածության բարելավում | G31: =+G33 -> -9640
F32: այդ թվում` ըստ կատարողների
F33: ՀՀ քաղաքաշինության կոմիտե | G33: =+G35 -> -9640
F34: այդ թվում՝ բյուջետային ծախսերի տնտեսագիտական դասակարգման հոդվածներ
F35: ԸՆԴԱՄԵՆԸ ԾԱԽՍԵՐ | G35: =+G36 -> -9640
F36: ՈՉ ՖԻՆԱՆՍԱԿԱՆ ԱԿՏԻՎՆԵՐԻ ԳԾՈՎ ԾԱԽՍԵՐ | G36: =+G37 -> -9640
F37: ՀԻՄՆԱԿԱՆ ՄԻՋՈՑՆԵՐ | G37: =+G38 -> -9640
F38: ԱՅԼ ՀԻՄՆԱԿԱՆ ՄԻՋՈՑՆԵՐ | G38: =+G39 -> -9640
F39: - Նախագծահետազոտական ծախսեր | G39: =+'Հավելված 4'!E27 -> -9640
E40: 32003 | F40: Փոքրաքանակ երեխաներով համալրված հանրակրթական դպրոցների մոդուլային շենքերի կառուցում | G40: =+G42 -> -94520.4
F41: այդ թվում` ըստ կատարողների
...

Sheet Հավելված 3
F1: Հավելված N 3
F2: ՀՀ կառավարության 2022 թվականի
F3: ______________ ի ___Ն որոշման
A5: «ՀԱՅԱUՏԱՆԻ ՀԱՆՐԱՊԵՏՈՒԹՅԱՆ 2022 ԹՎԱԿԱՆԻ ՊԵՏԱԿԱՆ ԲՅՈՒՋԵԻ ՄԱUԻՆ» ՀԱՅԱUՏԱՆԻ ՀԱՆՐԱՊԵՏՈՒԹՅԱՆ OՐԵՆՔԻ N 1 ՀԱՎԵԼՎԱԾԻ N 3 ԱՂՅՈՒՍԱԿՈՒՄ ԿԱՏԱՐՎՈՂ ՓՈՓՈԽՈՒԹՅՈՒՆՆԵՐԸ ԵՎ ԼՐԱՑՈՒՄՆԵՐԸ
G8: հազ. դրամներով
A9: Ծրագրային դասիչ | C9: Բյուջետային գլխավոր կարգադրիչների, ծրագրերի, միջոցառումների, միջոցառումները կատարող պետական մարմինների և ուղղությունների անվանումները | D9: Ընդամենը | E9: Ցուցանիշների փոփոխությունը (ավելացումները նշված են դրական նշանով, իսկ նվազեցումները՝ փակագծերում)
A10: Ծրագիր | B10: Միջոցառում | E10: Կառուցման աշխատանքներ | F10: Վերակառուցման, վերանորոգման և վերականգնման աշխատանքներ | G10: Նախագծահե- տազոտական, գեոդեզիա- քարտեզագրա- կան աշխա- տանքներ | H10: Ոչ ֆինանսական այլ ակտիվների ձեռքբերում
C11: ԸՆԴԱՄԵՆԸ | D11: =SUM(E11:H11) -> -139780.4 | E11: =+E13 -> -105770.4 | F11: =+F13 -> 0 | G11: =+G13 -> -34010 | H11: =+H13 -> 0
C12: այդ թվում՝
C13: ՀՀ ԿՐԹՈՒԹՅԱՆ, ԳԻՏՈՒԹՅԱՆ, ՄՇԱԿՈՒՅԹԻ ԵՎ ՍՊՈՐՏԻ ՆԱԽԱՐԱՐՈՒԹՅՈՒՆ | D13: =SUM(E13:H13) -> -139780.4 | E13: =+E15+E26+E31+E50 -> -105770.4 | F13: =+F15+F26+F31+F50 -> 0 | G13: =+G15+G26+G31+G50 -> -34010 | H13: =+H15+H26+H31+H50 -> 0
C14: այդ թվում`
A15: 1183 | B15: 32001 | C15: Կրթական օբյեկտների շենքային պայմանների բարելավում | D15: =SUM(E15:H15) -> -36020 | E15: =+E17 -> 0 | F15: =+F17 -> 0 | G15: =+G17 -> -36020 | H15: =+H17 -> 0
C16: այդ թվում`
C17: ՀՀ Սյունիքի մարզ | D17: =SUM(E17:H17) -> -36020 | E17: =SUM(E18:E25) -> 0 | F17: =SUM(F18:F25) -> 0 | G17: =SUM(G18:G25) -> -36020 | H17: =SUM(H18:H25) -> 0
C18: «Աճանանի միջնակարգ դպրոց» ՊՈԱԿ | D18: =SUM(E18:H18) -> -5500 | G18: =-5100+'Հավելված 7'!I18 -> -5500
C19: «Օխտարի միջնակարգ դպրոց» ՊՈԱԿ | D19: =SUM(E19:H19) -> -5500 | G19: =-5100+'Հավելված 7'!I25 -> -5500
C20: «Արծվանիկի միջնակարգ դպրոց» ՊՈԱԿ | D20: =SUM(E20:H20) -> -4720 | G20: =-4120+'Հավելված 7'!I19 -> -4720
C21: «Գեղանուշի միջնակարգ դպրոց» ՊՈԱԿ | D21: =SUM(E21:H21) -> -4620 | G21: =-4120+'Հավելված 7'!I20 -> -4620
C22: «Սյունիքի միջնակարգ դպրոց» ՊՈԱԿ | D22: =SUM(E22:H22) -> -4920 | G22: =-4120+'Հավելված 7'!I21 -> -4920
C23: «Եղեգի միջնակարգ դպրոց» ՊՈԱԿ | D23: =SUM(E23:H23) -> -3520 | G23: =-3120+'Հավելված 7'!I22 -> -3520
C24: «Ծավի միջնակարգ դպրոց» ՊՈԱԿ | D24: =SUM(E24:H24) -> -3720 | G24: =-3120+'Հավելված 7'!I23 -> -3720
C25: «Ճակատենի հիմնական դպրոց» ՊՈԱԿ | D25: =SUM(E25:H25) -> -3520 | G25: =-3120+'Հավելված 7'!I24 -> -3520
A26: 1183 | B26: 32002 | C26: Կրթական օբյեկտների շենքային ապահովվածության բարելավում | D26: =SUM(E26:H26) -> -9640 | E26: =+E28 -> 0 | F26: =+F28 -> 0 | G26: =+G28 -> -9640 | H26: =+H28 -> 0
C27: այդ թվում`
C28: ՀՀ Սյունիքի մարզ | D28: =SUM(E28:H28) -> -9640 | E28: =SUM(E29:E30) -> 0 | F28: =SUM(F29:F30) -> 0 | G28: =SUM(G29:G30) -> -9640 | H28: =SUM(H29:H30) -> 0
C29: «Ներքին Հանդի հիմնական դպրոց» ՊՈԱԿ | D29: =SUM(E29:H29) -> -4820 | G29: =-4320+'Հավելված 7'!I29 -> -4820
C30: «Շիկահողի միջնակարգ դպրոց» ՊՈԱԿ | D30: =SUM(E30:H30) -> -4820 | G30: =-4320+'Հավելված 7'!I30 -> -4820
A31: 1183 | B31: 32003 | C31: Փոքրաքանակ երեխաներով համալրված հանրակրթական դպրոցների մոդուլային շենքերի կառուցում | D31: =SUM(E31:H31) -> -94520.4 | E31: =+E33+E35+E37+E39 -> -105770.4 | F31: =+F33+F35+F37+F39 -> 0 | G31: =+G33+G35+G37+G39 -> 11250 | H31: =+H33+H35+H37+H39 -> 0
C32: այդ թվում`
C33: ՀՀ Արագածոտնի մարզ | D33: =SUM(E33:H33) -> -156618.7 | E33: =+E34 -> -156618.7 | F33: =+F34 -> 0 | G33: =+G34 -> 0 | H33: =+H34 -> 0
C34: «Գառնահովիտի միջնակարգ դպրոց» ՊՈԱԿ | D34: =SUM(E34:H34) -> -156618.7 | E34: =+'Հավելված 7'!I33+'Հավելված 7'!I38+'Հավելված 7'!I41 -> -156618.7
C35: ՀՀ Արարատի մարզ | D35: =SUM(E35:H35) -> 31101.1 | E35: =+E36 -> 31101.1 | F35: =+F36 -> 0 | G35: =+G36 -> 0 | H35: =+H36 -> 0
C36: «Դեղձուտի միջնակարգ դպրոց» ՊՈԱԿ | D36: =SUM(E36:H36) -> 31101.1 | E36: =+'Հավելված 7'!I34+'Հավելված 7'!I39 -> 31101.1
C37: ՀՀ Արմավիրի մարզ | D37: =SUM(E37:H37) -> 19747.2 | E37: =+E38 -> 19747.2 | F37: =+F38 -> 0 | G37: =+G38 -> 0 | H37: =+H38 -> 0
C38: «Արգինայի միջնակարգ դպրոց» ՊՈԱԿ | D38: =SUM(E38:H38) -> 19747.2 | E38: =+'Հավելված 7'!I35+'Հավելված 7'!I40 -> 19747.2
C39: ՀՀ Սյունիքի մարզ | D39: =SUM(E39:H39) -> 11250 | E39: =SUM(E40:E49) -> 0 | F39: =SUM(F40:F49) -> 0 | G39: =SUM(G40:G49) -> 11250 | H39: =SUM(H40:H49) -> 0
C40: «Աճանանի միջնակարգ դպրոց» ՊՈԱԿ | D40: =SUM(E40:H40) -> 1125 | G40: 1125
C41: «Օխտարի միջնակարգ դպրոց» ՊՈԱԿ | D41: =SUM(E41:H41) -> 1125 | G41: 1125
C42: «Արծվանիկի միջնակարգ դպրոց» ՊՈԱԿ | D42: =SUM(E42:H42) -> 1125 | G42: 1125
C43: «Գեղանուշի միջնակարգ դպրոց» ՊՈԱԿ | D43: =SUM(E43:H43) -> 1125 | G43: 1125
...

Sheet Հավելված 4
C1: Հավելված N 4
C2: ՀՀ կառավարության 2022 թվականի
C3: ______________ ի ___Ն որոշման
B5: ՀԱՅԱՍՏԱՆԻ ՀԱՆՐԱՊԵՏՈՒԹՅԱՆ ԿԱՌԱՎԱՐՈՒԹՅԱՆ 2021 ԹՎԱԿԱՆԻ ԴԵԿՏԵՄԲԵՐԻ 23-Ի N 2121-Ն ՈՐՈՇՄԱՆ N 5 ՀԱՎԵԼՎԱԾԻ N 2 ԱՂՅՈՒՍԱԿՈՒՄ ԿԱՏԱՐՎՈՂ ՓՈՓՈԽՈՒԹՅՈՒՆՆԵՐԸ ԵՎ ԼՐԱՑՈՒՄՆԵՐԸ
E7: հազ. դրամներով
B8: Ծրագրային դասիչ | D8: Բյուջետային գլխավոր կարգադրիչների, ծրագրերի, միջոցառումների, միջոցառումները կատարող պետական մարմինների և ուղղությունների անվանումները | E8: Ցուցանիշների փոփոխությունը (ավելացումները նշված են դրական նշանովավելացումները նշված են դրական նշանով, իսկ նվազեցումները՝ փակագծերում)
B9: Ծրագիր | C9: Միջոցառում | E9: Տարի
D10: ՀՀ ԿՐԹՈՒԹՅԱՆ, ԳԻՏՈՒԹՅԱՆ, ՄՇԱԿՈՒՅԹԻ ԵՎ ՍՊՈՐՏԻ ՆԱԽԱՐԱՐՈՒԹՅՈՒՆ | E10: =+E12+E25+E32+E53 -> -139780.4
D11: այդ թվում՝
B12: 1183 | C12: 32001 | D12: Կրթական օբյեկտների շենքային պայմանների բարելավում | E12: =+E14 -> -36020
D13: այդ թվում` ըստ կատարողների
D14: ՀՀ քաղաքաշինության կոմիտե | E14: =+E16 -> -36020
D15: այդ թվում`ըստ ուղղությունների
D16: ՀՀ Սյունիքի մարզ | E16: =SUM(E17:E24) -> -36020
D17: «Աճանանի միջնակարգ դպրոց» ՊՈԱԿ | E17: =+'Հավելված 3'!D18 -> -5500
D18: «Օխտարի միջնակարգ դպրոց» ՊՈԱԿ | E18: =+'Հավելված 3'!D19 -> -5500
D19: «Արծվանիկի միջնակարգ դպրոց» ՊՈԱԿ | E19: =+'Հավելված 3'!D20 -> -4720
D20: «Գեղանուշի միջնակարգ դպրոց» ՊՈԱԿ | E20: =+'Հավելված 3'!D21 -> -4620
D21: «Սյունիքի միջնակարգ դպրոց» ՊՈԱԿ | E21: =+'Հավելված 3'!D22 -> -4920
D22: «Եղեգի միջնակարգ դպրոց» ՊՈԱԿ | E22: =+'Հավելված 3'!D23 -> -3520
D23: «Ծավի միջնակարգ դպրոց» ՊՈԱԿ | E23: =+'Հավելված 3'!D24 -> -3720
D24: «Ճակատենի հիմնական դպրոց» ՊՈԱԿ | E24: =+'Հավելված 3'!D25 -> -3520
B25: 1183 | C25: 32002 | D25: Կրթական օբյեկտների շենքային ապահովվածության բարելավում | E25: =+E27 -> -9640
D26: այդ թվում` ըստ կատարողների
D27: ՀՀ քաղաքաշինության կոմիտե | E27: =+E29 -> -9640
D28: այդ թվում`ըստ ուղղությունների
D29: ՀՀ Սյունիքի մարզ | E29: =SUM(E30:E31) -> -9640
D30: «Ներքին Հանդի հիմնական դպրոց» ՊՈԱԿ | E30: =+'Հավելված 3'!D29 -> -4820
D31: «Շիկահողի միջնակարգ դպրոց» ՊՈԱԿ | E31: =+'Հավելված 3'!D30 -> -4820
B32: 1183 | C32: 32003 | D32: Փոքրաքանակ երեխաներով համալրված հանրակրթական դպրոցների մոդուլային շենքերի կառուցում | E32: =+E34 -> -94520.4
D33: այդ թվում` ըստ կատարողների
D34: ՀՀ քաղաքաշինության կոմիտե | E34: =+E36+E38+E40+E42 -> -94520.4
D35: այդ թվում`ըստ ուղղությունների
D36: ՀՀ Արագածոտնի մարզ | E36: =+E37 -> -156618.7
D37: «Գառնահովիտի միջնակարգ դպրոց» ՊՈԱԿ | E37: =+'Հավելված 3'!D34 -> -156618.7
D38: ՀՀ Արարատի մարզ | E38: =+E39 -> 31101.1
D39: «Դեղձուտի միջնակարգ դպրոց» ՊՈԱԿ | E39: =+'Հավելված 3'!D36 -> 31101.1
D40: ՀՀ Արմավիրի մարզ | E40: =+E41 -> 19747.2
D41: «Արգինայի միջնակարգ դպրոց» ՊՈԱԿ | E41: =+'Հավելված 3'!D38 -> 19747.2
D42: ՀՀ Սյունիքի մարզ | E42: =SUM(E43:E52) -> 11250
...

Sheet Հավելված 5
B1: Հավելված N 5
B2: ՀՀ կառավարության 2022 թվականի
B3: ______________ ի ___Ն որոշման
B5: ՀԱՅԱՍՏԱՆԻ ՀԱՆՐԱՊԵՏՈՒԹՅԱՆ ԿԱՌԱՎԱՐՈՒԹՅԱՆ 2021 ԹՎԱԿԱՆԻ ԴԵԿՏԵՄԲԵՐԻ 23-Ի N 2121-Ն ՈՐՈՇՄԱՆ N 9 ՀԱՎԵԼՎԱԾԻ N 9.13 ԵՎ N 9.47 ԱՂՅՈՒՍԱԿՆԵՐՈՒՄ ԿԱՏԱՐՎՈՂ ՓՈՓՈԽՈՒԹՅՈՒՆՆԵՐԸ ԵՎ ԼՐԱՑՈՒՄՆԵՐԸ
A8: Աղյուսակ 9.13
C9: ՀՀ կրթության, գիտության, մշակույթի և սպորտի նախարարություն
B10: ՄԱՍ 2. ՊԵՏԱԿԱՆ ՄԱՐՄՆԻ ԳԾՈՎ ԱՐԴՅՈՒՆՔԱՅԻՆ (ԿԱՏԱՐՈՂԱԿԱՆ) ՑՈՒՑԱՆԻՇՆԵՐԸ
B13: Ծրագրի դասիչը | C13: Ծրագրի անվանումը
B14: 1183 | C14: Ապահով դպրոց
B16: Ծրագրի միջոցառումները
B17: Ծրագրի դասիչը՝ | C17: 1183 | D17: Ցուցանիշների փոփոխությունը (նվազեցումները նշված են փակագծերում)
B18: Միջոցառման դասիչը՝ | C18: 32001 | D18: Տարի
B19: Միջոցառման անվանումը` | C19: Կրթական օբյեկտների շենքային պայմանների բարելավում
B20: Նկարագրությունը` | C20: Կրթական օբյեկտների շենքերի (մասնաշենքերի) հիմնանորոգում (համաշինարարական աշխատանքներ, ջեռուցման համակարգի իրականացում, ներքին հարդարում, տարածքի բարեկարգում) և նախագծում
B21: Միջոցառման տեսակը` | C21: Այլ պետական կազմակերպությունների կողմից օգտագործվող ոչ ֆինանսական ակտիվների հետ գործառնություններ
B22: Ակտիվն օգտագործող կազմակերպությունների անվանումները | C22: Հանրակրթական դպրոցներ
B23: Արդյունքի չափորոշիչներ
B24: Նախագծանախահաշվային փաստաթղթերի քանակ, հատ | D24: -8
B25: Միջոցառման վրա կատարվող ծախսը (հազար դրամ) | D25: =+'Հավելված 1'!D21 -> -36020
B27: Ծրագրի միջոցառումները
B28: Ծրագրի դասիչը՝ | C28: 1183 | D28: Ցուցանիշների փոփոխությունը (նվազեցումները նշված են փակագծերում)
B29: Միջոցառման դասիչը՝ | C29: 32002 | D29: Տարի
B30: Միջոցառման անվանումը` | C30: Կրթական օբյեկտների շենքային ապահովվածության բարելավում
B31: Նկարագրությունը` | C31: Կրթական օբյեկտների շենքերի (մասնաշենքերի) կառուցում (համաշինարարական աշխատանքներ, ջեռուցման համակարգի իրականացում, ներքին հարդարում, տարածքի բարեկարգում) և նախագծում
B32: Միջոցառման տեսակը` | C32: Այլ պետական կազմակերպությունների կողմից օգտագործվող ոչ ֆինանսական ակտիվների հետ գործառնություններ
B33: Ակտիվն օգտագործող կազմակերպությունների անվանումները | C33: Հանրակրթական դպրոցներ
B34: Արդյունքի չափորոշիչներ
B35: Նախագծանախահաշվային փաստաթղթերի քանակ, հատ | D35: -2
B36: Միջոցառման վրա կատարվող ծախսը (հազար դրամ) | D36: =+'Հավելված 1'!D27 -> -9640
B38: Ծրագրի միջոցառումները
B39: Ծրագրի դասիչը՝ | C39: 1183 | D39: Ցուցանիշների փոփոխությունը (ավելացումները նշված են դրական նշանով)
B40: Միջոցառման դասիչը՝ | C40: 32003 | D40: Տարի
B41: Միջոցառման անվանումը` | C41: Փոքրաքանակ երեխաներով համալրված հանրակրթական դպրոցների մոդուլային շենքերի կառուցում
B42: Նկարագրությունը` | C42: Կրթական հաստատությունների կառուցում համայնքային կենտրոնների մոդելով
B43: Միջոցառման տեսակը` | C43: Այլ պետական կազմակերպությունների կողմից օգտագործվող ոչ ֆինանսական ակտիվների հետ գործառնություններ
B44: Ակտիվն օգտագործող կազմակերպությունների անվանումները | C44: Փոքրաքանակ երեխաներով համալրված հանրակրթական դպրոցներ
B45: Արդյունքի չափորոշիչներ
B46: Նախագծանախահաշվային փաստաթղթերի քանակ, հատ | D46: 10
B47: Միջոցառման վրա կատարվող ծախսը (հազար դրամ) | D47: =+'Հավելված 1'!D33 -> -94520.4
B49: Ծրագրի միջոցառումները
...

Sheet Հավելված 6
B1: Հավելված N 6
B2: ՀՀ կառավարության 2022 թվականի
B3: ______________ ի ___Ն որոշման
B5: ՀԱՅԱՍՏԱՆԻ ՀԱՆՐԱՊԵՏՈՒԹՅԱՆ ԿԱՌԱՎԱՐՈՒԹՅԱՆ 2021 ԹՎԱԿԱՆԻ ԴԵԿՏԵՄԲԵՐԻ 23-Ի N 2121-Ն ՈՐՈՇՄԱՆ N 9.1 ՀԱՎԵԼՎԱԾԻ NN 9.1.42 ԵՎ N 9.1.59 ԱՂՅՈՒՍԱԿՆԵՐՈՒՄ ԿԱՏԱՐՎՈՂ ՓՈՓՈԽՈՒԹՅՈՒՆՆԵՐԸ ԵՎ ԼՐԱՑՈՒՄՆԵՐԸ
A8: Աղյուսակ 9.1.42
C9: ՀՀ քաղաքաշինության կոմիտե
B10: ՄԱՍ 1. ՊԵՏԱԿԱՆ ՄԱՐՄՆԻ ԳԾՈՎ ԱՐԴՅՈՒՆՔԱՅԻՆ (ԿԱՏԱՐՈՂԱԿԱՆ) ՑՈՒՑԱՆԻՇՆԵՐԸ
B13: Ծրագրի դասիչը | C13: Ծրագրի անվանումը
B14: 1183 | C14: Ապահով դպրոց
B16: Ծրագրի միջոցառումները
B17: Ծրագրի դասիչը՝ | C17: 1183 | D17: Ցուցանիշների փոփոխությունը (նվազեցումները նշված են փակագծերում)
B18: Միջոցառման դասիչը՝ | C18: 32001 | D18: Տարի
B19: Միջոցառման անվանումը` | C19: Կրթական օբյեկտների շենքային պայմանների բարելավում
B20: Նկարագրությունը` | C20: Կրթական օբյեկտների շենքերի (մասնաշենքերի) հիմնանորոգում (համաշինարարական աշխատանքներ, ջեռուցման համակարգի իրականացում, ներքին հարդարում, տարածքի բարեկարգում) և նախագծում
B21: Միջոցառման տեսակը` | C21: Այլ պետական կազմակերպությունների կողմից օգտագործվող ոչ ֆինանսական ակտիվների հետ գործառնություններ
B22: Ակտիվն օգտագործող կազմակերպությունների անվանումները | C22: Հանրակրթական դպրոցներ
B23: Արդյունքի չափորոշիչներ
B24: Նախագծանախահաշվային փաստաթղթերի քանակ, հատ | D24: -8
B25: Միջոցառման վրա կատարվող ծախսը (հազար դրամ) | D25: =+'Հավելված 2'!G24 -> -36020
B27: Ծրագրի միջոցառումները
B28: Ծրագրի դասիչը՝ | C28: 1183 | D28: Ցուցանիշների փոփոխությունը (նվազեցումները նշված են փակագծերում)
B29: Միջոցառման դասիչը՝ | C29: 32002 | D29: Տարի
B30: Միջոցառման անվանումը` | C30: Կրթական օբյեկտների շենքային ապահովվածության բարելավում
B31: Նկարագրությունը` | C31: Կրթական օբյեկտների շենքերի (մասնաշենքերի) կառուցում (համաշինարարական աշխատանքներ, ջեռուցման համակարգի իրականացում, ներքին հարդարում, տարածքի բարեկարգում) և նախագծում
B32: Միջոցառման տեսակը` | C32: Այլ պետական կազմակերպությունների կողմից օգտագործվող ոչ ֆինանսական ակտիվների հետ գործառնություններ
B33: Ակտիվն օգտագործող կազմակերպությունների անվանումները | C33: Հանրակրթական դպրոցներ
B34: Արդյունքի չափորոշիչներ
B35: Նախագծանախահաշվային փաստաթղթերի քանակ, հատ | D35: -2
B36: Միջոցառման վրա կատարվող ծախսը (հազար դրամ) | D36: =+'Հավելված 2'!G33 -> -9640
B38: Ծրագրի միջոցառումները
B39: Ծրագրի դասիչը՝ | C39: 1183 | D39: Ցուցանիշների փոփոխությունը (ավելացումները նշված են դրական նշանով)
B40: Միջոցառման դասիչը՝ | C40: 32003 | D40: Տարի
B41: Միջոցառման անվանումը` | C41: Փոքրաքանակ երեխաներով համալրված հանրակրթական դպրոցների մոդուլային շենքերի կառուցում
B42: Նկարագրությունը` | C42: Կրթական հաստատությունների կառուցում համայնքային կենտրոնների մոդելով
B43: Միջոցառման տեսակը` | C43: Այլ պետական կազմակերպությունների կողմից օգտագործվող ոչ ֆինանսական ակտիվների հետ գործառնություններ
B44: Ակտիվն օգտագործող կազմակերպությունների անվանումները | C44: Փոքրաքանակ երեխաներով համալրված հանրակրթական դպրոցներ
B45: Արդյունքի չափորոշիչներ
B46: Նախագծանախահաշվային փաստաթղթերի քանակ, հատ | D46: 10
B47: Միջոցառման վրա կատարվող ծախսը (հազար դրամ) | D47: =+'Հավելված 2'!G42 -> -94520.4
B49: Ծրագրի միջոցառումները
...

Sheet Հավելված 7
H1: Հավելված N 7
H2: ՀՀ կառավարության 2022 թվականի
H3: ______________ ի ___Ն որոշման
A5: ՀԱՅԱՍՏԱՆԻ ՀԱՆՐԱՊԵՏՈՒԹՅԱՆ ԿԱՌԱՎԱՐՈՒԹՅԱՆ 2021 ԹՎԱԿԱՆԻ ԴԵԿՏԵՄԲԵՐԻ 23-Ի N 2121-Ն ՈՐՈՇՄԱՆ N 10 ՀԱՎԵԼՎԱԾՈՒՄ ԿԱՏԱՐՎՈՂ ՓՈՓՈԽՈՒԹՅՈՒՆՆԵՐԸ ԵՎ ԼՐԱՑՈՒՄՆԵՐԸ
A7: Կոդը | B7: Անվանումը | E7: Գնման ձևը | F7: Չափման միավորը | G7: Միավորի գինը | H7: Ցուցանիշների փոփոխությունը (ավելացումները նշված են դրական նշանով, իսկ նվազեցումները՝ փակագծերում)
H8: Քանակը | I8: Գումարը (հազար դրամ)
A10: 1 | B10: 2 | E10: 3 | F10: 4 | G10: 5 | H10: 6 | I10: 7
A11: ՀՀ քաղաքաշինության կոմիտե | I11: =+I12 -> -139780.4
A12: Բաժին N 09 | B12: Խումբ N 06 | C12: Դաս N 01 | D12: Կրթությանը տրամադրվող օժանդակ ծառայություններ | I12: =+I13+I26+I31+I42 -> -139780.4
A13: 1183-32001 | B13: Կրթական օբյեկտների շենքային պայմանների բարելավում | I13: =+I14 -> -36020
B14: ՄԱՍ III. ԾԱՌԱՅՈՒԹՅՈՒՆՆԵՐ | I14: =SUM(I15:I25) -> -36020
A15: 71241200-593 | B15: նախագծերի պատրաստում, ծախսերի գնահատում | E15: ԳՀ | F15: դրամ | G15: 10200000 | H15: -1 | I15: =+H15*G15/1000 -> -10200
A16: 71241200-594 | B16: նախագծերի պատրաստում, ծախսերի գնահատում | E16: ԳՀ | F16: դրամ | G16: 12360000 | H16: -1 | I16: =+H16*G16/1000 -> -12360
A17: 71241200-595 | B17: նախագծերի պատրաստում, ծախսերի գնահատում | E17: ԳՀ | F17: դրամ | G17: 9360000 | H17: -1 | I17: =+H17*G17/1000 -> -9360
A18: 50531140-15 | B18: փորձաքննության ծառայություններ | E18: ԳՀ | F18: դրամ | G18: 400000 | H18: -1 | I18: =+H18*G18/1000 -> -400
A19: 50531140-16 | B19: փորձաքննության ծառայություններ | E19: ԳՀ | F19: դրամ | G19: 600000 | H19: -1 | I19: =+H19*G19/1000 -> -600
A20: 50531140-17 | B20: փորձաքննության ծառայություններ | E20: ԳՀ | F20: դրամ | G20: 500000 | H20: -1 | I20: =+H20*G20/1000 -> -500
A21: 50531140-18 | B21: փորձաքննության ծառայություններ | E21: ԳՀ | F21: դրամ | G21: 800000 | H21: -1 | I21: =+H21*G21/1000 -> -800
A22: 50531140-19 | B22: փորձաքննության ծառայություններ | E22: ԳՀ | F22: դրամ | G22: 400000 | H22: -1 | I22: =+H22*G22/1000 -> -400
A23: 50531140-20 | B23: փորձաքննության ծառայություններ | E23: ԳՀ | F23: դրամ | G23: 600000 | H23: -1 | I23: =+H23*G23/1000 -> -600
A24: 50531140-21 | B24: փորձաքննության ծառայություններ | E24: ԳՀ | F24: դրամ | G24: 400000 | H24: -1 | I24: =+H24*G24/1000 -> -400
A25: 50531140-22 | B25: փորձաքննության ծառայություններ | E25: ԳՀ | F25: դրամ | G25: 400000 | H25: -1 | I25: =+H25*G25/1000 -> -400
A26: 1183-32002 | B26: Կրթական օբյեկտների շենքային ապահովվածության բարելավում | I26: =+I27 -> -9640
B27: ՄԱՍ III. ԾԱՌԱՅՈՒԹՅՈՒՆՆԵՐ | I27: =SUM(I28:I30) -> -9640
A28: 71241200-592 | B28: նախագծերի պատրաստում, ծախսերի գնահատում | E28: ԳՀ | F28: դրամ | G28: 8640000 | H28: -1 | I28: =+H28*G28/1000 -> -8640
A29: 50531140-23 | B29: փորձաքննության ծառայություններ | E29: ԳՀ | F29: դրամ | G29: 500000 | H29: -1 | I29: =+H29*G29/1000 -> -500
A30: 50531140-24 | B30: փորձաքննության ծառայություններ | E30: ԳՀ | F30: դրամ | G30: 500000 | H30: -1 | I30: =+H30*G30/1000 -> -500
A31: 1183-32003 | B31: Փոքրաքանակ երեխաներով համալրված հանրակրթական դպրոցների մոդուլային շենքերի կառուցում | I31: =+I32+I36 -> -94520.4
B32: ՄԱՍ II. ԱՇԽԱՏԱՆՔՆԵՐ | I32: =SUM(I33:I35) -> -101224.8
A33: 45211231-1 | B33: միջնակարգ դպրոցների կառուցման աշխատանքներ | E33: ԲՄ | F33: դրամ | I33: -150000
A34: 45211231-6 | B34: միջնակարգ դպրոցների կառուցման աշխատանքներ | E34: ԲՄ | F34: դրամ | I34: 29867.1
A35: 45211231-11 | B35: միջնակարգ դպրոցների կառուցման աշխատանքներ | E35: ԲՄ | F35: դրամ | I35: 18908.1
B36: ՄԱՍ III. ԾԱՌԱՅՈՒԹՅՈՒՆՆԵՐ | I36: =SUM(I37:I41) -> 6704.4
A37: 71241200 | B37: նախագծերի պատրաստում, ծախսերի գնահատում | E37: ՄԱ | F37: դրամ | G37: 11250000 | H37: 1 | I37: 11250
A38: 7135154-64 | B38: տեխնիկական հսկողության ծառայություններ | E38: ԳՀ | F38: դրամ | I38: -5770.5
A39: 7135154-65 | B39: տեխնիկական հսկողության ծառայություններ | E39: ԳՀ | F39: դրամ | I39: 1234
A40: 7135154-66 | B40: տեխնիկական հսկողության ծառայություններ | E40: ԳՀ | F40: դրամ | I40: 839.1
A41: 98111140-37 | B41: հեղինակային հսկողության ծառայություններ | E41: ՄԱ | F41: դրամ | I41: -848.2
A42: 1183-32007 | B42: Հանրակրթական կրթություն իրականացնող ուսումնական հաստատությունների նոր մարզադահլիճների կառուցում | I42: =+I43 -> 400
B43: ՄԱՍ III. ԾԱՌԱՅՈՒԹՅՈՒՆՆԵՐ | I43: =+I44 -> 400
...
