Workbook
Name a: #REF!
Name a: #REF!
Name AgencyCode: #REF!
Name AgencyCode: #REF!
Name AgencyCode: #REF!
Name AgencyName: #REF!
Name AgencyName: #REF!
Name AgencyName: #REF!
Name davit: #REF!
Name davit: #REF!
Name Functional1: #REF!
Name Functional1: #REF!
Name Functional1: #REF!
Name ggg: #REF!
Name ggg: #REF!
Name PANature: #REF!
Name PANature: #REF!
Name PANature: #REF!
Name PAType: #REF!
Name PAType: #REF!
Name PAType: #REF!
Name Performance2: #REF!
Name Performance2: #REF!
Name Performance2: #REF!
Name PerformanceType: #REF!
Name PerformanceType: #REF!
Name PerformanceType: #REF!
Name Հավելված: #REF!
Name Հավելված: #REF!
Name Մաս: #REF!
Name Մաս: #REF!
Name շախմատիստ: #REF!
Name շախմատիստ: #REF!

Sheet Հավելված N 1
C1: Հավելված N 1
C2: ՀՀ կառավարության 2022 թվականի
C3: ______________ ի ___Ն որոշման
A6: «ՀԱՅԱUՏԱՆԻ ՀԱՆՐԱՊԵՏՈՒԹՅԱՆ 2022 ԹՎԱԿԱՆԻ ՊԵՏԱԿԱՆ ԲՅՈՒՋԵԻ ՄԱUԻՆ» ՀԱՅԱUՏԱՆԻ ՀԱՆՐԱՊԵՏՈՒԹՅԱՆ OՐԵՆՔԻ N 1 ՀԱՎԵԼՎԱԾԻ N 2 ԱՂՅՈՒՍԱԿՈՒՄ ԿԱՏԱՐՎՈՂ ՎԵՐԱԲԱՇԽՈՒՄԸ ԵՎ ՀԱՅԱՍՏԱՆԻ ՀԱՆՐԱՊԵՏՈՒԹՅԱՆ ԿԱՌԱՎԱՐՈՒԹՅԱՆ 2021 ԹՎԱԿԱՆԻ ԴԵԿՏԵՄԲԵՐԻ 23-Ի N 2121-Ն ՈՐՈՇՄԱՆ N 5 ՀԱՎԵԼՎԱԾԻ N 1 ԱՂՅՈՒՍԱԿՈՒՄ ԿԱՏԱՐՎՈՂ ՓՈՓՈԽՈՒԹՅՈՒՆՆԵՐԸ ԵՎ ԼՐԱՑՈՒՄՆԵՐԸ
D9: հազ. դրամներով
A10: Ծրագրային դասիչը | C10: Բյուջետային հատկացումների գլխավոր կարգադրիչների, ծրագրերի և միջոցառումների անվանումները | D10: Ցուցանիշների փոփոխությունը (ավելացումները նշված են դրական նշանով, իսկ նվազեցումները՝ փակագծերում)
A11: Ծրագիր | B11: Միջոցառում | D11: Տարի
A12: 1192 | C12: ԸՆԴԱՄԵՆԸ | D12: =+D14+D42 -> 0
C13: այդ թվում
C14: ՀՀ ԿՐԹՈՒԹՅԱՆ, ԳԻՏՈՒԹՅԱՆ, ՄՇԱԿՈՒՅԹԻ ԵՎ ՍՊՈՐՏԻ ՆԱԽԱՐԱՐՈՒԹՅՈՒՆ | D14: =+D16+D29 -> -68881.4
A15: 1075 | C15: Ծրագրի անվանումը`
C16: Մշակութային ժառանգության ծրագիր | D16: =+D23 -> 11056.7
C17: Ծրագրի նպատակը`
C18: Մշակութային ժառանգության պահպանում, օգտագործում, համալրում և հանրահռչակում
C19: Վերջնական արդյունքի նկարագրությունը`
C20: Մշակութային ժառանգության շարունակական պահպանում, մշակութային զբոսաշրջության զարգացում և խթանում
C21: Ծրագրի միջոցառումներ
B22: 21001 | C22: Միջոցառման անվանումը`
C23: Հուշարձանների ամրակայում, նորոգում և վերականգնում | D23: =+'Հավելված N 2'!G38 -> 11056.7
C24: Միջոցառման նկարագրությունը`
C25: Հուշարձանների գիտանախագծային փաստաթղթերի կազմում, հրատապ ուսումնասիրում, վավերագրման և ուսումնասիրման աշխատանքներ, հետախուզում և հնագիտական պեղում, ամրակայում, նորոգում և վերականգնում
C26: Միջոցառման տեսակը
C27: Հանրության կողմից անմիջականորեն օգտագործվող ակտիվների հետ կապված միջոցառումներ
A28: 1168 | C28: Ծրագրի անվանումը`
C29: Արվեստների ծրագիր | D29: =+D36 -> -79938.1
C30: Ծրագրի նպատակը`
C31: Նպաստել ազգային հենքի վրա ժամանակակից թատերարվեստի, երաժշտարվեստի, կերպարվեստի և պարարվեստի զարգացմանը և հանրահռչակմանը
C32: Վերջնական արդյունքի նկարագրությունը`
C33: Մրցունակ արվեստային արտադրանքի ստեղծում, ստեղծագործական գործընթացների խթանում, արվեստի նոր նախագծերի ներդրում և մշակութային կյանքում հասարակության ներգրավում
C34: Ծրագրի միջոցառումներ
B35: 32001 | C35: Միջոցառման անվանումը`
C36: Ներդրումներ թատրոնների շենքերի կապիտալ վերանորոգման համար | D36: =+'Հավելված N 2'!G23 -> -79938.1
C37: Միջոցառման նկարագրությունը`
C38: Թատրոնների շենքերի մասնաշենքերի հիմնանորոգում, համաշինարարական աշխատանք¬ներ, ջեռուցման համակարգի իրականացում, ներքին հարդարում, տարածքի բարեկարգում և նախագծում
C39: Միջոցառման տեսակը
C40: Այլ պետական կազմակերպությունների կողմից օգտագործվող ոչ ֆինանսական ակտիվների հետ գործառնություններ
C42: ՀՀ ԿԱՌԱՎԱՐՈՒԹՅՈՒՆ | D42: =+D44 -> 68881.4
A43: 1139 | C43: Ծրագրի անվանումը`
C44: ՀՀ կառավարության պահուստային ֆոնդ | D44: =+D50 -> 68881.4
C45: Ծրագրի նպատակը`
C46: Պետական բյուջեում չկանխատեսված, ինչպես նաև բյուջետային երաշխիքների ապահովման ծախսերի ֆինանսավորման ապահովում
C47: Վերջնական արդյունքի նկարագրությունը`
C48: Պահուստային ֆոնդի կառավարման արդյունավետության և թափանցիկության ապահովում
B49: 11001 | C49: Միջոցառման անվանումը`
C50: ՀՀ կառավարության պահուստային ֆոնդ | D50: =+'Հավելված N 2'!G61 -> 68881.4
C51: Միջոցառման նկարագրությունը`
C52: ՀՀ պետական բյուջեում նախատեսված ելքերի լրացուցիչ ֆինանսավորման՝ պետական բյուջեում չկանխատեսված ելքերի, ինչպես նաև բյուջետային երաշխիքների ապահովման ելքերի ֆինանսավորման ապահովում
C53: Միջոցառման տեսակը
C54: Ծառայությունների մատուցում

Sheet Հավելված N 2
F1: Հավելված N 2
F2: ՀՀ կառավարության 2022 թվականի
F3: ______________ ի ___Ն որոշման
A5: ՀԱՅԱՍՏԱՆԻ ՀԱՆՐԱՊԵՏՈՒԹՅԱՆ ԿԱՌԱՎԱՐՈՒԹՅԱՆ 2021 ԹՎԱԿԱՆԻ ԴԵԿՏԵՄԲԵՐԻ 23-Ի N2121-Ն ՈՐՈՇՄԱՆ N 3 ԵՎ N 4 ՀԱՎԵԼՎԱԾՆԵՐՈՒՄ ԿԱՏԱՐՎՈՂ ՓՈՓՈԽՈՒԹՅՈՒՆՆԵՐԸ ԵՎ ԼՐԱՑՈՒՄՆԵՐԸ
G7: հազ. դրամներով
A8: Գործառական դասիչը | D8: Ծրագրային դասիչը | F8: Բյուջետային հատկացումների գլխավոր կարգադրիչների, ծրագրերի, միջոցառումների և միջոցառումները կատարող պետական մարմինների անվանումները | G8: Ցուցանիշների փոփոխությունը (ավելացումները նշված են դրական նշանով, իսկ նվազեցումները՝ փակագծերում)
A9: Բաժին | B9: Խումբ | C9: Դաս | D9: Ծրագիր | E9: Միջոցառում | G9: Տարի
F10: ԸՆԴԱՄԵՆԸ | G10: =+G12+G50 -> 0
F11: այդ թվում
F12: ՀՀ ԿՐԹՈՒԹՅԱՆ, ԳԻՏՈՒԹՅԱՆ, ՄՇԱԿՈՒՅԹԻ ԵՎ ՍՊՈՐՏԻ ՆԱԽԱՐԱՐՈՒԹՅՈՒՆ | G12: =+G13 -> -68881.4
A13: 08 | F13: ՀԱՆԳԻՍՏ, ՄՇԱԿՈՒՅԹ ԵՎ ԿՐՈՆ | G13: =+G15 -> -68881.4
F14: այդ թվում`
B15: 02 | F15: Մշակութային ծառայություններ | G15: =+G17+G32 -> -68881.4
F16: այդ թվում`
C17: 05 | F17: Հուշարձանների և մշակութային արժեքների վերականգնում և պահպանում | G17: =+G19 -> -79938.1
F18: այդ թվում`
F19: ՀՀ կրթության, գիտության, մշակույթի և սպորտի նախարարություն | G19: =+G21 -> -79938.1
F20: այդ թվում`
D21: 1168 | E21: Արվեստների ծրագիր | G21: =+G23 -> -79938.1
F22: այդ թվում`
E23: 32001 | F23: Ներդրումներ թատրոնների շենքերի կապիտալ վերանորոգման համար | G23: =+G25 -> -79938.1
F24: այդ թվում` ըստ կատարողների
F25: ՀՀ քաղաքաշինության կոմիտե | G25: =+G27 -> -79938.1
F26: այդ թվում՝ բյուջետային ծախսերի տնտեսագիտական դասակարգման հոդվածներ
F27: ԸՆԴԱՄԵՆԸ ԾԱԽՍԵՐ | G27: =+G28 -> -79938.1
F28: ՈՉ ՖԻՆԱՆՍԱԿԱՆ ԱԿՏԻՎՆԵՐԻ ԳԾՈՎ ԾԱԽՍԵՐ | G28: =+G29 -> -79938.1
F29: ՀԻՄՆԱԿԱՆ ՄԻՋՈՑՆԵՐ | G29: =+G30 -> -79938.1
F30: ՇԵՆՔԵՐ ԵՎ ՇԻՆՈՒԹՅՈՒՆՆԵՐ | G30: =+G31 -> -79938.1
F31: - Շենքերի և շինությունների կապիտալ վերանորոգում | G31: =+'Հավելված N 4'!E28 -> -79938.1
C32: 07 | F32: Հուշարձանների և մշակութային արժեքների վերականգնում և պահպանում | G32: =+G34 -> 11056.7
F33: այդ թվում`
F34: ՀՀ կրթության, գիտության, մշակույթի և սպորտի նախարարություն | G34: =+G36 -> 11056.7
F35: այդ թվում`
D36: 1075 | E36: Մշակութային ժառանգության ծրագիր | G36: =+G38 -> 11056.7
F37: այդ թվում`
E38: 21001 | F38: Հուշարձանների ամրակայում, նորոգում և վերականգնում | G38: =+G40 -> 11056.7
F39: այդ թվում` ըստ կատարողների
F40: ՀՀ կրթության, գիտության, մշակույթի և սպորտի նախարարություն | G40: =+G42 -> 11056.7
F41: այդ թվում՝ բյուջետային ծախսերի տնտեսագիտական դասակարգման հոդվածներ
F42: ԸՆԴԱՄԵՆԸ ԾԱԽՍԵՐ | G42: =+G43 -> 11056.7
F43: ՈՉ ՖԻՆԱՆՍԱԿԱՆ ԱԿՏԻՎՆԵՐԻ ԳԾՈՎ ԾԱԽՍԵՐ | G43: =+G44 -> 11056.7
F44: ՀԻՄՆԱԿԱՆ ՄԻՋՈՑՆԵՐ | G44: =+G45+G47 -> 11056.7
F45: ՇԵՆՔԵՐ ԵՎ ՇԻՆՈՒԹՅՈՒՆՆԵՐ | G45: =+G46 -> 8285.7
F46: - Շենքերի և շինությունների կապիտալ վերանորոգում | G46: =+'Հավելված N 4'!E18 -> 8285.7
F47: ԱՅԼ ՀԻՄՆԱԿԱՆ ՄԻՋՈՑՆԵՐ | G47: =+G48 -> 2771
F48: - Նախագծահետազոտական ծախսեր | G48: =+'Հավելված N 4'!E22 -> 2771
F50: ՀՀ ԿԱՌԱՎԱՐՈՒԹՅՈՒՆ | G50: =+G51 -> 68881.4
A51: 11 | F51: ՀԻՄՆԱԿԱՆ ԲԱԺԻՆՆԵՐԻՆ ՉԴԱՍՎՈՂ ՊԱՀՈՒՍՏԱՅԻՆ ՖՈՆԴԵՐ | G51: =+G53 -> 68881.4
F52: այդ թվում`
B53: 01 | F53: ՀՀ կառավարության և համայնքների պահուստային ֆոնդ | G53: =+G55 -> 68881.4
F54: այդ թվում`
C55: 01 | F55: ՀՀ կառավարության պահուստային ֆոնդ | G55: =+G57 -> 68881.4
F56: այդ թվում`
F57: ՀՀ կառավարություն | G57: =+G59 -> 68881.4
F58: այդ թվում`
D59: 1139 | E59: ՀՀ կառավարության պահուստային ֆոնդ | F59: ՀՀ կառավարության պահուստային ֆոնդ | G59: =+G61 -> 68881.4
F60: այդ թվում`
E61: 11001 | F61: ՀՀ կառավարության պահուստային ֆոնդ | G61: =+G63 -> 68881.4
F62: այդ թվում` ըստ կատարողների
F63: ՀՀ կառավարություն | G63: =+G65 -> 68881.4
F64: այդ թվում` բյուջետային ծախսերի տնտեսագիտական դասակարգման հոդվածներ
F65: ԸՆԴԱՄԵՆԸ ԾԱԽՍԵՐ | G65: =+G66 -> 68881.4
F66: ԸՆԹԱՑԻԿ ԾԱԽՍԵՐ | G66: =+G67 -> 68881.4
F67: ԱՅԼ ԾԱԽՍԵՐ | G67: =+G68 -> 68881.4
F68: Պահուստային միջոցներ | G68: =-G12 -> 68881.4

Sheet Հավելված N 3
F1: Հավելված N 3
F2: ՀՀ կառավարության 2022 թվականի
F3: ______________ ի ___Ն որոշման
A5: «ՀԱՅԱUՏԱՆԻ ՀԱՆՐԱՊԵՏՈՒԹՅԱՆ 2022 ԹՎԱԿԱՆԻ ՊԵՏԱԿԱՆ ԲՅՈՒՋԵԻ ՄԱUԻՆ» ՀԱՅԱUՏԱՆԻ ՀԱՆՐԱՊԵՏՈՒԹՅԱՆ OՐԵՆՔԻ N 1 ՀԱՎԵԼՎԱԾԻ N 3 ԱՂՅՈՒՍԱԿՈՒՄ ԿԱՏԱՐՎՈՂ ՓՈՓՈԽՈՒԹՅՈՒՆՆԵՐԸ ԵՎ ԼՐԱՑՈՒՄՆԵՐԸ
H8: հազ. դրամներով
A9: Ծրագրային դասիչ | C9: Բյուջետային գլխավոր կարգադրիչների, ծրագրերի, միջոցառումների և ուղղությունների անվանումները | D9: Ընդամենը | E9: Ցուցանիշների փոփոխությունը (ավելացումները նշված են դրական նշանով, իսկ նվազեցումները՝ փակագծերում)
A10: Ծրագիր | B10: Միջոցառում | E10: Կառուցման աշխատանքներ | F10: Վերակառուցման, վերանորոգման և վերականգնման աշխատանքներ | G10: Նախագծահե- տազոտական, գեոդեզիա- քարտեզագրա- կան աշխա- տանքներ | H10: Ոչ ֆինանսական այլ ակտիվների ձեռքբերում
C11: ԸՆԴԱՄԵՆԸ | D11: =SUM(E11:H11) -> -68881.4 | E11: =+E13 -> 0 | F11: =+F13 -> -71652.4 | G11: =+G13 -> 2771 | H11: =+H13 -> 0
C12: այդ թվում՝
C13: ՀՀ ԿՐԹՈՒԹՅԱՆ, ԳԻՏՈՒԹՅԱՆ, ՄՇԱԿՈՒՅԹԻ ԵՎ ՍՊՈՐՏԻ ՆԱԽԱՐԱՐՈՒԹՅՈՒՆ | D13: =SUM(E13:H13) -> -68881.4 | E13: =+E15+E25 -> 0 | F13: =+F15+F25 -> -71652.4 | G13: =+G15+G25 -> 2771 | H13: =+H15+H25 -> 0
C14: այդ թվում`
A15: 1075 | B15: 21001 | C15: Հուշարձանների ամրակայում, նորոգում և վերականգնում | D15: =+E15+F15+G15+H15 -> 11056.7 | E15: =+E17+E21 -> 0 | F15: =+F17+F21 -> 8285.7 | G15: =+G17+G21 -> 2771 | H15: =+H17+H21 -> 0
C16: այդ թվում`
C17: 1. Վերականգնողական աշխատանքներ | D17: =SUM(E17:H17) -> 8285.7 | E17: =+E19 -> 0 | F17: =+F19 -> 8285.7 | G17: =+G19 -> 0 | H17: =+H19 -> 0
C18: որից`
C19: ՀՀ Կոտայքի մարզ | D19: =SUM(E19:H19) -> 8285.7 | E19: =+E20 -> 0 | F19: =+F20 -> 8285.7 | G19: =+G20 -> 0 | H19: =+H20 -> 0
C20: Բջնի գյուղի Սբ. Աստվածածին եկեղեցու հյուսիսային ավանդատան արտաքին պատի վերականգնում | D20: =+E20+F20+G20+H20 -> 8285.7 | F20: =+'Հավելված N 7'!I14+'Հավելված N 7'!I16+'Հավելված N 7'!I17 -> 8285.7
C21: 2. Վավերագրման և ուսումնասիրման աշխատանքներ, (այդ թվում՝ հետախուզումև պեղում), գիտանախագծային փաստաթղթերի կազմում և փորձաքննում | D21: =SUM(E21:H21) -> 2771 | E21: =+E23 -> 0 | F21: =+F23 -> 0 | G21: =+G23 -> 2771 | H21: =+H23 -> 0
C22: որից`
C23: ՀՀ Լոռու մարզ | D23: =SUM(E23:H23) -> 2771 | E23: =+E24 -> 0 | F23: =+F24 -> 0 | G23: =+G24 -> 2771 | H23: =+H24 -> 0
C24: Հաղպատ վանական համալիրի արևմտյան պարսպապատի և աշտարակների վերականգնում | D24: =+E24+F24+G24+H24 -> 2771 | G24: =+'Հավելված N 7'!I18+'Հավելված N 7'!I19 -> 2771
A25: 1168 | B25: 32001 | C25: Ներդրումներ թատրոնների շենքերի կապիտալ վերանորոգման համար | D25: =+E25+F25+G25+H25 -> -79938.1 | E25: =+E27 -> 0 | F25: =+F27 -> -79938.1 | G25: =+G27 -> 0 | H25: =+H27 -> 0
C26: այդ թվում`
C27: Երևան քաղաք | D27: =SUM(E27:H27) -> -79938.1 | E27: =+E28 -> 0 | F27: =+F28 -> -79938.1 | G27: =+G28 -> 0 | H27: =+H28 -> 0
C28: Երևանի մնջախաղի պետական թատրոնի շենքի վերակառուցում | D28: =+E28+F28+G28+H28 -> -79938.1 | F28: =+'Հավելված N 7'!I25+'Հավելված N 7'!I27 -> -79938.1

Sheet Հավելված N 4
D1: Հավելված N 4
D2: ՀՀ կառավարության 2022 թվականի
D3: ______________ ի ___Ն որոշման
B5: ՀԱՅԱՍՏԱՆԻ ՀԱՆՐԱՊԵՏՈՒԹՅԱՆ ԿԱՌԱՎԱՐՈՒԹՅԱՆ 2021 ԹՎԱԿԱՆԻ ԴԵԿՏԵՄԲԵՐԻ 23-Ի N 2121-Ն ՈՐՈՇՄԱՆ N 5 ՀԱՎԵԼՎԱԾԻ N 2 ԱՂՅՈՒՍԱԿՈՒՄ ԿԱՏԱՐՎՈՂ ՓՈՓՈԽՈՒԹՅՈՒՆՆԵՐԸ ԵՎ ԼՐԱՑՈՒՄՆԵՐԸ
E8: հազ. դրամներով
B9: Ծրագրային դասիչ | D9: Բյուջետային գլխավոր կարգադրիչների, ծրագրերի, միջոցառումների, միջոցառումները կատարող պետական մարմինների և ուղղությունների անվանումները | E9: Ցուցանիշների փոփոխությունը (ավելացումները նշված են դրական նշանով, իսկ նվազեցումները՝ փակագծերում)
B10: Ծրագիր | C10: Միջոցառում | E10: Տարի
D12: ՀՀ ԿՐԹՈՒԹՅԱՆ, ԳԻՏՈՒԹՅԱՆ, ՄՇԱԿՈՒՅԹԻ ԵՎ ՍՊՈՐՏԻ ՆԱԽԱՐԱՐՈՒԹՅՈՒՆ | E12: =+E14+E26 -> -68881.4
D13: այդ թվում՝
B14: 1075 | C14: 21001 | D14: Հուշարձանների ամրակայում, նորոգում և վերականգնում | E14: =+E16 -> 11056.7
D15: այդ թվում` ըստ կատարողների
D16: ՀՀ կրթության, գիտության, մշակույթի և սպորտի նախարարություն | E16: =+E18+E22 -> 11056.7
D17: այդ թվում` ըստ ուղղությունների
D18: 1. Վերականգնողական աշխատանքներ | E18: =+E20 -> 8285.7
D19: որից`
D20: ՀՀ Կոտայքի մարզ | E20: =+E21 -> 8285.7
D21: Բջնի գյուղի Սբ. Աստվածածին եկեղեցու հյուսիսային ավանդատան արտաքին պատի վերականգնում | E21: =+'Հավելված N 3'!D20 -> 8285.7
D22: 2. Վավերագրման և ուսումնասիրման աշխատանքներ, (այդ թվում՝ հետախուզումև պեղում), գիտանախագծային փաստաթղթերի կազմում և փորձաքննում | E22: =+E24 -> 2771
D23: որից`
D24: ՀՀ Լոռու մարզ | E24: =+E25 -> 2771
D25: Հաղպատ վանական համալիրի արևմտյան պարսպապատի և աշտարակների վերականգնում | E25: =+'Հավելված N 3'!D24 -> 2771
B26: 1168 | C26: 32001 | D26: Ներդրումներ թատրոնների շենքերի կապիտալ վերանորոգման համար | E26: =+E28 -> -79938.1
D27: այդ թվում` ըստ կատարողների
D28: ՀՀ քաղաքաշինության կոմիտե | E28: =+E30 -> -79938.1
D29: այդ թվում` ըստ ուղղությունների
D30: Երևան քաղաք | E30: =+E31 -> -79938.1
D31: Երևանի մնջախաղի պետական թատրոնի շենքի վերակառուցում | E31: =+'Հավելված N 3'!D28 -> -79938.1

Sheet Հավելված N 5
C1: Հավելված N 5
C2: ՀՀ կառավարության 2022 թվականի
C3: ______________ ի ___Ն որոշման
B5: ՀԱՅԱՍՏԱՆԻ ՀԱՆՐԱՊԵՏՈՒԹՅԱՆ ԿԱՌԱՎԱՐՈՒԹՅԱՆ 2021 ԹՎԱԿԱՆԻ ԴԵԿՏԵՄԲԵՐԻ 23-Ի N 2121-Ն ՈՐՈՇՄԱՆ N 9 ՀԱՎԵԼՎԱԾԻ N 9.13 ԵՎ 9.47 ԱՂՅՈՒՍԱԿՆԵՐՈՒՄ ԿԱՏԱՐՎՈՂ ՓՈՓՈԽՈՒԹՅՈՒՆՆԵՐԸ ԵՎ ԼՐԱՑՈՒՄՆԵՐԸ
A7: Աղյուսակ 9․13
C8: ՀՀ կրթության, գիտության, մշակույթի և սպորտի նախարարություն
B9: ՄԱՍ 2. ՊԵՏԱԿԱՆ ՄԱՐՄՆԻ ԳԾՈՎ ԱՐԴՅՈՒՆՔԱՅԻՆ (ԿԱՏԱՐՈՂԱԿԱՆ) ՑՈՒՑԱՆԻՇՆԵՐԸ
B12: Ծրագրի դասիչը | C12: Ծրագրի անվանումը
B13: 1075 | C13: Մշակութային ժառանգության ծրագիր
B15: Ծրագրի միջոցառումները
B16: Ծրագրի դասիչը՝ | C16: 1075 | D16: Ցուցանիշների փոփոխությունը (ավելացումները նշված են դրական նշանով)
B17: Միջոցառման դասիչը՝ | C17: 21001 | D17: Տարի
B18: Միջոցառման անվանումը՝ | C18: Հուշարձանների ամրակայում, նորոգում և վերականգնում
B19: Նկարագրությունը՝ | C19: Հուշարձանների գիտանախագծային փաստաթղթերի կազմում, հրատապ ուսումնասիրում, վավերագրման և ուսումնասիրման աշխատանքներ, հետախուզում և հնագիտական պեղում, ամրակայում, նորոգում և վերականգնում
B20: Միջոցառման տեսակը՝ | C20: Հանրության կողմից անմիջականորեն օգտագործվող ակտիվների հետ կապված միջոցառումներ
B21: Միջոցառումն իրականացնողի անվանումը | C21: Մասնագիտացված կազմակերպություն
B22: Արդյունքի չափորոշիչներ
B23: Հուշարձանների ուսումնասիրման (այդ թվում` հետախուզում և պեղում) և նախագծման, փորձաքննության աշխատանքներ, քանակ | D23: 1
B24: Հուշարձանների ամրակայման, նորոգման և վերականգնման աշխատանքներ, քանակ | D24: 1
B25: Միջոցառման վրա կատարվող ծախսը (հազար դրամ) | D25: =+'Հավելված N 1'!D23 -> 11056.7
B27: Ծրագրի դասիչը | C27: Ծրագրի անվանումը
B28: 1168 | C28: Արվեստների ծրագիր
B30: Ծրագրի միջոցառումները
B31: Ծրագրի դասիչը՝ | C31: 1168 | D31: Ցուցանիշների փոփոխությունը (նվազեցումները նշված են փակագծերում)
B32: Միջոցառման դասիչը՝ | C32: 32001 | D32: Տարի
B33: Միջոցառման անվանումը՝ | C33: Ներդրումներ թատրոնների շենքերի կապիտալ վերանորոգման համար
B34: Նկարագրությունը՝ | C34: Թատրոնների շենքերի մասնաշենքերի հիմնանորոգում, համաշինարարական աշխատանքներ, ջեռուցման համակարգի իրականացում, ներքին հարդարում, տարածքի բարեկարգում և նախագծում
B35: Միջոցառման տեսակը՝ | C35: Այլ պետական կազմակերպությունների կողմից օգտագործվող ոչ ֆինանսական ակտիվների հետ գործառնություններ
B36: Ակտիվն օգտագործող կազմակերպությունների անվանումները | C36: Թատրոններ
B37: Արդյունքի չափորոշիչներ
B38: Միջոցառման վրա կատարվող ծախսը (հազար դրամ) | D38: =+'Հավելված N 1'!D36 -> -79938.1
A42: Աղյուսակ 9․47
C43: ՀՀ կառավարություն
B44: ՄԱՍ 2. ՊԵՏԱԿԱՆ ՄԱՐՄՆԻ ԳԾՈՎ ԱՐԴՅՈՒՆՔԱՅԻՆ (ԿԱՏԱՐՈՂԱԿԱՆ) ՑՈՒՑԱՆԻՇՆԵՐԸ
B47: Ծրագրի դասիչը | C47: Ծրագրի անվանումը
B48: 1139 | C48: ՀՀ կառավարության պահուստային ֆոնդ
B50: Ծրագրի միջոցառումները
B51: Ծրագրի դասիչը՝ | C51: 1139 | D51: Ցուցանիշների փոփոխությունը (ավելացումները նշված են դրական նշանով)
B52: Միջոցառման դասիչը՝ | C52: 11001 | D52: Տարի
B53: Միջոցառման անվանումը՝ | C53: ՀՀ կառավարության պահուստային ֆոնդ
B54: Նկարագրությունը՝ | C54: ՀՀ պետական բյուջեում նախատեսված ելքերի լրացուցիչ ֆինանսավորման՝ պետական բյուջեում չկանխատեսված ելքերի, ինչպես նաև բյուջետային երաշխիքների ապահովման ելքերի ֆինանսավորման ապահովում
B55: Միջոցառման տեսակը՝ | C55: Ծառայությունների մատուցում
B56: Միջոցառումն իրականացնողի անվանումը | C56: ՀՀ կառավարություն
C57: Արդյունքի չափորոշիչներ
B58: Միջոցառման վրա կատարվող ծախսը (հազար դրամ) | D58: =+'Հավելված N 1'!D50 -> 68881.4

Sheet Հավելված N 6
C1: Հավելված N 6
C2: ՀՀ կառավարության 2022 թվականի
C3: ______________ ի ___Ն որոշման
B5: ՀԱՅԱՍՏԱՆԻ ՀԱՆՐԱՊԵՏՈՒԹՅԱՆ ԿԱՌԱՎԱՐՈՒԹՅԱՆ 2021 ԹՎԱԿԱՆԻ ԴԵԿՏԵՄԲԵՐԻ 23-Ի N 2121-Ն ՈՐՈՇՄԱՆ N 9.1 ՀԱՎԵԼՎԱԾԻ N 9.1.14 ԵՎ 9․1.59 ԱՂՅՈՒՍԱԿՆԵՐՈՒՄ ԿԱՏԱՐՎՈՂ ՓՈՓՈԽՈՒԹՅՈՒՆՆԵՐԸ ԵՎ ԼՐԱՑՈՒՄՆԵՐԸ
A7: Աղյուսակ 9․1.14
C8: ՀՀ կրթության, գիտության, մշակույթի և սպորտի նախարարություն
B9: ՄԱՍ 1. ՊԵՏԱԿԱՆ ՄԱՐՄՆԻ ԳԾՈՎ ԱՐԴՅՈՒՆՔԱՅԻՆ (ԿԱՏԱՐՈՂԱԿԱՆ) ՑՈՒՑԱՆԻՇՆԵՐԸ
B12: Ծրագրի դասիչը | C12: Ծրագրի անվանումը
B13: 1075 | C13: Մշակութային ժառանգության ծրագիր
B15: Ծրագրի միջոցառումները
B16: Ծրագրի դասիչը՝ | C16: 1075 | D16: Ցուցանիշների փոփոխությունը (ավելացումները նշված են դրական նշանով)
B17: Միջոցառման դասիչը՝ | C17: 21001 | D17: Տարի
B18: Միջոցառման անվանումը՝ | C18: Հուշարձանների ամրակայում, նորոգում և վերականգնում
B19: Նկարագրությունը՝ | C19: Հուշարձանների գիտանախագծային փաստաթղթերի կազմում, հրատապ ուսումնասիրում, վավերագրման և ուսումնասիրման աշխատանքներ, հետախուզում և հնագիտական պեղում, ամրակայում, նորոգում և վերականգնում
B20: Միջոցառման տեսակը՝ | C20: Հանրության կողմից անմիջականորեն օգտագործվող ակտիվների հետ կապված միջոցառումներ
B21: Միջոցառումն իրականացնողի անվանումը | C21: Մասնագիտացված կազմակերպություն
B22: Արդյունքի չափորոշիչներ
B23: Հուշարձանների ուսումնասիրման (այդ թվում` հետախուզում և պեղում) և նախագծման, փորձաքննության աշխատանքներ, քանակ | D23: 1
B24: Հուշարձանների ամրակայման, նորոգման և վերականգնման աշխատանքներ, քանակ | D24: 1
B25: Միջոցառման վրա կատարվող ծախսը (հազար դրամ) | D25: =+'Հավելված N 2'!G40 -> 11056.7
D29: Աղյուսակ 9․1.42
C30: ՀՀ քաղաքաինության կոմիտե
B31: ՄԱՍ 1. ՊԵՏԱԿԱՆ ՄԱՐՄՆԻ ԳԾՈՎ ԱՐԴՅՈՒՆՔԱՅԻՆ (ԿԱՏԱՐՈՂԱԿԱՆ) ՑՈՒՑԱՆԻՇՆԵՐԸ
B34: Ծրագրի դասիչը | C34: Ծրագրի անվանումը
B35: 1168 | C35: Արվեստների ծրագիր
B37: Ծրագրի միջոցառումները
B38: Ծրագրի դասիչը՝ | C38: 1168 | D38: Ցուցանիշների փոփոխությունը (նվազեցումները նշված են փակագծերում)
B39: Միջոցառման դասիչը՝ | C39: 32001 | D39: Տարի
B40: Միջոցառման անվանումը՝ | C40: Ներդրումներ թատրոնների շենքերի կապիտալ վերանորոգման համար
B41: Նկարագրությունը՝ | C41: Թատրոնների շենքերի մասնաշենքերի հիմնանորոգում, համաշինարարական աշխատանքներ, ջեռուցման համակարգի իրականացում, ներքին հարդարում, տարածքի բարեկարգում և նախագծում
B42: Միջոցառման տեսակը՝ | C42: Այլ պետական կազմակերպությունների կողմից օգտագործվող ոչ ֆինանսական ակտիվների հետ գործառնություններ
B43: Ակտիվն օգտագործող կազմակերպությունների անվանումները | C43: Թատրոններ
B44: Արդյունքի չափորոշիչներ
B45: Միջոցառման վրա կատարվող ծախսը (հազար դրամ) | D45: =+'Հավելված N 1'!D36 -> -79938.1
A49: Աղյուսակ 9․1.59
C50: ՀՀ կառավարություն
B51: ՄԱՍ 2. ՊԵՏԱԿԱՆ ՄԱՐՄՆԻ ԳԾՈՎ ԱՐԴՅՈՒՆՔԱՅԻՆ (ԿԱՏԱՐՈՂԱԿԱՆ) ՑՈՒՑԱՆԻՇՆԵՐԸ
B54: Ծրագրի դասիչը | C54: Ծրագրի անվանումը
B55: 1139 | C55: ՀՀ կառավարության պահուստային ֆոնդ
B57: Ծրագրի միջոցառումները
B58: Ծրագրի դասիչը՝ | C58: 1139 | D58: Ցուցանիշների փոփոխությունը (ավելացումները նշված են դրական նշանով)
B59: Միջոցառման դասիչը՝ | C59: 11001 | D59: Տարի
B60: Միջոցառման անվանումը՝ | C60: ՀՀ կառավարության պահուստային ֆոնդ
B61: Նկարագրությունը՝ | C61: ՀՀ պետական բյուջեում նախատեսված ելքերի լրացուցիչ ֆինանսավորման՝ պետական բյուջեում չկանխատեսված ելքերի, ինչպես նաև բյուջետային երաշխիքների ապահովման ելքերի ֆինանսավորման ապահովում
B62: Միջոցառման տեսակը՝ | C62: Ծառայությունների մատուցում
B63: Միջոցառումն իրականացնողի անվանումը | C63: ՀՀ կառավարություն
C64: Արդյունքի չափորոշիչներ
B65: Միջոցառման վրա կատարվող ծախսը (հազար դրամ) | D65: =+'Հավելված N 2'!G63 -> 68881.4

Sheet Հավելված N 7
H1: Հավելված N 7
H2: ՀՀ կառավարության 2022 թվականի
H3: ______________ ի ___Ն որոշման
A5: ՀԱՅԱՍՏԱՆԻ ՀԱՆՐԱՊԵՏՈՒԹՅԱՆ ԿԱՌԱՎԱՐՈՒԹՅԱՆ 2021 ԹՎԱԿԱՆԻ ԴԵԿՏԵՄԲԵՐԻ 23-Ի N 2121-Ն ՈՐՈՇՄԱՆ N 10 ՀԱՎԵԼՎԱԾՈՒՄ ԿԱՏԱՐՎՈՂ ՓՈՓՈԽՈՒԹՅՈՒՆՆԵՐԸ ԵՎ ԼՐԱՑՈՒՄՆԵՐԸ
A7: Կոդը | B7: Անվանումը | E7: Գնման ձևը | F7: Չափման միավորը | G7: Միավորի գինը | H7: Ցուցանիշների փոփոխությունը (ավելացումները նշված են դրական նշանով, իսկ նվազեցումները՝ փակագծերում)
H8: Քանակը | I8: Գումարը (հազար դրամ)
A9: 1 | B9: 2 | E9: 3 | F9: 4 | G9: 5 | H9: 6 | I9: 7
A10: ՀՀ կրթության, գիտության, մշակույթի և սպորտի նախարարություն | I10: =+I11 -> 11056.7
A11: Բաժին N 08 | B11: Խումբ N 02 | C11: Դաս N 07 | D11: Հուշարձանների և մշակութային արժեքների վերականգնում և պահպանում | I11: =+I12 -> 11056.7
A12: 1075-21001 | B12: Հուշարձանների ամրակայում, նորոգում և վերականգնում | I12: =+I13+I15 -> 11056.7
B13: ՄԱՍ II. ԱՇԽԱՏԱՆՔՆԵՐ | I13: =+I14 -> 7810
A14: 45451600-512 | B14: վերականգնողական աշխատանքներ | E14: ԳՀ | F14: դրամ | G14: 7810000 | H14: 1 | I14: 7810
B15: ՄԱՍ III. ԾԱՌԱՅՈՒԹՅՈՒՆՆԵՐ | I15: =SUM(I16:I19) -> 3246.7
A16: 71351540-535 | B16: տեխնիկական հսկողության ծառայություններ | E16: ԳՀ | F16: դրամ | G16: 317000 | H16: 1 | I16: 317
A17: 98111140 | B17: հեղինակային հսկողության ծառայություններ | E17: ՄԱ | F17: դրամ | G17: 158730 | H17: 1 | I17: 158.7
A18: 71241200-506 | B18: նախագծերի պատրաստում, ծախսերի գնահատում | E18: ԳՀ | F18: դրամ | G18: 2519000 | H18: 1 | I18: 2519
A19: 50531140 | B19: փորձաքննության ծառայություններ | E19: ԳՀ | F19: դրամ | G19: 252000 | H19: 1 | I19: 252
A21: ՀՀ քաղաքաշինության կոմիտե | I21: =+I22 -> -79938.1
A22: Բաժին N 08 | B22: Խումբ N 02 | C22: Դաս N 05 | D22: Արվեստ | I22: =+I23 -> -79938.1
A23: 1168-32001 | B23: Ներդրումներ թատրոնների շենքերի կապիտալ վերանորոգման համար | I23: =+I24+I26 -> -79938.1
B24: ՄԱՍ II. ԱՇԽԱՏԱՆՔՆԵՐ | I24: =+I25 -> -79526.4
A25: 45611200-1 | B25: մշակութային օբյեկտների հիմնանորոգում | E25: ԲՄ | F25: դրամ | I25: -79526.4
B26: ՄԱՍ III. ԾԱՌԱՅՈՒԹՅՈՒՆՆԵՐ | I26: =+I27 -> -411.7
A27: 98111140-1 | B27: հեղինակային հսկողության ծառայություններ | E27: ՄԱ | F27: դրամ | I27: -411.7
