Workbook
Name a: #REF!
Name a: #REF!
Name AgencyCode: #REF!
Name AgencyCode: #REF!
Name AgencyCode: #REF!
Name AgencyName: #REF!
Name AgencyName: #REF!
Name AgencyName: #REF!
Name davit: #REF!
Name davit: #REF!
Name Functional1: #REF!
Name Functional1: #REF!
Name Functional1: #REF!
Name ggg: #REF!
Name ggg: #REF!
Name PANature: #REF!
Name PANature: #REF!
Name PANature: #REF!
Name PAType: #REF!
Name PAType: #REF!
Name PAType: #REF!
Name Performance2: #REF!
Name Performance2: #REF!
Name Performance2: #REF!
Name PerformanceType: #REF!
Name PerformanceType: #REF!
Name PerformanceType: #REF!
Name Հավելված: #REF!
Name Հավելված: #REF!
Name Մաս: #REF!
Name Մաս: #REF!
Name շախմատիստ: #REF!
Name շախմատիստ: #REF!

Sheet Հավելված N 1
C1: Հավելված N 1
C2: ՀՀ կառավարության 2022 թվականի
C3: ______________ ի ___Ն որոշման
A6: «ՀԱՅԱUՏԱՆԻ ՀԱՆՐԱՊԵՏՈՒԹՅԱՆ 2022 ԹՎԱԿԱՆԻ ՊԵՏԱԿԱՆ ԲՅՈՒՋԵԻ ՄԱUԻՆ» ՀԱՅԱUՏԱՆԻ ՀԱՆՐԱՊԵՏՈՒԹՅԱՆ OՐԵՆՔԻ N 1 ՀԱՎԵԼՎԱԾԻ N 2 ԱՂՅՈՒՍԱԿՈՒՄ ԿԱՏԱՐՎՈՂ ՎԵՐԱԲԱՇԽՈՒՄԸ ԵՎ ՀԱՅԱՍՏԱՆԻ ՀԱՆՐԱՊԵՏՈՒԹՅԱՆ ԿԱՌԱՎԱՐՈՒԹՅԱՆ 2021 ԹՎԱԿԱՆԻ ԴԵԿՏԵՄԲԵՐԻ 23-Ի N 2121-Ն ՈՐՈՇՄԱՆ N 5 ՀԱՎԵԼՎԱԾԻ N 1 ԱՂՅՈՒՍԱԿՈՒՄ ԿԱՏԱՐՎՈՂ ՓՈՓՈԽՈՒԹՅՈՒՆՆԵՐԸ ԵՎ ԼՐԱՑՈՒՄՆԵՐԸ
D9: հազ. դրամներով
A10: Ծրագրային դասիչը | C10: Բյուջետային հատկացումների գլխավոր կարգադրիչների, ծրագրերի և միջոցառումների անվանումները | D10: Ցուցանիշների փոփոխությունը (ավելացումները նշված են դրական նշանով, իսկ նվազեցումները՝ փակագծերում)
A11: Ծրագիր | B11: Միջոցառում | D11: Տարի
A12: 1192 | C12: ԸՆԴԱՄԵՆԸ | D12: =+D14+D54 -> 0
C13: այդ թվում
C14: ՀՀ ԿՐԹՈՒԹՅԱՆ, ԳԻՏՈՒԹՅԱՆ, ՄՇԱԿՈՒՅԹԻ ԵՎ ՍՊՈՐՏԻ ՆԱԽԱՐԱՐՈՒԹՅՈՒՆ | D14: =+D16+D41 -> -5931686.3
A15: 1146 | C15: Ծրագրի անվանումը`
C16: Հանրակրթության ծրագիր | D16: =+D23+D29+D35 -> -1295274.5
C17: Ծրագրի նպատակը`
C18: Ապահովել անվճար և որակյալ հանրակրթություն
C19: Վերջնական արդյունքի նկարագրությունը`
C20: Մտավոր, հոգևոր, ֆիզիկական և սոցիալական ունակությունների համակողմանի ու ներդաշնակ զարգացմամբ, հայրենասիրության, պետականության և մարդասիրության ոգով դաստիրակված, պատշաճ վարքով և վարվելակերպով անձի ձևավորում
C21: Ծրագրի միջոցառումներ
B22: 11006 | C22: Միջոցառման անվանումը`
C23: Միջնակարգ հատուկ հանրակրթություն | D23: =+'Հավելված N 2'!G23 -> -25501.6
C24: Միջոցառման նկարագրությունը`
C25: Պարտադիր կրթության երրորդ մակարդակում սովորողների ընդգրկվածության՛ գրագիտության և համակողմանի զարգացման բարձր մակարդակի ապահովում
C26: Միջոցառման տեսակը
C27: Ծառայությունների մատուցում
B28: 11012 | C28: Միջոցառման անվանումը`
C29: Միջնակարգ մասնագիտացված հանրակրթություն | D29: =+'Հավելված N 2'!G32 -> -260030.2
C30: Միջոցառման նկարագրությունը`
C31: Միջնակարգ կրթության մակարդակում մասնագիտացված հանրակրթական ծառայությունների մատուցման միջոցով սովորողների ընդգրկվածության , համակողմանի զարգացման և գրագիտության ապահովում
C32: Միջոցառման տեսակը
C33: Ծառայությունների մատուցում
B34: 12010 | C34: Միջոցառման անվանումը`
C35: «Մոդուլային» տիպի մանկապարտեզների շենքային ապահովում | D35: =+'Հավելված N 2'!G49 -> -1009742.7
C36: Միջոցառման նկարագրությունը`
C37: Համայնքներում «Մոդուլային» տիպի մանկապարտեզների կառուցում և նախագծում
C38: Միջոցառման տեսակը
C39: Տրանսֆերտների տրամադրում
A40: 1183 | C40: Ծրագրի անվանումը`
C41: Ապահով դպրոց | D41: =+D48 -> -4636411.8
C42: Ծրագրի նպատակը`
C43: Դպրոցներին սպառնացող աղետների ռիսկի կառավարման կարողությունների հզորացում, դպրոցի անձնակազմի և աշակերտների անվտանգության ապահովման մակարդակի բարձրացում՛ կիրառելով ներառական և երեխայակենտրոն մոտեցում
C44: Վերջնական արդյունքի նկարագրությունը`
C45: Դպրոցական միջավայրի բարելավում
C46: Ծրագրի միջոցառումներ
B47: 32003 | C47: Միջոցառման անվանումը`
C48: Փոքրաքանակ երեխաներով համալրված հանրակրթական դպրոցների մոդուլային շենքերի կառուցում | D48: =+'Հավելված N 2'!G62 -> -4636411.8
C49: Միջոցառման նկարագրությունը`
C50: Կրթական հաստատությունների կառուցում համայնքային կենտրոնների մոդելով
C51: Միջոցառման տեսակը
C52: Այլ պետական կազմակերպությունների կողմից օգտագործվող ոչ ֆինանսական ակտիվների հետ գործառնություններ
C54: ՀՀ ԿԱՌԱՎԱՐՈՒԹՅՈՒՆ | D54: =+D56 -> 5931686.3
A55: 1139 | C55: Ծրագրի անվանումը`
C56: ՀՀ կառավարության պահուստային ֆոնդ | D56: =+D62 -> 5931686.3
C57: Ծրագրի նպատակը`
C58: Պետական բյուջեում չկանխատեսված, ինչպես նաև բյուջետային երաշխիքների ապահովման ծախսերի ֆինանսավորման ապահովում
C59: Վերջնական արդյունքի նկարագրությունը`
C60: Պահուստային ֆոնդի կառավարման արդյունավետության և թափանցիկության ապահովում
B61: 11001 | C61: Միջոցառման անվանումը`
C62: ՀՀ կառավարության պահուստային ֆոնդ | D62: =+'Հավելված N 2'!G85 -> 5931686.3
C63: Միջոցառման նկարագրությունը`
C64: ՀՀ պետական բյուջեում նախատեսված ելքերի լրացուցիչ ֆինանսավորման՝ պետական բյուջեում չկանխատեսված ելքերի, ինչպես նաև բյուջետային երաշխիքների ապահովման ելքերի ֆինանսավորման ապահովում
C65: Միջոցառման տեսակը
C66: Ծառայությունների մատուցում

Sheet Հավելված N 2
F1: Հավելված N 2
F2: ՀՀ կառավարության 2022 թվականի
F3: ______________ ի ___Ն որոշման
A5: ՀԱՅԱՍՏԱՆԻ ՀԱՆՐԱՊԵՏՈՒԹՅԱՆ ԿԱՌԱՎԱՐՈՒԹՅԱՆ 2021 ԹՎԱԿԱՆԻ ԴԵԿՏԵՄԲԵՐԻ 23-Ի N2121-Ն ՈՐՈՇՄԱՆ N 3 ԵՎ N 4 ՀԱՎԵԼՎԱԾՆԵՐՈՒՄ ԿԱՏԱՐՎՈՂ ՓՈՓՈԽՈՒԹՅՈՒՆՆԵՐԸ ԵՎ ԼՐԱՑՈՒՄՆԵՐԸ
G7: հազ. դրամներով
A8: Գործառական դասիչը | D8: Ծրագրային դասիչը | F8: Բյուջետային հատկացումների գլխավոր կարգադրիչների, ծրագրերի, միջոցառումների և միջոցառումները կատարող պետական մարմինների անվանումները | G8: Ցուցանիշների փոփոխությունը (ավելացումները նշված են դրական նշանով, իսկ նվազեցումները՝ փակագծերում)
A9: Բաժին | B9: Խումբ | C9: Դաս | D9: Ծրագիր | E9: Միջոցառում | G9: Տարի
F10: ԸՆԴԱՄԵՆԸ | G10: =+G12+G74 -> 0
F11: այդ թվում
F12: ՀՀ ԿՐԹՈՒԹՅԱՆ, ԳԻՏՈՒԹՅԱՆ, ՄՇԱԿՈՒՅԹԻ ԵՎ ՍՊՈՐՏԻ ՆԱԽԱՐԱՐՈՒԹՅՈՒՆ | G12: =+G13 -> -5931686.3
A13: 09 | F13: ԿՐԹՈՒԹՅՈՒՆ | G13: =G15+G41 -> -5931686.3
F14: այդ թվում`
B15: 02 | F15: Միջնակարգ ընդհանուր կրթություն | G15: =+G17 -> -285531.8
F16: այդ թվում`
C17: 02 | F17: Միջնակարգ (լրիվ) ընդհանուր կրթություն | G17: =+G19 -> -285531.8
F18: այդ թվում`
F19: ՀՀ կրթության, գիտության, մշակույթի և սպորտի նախարարություն | G19: =+G21 -> -285531.8
F20: այդ թվում՝
D21: 1146 | E21: Հանրակրթության ծրագիր | G21: =+G23+G32 -> -285531.8
F22: այդ թվում`
E23: 11006 | F23: Միջնակարգ հատուկ հանրակրթություն | G23: =+G25 -> -25501.6
F24: այդ թվում` ըստ կատարողների
F25: ՀՀ կրթության, գիտության, մշակույթի և սպորտի նախարարություն | G25: =G27 -> -25501.6
F26: այդ թվում՝ բյուջետային ծախսերի տնտեսագիտական դասակարգման հոդվածներ
F27: ԸՆԴԱՄԵՆԸ ԾԱԽՍԵՐ | G27: =G28 -> -25501.6
F28: ԸՆԹԱՑԻԿ ԾԱԽՍԵՐ | G28: =G29 -> -25501.6
F29: ՍՈՒԲՍԻԴԻԱՆԵՐ | G29: =+G30 -> -25501.6
F30: Սուբսիդիաներ պետական կազմակերպություններին | G30: =+G31 -> -25501.6
F31: - Սուբսիդիաներ ոչ ֆինանսական պետական կազմակերպություններին | G31: -25501.6
E32: 11012 | F32: Միջնակարգ մասնագիտացված հանրակրթություն | G32: =+G34 -> -260030.2
F33: այդ թվում` ըստ կատարողների
F34: ՀՀ կրթության, գիտության, մշակույթի և սպորտի նախարարություն | G34: =G36 -> -260030.2
F35: այդ թվում՝ բյուջետային ծախսերի տնտեսագիտական դասակարգման հոդվածներ
F36: ԸՆԴԱՄԵՆԸ ԾԱԽՍԵՐ | G36: =G37 -> -260030.2
F37: ԸՆԹԱՑԻԿ ԾԱԽՍԵՐ | G37: =G38 -> -260030.2
F38: ՍՈՒԲՍԻԴԻԱՆԵՐ | G38: =+G39 -> -260030.2
F39: Սուբսիդիաներ պետական կազմակերպություններին | G39: =+G40 -> -260030.2
F40: - Սուբսիդիաներ ոչ ֆինանսական պետական կազմակերպություններին | G40: -260030.2
B41: 06 | F41: Կրթությանը տրամադրվող օժանդակ ծառայություններ | G41: =+G43 -> -5646154.5
F42: այդ թվում`
C43: 01 | F43: Կրթությանը տրամադրվող օժանդակ ծառայություններ | G43: =+G45 -> -5646154.5
F44: այդ թվում`
F45: ՀՀ կրթության, գիտության, մշակույթի և սպորտի նախարարություն | G45: =+G47+G60 -> -5646154.5
F46: այդ թվում՝
D47: 1146 | E47: Հանրակրթության ծրագիր | G47: =+G49 -> -1009742.7
F48: այդ թվում`
E49: 12010 | F49: «Մոդուլային» տիպի մանկապարտեզների շենքային ապահովում | G49: =+G51 -> -1009742.7
F50: այդ թվում` ըստ կատարողների
F51: ՀՀ քաղաքաշինության կոմիտե | G51: =G53 -> -1009742.7
F52: այդ թվում՝ բյուջետային ծախսերի տնտեսագիտական դասակարգման հոդվածներ
F53: ԸՆԴԱՄԵՆԸ ԾԱԽՍԵՐ | G53: =G54 -> -1009742.7
F54: ՈՉ ՖԻՆԱՆՍԱԿԱՆ ԱԿՏԻՎՆԵՐԻ ԳԾՈՎ ԾԱԽՍԵՐ | G54: =G55 -> -1009742.7
F55: ՀԻՄՆԱԿԱՆ ՄԻՋՈՑՆԵՐ | G55: =+G56+G58 -> -1009742.7
F56: ՇԵՆՔԵՐ ԵՎ ՇԻՆՈՒԹՅՈՒՆՆԵՐ | G56: =+G57 -> -999862.7
F57: - Շենքերի և շինությունների շինարարություն | G57: =+'Հավելված N 4'!E18+'Հավելված N 4'!E20+'Հավելված N 4'!E22+'Հավելված N 4'!E26+'Հավելված N 4'!E28+'Հավելված N 4'!E32+'Հավելված N 4'!E36 -> -999862.7
F58: ԱՅԼ ՀԻՄՆԱԿԱՆ ՄԻՋՈՑՆԵՐ | G58: =+G59 -> -9880
F59: - Նախագծահետազոտական ծախսեր | G59: =+'Հավելված N 4'!E33+'Հավելված N 4'!E35 -> -9880
D60: 1183 | E60: Ապահով դպրոց | G60: =+G62 -> -4636411.8
F61: այդ թվում`
E62: 32003 | F62: Փոքրաքանակ երեխաներով համալրված հանրակրթական դպրոցների մոդուլային շենքերի կառուցում | G62: =+G64 -> -4636411.8
F63: այդ թվում` ըստ կատարողների
F64: ՀՀ քաղաքաշինության կոմիտե | G64: =G66 -> -4636411.8
F65: այդ թվում՝ բյուջետային ծախսերի տնտեսագիտական դասակարգման հոդվածներ
F66: ԸՆԴԱՄԵՆԸ ԾԱԽՍԵՐ | G66: =G67 -> -4636411.8
F67: ՈՉ ՖԻՆԱՆՍԱԿԱՆ ԱԿՏԻՎՆԵՐԻ ԳԾՈՎ ԾԱԽՍԵՐ | G67: =G68 -> -4636411.8
F68: ՀԻՄՆԱԿԱՆ ՄԻՋՈՑՆԵՐ | G68: =+G69+G71 -> -4636411.8
F69: ՇԵՆՔԵՐ ԵՎ ՇԻՆՈՒԹՅՈՒՆՆԵՐ | G69: =+G70 -> -4581611.8
F70: - Շենքերի և շինությունների շինարարություն | G70: =+'Հավելված N 4'!E43+'Հավելված N 4'!E44+'Հավելված N 4'!E51+'Հավելված N 4'!E52+'Հավելված N 4'!E53+'Հավելված N 4'!E56+'Հավելված N 4'!E57+'Հավելված N 4'!E60+'Հավելված N 4'!E61+'Հավելված N 4'!E64+'Հավելված N 4'!E65+'Հավելված N 4'!E66+'Հավելված N 4'!E69+'Հավելված N 4'!E70+'Հավելված N 4'!E71+'Հավելված N 4'!E74+'Հավելված N 4'!E75+'Հավելված N 4'!E76+'Հավելված N 4'!E79+'Հավելված N 4'!E80 -> -4581611.8
F71: ԱՅԼ ՀԻՄՆԱԿԱՆ ՄԻՋՈՑՆԵՐ | G71: =+G72 -> -54800
F72: - Նախագծահետազոտական ծախսեր | G72: =+'Հավելված N 4'!E45+'Հավելված N 4'!E47+'Հավելված N 4'!E49+'Հավելված N 4'!E54+'Հավելված N 4'!E58+'Հավելված N 4'!E62+'Հավելված N 4'!E67+'Հավելված N 4'!E72+'Հավելված N 4'!E77+'Հավելված N 4'!E81+'Հավելված N 4'!E82 -> -54800
F74: ՀՀ ԿԱՌԱՎԱՐՈՒԹՅՈՒՆ | G74: =+G75 -> 5931686.3
A75: 11 | F75: ՀԻՄՆԱԿԱՆ ԲԱԺԻՆՆԵՐԻՆ ՉԴԱՍՎՈՂ ՊԱՀՈՒՍՏԱՅԻՆ ՖՈՆԴԵՐ | G75: =+G77 -> 5931686.3
F76: այդ թվում`
B77: 01 | F77: ՀՀ կառավարության և համայնքների պահուստային ֆոնդ | G77: =+G79 -> 5931686.3
F78: այդ թվում`
C79: 01 | F79: ՀՀ կառավարության պահուստային ֆոնդ | G79: =+G81 -> 5931686.3
F80: այդ թվում`
F81: ՀՀ կառավարություն | G81: =+G83 -> 5931686.3
F82: այդ թվում`
D83: 1139 | E83: ՀՀ կառավարության պահուստային ֆոնդ | F83: ՀՀ կառավարության պահուստային ֆոնդ | G83: =+G85 -> 5931686.3
F84: այդ թվում`
E85: 11001 | F85: ՀՀ կառավարության պահուստային ֆոնդ | G85: =+G87 -> 5931686.3
F86: այդ թվում` ըստ կատարողների
F87: ՀՀ կառավարություն | G87: =+G89 -> 5931686.3
F88: այդ թվում` բյուջետային ծախսերի տնտեսագիտական դասակարգման հոդվածներ
F89: ԸՆԴԱՄԵՆԸ ԾԱԽՍԵՐ | G89: =+G90 -> 5931686.3
F90: ԸՆԹԱՑԻԿ ԾԱԽՍԵՐ | G90: =+G91 -> 5931686.3
F91: ԱՅԼ ԾԱԽՍԵՐ | G91: =+G92 -> 5931686.3
F92: Պահուստային միջոցներ | G92: =-G12 -> 5931686.3

Sheet Հավելված N 3
F1: Հավելված N 3
F2: ՀՀ կառավարության 2022 թվականի
F3: ______________ ի ___Ն որոշման
A5: «ՀԱՅԱUՏԱՆԻ ՀԱՆՐԱՊԵՏՈՒԹՅԱՆ 2022 ԹՎԱԿԱՆԻ ՊԵՏԱԿԱՆ ԲՅՈՒՋԵԻ ՄԱUԻՆ» ՀԱՅԱUՏԱՆԻ ՀԱՆՐԱՊԵՏՈՒԹՅԱՆ OՐԵՆՔԻ N 1 ՀԱՎԵԼՎԱԾԻ N 3 ԱՂՅՈՒՍԱԿՈՒՄ ԿԱՏԱՐՎՈՂ ՓՈՓՈԽՈՒԹՅՈՒՆՆԵՐԸ ԵՎ ԼՐԱՑՈՒՄՆԵՐԸ
H8: հազ. դրամներով
A9: Ծրագրային դասիչ | C9: Բյուջետային գլխավոր կարգադրիչների, ծրագրերի, միջոցառումների և ուղղությունների անվանումները | D9: Ընդամենը | E9: Ցուցանիշների փոփոխությունը (ավելացումները նշված են դրական նշանով, իսկ նվազեցումները՝ փակագծերում)
A10: Ծրագիր | B10: Միջոցառում | E10: Կառուցման աշխատանքներ | F10: Վերակառուցման, վերանորոգման և վերականգնման աշխատանքներ | G10: Նախագծահե- տազոտական, գեոդեզիա- քարտեզագրա- կան աշխա- տանքներ | H10: Ոչ ֆինանսական այլ ակտիվների ձեռքբերում
C11: ԸՆԴԱՄԵՆԸ | D11: =SUM(E11:H11) -> -5646154.5 | E11: =+E13 -> -5581474.5 | F11: =+F13 -> 0 | G11: =+G13 -> -64680 | H11: =+H13 -> 0
C12: այդ թվում՝
C13: ՀՀ ԿՐԹՈՒԹՅԱՆ, ԳԻՏՈՒԹՅԱՆ, ՄՇԱԿՈՒՅԹԻ ԵՎ ՍՊՈՐՏԻ ՆԱԽԱՐԱՐՈՒԹՅՈՒՆ | D13: =SUM(E13:H13) -> -5646154.5 | E13: =+E15+E37 -> -5581474.5 | F13: =+F15+F37 -> 0 | G13: =+G15+G37 -> -64680 | H13: =+H15+H37 -> 0
C14: այդ թվում`
A15: 1146 | B15: 12010 | C15: «Մոդուլային» տիպի մանկապարտեզների շենքային ապահովում | D15: =+E15+F15+G15+H15 -> -1009742.7 | E15: =+E17+E19+E21+E25+E27+E30+E33+E35 -> -999862.7 | F15: =+F21+F27+F30+F33+F35 -> 0 | G15: =+G21+G27+G30+G33+G35 -> -9880 | H15: =+H21+H27+H30+H33+H35 -> 0
C16: այդ թվում`
C17: ՀՀ Արագածոտնի մարզ | D17: =SUM(E17:H17) -> -129094.5 | E17: =+E18 -> -129094.5 | F17: =+F18 -> 0 | G17: =+G18 -> 0 | H17: =+H18 -> 0
C18: ՀՀ Արագածոտնի մարզի Ալագյազ համայնքում «Մոդուլային» տիպի 144 տեղ հզորությամբ մսուր-մանկապարտեզ | D18: =+E18+F18+G18+H18 -> -129094.5 | E18: =+'Հավելված N 7'!I15+'Հավելված N 7'!I23+'Հավելված N 7'!I33 -> -129094.5
C19: ՀՀ Արարատի մարզ | D19: =SUM(E19:H19) -> -160046.1 | E19: =+E20 -> -160046.1 | F19: =+F20 -> 0 | G19: =+G20 -> 0 | H19: =+H20 -> 0
C20: ՀՀ Արարատի մարզի Արալեզ համայնքում «Մոդուլային» տիպի 144 տեղ հզորությամբ մսուր-մանկապարտեզ | D20: =+E20+F20+G20+H20 -> -160046.1 | E20: =+'Հավելված N 7'!I16+'Հավելված N 7'!I24+'Հավելված N 7'!I34 -> -160046.1
C21: ՀՀ Արմավիրի մարզ | D21: =SUM(E21:H21) -> -289049.6 | E21: =+E22+E23+E24 -> -289049.6 | F21: =+F23+F24 -> 0 | G21: =+G23+G24 -> 0 | H21: =+H23+H24 -> 0
C22: ՀՀ Արմավիրի մարզի Այգևան համայնքում «Մոդուլային» տիպի 144 տեղ հզորությամբ մսուր-մանկապարտեզ | D22: =+E22+F22+G22+H22 -> -129003.2 | E22: =+'Հավելված N 7'!I17+'Հավելված N 7'!I25+'Հավելված N 7'!I35 -> -129003.2
C23: ՀՀ Արմավիրի մարզի Գետաշեն համայնքում «Մոդուլային» տիպի 144 տեղ հզորությամբ մսուր-մանկապարտեզ | D23: =+E23+F23+G23+H23 -> -80023.2 | E23: =+'Հավելված N 7'!I20+'Հավելված N 7'!I31+'Հավելված N 7'!I41 -> -80023.2
C24: ՀՀ Արմավիրի մարզի Լենուղի համայնքում «Մոդուլային» տիպի 144 տեղ հզորությամբ մսուր-մանկապարտեզ | D24: =+E24+F24+G24+H24 -> -80023.2 | E24: =+'Հավելված N 7'!I21+'Հավելված N 7'!I32+'Հավելված N 7'!I42 -> -80023.2
C25: ՀՀ Գեղարքունիքի մարզ | D25: =SUM(E25:H25) -> -3639 | E25: =+E26 -> -3639 | F25: =+F26 -> 0 | G25: =+G26 -> 0 | H25: =+H26 -> 0
C26: ՀՀ Գեղարքունիքի մարզի Աստղաձոր համայնքում «Մոդուլային» տիպի 144 տեղ հզորությամբ մսուր-մանկապարտեզ | D26: =+E26+F26+G26+H26 -> -3639 | E26: =+'Հավելված N 7'!I26+'Հավելված N 7'!I36 -> -3639
C27: ՀՀ Լոռու մարզ | D27: =SUM(E27:H27) -> -107453.5 | E27: =+E28+E29 -> -107453.5 | F27: =+F29 -> 0 | G27: =+G29 -> 0 | H27: =+H29 -> 0
C28: ՀՀ Լոռու մարզի Սպիտակ համայնքում «Մոդուլային» տիպի 144 տեղ հզորությամբ մսուր-մանկապարտեզ | D28: =+E28+F28+G28+H28 -> -2853.5 | E28: =+'Հավելված N 7'!I27+'Հավելված N 7'!I37 -> -2853.5
C29: ՀՀ Լոռու մարզի Գոգարան համայնքում «Մոդուլային» տիպի 144 տեղ հզորությամբ մսուր-մանկապարտեզ | D29: =+E29+F29+G29+H29 -> -104600 | E29: =+'Հավելված N 7'!I14+'Հավելված N 7'!I29+'Հավելված N 7'!I39 -> -104600
C30: ՀՀ Կոտայքի մարզ | D30: =SUM(E30:H30) -> -164986.1 | E30: =+E31+E32 -> -160046.1 | F30: =+F31+F32 -> 0 | G30: =+G31+G32 -> -4940 | H30: =+H31+H32 -> 0
C31: ՀՀ Կոտայքի մարզի Հրազդան համայնքում «Մոդուլային» տիպի 144 տեղ հզորությամբ մսուր-մանկապարտեզ | D31: =+E31+F31+G31+H31 -> -160046.1 | E31: =+'Հավելված N 7'!I18+'Հավելված N 7'!I28+'Հավելված N 7'!I38 -> -160046.1
C32: ՀՀ Կոտայքի մարզի Չարենցավան համայնքի Ֆանտան բնակավայրում «Մոդուլային» տիպի 144 տեղ հզորությամբ մսուր-մանկապարտեզ | D32: =+E32+F32+G32+H32 -> -4940 | G32: =+'Հավելված N 7'!I44+'Հավելված N 7'!I46 -> -4940
C33: ՀՀ Սյունիքի մարզ | D33: =SUM(E33:H33) -> -4940 | E33: =+E34 -> 0 | F33: =+F34 -> 0 | G33: =+G34 -> -4940 | H33: =+H34 -> 0
C34: ՀՀ Սյունիքի մարզի Սիսիան համայնքում «Մոդուլային» տիպի 144 տեղ հզորությամբ մսուր-մանկապարտեզ | D34: =+E34+F34+G34+H34 -> -4940 | G34: =+'Հավելված N 7'!I43+'Հավելված N 7'!I45 -> -4940
C35: ՀՀ Տավուշի մարզ | D35: =SUM(E35:H35) -> -150533.9 | E35: =+E36 -> -150533.9 | F35: =+F36 -> 0 | G35: =+G36 -> 0 | H35: =+H36 -> 0
C36: ՀՀ Տավուշի մարզի Այրում համայնքի Բագրատաշեն բնակավայրում «Մոդուլային» տիպի 144 տեղ հզորությամբ մսուր-մանկապարտեզ | D36: =+E36+F36+G36+H36 -> -150533.9 | E36: =+'Հավելված N 7'!I19+'Հավելված N 7'!I30+'Հավելված N 7'!I40 -> -150533.9
A37: 1183 | B37: 32003 | C37: Փոքրաքանակ երեխաներով համալրված հանրակրթական դպրոցների մոդուլային շենքերի կառուցում | D37: =+E37+F37+G37+H37 -> -4636411.8 | E37: =+E39+E43+E45+E47+E52+E56+E60+E65+E70+E75 -> -4581611.8 | F37: =+F39+F43+F45+F47+F52+F56+F60+F65+F70+F75 -> 0 | G37: =+G39+G43+G45+G47+G52+G56+G60+G65+G70+G75 -> -54800 | H37: =+H39+H43+H45+H47+H52+H56+H60+H65+H70+H75 -> 0
C38: այդ թվում`
C39: ՀՀ Արագածոտնի մարզ | D39: =SUM(E39:H39) -> -372972.8 | E39: =+E40+E41+E42 -> -367972.8 | F39: =+F40+F41+F42 -> 0 | G39: =+G40+G41+G42 -> -5000 | H39: =+H40+H41+H42 -> 0
C40: «Գառնահովիտի միջնակարգ դպրոց» ՊՈԱԿ | D40: =SUM(E40:H40) -> -52206.2 | E40: =+'Հավելված N 7'!I49-1923.5-282.7 -> -52206.2
C41: «Լուսակնի միջնակարգ դպրոց» ՊՈԱԿ | D41: =SUM(E41:H41) -> -315766.6 | E41: =+'Հավելված N 7'!I50-13833.3-1933.3 -> -315766.6
C42: «Հացաշենի հիմնական դպրոց» ՊՈԱԿ | D42: =SUM(E42:H42) -> -5000 | G42: ='Հավելված N 7'!I80+'Հավելված N 7'!I91 -> -5000
C43: ՀՀ Արարատի մարզ | D43: =SUM(E43:H43) -> -5000 | E43: =+E44 -> 0 | F43: =+F44 -> 0 | G43: =+G44 -> -5000 | H43: =+H44 -> 0
C44: «Նիզամիի միջնակարգ դպրոց» ՊՈԱԿ | D44: =SUM(E44:H44) -> -5000 | G44: ='Հավելված N 7'!I81+'Հավելված N 7'!I92 -> -5000
C45: ՀՀ Արմավիրի մարզ | D45: =SUM(E45:H45) -> -5000 | E45: =+E46 -> 0 | F45: =+F46 -> 0 | G45: =+G46 -> -5000 | H45: =+H46 -> 0
C46: «Հայկաշենի Գ. Կիրակոսյանի անվան միջնակարգ դպրոց» ՊՈԱԿ | D46: =SUM(E46:H46) -> -5000 | G46: ='Հավելված N 7'!I82+'Հավելված N 7'!I93 -> -5000
C47: ՀՀ Գեղարքունիքի մարզ | D47: =SUM(E47:H47) -> -846048.8 | E47: =+E48+E49+E50+E51 -> -841048.8 | F47: =+F48+F49+F50+F51 -> 0 | G47: =+G48+G49+G50+G51 -> -5000 | H47: =+H48+H49+H50+H51 -> 0
C48: «Լեռնահովիտ գյուղի Վ. Բարեղամյանի անվան հիմնական դպրոց» ՊՈԱԿ | D48: =+E48+F48+G48+H48 -> -104927.1 | E48: =+'Հավելված N 7'!I51-4322.9-604.2 -> -104927.1
C49: «Շատջրեք գյուղի միջնակարգ դպրոց» ՊՈԱԿ | D49: =+E49+F49+G49+H49 -> -330711.2 | E49: =+'Հավելված N 7'!I52-13755.6-1955.6 -> -330711.2
C50: «Ջիլի միջնակարգ դպրոց» ՊՈԱԿ | D50: =+E50+F50+G50+H50 -> -405410.5 | E50: =+'Հավելված N 7'!I53-13185.7-2109.7 -> -405410.5
C51: «Արփունք գյուղի միջնակարգ դպրոց» ՊՈԱԿ | D51: =+E51+F51+G51+H51 -> -5000 | G51: ='Հավելված N 7'!I83+'Հավելված N 7'!I94 -> -5000
C52: ՀՀ Լոռու մարզ | D52: =SUM(E52:H52) -> -314738.5 | E52: =+E53+E54+E55 -> -309738.5 | F52: =+F53+F54+F55 -> 0 | G52: =+G53+G54+G55 -> -5000 | H52: =+H54+H55 -> 0
C53: «Հագվու հիմնական դպրոց» ՊՈԱԿ | D53: =SUM(E53:H53) -> -73258.6 | E53: =+'Հավելված N 7'!I54-2829.1-429.5 -> -73258.6
C54: «Մեդովկայի միջնակարգ դպրոց» ՊՈԱԿ | D54: =SUM(E54:H54) -> -236479.9 | E54: =+'Հավելված N 7'!I55-8483.8-1308.3 -> -236479.9
C55: «Բլագոդարնոյեի հիմնական դպրոց» ՊՈԱԿ | D55: =+E55+F55+G55+H55 -> -5000 | G55: ='Հավելված N 7'!I84+'Հավելված N 7'!I95 -> -5000
C56: ՀՀ Կոտայքի մարզ | D56: =SUM(E56:H56) -> -214056.8 | E56: =+E57+E58+E59 -> -209056.8 | F56: =+F57+F58+F59 -> 0 | G56: =+G57+G58+G59 -> -5000 | H56: =+H57+H58+H59 -> 0
C57: «Ջրառատի միջնակարգ դպրոց» ՊՈԱԿ | D57: =SUM(E57:H57) -> -104327.9 | E57: =+'Հավելված N 7'!I56-3708.3-619.6 -> -104327.9
C58: «Կաթնաղբյուրի հիմնական դպրոց» ՊՈԱԿ | D58: =SUM(E58:H58) -> -104728.9 | E58: =+'Հավելված N 7'!I57-4078-650.9 -> -104728.9
C59: «Նուռնուսի միջնակարգ դպրոց» ՊՈԱԿ | D59: =SUM(E59:H59) -> -5000 | G59: ='Հավելված N 7'!I85+'Հավելված N 7'!I96 -> -5000
C60: ՀՀ Շիրակի մարզ | D60: =SUM(E60:H60) -> -927101.2 | E60: =+E61+E62+E63+E64 -> -922101.2 | F60: =+F61+F62+F63+F64 -> 0 | G60: =+G61+G62+G63+G64 -> -5000 | H60: =+H61+H62+H63+H64 -> 0
C61: «Բերդաշենի միջնակարգ դպրոց» ՊՈԱԿ | D61: =SUM(E61:H61) -> -339337.7 | E61: =+'Հավելված N 7'!I58-14145.1-1886 -> -339337.7
C62: «Արեգնադեմի միջնակարգ դպրոց» ՊՈԱԿ | D62: =SUM(E62:H62) -> -441022.3 | E62: =+'Հավելված N 7'!I59-18520.9-2469.5 -> -441022.3
C63: «Կապսի միջնակարգ դպրոց» ՊՈԱԿ | D63: =SUM(E63:H63) -> -141741.2 | E63: =+'Հավելված N 7'!I67-5936.5-804.7 -> -141741.2
C64: «Հովունիի միջնակարգ դպրոց» ՊՈԱԿ | D64: =SUM(E64:H64) -> -5000 | G64: ='Հավելված N 7'!I86+'Հավելված N 7'!I97 -> -5000
C65: ՀՀ Սյունիքի մարզ | D65: =SUM(E65:H65) -> -955713.7 | E65: =+E66+E67+E68+E69 -> -950913.7 | F65: =+F66+F67+F68+F69 -> 0 | G65: =+G66+G67+G68+G69 -> -4800 | H65: =+H66+H67+H68+H69 -> 0
C66: «Հարժիսի Համլետ Մինասյանի անվան միջնակարգ դպրոց» ՊՈԱԿ | D66: =SUM(E66:H66) -> -446392.7 | E66: =+'Հավելված N 7'!I60-15123.7-2765.5 -> -446392.7
C67: «Վաղատինի միջնակարգ դպրոց» ՊՈԱԿ | D67: =SUM(E67:H67) -> -311675.4 | E67: =+'Հավելված N 7'!I61-9752.7-1922.7 -> -311675.4
C68: «Դարբասի միջնակարգ դպրոց» ՊՈԱԿ | D68: =SUM(E68:H68) -> -192845.6 | E68: =+'Հավելված N 7'!I62-6618.2-1227.4 -> -192845.6
C69: «Եղվարդի միջնակարգ դպրոց» ՊՈԱԿ | D69: =SUM(E69:H69) -> -4800 | G69: =+'Հավելված N 7'!I79+'Հավելված N 7'!I90 -> -4800
C70: ՀՀ Վայոց Ձորի մարզ | D70: =SUM(E70:H70) -> -629252.6 | E70: =+E71+E72+E73+E74 -> -624252.6 | F70: =+F71+F72+F73+F74 -> 0 | G70: =+G71+G72+G73+G74 -> -5000 | H70: =+H71+H72+H73+H74 -> 0
C71: «Եղեգիսի միջնակարգ դպրոց» ՊՈԱԿ | D71: =+E71+F71+G71+H71 -> -157108 | E71: =+'Հավելված N 7'!I63-6174.3-933.7 -> -157108
C72: «Գոմքի միջնակարգ դպրոց» ՊՈԱԿ | D72: =+E72+F72+G72+H72 -> -239751 | E72: =+'Հավելված N 7'!I65-10907.6-1492.4 -> -239751
C73: «Չիվայի միջնակարգ դպրոց» ՊՈԱԿ | D73: =SUM(E73:H73) -> -227393.6 | E73: =+'Հավելված N 7'!I64-9206.1-1361.5 -> -227393.6
C74: «Գողթանիկի հիմնական դպրոց» ՊՈԱԿ | D74: =SUM(E74:H74) -> -5000 | G74: ='Հավելված N 7'!I87+'Հավելված N 7'!I98 -> -5000
C75: ՀՀ Տավուշի մարզ | D75: =SUM(E75:H75) -> -366527.4 | E75: =+E76+E77+E78+E79 -> -356527.4 | F75: =+F76+F77+F78+F79 -> 0 | G75: =+G76+G77+G78+G79 -> -10000 | H75: =+H76+H77+H78+H79 -> 0
C76: «Կիրանցի Գ.Վարդանյանի անվ. հիմնական դպրոց» ՊՈԱԿ | D76: =SUM(E76:H76) -> -298292.7 | E76: =+'Հավելված N 7'!I66-3551.6-1741.1 -> -298292.7
C77: «Դովեղի միջնակարգ դպրոց» ՊՈԱԿ | D77: =SUM(E77:H77) -> -58234.7 | E77: =+'Հավելված N 7'!I68-631.3-378.8 -> -58234.7
C78: «Գոշի միջնակարգ դպրոց» ՊՈԱԿ | D78: =SUM(E78:H78) -> -5000 | G78: ='Հավելված N 7'!I88+'Հավելված N 7'!I99 -> -5000
C79: «Նավուրի միջնակարգ դպրոց» ՊՈԱԿ | D79: =SUM(E79:H79) -> -5000 | G79: ='Հավելված N 7'!I89+'Հավելված N 7'!I100 -> -5000

Sheet Հավելված N 4
D1: Հավելված N 4
D2: ՀՀ կառավարության 2022 թվականի
D3: ______________ ի ___Ն որոշման
B5: ՀԱՅԱՍՏԱՆԻ ՀԱՆՐԱՊԵՏՈՒԹՅԱՆ ԿԱՌԱՎԱՐՈՒԹՅԱՆ 2021 ԹՎԱԿԱՆԻ ԴԵԿՏԵՄԲԵՐԻ 23-Ի N 2121-Ն ՈՐՈՇՄԱՆ N 5 ՀԱՎԵԼՎԱԾԻ N 2 ԱՂՅՈՒՍԱԿՈՒՄ ԿԱՏԱՐՎՈՂ ՓՈՓՈԽՈՒԹՅՈՒՆՆԵՐԸ ԵՎ ԼՐԱՑՈՒՄՆԵՐԸ
E8: հազ. դրամներով
B9: Ծրագրային դասիչ | D9: Բյուջետային գլխավոր կարգադրիչների, ծրագրերի, միջոցառումների, միջոցառումները կատարող պետական մարմինների և ուղղությունների անվանումները | E9: Ցուցանիշների փոփոխությունը (ավելացումները նշված են դրական նշանով, իսկ նվազեցումները՝ փակագծերում)
B10: Ծրագիր | C10: Միջոցառում | E10: Տարի
D12: ՀՀ ԿՐԹՈՒԹՅԱՆ, ԳԻՏՈՒԹՅԱՆ, ՄՇԱԿՈՒՅԹԻ ԵՎ ՍՊՈՐՏԻ ՆԱԽԱՐԱՐՈՒԹՅՈՒՆ | E12: =+E14+E38 -> -5646154.5
D13: այդ թվում՝
B14: 1146 | C14: 12010 | D14: «Մոդուլային» տիպի մանկապարտեզների շենքային ապահովում | E14: =+E16 -> -1009742.7
D15: այդ թվում` ըստ կատարողների
D16: ՀՀ քաղաքաշինության կոմիտե | E16: =+E18+E20+E22+E26+E28+E31+E34+E36 -> -1009742.7
D17: այդ թվում` ըստ ուղղությունների
D18: ՀՀ Արագածոտնի մարզ | E18: =+E19 -> -129094.5
D19: ՀՀ Արագածոտնի մարզի Ալագյազ համայնքում «Մոդուլային» տիպի 144 տեղ հզորությամբ մսուր-մանկապարտեզ | E19: =+'Հավելված N 3'!D18 -> -129094.5
D20: ՀՀ Արարատի մարզ | E20: =+E21 -> -160046.1
D21: ՀՀ Արարատի մարզի Արալեզ համայնքում «Մոդուլային» տիպի 144 տեղ հզորությամբ մսուր-մանկապարտեզ | E21: =+'Հավելված N 3'!D20 -> -160046.1
D22: ՀՀ Արմավիրի մարզ | E22: =+E23+E24+E25 -> -289049.6
D23: ՀՀ Արմավիրի մարզի Այգևան համայնքում «Մոդուլային» տիպի 144 տեղ հզորությամբ մսուր-մանկապարտեզ | E23: =+'Հավելված N 3'!D22 -> -129003.2
D24: ՀՀ Արմավիրի մարզի Գետաշեն համայնքում «Մոդուլային» տիպի 144 տեղ հզորությամբ մսուր-մանկապարտեզ | E24: =+'Հավելված N 3'!D23 -> -80023.2
D25: ՀՀ Արմավիրի մարզի Լենուղի համայնքում «Մոդուլային» տիպի 144 տեղ հզորությամբ մսուր-մանկապարտեզ | E25: =+'Հավելված N 3'!D24 -> -80023.2
D26: ՀՀ Գեղարքունիքի մարզ | E26: =+E27 -> -3639
D27: ՀՀ Գեղարքունիքի մարզի Աստղաձոր համայնքում «Մոդուլային» տիպի 144 տեղ հզորությամբ մսուր-մանկապարտեզ | E27: =+'Հավելված N 3'!D26 -> -3639
D28: ՀՀ Լոռու մարզ | E28: =+E29+E30 -> -107453.5
D29: ՀՀ Լոռու մարզի Սպիտակ համայնքում «Մոդուլային» տիպի 144 տեղ հզորությամբ մսուր-մանկապարտեզ | E29: =+'Հավելված N 3'!D28 -> -2853.5
D30: ՀՀ Լոռու մարզի Գոգարան համայնքում «Մոդուլային» տիպի 144 տեղ հզորությամբ մսուր-մանկապարտեզ | E30: =+'Հավելված N 3'!D29 -> -104600
D31: ՀՀ Կոտայքի մարզ | E31: =+E32+E33 -> -164986.1
D32: ՀՀ Կոտայքի մարզի Հրազդան համայնքում «Մոդուլային» տիպի 144 տեղ հզորությամբ մսուր-մանկապարտեզ | E32: =+'Հավելված N 3'!D31 -> -160046.1
D33: ՀՀ Կոտայքի մարզի Չարենցավան համայնքի Ֆանտան բնակավայրում «Մոդուլային» տիպի 144 տեղ հզորությամբ մսուր-մանկապարտեզ | E33: =+'Հավելված N 3'!D32 -> -4940
D34: ՀՀ Սյունիքի մարզ | E34: =+E35 -> -4940
D35: ՀՀ Սյունիքի մարզի Սիսիան համայնքում «Մոդուլային» տիպի 144 տեղ հզորությամբ մսուր-մանկապարտեզ | E35: =+'Հավելված N 3'!D34 -> -4940
D36: ՀՀ Տավուշի մարզ | E36: =+E37 -> -150533.9
D37: ՀՀ Տավուշի մարզի Այրում համայնքի Բագրատաշեն բնակավայրում «Մոդուլային» տիպի 144 տեղ հզորությամբ մսուր-մանկապարտեզ | E37: =+'Հավելված N 3'!D36 -> -150533.9
B38: 1183 | C38: 32003 | D38: Փոքրաքանակ երեխաներով համալրված հանրակրթական դպրոցների մոդուլային շենքերի կառուցում | E38: =+E40 -> -4636411.8
D39: այդ թվում` ըստ կատարողների
D40: ՀՀ քաղաքաշինության կոմիտե | E40: =+E42+E46+E48+E50+E55+E59+E63+E68+E73+E78 -> -4636411.8
D41: այդ թվում` ըստ ուղղությունների
D42: ՀՀ Արագածոտնի մարզ | E42: =+E43+E44+E45 -> -372972.8
D43: «Գառնահովիտի միջնակարգ դպրոց» ՊՈԱԿ | E43: =+'Հավելված N 3'!D40 -> -52206.2
D44: «Լուսակնի միջնակարգ դպրոց» ՊՈԱԿ | E44: =+'Հավելված N 3'!D41 -> -315766.6
D45: «Հացաշենի հիմնական դպրոց» ՊՈԱԿ | E45: =+'Հավելված N 3'!D42 -> -5000
D46: ՀՀ Արարատի մարզ | E46: =+E47 -> -5000
D47: «Նիզամիի միջնակարգ դպրոց» ՊՈԱԿ | E47: =+'Հավելված N 3'!D44 -> -5000
D48: ՀՀ Արմավիրի մարզ | E48: =+E49 -> -5000
D49: «Հայկաշենի Գ. Կիրակոսյանի անվան միջնակարգ դպրոց» ՊՈԱԿ | E49: =+'Հավելված N 3'!D46 -> -5000
D50: ՀՀ Գեղարքունիքի մարզ | E50: =+E51+E52+E53+E54 -> -846048.8
D51: «Լեռնահովիտ գյուղի Վ. Բարեղամյանի անվան հիմնական դպրոց» ՊՈԱԿ | E51: =+'Հավելված N 3'!D48 -> -104927.1
D52: «Շատջրեք գյուղի միջնակարգ դպրոց» ՊՈԱԿ | E52: =+'Հավելված N 3'!D49 -> -330711.2
D53: «Ջիլի միջնակարգ դպրոց» ՊՈԱԿ | E53: =+'Հավելված N 3'!D50 -> -405410.5
D54: «Արփունք գյուղի միջնակարգ դպրոց» ՊՈԱԿ | E54: =+'Հավելված N 3'!D51 -> -5000
D55: ՀՀ Լոռու մարզ | E55: =+E56+E57+E58 -> -314738.5
D56: «Հագվու հիմնական դպրոց» ՊՈԱԿ | E56: =+'Հավելված N 3'!D53 -> -73258.6
D57: «Մեդովկայի միջնակարգ դպրոց» ՊՈԱԿ | E57: =+'Հավելված N 3'!D54 -> -236479.9
D58: «Բլագոդարնոյեի հիմնական դպրոց» ՊՈԱԿ | E58: =+'Հավելված N 3'!D55 -> -5000
D59: ՀՀ Կոտայքի մարզ | E59: =+E60+E61+E62 -> -214056.8
D60: «Ջրառատի միջնակարգ դպրոց» ՊՈԱԿ | E60: =+'Հավելված N 3'!D57 -> -104327.9
D61: «Կաթնաղբյուրի հիմնական դպրոց» ՊՈԱԿ | E61: =+'Հավելված N 3'!D58 -> -104728.9
D62: «Նուռնուսի միջնակարգ դպրոց» ՊՈԱԿ | E62: =+'Հավելված N 3'!D59 -> -5000
D63: ՀՀ Շիրակի մարզ | E63: =+E64+E65+E66+E67 -> -927101.2
D64: «Բերդաշենի միջնակարգ դպրոց» ՊՈԱԿ | E64: =+'Հավելված N 3'!D61 -> -339337.7
D65: «Արեգնադեմի միջնակարգ դպրոց» ՊՈԱԿ | E65: =+'Հավելված N 3'!D62 -> -441022.3
D66: «Կապսի միջնակարգ դպրոց» ՊՈԱԿ | E66: =+'Հավելված N 3'!D63 -> -141741.2
D67: «Հովունիի միջնակարգ դպրոց» ՊՈԱԿ | E67: =+'Հավելված N 3'!D64 -> -5000
D68: ՀՀ Սյունիքի մարզ | E68: =+E69+E70+E71+E72 -> -955713.7
D69: «Հարժիսի Համլետ Մինասյանի անվան միջնակարգ դպրոց» ՊՈԱԿ | E69: =+'Հավելված N 3'!D66 -> -446392.7
D70: «Վաղատինի միջնակարգ դպրոց» ՊՈԱԿ | E70: =+'Հավելված N 3'!D67 -> -311675.4
D71: «Դարբասի միջնակարգ դպրոց» ՊՈԱԿ | E71: =+'Հավելված N 3'!D68 -> -192845.6
D72: «Եղվարդի միջնակարգ դպրոց» ՊՈԱԿ | E72: =+'Հավելված N 3'!D69 -> -4800
D73: ՀՀ Վայոց Ձորի մարզ | E73: =+E74+E75+E76+E77 -> -629252.6
D74: «Եղեգիսի միջնակարգ դպրոց» ՊՈԱԿ | E74: =+'Հավելված N 3'!D71 -> -157108
D75: «Գոմքի միջնակարգ դպրոց» ՊՈԱԿ | E75: =+'Հավելված N 3'!D72 -> -239751
D76: «Չիվայի միջնակարգ դպրոց» ՊՈԱԿ | E76: =+'Հավելված N 3'!D73 -> -227393.6
D77: «Գողթանիկի հիմնական դպրոց» ՊՈԱԿ | E77: =+'Հավելված N 3'!D74 -> -5000
D78: ՀՀ Տավուշի մարզ | E78: =+E79+E80+E81+E82 -> -366527.4
D79: «Կիրանցի Գ.Վարդանյանի անվ. հիմնական դպրոց» ՊՈԱԿ | E79: =+'Հավելված N 3'!D76 -> -298292.7
D80: «Դովեղի միջնակարգ դպրոց» ՊՈԱԿ | E80: =+'Հավելված N 3'!D77 -> -58234.7
D81: «Գոշի միջնակարգ դպրոց» ՊՈԱԿ | E81: =+'Հավելված N 3'!D78 -> -5000
D82: «Նավուրի միջնակարգ դպրոց» ՊՈԱԿ | E82: =+'Հավելված N 3'!D79 -> -5000

Sheet Հավելված N 5
C1: Հավելված N 5
C2: ՀՀ կառավարության 2022 թվականի
C3: ______________ ի ___Ն որոշման
B5: ՀԱՅԱՍՏԱՆԻ ՀԱՆՐԱՊԵՏՈՒԹՅԱՆ ԿԱՌԱՎԱՐՈՒԹՅԱՆ 2021 ԹՎԱԿԱՆԻ ԴԵԿՏԵՄԲԵՐԻ 23-Ի N 2121-Ն ՈՐՈՇՄԱՆ N 9 ՀԱՎԵԼՎԱԾԻ N 9.13 ԵՎ 9.47 ԱՂՅՈՒՍԱԿՆԵՐՈՒՄ ԿԱՏԱՐՎՈՂ ՓՈՓՈԽՈՒԹՅՈՒՆՆԵՐԸ ԵՎ ԼՐԱՑՈՒՄՆԵՐԸ
A7: Աղյուսակ 9․13
C8: ՀՀ կրթության, գիտության, մշակույթի և սպորտի նախարարություն
B9: ՄԱՍ 2. ՊԵՏԱԿԱՆ ՄԱՐՄՆԻ ԳԾՈՎ ԱՐԴՅՈՒՆՔԱՅԻՆ (ԿԱՏԱՐՈՂԱԿԱՆ) ՑՈՒՑԱՆԻՇՆԵՐԸ
B12: Ծրագրի դասիչը | C12: Ծրագրի անվանումը
B13: 1146 | C13: Հանրակրթության ծրագիր
B15: Ծրագրի միջոցառումները
B16: Ծրագրի դասիչը՝ | C16: 1146 | D16: Ցուցանիշների փոփոխությունը (նվազեցումները նշված են փակագծերում)
B17: Միջոցառման դասիչը՝ | C17: 11006 | D17: Տարի
B18: Միջոցառման անվանումը` | C18: Միջնակարգ հատուկ հանրակրթություն
B19: Նկարագրությունը` | C19: Պարտադիր կրթության երրորդ մակարդակում սովորողների ընդգրկվածության՛ գրագիտության և համակողմանի զարգացման բարձր մակարդակի ապահովում
B20: Միջոցառման տեսակը` | C20: Ծառայությունների մատուցում
B21: Ծառայությունը մատուցող կազմակերպության(ների) անվանում(ներ)ը՛ | C21: ՀՀ ԿԳՄՍՆ ենթակայության հատուկ կրթություն իրականացնող ուսումնական հաստատություններ
B22: Արդյունքի չափորոշիչներ
B23: Սովորողների միջին տարեկան թիվը /մարդ /, որից՛ | D23: -18
B24: տղա | D24: -12
B25: աղջիկ | D25: -6
B26: Միջոցառման վրա կատարվող ծախսը (հազար դրամ) | D26: =+'Հավելված N 1'!D23 -> -25501.6
B28: Ծրագրի միջոցառումները
B29: Ծրագրի դասիչը՝ | C29: 1146 | D29: Ցուցանիշների փոփոխությունը (ավելացումները նշված են դրական նշանով, իսկ նվազեցումները փակագծերում)
B30: Միջոցառման դասիչը` | C30: 11012 | D30: Տարի
B31: Միջոցառման անվանումը` | C31: Միջնակարգ մասնագիտացված հանրակրթություն
B32: Նկարագրությունը` | C32: Միջնակարգ կրթության մակարդակում մասնագիտացված հանրակրթական ծառայությունների մատուցման միջոցով սովորողների ընդգրկվածության , համակողմանի զարգացման և գրագիտության ապահովում
B33: Միջոցառման տեսակը` | C33: Ծառայությունների մատուցում
B34: Ծառայությունը մատուցող կազմակերպության(ների) անվանում(ներ)ը՛ | C34: ՀՀ կրթության, գիտության, մշակույթի և սպորտի նախարարության, ՀՀ պաշտպանության նախարարության ենթակայության մասնագիտացված հանրակրթական կրթություն իրականացնող ուսումնական հաստատություններ
B35: Արդյունքի չափորոշիչներ
B36: Սովորողների միջին տարեկան թիվը /մարդ /, որից՛ | D36: -479
B37: Միջոցառման վրա կատարվող ծախսը (հազար դրամ) | D37: =+'Հավելված N 1'!D29 -> -260030.2
B39: Ծրագրի միջոցառումները
B40: Ծրագրի դասիչը՝ | C40: 1146 | D40: Ցուցանիշների փոփոխությունը (նվազեցումները նշված են փակագծերում)
B41: Միջոցառման դասիչը՝ | C41: 12010 | D41: Տարի
B42: Միջոցառման անվանումը` | C42: «Մոդուլային» տիպի մանկապարտեզների շենքային ապահովում
B43: Նկարագրությունը` | C43: Համայնքներում «Մոդուլային» տիպի մանկապարտեզների կառուցում և նախագծում
B44: Միջոցառման տեսակը` | C44: Տրանսֆերտների տրամադրում
B45: Շահառուների ընտրության չափանիշները | C45: Նախադպրոցական կրթությույն իրականացնող ուսումնական հաստատություններ
B46: Արդյունքի չափորոշիչներ
B47: Նախագծանախահաշվային փաստաթղթերի քանակ, հատ | D47: -2
B48: Կառուցվող օբյեկտների քանակ, հատ | D48: -6
B49: Միջոցառման վրա կատարվող ծախսը (հազար դրամ) | D49: =+'Հավելված N 1'!D35 -> -1009742.7
B51: Ծրագրի դասիչը | C51: Ծրագրի անվանումը
B52: 1183 | C52: Ապահով դպրոց
B54: Ծրագրի միջոցառումները
B55: Ծրագրի դասիչը` | C55: 1183 | D55: Ցուցանիշների փոփոխությունը (նվազեցումները նշված են փակագծերում)
B56: Միջոցառման դասիչը` | C56: 32003 | D56: Տարի
B57: Միջոցառման անվանումը` | C57: Փոքրաքանակ երեխաներով համալրված հանրակրթական դպրոցների մոդուլային շենքերի կառուցում
B58: Նկարագրությունը` | C58: Կրթական հաստատությունների կառուցում համայնքային կենտրոնների մոդելով
B59: Միջոցառման տեսակը` | C59: Այլ պետական կազմակերպությունների կողմից օգտագործվող ոչ ֆինանսական ակտիվների հետ գործառնություններ
B60: Ակտիվն օգտագործող կազմակերպությունների անվանումները | C60: Փոքրաքանակ երեխաներով համալրված հանրակրթական դպրոցներ
B61: Արդյունքի չափորոշիչներ
B62: Հաստատությունների քանակ, որոնց շինարարական աշխատանքների ավարտվածության աստիճանը 100% է, հատ | D62: -10
B63: Միջոցառման վրա կատարվող ծախսը (հազար դրամ) | D63: =+'Հավելված N 1'!D48 -> -4636411.8
A67: Աղյուսակ 9․47
C68: ՀՀ կառավարություն
B69: ՄԱՍ 2. ՊԵՏԱԿԱՆ ՄԱՐՄՆԻ ԳԾՈՎ ԱՐԴՅՈՒՆՔԱՅԻՆ (ԿԱՏԱՐՈՂԱԿԱՆ) ՑՈՒՑԱՆԻՇՆԵՐԸ
B72: Ծրագրի դասիչը | C72: Ծրագրի անվանումը
B73: 1139 | C73: ՀՀ կառավարության պահուստային ֆոնդ
B75: Ծրագրի միջոցառումները
B76: Ծրագրի դասիչը՝ | C76: 1139 | D76: Ցուցանիշների փոփոխությունը (ավելացումները նշված են դրական նշանով)
B77: Միջոցառման դասիչը՝ | C77: 11001 | D77: Տարի
B78: Միջոցառման անվանումը՝ | C78: ՀՀ կառավարության պահուստային ֆոնդ
B79: Նկարագրությունը՝ | C79: ՀՀ պետական բյուջեում նախատեսված ելքերի լրացուցիչ ֆինանսավորման՝ պետական բյուջեում չկանխատեսված ելքերի, ինչպես նաև բյուջետային երաշխիքների ապահովման ելքերի ֆինանսավորման ապահովում
B80: Միջոցառման տեսակը՝ | C80: Ծառայությունների մատուցում
B81: Միջոցառումն իրականացնողի անվանումը | C81: ՀՀ կառավարություն
C82: Արդյունքի չափորոշիչներ
B83: Միջոցառման վրա կատարվող ծախսը (հազար դրամ) | D83: =+'Հավելված N 1'!D62 -> 5931686.3

Sheet Հավելված N 6
C1: Հավելված N 6
C2: ՀՀ կառավարության 2022 թվականի
C3: ______________ ի ___Ն որոշման
B5: ՀԱՅԱՍՏԱՆԻ ՀԱՆՐԱՊԵՏՈՒԹՅԱՆ ԿԱՌԱՎԱՐՈՒԹՅԱՆ 2021 ԹՎԱԿԱՆԻ ԴԵԿՏԵՄԲԵՐԻ 23-Ի N 2121-Ն ՈՐՈՇՄԱՆ N 9.1 ՀԱՎԵԼՎԱԾԻ N 9.1.14, 9.1.42 ԵՎ 9․1.59 ԱՂՅՈՒՍԱԿՆԵՐՈՒՄ ԿԱՏԱՐՎՈՂ ՓՈՓՈԽՈՒԹՅՈՒՆՆԵՐԸ ԵՎ ԼՐԱՑՈՒՄՆԵՐԸ
A7: Աղյուսակ 9․1.14
C8: ՀՀ կրթության, գիտության, մշակույթի և սպորտի նախարարություն
B9: ՄԱՍ 1. ՊԵՏԱԿԱՆ ՄԱՐՄՆԻ ԳԾՈՎ ԱՐԴՅՈՒՆՔԱՅԻՆ (ԿԱՏԱՐՈՂԱԿԱՆ) ՑՈՒՑԱՆԻՇՆԵՐԸ
B12: Ծրագրի դասիչը | C12: Ծրագրի անվանումը
B13: 1146 | C13: Հանրակրթության ծրագիր
B15: Ծրագրի միջոցառումները
B16: Ծրագրի դասիչը՝ | C16: 1146 | D16: Ցուցանիշների փոփոխությունը (նվազեցումները նշված են փակագծերում)
B17: Միջոցառման դասիչը՝ | C17: 11006 | D17: Տարի
B18: Միջոցառման անվանումը` | C18: Միջնակարգ հատուկ հանրակրթություն
B19: Նկարագրությունը` | C19: Պարտադիր կրթության երրորդ մակարդակում սովորողների ընդգրկվածության՛ գրագիտության և համակողմանի զարգացման բարձր մակարդակի ապահովում
B20: Միջոցառման տեսակը` | C20: Ծառայությունների մատուցում
B21: Ծառայությունը մատուցող կազմակերպության(ների) անվանում(ներ)ը՛ | C21: ՀՀ ԿԳՄՍՆ ենթակայության հատուկ կրթություն իրականացնող ուսումնական հաստատություններ
B22: Արդյունքի չափորոշիչներ
B23: Սովորողների միջին տարեկան թիվը /մարդ /, որից՛ | D23: -18
B24: տղա | D24: -12
B25: աղջիկ | D25: -6
B26: Միջոցառման վրա կատարվող ծախսը (հազար դրամ) | D26: =+'Հավելված N 2'!G25 -> -25501.6
B28: Ծրագրի միջոցառումները
B29: Ծրագրի դասիչը՝ | C29: 1146 | D29: Ցուցանիշների փոփոխությունը (ավելացումները նշված են դրական նշանով, իսկ նվազեցումները փակագծերում)
B30: Միջոցառման դասիչը` | C30: 11012 | D30: Տարի
B31: Միջոցառման անվանումը` | C31: Միջնակարգ մասնագիտացված հանրակրթություն
B32: Նկարագրությունը` | C32: Միջնակարգ կրթության մակարդակում մասնագիտացված հանրակրթական ծառայությունների մատուցման միջոցով սովորողների ընդգրկվածության , համակողմանի զարգացման և գրագիտության ապահովում
B33: Միջոցառման տեսակը` | C33: Ծառայությունների մատուցում
B34: Ծառայությունը մատուցող կազմակերպության(ների) անվանում(ներ)ը՛ | C34: ՀՀ ԿԳՄՍՆ ենթակայության մասնագիտացված հանրակրթական ուսումնական հաստատություններ
B35: Արդյունքի չափորոշիչներ
B36: Սովորողների միջին տարեկան թիվը /մարդ /, որից՛ | D36: -479
B37: Միջոցառման վրա կատարվող ծախսը (հազար դրամ) | D37: =+'Հավելված N 2'!G34 -> -260030.2
D42: Աղյուսակ 9․1.42
C43: ՀՀ քաղաքաինության կոմիտե
B44: ՄԱՍ 1. ՊԵՏԱԿԱՆ ՄԱՐՄՆԻ ԳԾՈՎ ԱՐԴՅՈՒՆՔԱՅԻՆ (ԿԱՏԱՐՈՂԱԿԱՆ) ՑՈՒՑԱՆԻՇՆԵՐԸ
B47: Ծրագրի դասիչը | C47: Ծրագրի անվանումը
B48: 1146 | C48: Հանրակրթության ծրագիր
B50: Ծրագրի միջոցառումները
B51: Ծրագրի դասիչը՝ | C51: 1146 | D51: Ցուցանիշների փոփոխությունը (նվազեցումները նշված են փակագծերում)
B52: Միջոցառման դասիչը՝ | C52: 12010 | D52: Տարի
B53: Միջոցառման անվանումը` | C53: «Մոդուլային» տիպի մանկապարտեզների շենքային ապահովում
B54: Նկարագրությունը` | C54: Համայնքներում «Մոդուլային» տիպի մանկապարտեզների կառուցում և նախագծում
B55: Միջոցառման տեսակը` | C55: Տրանսֆերտների տրամադրում
B56: Շահառուների ընտրության չափանիշները | C56: Նախադպրոցական կրթությույն իրականացնող ուսումնական հաստատություններ
B57: Արդյունքի չափորոշիչներ
B58: Նախագծանախահաշվային փաստաթղթերի քանակ, հատ | D58: -2
B59: Կառուցվող օբյեկտների քանակ, հատ | D59: -6
B60: Միջոցառման վրա կատարվող ծախսը (հազար դրամ) | D60: =+'Հավելված N 2'!G51 -> -1009742.7
B62: Ծրագրի դասիչը | C62: Ծրագրի անվանումը
B63: 1183 | C63: Ապահով դպրոց
B65: Ծրագրի միջոցառումները
B66: Ծրագրի դասիչը` | C66: 1183 | D66: Ցուցանիշների փոփոխությունը (նվազեցումները նշված են փակագծերում)
B67: Միջոցառման դասիչը` | C67: 32003 | D67: Տարի
B68: Միջոցառման անվանումը` | C68: Փոքրաքանակ երեխաներով համալրված հանրակրթական դպրոցների մոդուլային շենքերի կառուցում
B69: Նկարագրությունը` | C69: Կրթական հաստատությունների կառուցում համայնքային կենտրոնների մոդելով
B70: Միջոցառման տեսակը` | C70: Այլ պետական կազմակերպությունների կողմից օգտագործվող ոչ ֆինանսական ակտիվների հետ գործառնություններ
B71: Ակտիվն օգտագործող կազմակերպությունների անվանումները | C71: Փոքրաքանակ երեխաներով համալրված հանրակրթական դպրոցներ
B72: Արդյունքի չափորոշիչներ
B73: Հաստատությունների քանակ, որոնց շինարարական աշխատանքների ավարտվածության աստիճանը 100% է, հատ | D73: -10
B74: Միջոցառման վրա կատարվող ծախսը (հազար դրամ) | D74: =+'Հավելված N 2'!G64 -> -4636411.8
A78: Աղյուսակ 9․1.59
C79: ՀՀ կառավարություն
B80: ՄԱՍ 1. ՊԵՏԱԿԱՆ ՄԱՐՄՆԻ ԳԾՈՎ ԱՐԴՅՈՒՆՔԱՅԻՆ (ԿԱՏԱՐՈՂԱԿԱՆ) ՑՈՒՑԱՆԻՇՆԵՐԸ
B83: Ծրագրի դասիչը | C83: Ծրագրի անվանումը
B84: 1139 | C84: ՀՀ կառավարության պահուստային ֆոնդ
B86: Ծրագրի միջոցառումները
B87: Ծրագրի դասիչը՝ | C87: 1139 | D87: Ցուցանիշների փոփոխությունը (ավելացումները նշված են դրական նշանով)
B88: Միջոցառման դասիչը՝ | C88: 11001 | D88: Տարի
B89: Միջոցառման անվանումը՝ | C89: ՀՀ կառավարության պահուստային ֆոնդ
B90: Նկարագրությունը՝ | C90: ՀՀ պետական բյուջեում նախատեսված ելքերի լրացուցիչ ֆինանսավորման՝ պետական բյուջեում չկանխատեսված ելքերի, ինչպես նաև բյուջետային երաշխիքների ապահովման ելքերի ֆինանսավորման ապահովում
B91: Միջոցառման տեսակը՝ | C91: Ծառայությունների մատուցում
B92: Միջոցառումն իրականացնողի անվանումը | C92: ՀՀ կառավարություն
C93: Արդյունքի չափորոշիչներ
B94: Միջոցառման վրա կատարվող ծախսը (հազար դրամ) | D94: =+'Հավելված N 2'!G87 -> 5931686.3

Sheet Հավելված N 7
H1: Հավելված N 7
H2: ՀՀ կառավարության 2022 թվականի
H3: ______________ ի ___Ն որոշման
A5: ՀԱՅԱՍՏԱՆԻ ՀԱՆՐԱՊԵՏՈՒԹՅԱՆ ԿԱՌԱՎԱՐՈՒԹՅԱՆ 2021 ԹՎԱԿԱՆԻ ԴԵԿՏԵՄԲԵՐԻ 23-Ի N 2121-Ն ՈՐՈՇՄԱՆ N 10 ՀԱՎԵԼՎԱԾՈՒՄ ԿԱՏԱՐՎՈՂ ՓՈՓՈԽՈՒԹՅՈՒՆՆԵՐԸ
A7: Կոդը | B7: Անվանումը | E7: Գնման ձևը | F7: Չափման միավորը | G7: Միավորի գինը | H7: Ցուցանիշների փոփոխությունը (նվազեցումները նշված են փակագծերում)
H8: Քանակը | I8: Գումարը (հազար դրամ)
A9: 1 | B9: 2 | E9: 3 | F9: 4 | G9: 5 | H9: 6 | I9: 7
A10: ՀՀ քաղաքաշինության կոմիտե | I10: =+I11 -> -5646154.5
A11: Բաժին N 09 | B11: Խումբ N 06 | C11: Դաս N 01 | D11: Կրթությանը տրամադրվող օժանդակ ծառայություններ | I11: =+I12+I47 -> -5646154.5
A12: 1146-12010 | B12: «Մոդուլային» տիպի մանկապարտեզների շենքային ապահովում | I12: =+I13+I22 -> -1009742.7
B13: ՄԱՍ II. ԱՇԽԱՏԱՆՔՆԵՐ | I13: =SUM(I14:I21) -> -948952.9
A14: 45221142-44 | B14: ընդհանուր շինարարական աշխատանքներ | E14: ՀԲՄ | F14: դրամ | G14: 100000000 | H14: -1 | I14: -100000
A15: 45221142-45 | B15: ընդհանուր շինարարական աշխատանքներ | E15: ՀԲՄ | F15: դրամ | I15: -123007.8
A16: 45221142-46 | B16: ընդհանուր շինարարական աշխատանքներ | E16: ՀԲՄ | F16: դրամ | G16: 153007800 | H16: -1 | I16: -153007.8
A17: 45221142-47 | B17: ընդհանուր շինարարական աշխատանքներ | E17: ՀԲՄ | F17: դրամ | I17: -123007.8
A18: 45221142-50 | B18: ընդհանուր շինարարական աշխատանքներ | E18: ՀԲՄ | F18: դրամ | G18: 153007800 | H18: -1 | I18: -153007.8
A19: 45221142-52 | B19: ընդհանուր շինարարական աշխատանքներ | E19: ՀԲՄ | F19: դրամ | G19: 143913900 | H19: -1 | I19: -143913.9
A20: 45221142-55 | B20: ընդհանուր շինարարական աշխատանքներ | E20: ՀԲՄ | F20: դրամ | G20: 76503900 | H20: -1 | I20: -76503.9
A21: 45221142-56 | B21: ընդհանուր շինարարական աշխատանքներ | E21: ՀԲՄ | F21: դրամ | G21: 76503900 | H21: -1 | I21: -76503.9
B22: ՄԱՍ III. ԾԱՌԱՅՈՒԹՅՈՒՆՆԵՐ | I22: =SUM(I23:I46) -> -60789.8
A23: 71351540-49 | B23: տեխնիկական հսկողության ծառայություններ | E23: ԳՀ | F23: դրամ | I23: -5331.3
A24: 71351540-50 | B24: տեխնիկական հսկողության ծառայություններ | E24: ԳՀ | F24: դրամ | G24: 6120300 | H24: -1 | I24: -6120.3
A25: 71351540-51 | B25: տեխնիկական հսկողության ծառայություններ | E25: ԳՀ | F25: դրամ | I25: -5242.5
A26: 71351540-52 | B26: տեխնիկական հսկողության ծառայություններ | E26: ԳՀ | F26: դրամ | I26: -3558.4
A27: 71351540-53 | B27: տեխնիկական հսկողության ծառայություններ | E27: ԳՀ | F27: դրամ | I27: -2817.4
A28: 71351540-54 | B28: տեխնիկական հսկողության ծառայություններ | E28: ԳՀ | F28: դրամ | G28: 6120300 | H28: -1 | I28: -6120.3
A29: 71351540-55 | B29: տեխնիկական հսկողության ծառայություններ | E29: ԳՀ | F29: դրամ | G29: 4000000 | H29: -1 | I29: -4000
A30: 71351540-57 | B30: տեխնիկական հսկողության ծառայություններ | E30: ԳՀ | F30: դրամ | G30: 5756600 | H30: -1 | I30: -5756.6
A31: 71351540-112 | B31: տեխնիկական հսկողության ծառայություններ | E31: ԳՀ | F31: դրամ | G31: 3060200 | H31: -1 | I31: -3060.2
A32: 71351540-113 | B32: տեխնիկական հսկողության ծառայություններ | E32: ԳՀ | F32: դրամ | G32: 3060200 | H32: -1 | I32: -3060.2
A33: 98111140-23 | B33: հեղինակային հսկողության ծառայություններ | E33: ՄԱ | F33: դրամ | I33: -755.4
A34: 98111140-24 | B34: հեղինակային հսկողության ծառայություններ | E34: ՄԱ | F34: դրամ | G34: 918000 | H34: -1 | I34: -918
A35: 98111140-25 | B35: հեղինակային հսկողության ծառայություններ | E35: ՄԱ | F35: դրամ | I35: -752.9
A36: 98111140-26 | B36: հեղինակային հսկողության ծառայություններ | E36: ՄԱ | F36: դրամ | I36: -80.6
A37: 98111140-27 | B37: հեղինակային հսկողության ծառայություններ | E37: ՄԱ | F37: դրամ | I37: -36.1
A38: 98111140-28 | B38: հեղինակային հսկողության ծառայություններ | E38: ՄԱ | F38: դրամ | G38: 918000 | H38: -1 | I38: -918
A39: 98111140-29 | B39: հեղինակային հսկողության ծառայություններ | E39: ՄԱ | F39: դրամ | G39: 600000 | H39: -1 | I39: -600
A40: 98111140-31 | B40: հեղինակային հսկողության ծառայություններ | E40: ՄԱ | F40: դրամ | G40: 863400 | H40: -1 | I40: -863.4
A41: 98111140-93 | B41: հեղինակային հսկողության ծառայություններ | E41: ՄԱ | F41: դրամ | G41: 459100 | H41: -1 | I41: -459.1
A42: 98111140-94 | B42: հեղինակային հսկողության ծառայություններ | E42: ՄԱ | F42: դրամ | G42: 459100 | H42: -1 | I42: -459.1
A43: 71241200-22 | B43: նախագծերի պատրաստում, ծախսերի գնահատում | E43: ՀՄԱ | F43: դրամ | G43: 4740000 | H43: -1 | I43: -4740
A44: 71241200-32 | B44: նախագծերի պատրաստում, ծախսերի գնահատում | E44: ՀՄԱ | F44: դրամ | G44: 4740000 | H44: -1 | I44: -4740
A45: 50531140-1 | B45: փորձաքննության ծառայություններ | E45: ԳՀ | F45: դրամ | G45: 200000 | H45: -1 | I45: =+G45*H45/1000 -> -200
A46: 50531140-11 | B46: փորձաքննության ծառայություններ | E46: ԳՀ | F46: դրամ | G46: 200000 | H46: -1 | I46: =+G46*H46/1000 -> -200
A47: 1183-32003 | B47: Փոքրաքանակ երեխաներով համալրված հանրակրթական դպրոցների մոդուլային շենքերի կառուցում | I47: =+I48+I69 -> -4636411.8
B48: ՄԱՍ II. ԱՇԽԱՏԱՆՔՆԵՐ | I48: =SUM(I49:I68) -> -4388046.5
A49: 45211231-1 | B49: միջնակարգ դպրոցների կառուցման աշխատանքներ | E49: ԲՄ | F49: դրամ | I49: -50000
A50: 45211231-2 | B50: միջնակարգ դպրոցների կառուցման աշխատանքներ | E50: ԲՄ | F50: դրամ | I50: -300000
A51: 45211231-4 | B51: միջնակարգ դպրոցների կառուցման աշխատանքներ | E51: ԲՄ | F51: դրամ | I51: -100000
A52: 45211231-5 | B52: միջնակարգ դպրոցների կառուցման աշխատանքներ | E52: ԲՄ | F52: դրամ | I52: -315000
A53: 45211231-7 | B53: միջնակարգ դպրոցների կառուցման աշխատանքներ | E53: ԲՄ | F53: դրամ | I53: -390115.1
A54: 45211231-8 | B54: միջնակարգ դպրոցների կառուցման աշխատանքներ | E54: ԲՄ | F54: դրամ | I54: -70000
A55: 45211231-9 | B55: միջնակարգ դպրոցների կառուցման աշխատանքներ | E55: ԲՄ | F55: դրամ | I55: -226687.8
A56: 45211231-10 | B56: միջնակարգ դպրոցների կառուցման աշխատանքներ | E56: ԲՄ | F56: դրամ | I56: -100000
A57: 45211231-12 | B57: միջնակարգ դպրոցների կառուցման աշխատանքներ | E57: ԲՄ | F57: դրամ | I57: -100000
A58: 45211231-13 | B58: միջնակարգ դպրոցների կառուցման աշխատանքներ | E58: ԲՄ | F58: դրամ | I58: -323306.6
A59: 45211231-14 | B59: միջնակարգ դպրոցների կառուցման աշխատանքներ | E59: ԲՄ | F59: դրամ | I59: -420031.9
A60: 45211231-16 | B60: միջնակարգ դպրոցների կառուցման աշխատանքներ | E60: ԲՄ | F60: դրամ | I60: -428503.5
... A68: 45211231-24 | B68: միջնակարգ դպրոցների կառուցման աշխատանքներ | E68: ԲՄ | F68: դրամ | I68: -57224.6
B69: ՄԱՍ III. ԾԱՌԱՅՈՒԹՅՈՒՆՆԵՐ | I69: =SUM(I70:I100) -> -248365.3
A70: 71351540-64 | B70: տեխնիկական հսկողության ծառայություններ | E70: ԳՀ | F70: դրամ | I70: =-1923.5-13833.3 -> -15756.8
A71: 71351540-67 | B71: տեխնիկական հսկողության ծառայություններ | E71: ԳՀ | F71: դրամ | I71: =-4322.9-13755.6-13185.7 -> -31264.2
A72: 71351540-69 | B72: տեխնիկական հսկողության ծառայություններ | E72: ԳՀ | F72: դրամ | I72: =-3708.3-4078 -> -7786.3
A73: 71351540-70 | B73: տեխնիկական հսկողության ծառայություններ | E73: ԳՀ | F73: դրամ | I73: =-14145.1-18520.9-5936.5 -> -38602.5
A74: 71351540-71 | B74: տեխնիկական հսկողության ծառայություններ | E74: ԳՀ | F74: դրամ | I74: =-15123.7-9752.7-6618.2 -> -31494.6
A75: 71351540-72 | B75: տեխնիկական հսկողության ծառայություններ | E75: ԳՀ | F75: դրամ | I75: =-6174.3-10907.6-9206.1 -> -26288
A76: 71351540-73 | B76: տեխնիկական հսկողության ծառայություններ | E76: ԳՀ | F76: դրամ | I76: =-3551.6-631.3 -> -4182.9
A77: 71351540-74 | B77: տեխնիկական հսկողության ծառայություններ | E77: ԳՀ | F77: դրամ | I77: =-2829.1-8483.8 -> -11312.9
A78: 98111140-37 | B78: հեղինակային հսկողության ծառայություններ | E78: ՄԱ | F78: դրամ | I78: =-282.7-1933.3-429.5-1308.3-619.6-650.9-604.2-1955.6-2109.7-2765.5-1922.7-1227.4-933.7-1492.4-1361.5-1886-2469.5-804.7-1741.1-378.8 -> -26877.1
A79: 71241200-37 | B79: նախագծերի պատրաստում, ծախսերի գնահատում | E79: ՄԱ | F79: դրամ | I79: -4500
A80: 71241200-48 | B80: նախագծերի պատրաստում, ծախսերի գնահատում | E80: ՄԱ | F80: դրամ | G80: 4500000 | H80: -1 | I80: -4500
A81: 71241200-49 | B81: նախագծերի պատրաստում, ծախսերի գնահատում | E81: ՄԱ | F81: դրամ | G81: 4500000 | H81: -1 | I81: -4500
A82: 71241200-50 | B82: նախագծերի պատրաստում, ծախսերի գնահատում | E82: ՄԱ | F82: դրամ | G82: 4500000 | H82: -1 | I82: -4500
A83: 71241200-51 | B83: նախագծերի պատրաստում, ծախսերի գնահատում | E83: ՄԱ | F83: դրամ | G83: 4500000 | H83: -1 | I83: -4500
A84: 71241200-52 | B84: նախագծերի պատրաստում, ծախսերի գնահատում | E84: ՄԱ | F84: դրամ | G84: 4500000 | H84: -1 | I84: -4500
A85: 71241200-53 | B85: նախագծերի պատրաստում, ծախսերի գնահատում | E85: ՄԱ | F85: դրամ | G85: 4500000 | H85: -1 | I85: -4500
A86: 71241200-54 | B86: նախագծերի պատրաստում, ծախսերի գնահատում | E86: ՄԱ | F86: դրամ | G86: 4500000 | H86: -1 | I86: -4500
A87: 71241200-55 | B87: նախագծերի պատրաստում, ծախսերի գնահատում | E87: ՄԱ | F87: դրամ | G87: 4500000 | H87: -1 | I87: -4500
A88: 71241200-56 | B88: նախագծերի պատրաստում, ծախսերի գնահատում | E88: ՄԱ | F88: դրամ | G88: 4500000 | H88: -1 | I88: -4500
A89: 71241200-57 | B89: նախագծերի պատրաստում, ծախսերի գնահատում | E89: ՄԱ | F89: դրամ | G89: 4500000 | H89: -1 | I89: -4500
A90: 50531140-27 | B90: փորձաքննության ծառայություններ | E90: ԳՀ | F90: դրամ | G90: 300000 | H90: -1 | I90: =+G90*H90/1000 -> -300
A91: 50531140-30 | B91: փորձաքննության ծառայություններ | E91: ԳՀ | F91: դրամ | G91: 500000 | H91: -1 | I91: =+G91*H91/1000 -> -500
A92: 50531140-31 | B92: փորձաքննության ծառայություններ | E92: ԳՀ | F92: դրամ | G92: 500000 | H92: -1 | I92: =+G92*H92/1000 -> -500
A93: 50531140-32 | B93: փորձաքննության ծառայություններ | E93: ԳՀ | F93: դրամ | G93: 500000 | H93: -1 | I93: =+G93*H93/1000 -> -500
A94: 50531140-33 | B94: փորձաքննության ծառայություններ | E94: ԳՀ | F94: դրամ | G94: 500000 | H94: -1 | I94: =+G94*H94/1000 -> -500
A95: 50531140-34 | B95: փորձաքննության ծառայություններ | E95: ԳՀ | F95: դրամ | G95: 500000 | H95: -1 | I95: =+G95*H95/1000 -> -500
A96: 50531140-35 | B96: փորձաքննության ծառայություններ | E96: ԳՀ | F96: դրամ | G96: 500000 | H96: -1 | I96: =+G96*H96/1000 -> -500
A97: 50531140-36 | B97: փորձաքննության ծառայություններ | E97: ԳՀ | F97: դրամ | G97: 500000 | H97: -1 | I97: =+G97*H97/1000 -> -500
A98: 50531140-37 | B98: փորձաքննության ծառայություններ | E98: ԳՀ | F98: դրամ | G98: 500000 | H98: -1 | I98: =+G98*H98/1000 -> -500
A99: 50531140-38 | B99: փորձաքննության ծառայություններ | E99: ԳՀ | F99: դրամ | G99: 500000 | H99: -1 | I99: =+G99*H99/1000 -> -500
A100: 50531140-39 | B100: փորձաքննության ծառայություններ | E100: ԳՀ | F100: դրամ | G100: 500000 | H100: -1 | I100: =+G100*H100/1000 -> -500
