Workbook
Name a: #REF!
Name a: #REF!
Name AgencyCode: #REF!
Name AgencyCode: #REF!
Name AgencyCode: #REF!
Name AgencyName: #REF!
Name AgencyName: #REF!
Name AgencyName: #REF!
Name davit: #REF!
Name davit: #REF!
Name Functional1: #REF!
Name Functional1: #REF!
Name Functional1: #REF!
Name ggg: #REF!
Name ggg: #REF!
Name PANature: #REF!
Name PANature: #REF!
Name PANature: #REF!
Name PAType: #REF!
Name PAType: #REF!
Name PAType: #REF!
Name Performance2: #REF!
Name Performance2: #REF!
Name Performance2: #REF!
Name PerformanceType: #REF!
Name PerformanceType: #REF!
Name PerformanceType: #REF!
Name Հավելված: #REF!
Name Հավելված: #REF!
Name Մաս: #REF!
Name Մաս: #REF!
Name շախմատիստ: #REF!
Name շախմատիստ: #REF!

Sheet Հավելված N 1
C1: Հավելված N 1
C2: ՀՀ կառավարության 2022 թվականի
C3: ______________ ի ___Ն որոշման
A6: «ՀԱՅԱUՏԱՆԻ ՀԱՆՐԱՊԵՏՈՒԹՅԱՆ 2022 ԹՎԱԿԱՆԻ ՊԵՏԱԿԱՆ ԲՅՈՒՋԵԻ ՄԱUԻՆ» ՀԱՅԱUՏԱՆԻ ՀԱՆՐԱՊԵՏՈՒԹՅԱՆ OՐԵՆՔԻ N 1 ՀԱՎԵԼՎԱԾԻ N 2 ԱՂՅՈՒՍԱԿՈՒՄ ԿԱՏԱՐՎՈՂ ՎԵՐԱԲԱՇԽՈՒՄԸ ԵՎ ՀԱՅԱՍՏԱՆԻ ՀԱՆՐԱՊԵՏՈՒԹՅԱՆ ԿԱՌԱՎԱՐՈՒԹՅԱՆ 2021 ԹՎԱԿԱՆԻ ԴԵԿՏԵՄԲԵՐԻ 23-Ի N 2121-Ն ՈՐՈՇՄԱՆ N 5 ՀԱՎԵԼՎԱԾԻ N 1 ԱՂՅՈՒՍԱԿՈՒՄ ԿԱՏԱՐՎՈՂ ՓՈՓՈԽՈՒԹՅՈՒՆՆԵՐԸ ԵՎ ԼՐԱՑՈՒՄՆԵՐԸ
D9: հազ. դրամներով
A10: Ծրագրային դասիչը | C10: Բյուջետային հատկացումների գլխավոր կարգադրիչների, ծրագրերի և միջոցառումների անվանումները | D10: Ցուցանիշների փոփոխությունը (ավելացումները նշված են դրական նշանով, իսկ նվազեցումները՝ փակագծերում)
A11: Ծրագիր | B11: Միջոցառում | D11: Տարի
A12: 1192 | C12: ԸՆԴԱՄԵՆԸ | D12: =+D14+D54 -> 0
C13: այդ թվում
C14: ՀՀ ԿՐԹՈՒԹՅԱՆ, ԳԻՏՈՒԹՅԱՆ, ՄՇԱԿՈՒՅԹԻ ԵՎ ՍՊՈՐՏԻ ՆԱԽԱՐԱՐՈՒԹՅՈՒՆ | D14: =+D16+D41 -> -5931686.3
A15: 1146 | C15: Ծրագրի անվանումը`
C16: Հանրակրթության ծրագիր | D16: =+D23+D29+D35 -> -1295274.5
C17: Ծրագրի նպատակը`
C18: Ապահովել անվճար և որակյալ հանրակրթություն
C19: Վերջնական արդյունքի նկարագրությունը`
C20: Մտավոր, հոգևոր, ֆիզիկական և սոցիալական ունակությունների համակողմանի ու ներդաշնակ զարգացմամբ, հայրենասիրության, պետականության և մարդասիրության ոգով դաստիրակված, պատշաճ վարքով և վարվելակերպով անձի ձևավորում
C21: Ծրագրի միջոցառումներ
B22: 11006 | C22: Միջոցառման անվանումը`
C23: Միջնակարգ հատուկ հանրակրթություն | D23: =+'Հավելված N 2'!G23 -> -25501.6
C24: Միջոցառման նկարագրությունը`
C25: Պարտադիր կրթության երրորդ մակարդակում սովորողների ընդգրկվածության՛ գրագիտության և համակողմանի զարգացման բարձր մակարդակի ապահովում
C26: Միջոցառման տեսակը
C27: Ծառայությունների մատուցում
B28: 11012 | C28: Միջոցառման անվանումը`
C29: Միջնակարգ մասնագիտացված հանրակրթություն | D29: =+'Հավելված N 2'!G32 -> -260030.2
C30: Միջոցառման նկարագրությունը`
C31: Միջնակարգ կրթության մակարդակում մասնագիտացված հանրակրթական ծառայությունների մատուցման միջոցով սովորողների ընդգրկվածության , համակողմանի զարգացման և գրագիտության ապահովում
C32: Միջոցառման տեսակը
C33: Ծառայությունների մատուցում
B34: 12010 | C34: Միջոցառման անվանումը`
C35: «Մոդուլային» տիպի մանկապարտեզների շենքային ապահովում | D35: =+'Հավելված N 2'!G49 -> -1009742.7
C36: Միջոցառման նկարագրությունը`
C37: Համայնքներում «Մոդուլային» տիպի մանկապարտեզների կառուցում և նախագծում
C38: Միջոցառման տեսակը
C39: Տրանսֆերտների տրամադրում
A40: 1183 | C40: Ծրագրի անվանումը`
C41: Ապահով դպրոց | D41: =+D48 -> -4636411.8
C42: Ծրագրի նպատակը`
C43: Դպրոցներին սպառնացող աղետների ռիսկի կառավարման կարողությունների հզորացում, դպրոցի անձնակազմի և աշակերտների անվտանգության ապահովման մակարդակի բարձրացում՛ կիրառելով ներառական և երեխայակենտրոն մոտեցում
C44: Վերջնական արդյունքի նկարագրությունը`
...

Sheet Հավելված N 2
F1: Հավելված N 2
F2: ՀՀ կառավարության 2022 թվականի
F3: ______________ ի ___Ն որոշման
A5: ՀԱՅԱՍՏԱՆԻ ՀԱՆՐԱՊԵՏՈՒԹՅԱՆ ԿԱՌԱՎԱՐՈՒԹՅԱՆ 2021 ԹՎԱԿԱՆԻ ԴԵԿՏԵՄԲԵՐԻ 23-Ի N2121-Ն ՈՐՈՇՄԱՆ N 3 ԵՎ N 4 ՀԱՎԵԼՎԱԾՆԵՐՈՒՄ ԿԱՏԱՐՎՈՂ ՓՈՓՈԽՈՒԹՅՈՒՆՆԵՐԸ ԵՎ ԼՐԱՑՈՒՄՆԵՐԸ
G7: հազ. դրամներով
A8: Գործառական դասիչը | D8: Ծրագրային դասիչը | F8: Բյուջետային հատկացումների գլխավոր կարգադրիչների, ծրագրերի, միջոցառումների և միջոցառումները կատարող պետական մարմինների անվանումները | G8: Ցուցանիշների փոփոխությունը (ավելացումները նշված են դրական նշանով, իսկ նվազեցումները՝ փակագծերում)
A9: Բաժին | B9: Խումբ | C9: Դաս | D9: Ծրագիր | E9: Միջոցառում | G9: Տարի
F10: ԸՆԴԱՄԵՆԸ | G10: =+G12+G74 -> 0
F11: այդ թվում
F12: ՀՀ ԿՐԹՈՒԹՅԱՆ, ԳԻՏՈՒԹՅԱՆ, ՄՇԱԿՈՒՅԹԻ ԵՎ ՍՊՈՐՏԻ ՆԱԽԱՐԱՐՈՒԹՅՈՒՆ | G12: =+G13 -> -5931686.3
A13: 09 | F13: ԿՐԹՈՒԹՅՈՒՆ | G13: =G15+G41 -> -5931686.3
F14: այդ թվում`
B15: 02 | F15: Միջնակարգ ընդհանուր կրթություն | G15: =+G17 -> -285531.8
F16: այդ թվում`
C17: 02 | F17: Միջնակարգ (լրիվ) ընդհանուր կրթություն | G17: =+G19 -> -285531.8
F18: այդ թվում`
F19: ՀՀ կրթության, գիտության, մշակույթի և սպորտի նախարարություն | G19: =+G21 -> -285531.8
F20: այդ թվում՝
D21: 1146 | E21: Հանրակրթության ծրագիր | G21: =+G23+G32 -> -285531.8
F22: այդ թվում`
E23: 11006 | F23: Միջնակարգ հատուկ հանրակրթություն | G23: =+G25 -> -25501.6
F24: այդ թվում` ըստ կատարողների
F25: ՀՀ կրթության, գիտության, մշակույթի և սպորտի նախարարություն | G25: =G27 -> -25501.6
F26: այդ թվում՝ բյուջետային ծախսերի տնտեսագիտական դասակարգման հոդվածներ
F27: ԸՆԴԱՄԵՆԸ ԾԱԽՍԵՐ | G27: =G28 -> -25501.6
F28: ԸՆԹԱՑԻԿ ԾԱԽՍԵՐ | G28: =G29 -> -25501.6
F29: ՍՈՒԲՍԻԴԻԱՆԵՐ | G29: =+G30 -> -25501.6
F30: Սուբսիդիաներ պետական կազմակերպություններին | G30: =+G31 -> -25501.6
F31: - Սուբսիդիաներ ոչ ֆինանսական պետական կազմակերպություններին | G31: -25501.6
E32: 11012 | F32: Միջնակարգ մասնագիտացված հանրակրթություն | G32: =+G34 -> -260030.2
F33: այդ թվում` ըստ կատարողների
F34: ՀՀ կրթության, գիտության, մշակույթի և սպորտի նախարարություն | G34: =G36 -> -260030.2
F35: այդ թվում՝ բյուջետային ծախսերի տնտեսագիտական դասակարգման հոդվածներ
F36: ԸՆԴԱՄԵՆԸ ԾԱԽՍԵՐ | G36: =G37 -> -260030.2
F37: ԸՆԹԱՑԻԿ ԾԱԽՍԵՐ | G37: =G38 -> -260030.2
F38: ՍՈՒԲՍԻԴԻԱՆԵՐ | G38: =+G39 -> -260030.2
F39: Սուբսիդիաներ պետական կազմակերպություններին | G39: =+G40 -> -260030.2
F40: - Սուբսիդիաներ ոչ ֆինանսական պետական կազմակերպություններին | G40: -260030.2
B41: 06 | F41: Կրթությանը տրամադրվող օժանդակ ծառայություններ | G41: =+G43 -> -5646154.5
F42: այդ թվում`
...

Sheet Հավելված N 3
F1: Հավելված N 3
F2: ՀՀ կառավարության 2022 թվականի
F3: ______________ ի ___Ն որոշման
A5: «ՀԱՅԱUՏԱՆԻ ՀԱՆՐԱՊԵՏՈՒԹՅԱՆ 2022 ԹՎԱԿԱՆԻ ՊԵՏԱԿԱՆ ԲՅՈՒՋԵԻ ՄԱUԻՆ» ՀԱՅԱUՏԱՆԻ ՀԱՆՐԱՊԵՏՈՒԹՅԱՆ OՐԵՆՔԻ N 1 ՀԱՎԵԼՎԱԾԻ N 3 ԱՂՅՈՒՍԱԿՈՒՄ ԿԱՏԱՐՎՈՂ ՓՈՓՈԽՈՒԹՅՈՒՆՆԵՐԸ ԵՎ ԼՐԱՑՈՒՄՆԵՐԸ
H8: հազ. դրամներով
A9: Ծրագրային դասիչ | C9: Բյուջետային գլխավոր կարգադրիչների, ծրագրերի, միջոցառումների և ուղղությունների անվանումները | D9: Ընդամենը | E9: Ցուցանիշների փոփոխությունը (ավելացումները նշված են դրական նշանով, իսկ նվազեցումները՝ փակագծերում)
A10: Ծրագիր | B10: Միջոցառում | E10: Կառուցման աշխատանքներ | F10: Վերակառուցման, վերանորոգման և վերականգնման աշխատանքներ | G10: Նախագծահե- տազոտական, գեոդեզիա- քարտեզագրա- կան աշխա- տանքներ | H10: Ոչ ֆինանսական այլ ակտիվների ձեռքբերում
C11: ԸՆԴԱՄԵՆԸ | D11: =SUM(E11:H11) -> -5646154.5 | E11: =+E13 -> -5581474.5 | F11: =+F13 -> 0 | G11: =+G13 -> -64680 | H11: =+H13 -> 0
C12: այդ թվում՝
C13: ՀՀ ԿՐԹՈՒԹՅԱՆ, ԳԻՏՈՒԹՅԱՆ, ՄՇԱԿՈՒՅԹԻ ԵՎ ՍՊՈՐՏԻ ՆԱԽԱՐԱՐՈՒԹՅՈՒՆ | D13: =SUM(E13:H13) -> -5646154.5 | E13: =+E15+E37 -> -5581474.5 | F13: =+F15+F37 -> 0 | G13: =+G15+G37 -> -64680 | H13: =+H15+H37 -> 0
C14: այդ թվում`
A15: 1146 | B15: 12010 | C15: «Մոդուլային» տիպի մանկապարտեզների շենքային ապահովում | D15: =+E15+F15+G15+H15 -> -1009742.7 | E15: =+E17+E19+E21+E25+E27+E30+E33+E35 -> -999862.7 | F15: =+F21+F27+F30+F33+F35 -> 0 | G15: =+G21+G27+G30+G33+G35 -> -9880 | H15: =+H21+H27+H30+H33+H35 -> 0
C16: այդ թվում`
C17: ՀՀ Արագածոտնի մարզ | D17: =SUM(E17:H17) -> -129094.5 | E17: =+E18 -> -129094.5 | F17: =+F18 -> 0 | G17: =+G18 -> 0 | H17: =+H18 -> 0
C18: ՀՀ Արագածոտնի մարզի Ալագյազ համայնքում «Մոդուլային» տիպի 144 տեղ հզորությամբ մսուր-մանկապարտեզ | D18: =+E18+F18+G18+H18 -> -129094.5 | E18: =+'Հավելված N 7'!I15+'Հավելված N 7'!I23+'Հավելված N 7'!I33 -> -129094.5
C19: ՀՀ Արարատի մարզ | D19: =SUM(E19:H19) -> -160046.1 | E19: =+E20 -> -160046.1 | F19: =+F20 -> 0 | G19: =+G20 -> 0 | H19: =+H20 -> 0
C20: ՀՀ Արարատի մարզի Արալեզ համայնքում «Մոդուլային» տիպի 144 տեղ հզորությամբ մսուր-մանկապարտեզ | D20: =+E20+F20+G20+H20 -> -160046.1 | E20: =+'Հավելված N 7'!I16+'Հավելված N 7'!I24+'Հավելված N 7'!I34 -> -160046.1
C21: ՀՀ Արմավիրի մարզ | D21: =SUM(E21:H21) -> -289049.6 | E21: =+E22+E23+E24 -> -289049.6 | F21: =+F23+F24 -> 0 | G21: =+G23+G24 -> 0 | H21: =+H23+H24 -> 0
C22: ՀՀ Արմավիրի մարզի Այգևան համայնքում «Մոդուլային» տիպի 144 տեղ հզորությամբ մսուր-մանկապարտեզ | D22: =+E22+F22+G22+H22 -> -129003.2 | E22: =+'Հավելված N 7'!I17+'Հավելված N 7'!I25+'Հավելված N 7'!I35 -> -129003.2
C23: ՀՀ Արմավիրի մարզի Գետաշեն համայնքում «Մոդուլային» տիպի 144 տեղ հզորությամբ մսուր-մանկապարտեզ | D23: =+E23+F23+G23+H23 -> -80023.2 | E23: =+'Հավելված N 7'!I20+'Հավելված N 7'!I31+'Հավելված N 7'!I41 -> -80023.2
C24: ՀՀ Արմավիրի մարզի Լենուղի համայնքում «Մոդուլային» տիպի 144 տեղ հզորությամբ մսուր-մանկապարտեզ | D24: =+E24+F24+G24+H24 -> -80023.2 | E24: =+'Հավելված N 7'!I21+'Հավելված N 7'!I32+'Հավելված N 7'!I42 -> -80023.2
C25: ՀՀ Գեղարքունիքի մարզ | D25: =SUM(E25:H25) -> -3639 | E25: =+E26 -> -3639 | F25: =+F26 -> 0 | G25: =+G26 -> 0 | H25: =+H26 -> 0
C26: ՀՀ Գեղարքունիքի մարզի Աստղաձոր համայնքում «Մոդուլային» տիպի 144 տեղ հզորությամբ մսուր-մանկապարտեզ | D26: =+E26+F26+G26+H26 -> -3639 | E26: =+'Հավելված N 7'!I26+'Հավելված N 7'!I36 -> -3639
C27: ՀՀ Լոռու մարզ | D27: =SUM(E27:H27) -> -107453.5 | E27: =+E28+E29 -> -107453.5 | F27: =+F29 -> 0 | G27: =+G29 -> 0 | H27: =+H29 -> 0
C28: ՀՀ Լոռու մարզի Սպիտակ համայնքում «Մոդուլային» տիպի 144 տեղ հզորությամբ մսուր-մանկապարտեզ | D28: =+E28+F28+G28+H28 -> -2853.5 | E28: =+'Հավելված N 7'!I27+'Հավելված N 7'!I37 -> -2853.5
C29: ՀՀ Լոռու մարզի Գոգարան համայնքում «Մոդուլային» տիպի 144 տեղ հզորությամբ մսուր-մանկապարտեզ | D29: =+E29+F29+G29+H29 -> -104600 | E29: =+'Հավելված N 7'!I14+'Հավելված N 7'!I29+'Հավելված N 7'!I39 -> -104600
C30: ՀՀ Կոտայքի մարզ | D30: =SUM(E30:H30) -> -164986.1 | E30: =+E31+E32 -> -160046.1 | F30: =+F31+F32 -> 0 | G30: =+G31+G32 -> -4940 | H30: =+H31+H32 -> 0
C31: ՀՀ Կոտայքի մարզի Հրազդան համայնքում «Մոդուլային» տիպի 144 տեղ հզորությամբ մսուր-մանկապարտեզ | D31: =+E31+F31+G31+H31 -> -160046.1 | E31: =+'Հավելված N 7'!I18+'Հավելված N 7'!I28+'Հավելված N 7'!I38 -> -160046.1
C32: ՀՀ Կոտայքի մարզի Չարենցավան համայնքի Ֆանտան բնակավայրում «Մոդուլային» տիպի 144 տեղ հզորությամբ մսուր-մանկապարտեզ | D32: =+E32+F32+G32+H32 -> -4940 | G32: =+'Հավելված N 7'!I44+'Հավելված N 7'!I46 -> -4940
C33: ՀՀ Սյունիքի մարզ | D33: =SUM(E33:H33) -> -4940 | E33: =+E34 -> 0 | F33: =+F34 -> 0 | G33: =+G34 -> -4940 | H33: =+H34 -> 0
C34: ՀՀ Սյունիքի մարզի Սիսիան համայնքում «Մոդուլային» տիպի 144 տեղ հզորությամբ մսուր-մանկապարտեզ | D34: =+E34+F34+G34+H34 -> -4940 | G34: =+'Հավելված N 7'!I43+'Հավելված N 7'!I45 -> -4940
C35: ՀՀ Տավուշի մարզ | D35: =SUM(E35:H35) -> -150533.9 | E35: =+E36 -> -150533.9 | F35: =+F36 -> 0 | G35: =+G36 -> 0 | H35: =+H36 -> 0
C36: ՀՀ Տավուշի մարզի Այրում համայնքի Բագրատաշեն բնակավայրում «Մոդուլային» տիպի 144 տեղ հզորությամբ մսուր-մանկապարտեզ | D36: =+E36+F36+G36+H36 -> -150533.9 | E36: =+'Հավելված N 7'!I19+'Հավելված N 7'!I30+'Հավելված N 7'!I40 -> -150533.9
A37: 1183 | B37: 32003 | C37: Փոքրաքանակ երեխաներով համալրված հանրակրթական դպրոցների մոդուլային շենքերի կառուցում | D37: =+E37+F37+G37+H37 -> -4636411.8 | E37: =+E39+E43+E45+E47+E52+E56+E60+E65+E70+E75 -> -4581611.8 | F37: =+F39+F43+F45+F47+F52+F56+F60+F65+F70+F75 -> 0 | G37: =+G39+G43+G45+G47+G52+G56+G60+G65+G70+G75 -> -54800 | H37: =+H39+H43+H45+H47+H52+H56+H60+H65+H70+H75 -> 0
C38: այդ թվում`
C39: ՀՀ Արագածոտնի մարզ | D39: =SUM(E39:H39) -> -372972.8 | E39: =+E40+E41+E42 -> -367972.8 | F39: =+F40+F41+F42 -> 0 | G39: =+G40+G41+G42 -> -5000 | H39: =+H40+H41+H42 -> 0
C40: «Գառնահովիտի միջնակարգ դպրոց» ՊՈԱԿ | D40: =SUM(E40:H40) -> -52206.2 | E40: =+'Հավելված N 7'!I49-1923.5-282.7 -> -52206.2
C41: «Լուսակնի միջնակարգ դպրոց» ՊՈԱԿ | D41: =SUM(E41:H41) -> -315766.6 | E41: =+'Հավելված N 7'!I50-13833.3-1933.3 -> -315766.6
C42: «Հացաշենի հիմնական դպրոց» ՊՈԱԿ | D42: =SUM(E42:H42) -> -5000 | G42: ='Հավելված N 7'!I80+'Հավելված N 7'!I91 -> -5000
C43: ՀՀ Արարատի մարզ | D43: =SUM(E43:H43) -> -5000 | E43: =+E44 -> 0 | F43: =+F44 -> 0 | G43: =+G44 -> -5000 | H43: =+H44 -> 0
...

Sheet Հավելված N 4
D1: Հավելված N 4
D2: ՀՀ կառավարության 2022 թվականի
D3: ______________ ի ___Ն որոշման
B5: ՀԱՅԱՍՏԱՆԻ ՀԱՆՐԱՊԵՏՈՒԹՅԱՆ ԿԱՌԱՎԱՐՈՒԹՅԱՆ 2021 ԹՎԱԿԱՆԻ ԴԵԿՏԵՄԲԵՐԻ 23-Ի N 2121-Ն ՈՐՈՇՄԱՆ N 5 ՀԱՎԵԼՎԱԾԻ N 2 ԱՂՅՈՒՍԱԿՈՒՄ ԿԱՏԱՐՎՈՂ ՓՈՓՈԽՈՒԹՅՈՒՆՆԵՐԸ ԵՎ ԼՐԱՑՈՒՄՆԵՐԸ
E8: հազ. դրամներով
B9: Ծրագրային դասիչ | D9: Բյուջետային գլխավոր կարգադրիչների, ծրագրերի, միջոցառումների, միջոցառումները կատարող պետական մարմինների և ուղղությունների անվանումները | E9: Ցուցանիշների փոփոխությունը (ավելացումները նշված են դրական նշանով, իսկ նվազեցումները՝ փակագծերում)
B10: Ծրագիր | C10: Միջոցառում | E10: Տարի
D12: ՀՀ ԿՐԹՈՒԹՅԱՆ, ԳԻՏՈՒԹՅԱՆ, ՄՇԱԿՈՒՅԹԻ ԵՎ ՍՊՈՐՏԻ ՆԱԽԱՐԱՐՈՒԹՅՈՒՆ | E12: =+E14+E38 -> -5646154.5
D13: այդ թվում՝
B14: 1146 | C14: 12010 | D14: «Մոդուլային» տիպի մանկապարտեզների շենքային ապահովում | E14: =+E16 -> -1009742.7
D15: այդ թվում` ըստ կատարողների
D16: ՀՀ քաղաքաշինության կոմիտե | E16: =+E18+E20+E22+E26+E28+E31+E34+E36 -> -1009742.7
D17: այդ թվում` ըստ ուղղությունների
D18: ՀՀ Արագածոտնի մարզ | E18: =+E19 -> -129094.5
D19: ՀՀ Արագածոտնի մարզի Ալագյազ համայնքում «Մոդուլային» տիպի 144 տեղ հզորությամբ մսուր-մանկապարտեզ | E19: =+'Հավելված N 3'!D18 -> -129094.5
D20: ՀՀ Արարատի մարզ | E20: =+E21 -> -160046.1
D21: ՀՀ Արարատի մարզի Արալեզ համայնքում «Մոդուլային» տիպի 144 տեղ հզորությամբ մսուր-մանկապարտեզ | E21: =+'Հավելված N 3'!D20 -> -160046.1
D22: ՀՀ Արմավիրի մարզ | E22: =+E23+E24+E25 -> -289049.6
D23: ՀՀ Արմավիրի մարզի Այգևան համայնքում «Մոդուլային» տիպի 144 տեղ հզորությամբ մսուր-մանկապարտեզ | E23: =+'Հավելված N 3'!D22 -> -129003.2
D24: ՀՀ Արմավիրի մարզի Գետաշեն համայնքում «Մոդուլային» տիպի 144 տեղ հզորությամբ մսուր-մանկապարտեզ | E24: =+'Հավելված N 3'!D23 -> -80023.2
D25: ՀՀ Արմավիրի մարզի Լենուղի համայնքում «Մոդուլային» տիպի 144 տեղ հզորությամբ մսուր-մանկապարտեզ | E25: =+'Հավելված N 3'!D24 -> -80023.2
D26: ՀՀ Գեղարքունիքի մարզ | E26: =+E27 -> -3639
D27: ՀՀ Գեղարքունիքի մարզի Աստղաձոր համայնքում «Մոդուլային» տիպի 144 տեղ հզորությամբ մսուր-մանկապարտեզ | E27: =+'Հավելված N 3'!D26 -> -3639
D28: ՀՀ Լոռու մարզ | E28: =+E29+E30 -> -107453.5
D29: ՀՀ Լոռու մարզի Սպիտակ համայնքում «Մոդուլային» տիպի 144 տեղ հզորությամբ մսուր-մանկապարտեզ | E29: =+'Հավելված N 3'!D28 -> -2853.5
D30: ՀՀ Լոռու մարզի Գոգարան համայնքում «Մոդուլային» տիպի 144 տեղ հզորությամբ մսուր-մանկապարտեզ | E30: =+'Հավելված N 3'!D29 -> -104600
D31: ՀՀ Կոտայքի մարզ | E31: =+E32+E33 -> -164986.1
D32: ՀՀ Կոտայքի մարզի Հրազդան համայնքում «Մոդուլային» տիպի 144 տեղ հզորությամբ մսուր-մանկապարտեզ | E32: =+'Հավելված N 3'!D31 -> -160046.1
D33: ՀՀ Կոտայքի մարզի Չարենցավան համայնքի Ֆանտան բնակավայրում «Մոդուլային» տիպի 144 տեղ հզորությամբ մսուր-մանկապարտեզ | E33: =+'Հավելված N 3'!D32 -> -4940
D34: ՀՀ Սյունիքի մարզ | E34: =+E35 -> -4940
D35: ՀՀ Սյունիքի մարզի Սիսիան համայնքում «Մոդուլային» տիպի 144 տեղ հզորությամբ մսուր-մանկապարտեզ | E35: =+'Հավելված N 3'!D34 -> -4940
D36: ՀՀ Տավուշի մարզ | E36: =+E37 -> -150533.9
D37: ՀՀ Տավուշի մարզի Այրում համայնքի Բագրատաշեն բնակավայրում «Մոդուլային» տիպի 144 տեղ հզորությամբ մսուր-մանկապարտեզ | E37: =+'Հավելված N 3'!D36 -> -150533.9
B38: 1183 | C38: 32003 | D38: Փոքրաքանակ երեխաներով համալրված հանրակրթական դպրոցների մոդուլային շենքերի կառուցում | E38: =+E40 -> -4636411.8
D39: այդ թվում` ըստ կատարողների
D40: ՀՀ քաղաքաշինության կոմիտե | E40: =+E42+E46+E48+E50+E55+E59+E63+E68+E73+E78 -> -4636411.8
D41: այդ թվում` ըստ ուղղությունների
D42: ՀՀ Արագածոտնի մարզ | E42: =+E43+E44+E45 -> -372972.8
D43: «Գառնահովիտի միջնակարգ դպրոց» ՊՈԱԿ | E43: =+'Հավելված N 3'!D40 -> -52206.2
D44: «Լուսակնի միջնակարգ դպրոց» ՊՈԱԿ | E44: =+'Հավելված N 3'!D41 -> -315766.6
...

Sheet Հավելված N 5
C1: Հավելված N 5
C2: ՀՀ կառավարության 2022 թվականի
C3: ______________ ի ___Ն որոշման
B5: ՀԱՅԱՍՏԱՆԻ ՀԱՆՐԱՊԵՏՈՒԹՅԱՆ ԿԱՌԱՎԱՐՈՒԹՅԱՆ 2021 ԹՎԱԿԱՆԻ ԴԵԿՏԵՄԲԵՐԻ 23-Ի N 2121-Ն ՈՐՈՇՄԱՆ N 9 ՀԱՎԵԼՎԱԾԻ N 9.13 ԵՎ 9.47 ԱՂՅՈՒՍԱԿՆԵՐՈՒՄ ԿԱՏԱՐՎՈՂ ՓՈՓՈԽՈՒԹՅՈՒՆՆԵՐԸ ԵՎ ԼՐԱՑՈՒՄՆԵՐԸ
A7: Աղյուսակ 9․13
C8: ՀՀ կրթության, գիտության, մշակույթի և սպորտի նախարարություն
B9: ՄԱՍ 2. ՊԵՏԱԿԱՆ ՄԱՐՄՆԻ ԳԾՈՎ ԱՐԴՅՈՒՆՔԱՅԻՆ (ԿԱՏԱՐՈՂԱԿԱՆ) ՑՈՒՑԱՆԻՇՆԵՐԸ
B12: Ծրագրի դասիչը | C12: Ծրագրի անվանումը
B13: 1146 | C13: Հանրակրթության ծրագիր
B15: Ծրագրի միջոցառումները
B16: Ծրագրի դասիչը՝ | C16: 1146 | D16: Ցուցանիշների փոփոխությունը (նվազեցումները նշված են փակագծերում)
B17: Միջոցառման դասիչը՝ | C17: 11006 | D17: Տարի
B18: Միջոցառման անվանումը` | C18: Միջնակարգ հատուկ հանրակրթություն
B19: Նկարագրությունը` | C19: Պարտադիր կրթության երրորդ մակարդակում սովորողների ընդգրկվածության՛ գրագիտության և համակողմանի զարգացման բարձր մակարդակի ապահովում
B20: Միջոցառման տեսակը` | C20: Ծառայությունների մատուցում
B21: Ծառայությունը մատուցող կազմակերպության(ների) անվանում(ներ)ը՛ | C21: ՀՀ ԿԳՄՍՆ ենթակայության հատուկ կրթություն իրականացնող ուսումնական հաստատություններ
B22: Արդյունքի չափորոշիչներ
B23: Սովորողների միջին տարեկան թիվը /մարդ /, որից՛ | D23: -18
B24: տղա | D24: -12
B25: աղջիկ | D25: -6
B26: Միջոցառման վրա կատարվող ծախսը (հազար դրամ) | D26: =+'Հավելված N 1'!D23 -> -25501.6
B28: Ծրագրի միջոցառումները
B29: Ծրագրի դասիչը՝ | C29: 1146 | D29: Ցուցանիշների փոփոխությունը (ավելացումները նշված են դրական նշանով, իսկ նվազեցումները փակագծերում)
B30: Միջոցառման դասիչը` | C30: 11012 | D30: Տարի
B31: Միջոցառման անվանումը` | C31: Միջնակարգ մասնագիտացված հանրակրթություն
B32: Նկարագրությունը` | C32: Միջնակարգ կրթության մակարդակում մասնագիտացված հանրակրթական ծառայությունների մատուցման միջոցով սովորողների ընդգրկվածության , համակողմանի զարգացման և գրագիտության ապահովում
B33: Միջոցառման տեսակը` | C33: Ծառայությունների մատուցում
B34: Ծառայությունը մատուցող կազմակերպության(ների) անվանում(ներ)ը՛ | C34: ՀՀ կրթության, գիտության, մշակույթի և սպորտի նախարարության, ՀՀ պաշտպանության նախարարության ենթակայության մասնագիտացված հանրակրթական կրթություն իրականացնող ուսումնական հաստատություններ
B35: Արդյունքի չափորոշիչներ
B36: Սովորողների միջին տարեկան թիվը /մարդ /, որից՛ | D36: -479
B37: Միջոցառման վրա կատարվող ծախսը (հազար դրամ) | D37: =+'Հավելված N 1'!D29 -> -260030.2
B39: Ծրագրի միջոցառումները
B40: Ծրագրի դասիչը՝ | C40: 1146 | D40: Ցուցանիշների փոփոխությունը (նվազեցումները նշված են փակագծերում)
B41: Միջոցառման դասիչը՝ | C41: 12010 | D41: Տարի
B42: Միջոցառման անվանումը` | C42: «Մոդուլային» տիպի մանկապարտեզների շենքային ապահովում
B43: Նկարագրությունը` | C43: Համայնքներում «Մոդուլային» տիպի մանկապարտեզների կառուցում և նախագծում
B44: Միջոցառման տեսակը` | C44: Տրանսֆերտների տրամադրում
B45: Շահառուների ընտրության չափանիշները | C45: Նախադպրոցական կրթությույն իրականացնող ուսումնական հաստատություններ
B46: Արդյունքի չափորոշիչներ
B47: Նախագծանախահաշվային փաստաթղթերի քանակ, հատ | D47: -2
...

Sheet Հավելված N 6
C1: Հավելված N 6
C2: ՀՀ կառավարության 2022 թվականի
C3: ______________ ի ___Ն որոշման
B5: ՀԱՅԱՍՏԱՆԻ ՀԱՆՐԱՊԵՏՈՒԹՅԱՆ ԿԱՌԱՎԱՐՈՒԹՅԱՆ 2021 ԹՎԱԿԱՆԻ ԴԵԿՏԵՄԲԵՐԻ 23-Ի N 2121-Ն ՈՐՈՇՄԱՆ N 9.1 ՀԱՎԵԼՎԱԾԻ N 9.1.14, 9.1.42 ԵՎ 9․1.59 ԱՂՅՈՒՍԱԿՆԵՐՈՒՄ ԿԱՏԱՐՎՈՂ ՓՈՓՈԽՈՒԹՅՈՒՆՆԵՐԸ ԵՎ ԼՐԱՑՈՒՄՆԵՐԸ
A7: Աղյուսակ 9․1.14
C8: ՀՀ կրթության, գիտության, մշակույթի և սպորտի նախարարություն
B9: ՄԱՍ 1. ՊԵՏԱԿԱՆ ՄԱՐՄՆԻ ԳԾՈՎ ԱՐԴՅՈՒՆՔԱՅԻՆ (ԿԱՏԱՐՈՂԱԿԱՆ) ՑՈՒՑԱՆԻՇՆԵՐԸ
B12: Ծրագրի դասիչը | C12: Ծրագրի անվանումը
B13: 1146 | C13: Հանրակրթության ծրագիր
B15: Ծրագրի միջոցառումները
B16: Ծրագրի դասիչը՝ | C16: 1146 | D16: Ցուցանիշների փոփոխությունը (նվազեցումները նշված են փակագծերում)
B17: Միջոցառման դասիչը՝ | C17: 11006 | D17: Տարի
B18: Միջոցառման անվանումը` | C18: Միջնակարգ հատուկ հանրակրթություն
B19: Նկարագրությունը` | C19: Պարտադիր կրթության երրորդ մակարդակում սովորողների ընդգրկվածության՛ գրագիտության և համակողմանի զարգացման բարձր մակարդակի ապահովում
B20: Միջոցառման տեսակը` | C20: Ծառայությունների մատուցում
B21: Ծառայությունը մատուցող կազմակերպության(ների) անվանում(ներ)ը՛ | C21: ՀՀ ԿԳՄՍՆ ենթակայության հատուկ կրթություն իրականացնող ուսումնական հաստատություններ
B22: Արդյունքի չափորոշիչներ
B23: Սովորողների միջին տարեկան թիվը /մարդ /, որից՛ | D23: -18
B24: տղա | D24: -12
B25: աղջիկ | D25: -6
B26: Միջոցառման վրա կատարվող ծախսը (հազար դրամ) | D26: =+'Հավելված N 2'!G25 -> -25501.6
B28: Ծրագրի միջոցառումները
B29: Ծրագրի դասիչը՝ | C29: 1146 | D29: Ցուցանիշների փոփոխությունը (ավելացումները նշված են դրական նշանով, իսկ նվազեցումները փակագծերում)
B30: Միջոցառման դասիչը` | C30: 11012 | D30: Տարի
B31: Միջոցառման անվանումը` | C31: Միջնակարգ մասնագիտացված հանրակրթություն
B32: Նկարագրությունը` | C32: Միջնակարգ կրթության մակարդակում մասնագիտացված հանրակրթական ծառայությունների մատուցման միջոցով սովորողների ընդգրկվածության , համակողմանի զարգացման և գրագիտության ապահովում
B33: Միջոցառման տեսակը` | C33: Ծառայությունների մատուցում
B34: Ծառայությունը մատուցող կազմակերպության(ների) անվանում(ներ)ը՛ | C34: ՀՀ ԿԳՄՍՆ ենթակայության մասնագիտացված հանրակրթական ուսումնական հաստատություններ
B35: Արդյունքի չափորոշիչներ
B36: Սովորողների միջին տարեկան թիվը /մարդ /, որից՛ | D36: -479
B37: Միջոցառման վրա կատարվող ծախսը (հազար դրամ) | D37: =+'Հավելված N 2'!G34 -> -260030.2
D42: Աղյուսակ 9․1.42
C43: ՀՀ քաղաքաինության կոմիտե
B44: ՄԱՍ 1. ՊԵՏԱԿԱՆ ՄԱՐՄՆԻ ԳԾՈՎ ԱՐԴՅՈՒՆՔԱՅԻՆ (ԿԱՏԱՐՈՂԱԿԱՆ) ՑՈՒՑԱՆԻՇՆԵՐԸ
B47: Ծրագրի դասիչը | C47: Ծրագրի անվանումը
B48: 1146 | C48: Հանրակրթության ծրագիր
B50: Ծրագրի միջոցառումները
B51: Ծրագրի դասիչը՝ | C51: 1146 | D51: Ցուցանիշների փոփոխությունը (նվազեցումները նշված են փակագծերում)
B52: Միջոցառման դասիչը՝ | C52: 12010 | D52: Տարի
B53: Միջոցառման անվանումը` | C53: «Մոդուլային» տիպի մանկապարտեզների շենքային ապահովում
...

Sheet Հավելված N 7
H1: Հավելված N 7
H2: ՀՀ կառավարության 2022 թվականի
H3: ______________ ի ___Ն որոշման
A5: ՀԱՅԱՍՏԱՆԻ ՀԱՆՐԱՊԵՏՈՒԹՅԱՆ ԿԱՌԱՎԱՐՈՒԹՅԱՆ 2021 ԹՎԱԿԱՆԻ ԴԵԿՏԵՄԲԵՐԻ 23-Ի N 2121-Ն ՈՐՈՇՄԱՆ N 10 ՀԱՎԵԼՎԱԾՈՒՄ ԿԱՏԱՐՎՈՂ ՓՈՓՈԽՈՒԹՅՈՒՆՆԵՐԸ
A7: Կոդը | B7: Անվանումը | E7: Գնման ձևը | F7: Չափման միավորը | G7: Միավորի գինը | H7: Ցուցանիշների փոփոխությունը (նվազեցումները նշված են փակագծերում)
H8: Քանակը | I8: Գումարը (հազար դրամ)
A9: 1 | B9: 2 | E9: 3 | F9: 4 | G9: 5 | H9: 6 | I9: 7
A10: ՀՀ քաղաքաշինության կոմիտե | I10: =+I11 -> -5646154.5
A11: Բաժին N 09 | B11: Խումբ N 06 | C11: Դաս N 01 | D11: Կրթությանը տրամադրվող օժանդակ ծառայություններ | I11: =+I12+I47 -> -5646154.5
A12: 1146-12010 | B12: «Մոդուլային» տիպի մանկապարտեզների շենքային ապահովում | I12: =+I13+I22 -> -1009742.7
B13: ՄԱՍ II. ԱՇԽԱՏԱՆՔՆԵՐ | I13: =SUM(I14:I21) -> -948952.9
A14: 45221142-44 | B14: ընդհանուր շինարարական աշխատանքներ | E14: ՀԲՄ | F14: դրամ | G14: 100000000 | H14: -1 | I14: -100000
A15: 45221142-45 | B15: ընդհանուր շինարարական աշխատանքներ | E15: ՀԲՄ | F15: դրամ | I15: -123007.8
A16: 45221142-46 | B16: ընդհանուր շինարարական աշխատանքներ | E16: ՀԲՄ | F16: դրամ | G16: 153007800 | H16: -1 | I16: -153007.8
A17: 45221142-47 | B17: ընդհանուր շինարարական աշխատանքներ | E17: ՀԲՄ | F17: դրամ | I17: -123007.8
A18: 45221142-50 | B18: ընդհանուր շինարարական աշխատանքներ | E18: ՀԲՄ | F18: դրամ | G18: 153007800 | H18: -1 | I18: -153007.8
A19: 45221142-52 | B19: ընդհանուր շինարարական աշխատանքներ | E19: ՀԲՄ | F19: դրամ | G19: 143913900 | H19: -1 | I19: -143913.9
A20: 45221142-55 | B20: ընդհանուր շինարարական աշխատանքներ | E20: ՀԲՄ | F20: դրամ | G20: 76503900 | H20: -1 | I20: -76503.9
A21: 45221142-56 | B21: ընդհանուր շինարարական աշխատանքներ | E21: ՀԲՄ | F21: դրամ | G21: 76503900 | H21: -1 | I21: -76503.9
B22: ՄԱՍ III. ԾԱՌԱՅՈՒԹՅՈՒՆՆԵՐ | I22: =SUM(I23:I46) -> -60789.8
A23: 71351540-49 | B23: տեխնիկական հսկողության ծառայություններ | E23: ԳՀ | F23: դրամ | I23: -5331.3
A24: 71351540-50 | B24: տեխնիկական հսկողության ծառայություններ | E24: ԳՀ | F24: դրամ | G24: 6120300 | H24: -1 | I24: -6120.3
A25: 71351540-51 | B25: տեխնիկական հսկողության ծառայություններ | E25: ԳՀ | F25: դրամ | I25: -5242.5
A26: 71351540-52 | B26: տեխնիկական հսկողության ծառայություններ | E26: ԳՀ | F26: դրամ | I26: -3558.4
A27: 71351540-53 | B27: տեխնիկական հսկողության ծառայություններ | E27: ԳՀ | F27: դրամ | I27: -2817.4
A28: 71351540-54 | B28: տեխնիկական հսկողության ծառայություններ | E28: ԳՀ | F28: դրամ | G28: 6120300 | H28: -1 | I28: -6120.3
A29: 71351540-55 | B29: տեխնիկական հսկողության ծառայություններ | E29: ԳՀ | F29: դրամ | G29: 4000000 | H29: -1 | I29: -4000
A30: 71351540-57 | B30: տեխնիկական հսկողության ծառայություններ | E30: ԳՀ | F30: դրամ | G30: 5756600 | H30: -1 | I30: -5756.6
A31: 71351540-112 | B31: տեխնիկական հսկողության ծառայություններ | E31: ԳՀ | F31: դրամ | G31: 3060200 | H31: -1 | I31: -3060.2
A32: 71351540-113 | B32: տեխնիկական հսկողության ծառայություններ | E32: ԳՀ | F32: դրամ | G32: 3060200 | H32: -1 | I32: -3060.2
A33: 98111140-23 | B33: հեղինակային հսկողության ծառայություններ | E33: ՄԱ | F33: դրամ | I33: -755.4
A34: 98111140-24 | B34: հեղինակային հսկողության ծառայություններ | E34: ՄԱ | F34: դրամ | G34: 918000 | H34: -1 | I34: -918
A35: 98111140-25 | B35: հեղինակային հսկողության ծառայություններ | E35: ՄԱ | F35: դրամ | I35: -752.9
A36: 98111140-26 | B36: հեղինակային հսկողության ծառայություններ | E36: ՄԱ | F36: դրամ | I36: -80.6
A37: 98111140-27 | B37: հեղինակային հսկողության ծառայություններ | E37: ՄԱ | F37: դրամ | I37: -36.1
A38: 98111140-28 | B38: հեղինակային հսկողության ծառայություններ | E38: ՄԱ | F38: դրամ | G38: 918000 | H38: -1 | I38: -918
A39: 98111140-29 | B39: հեղինակային հսկողության ծառայություններ | E39: ՄԱ | F39: դրամ | G39: 600000 | H39: -1 | I39: -600
A40: 98111140-31 | B40: հեղինակային հսկողության ծառայություններ | E40: ՄԱ | F40: դրամ | G40: 863400 | H40: -1 | I40: -863.4
A41: 98111140-93 | B41: հեղինակային հսկողության ծառայություններ | E41: ՄԱ | F41: դրամ | G41: 459100 | H41: -1 | I41: -459.1
A42: 98111140-94 | B42: հեղինակային հսկողության ծառայություններ | E42: ՄԱ | F42: դրամ | G42: 459100 | H42: -1 | I42: -459.1
...
