Workbook

Sheet Հավելված 1
B1: Հավելված N 1
B2: ՀՀ կառավարության 2022 թվականի
B3: ______________ ի ___Ն որոշման
A5: «ՀԱՅԱՍՏԱՆԻ ՀԱՆՐԱՊԵՏՈՒԹՅԱՆ 2022 ԹՎԱԿԱՆԻ ՊԵՏԱԿԱՆ ԲՅՈՒՋԵԻ ՄԱՍԻՆ» ՕՐԵՆՔԻ N 2 ՀՈԴՎԱԾԻ ԱՂՅՈՒՍԱԿՈՒՄ ԿԱՏԱՐՎՈՂ ՓՈՓՈԽՈՒԹՅՈՒՆՆԵՐԸ
B7: հազար դրամներով
B8: Ցուցանիշների փոփոխությունը (նվազեցումները նշված են փակագծերում)
A9: 1. Եկամուտների գծով | B9: =+[1]հավելված6!E12 -> 0
A10: 2. Ծախսերի գծով | B10: =+'Հավելված 3'!D7 -> -565000
A11: 3. Դեֆիցիտը (պակասուրդը) | B11: =B9+B10 -> -565000

Sheet Հավելված 2
B1: Հավելված N 2
B2: ՀՀ կառավարության 2022 թվականի
B3: ______________ ի ___Ն որոշման
A5: ՀԱՅԱՍՏԱՆԻ ՀԱՆՐԱՊԵՏՈՒԹՅԱՆ ԿԱՌԱՎԱՐՈՒԹՅԱՆ 2021 ԹՎԱԿԱՆԻ ԴԵԿՏԵՄԲԵՐԻ 23-Ի N 2121-Ն ՈՐՈՇՄԱՆ N 1 ՀԱՎԵԼՎԱԾԻ N 1 ԱՂՅՈՒՍԱԿՈՒՄ ԿԱՏԱՐՎՈՂ ՓՈՓՈԽՈՒԹՅՈՒՆՆԵՐԸ
B7: հազ. դրամ
A8: Պետական բյուջեի դեֆիցիտի ֆինանսավորման աղբյուրներն ու դրանց տարրերի անվանումները | B8: Ցուցանիշների փոփոխությունը (ավելացումները նշված են դրական նշանով, իսկ նվազեցումները` փակագծերում)
B9: Տարի
A10: ԸՆԴԱՄԵՆԸ | B10: =+B12 -> -565000
A11: այդ թվում՝
A12: Բ. Արտաքին աղբյուրներ - ընդամենը | B12: =+B14 -> -565000
A13: այդ թվում
A14: 1. Փոխառու զուտ միջոցներ | B14: =+B16 -> -565000
A15: այդ թվում՝
A16: 1.1. Վարկերի և փոխատվությունների ստացում | B16: =+B18 -> -565000
A17: որից`
A18: նպատակային վարկերի գծով | B18: =+'Հավելված 6'!E12 -> -565000

Sheet Հավելված 3
D1: Հավելված N 3
D2: ՀՀ կառավարության 2022 թվականի -ի N -Ն որոշման
A3: «ՀԱՅԱՍՏԱՆԻ ՀԱՆՐԱՊԵՏՈՒԹՅԱՆ 2022 ԹՎԱԿԱՆԻ ՊԵՏԱԿԱՆ ԲՅՈՒՋԵԻ ՄԱՍԻՆ» ՀԱՅԱՍՏԱՆԻ ՀԱՆՐԱՊԵՏՈՒԹՅԱՆ ՕՐԵՆՔԻ N1 ՀԱՎԵԼՎԱԾԻ N2 ԱՂՅՈՒՍԱԿՈՒՄ ԿԱՏԱՐՎՈՂ ՎԵՐԱԲԱՇԽՈՒՄԸ ԵՎ ՀԱՅԱՍՏԱՆԻ ՀԱՆՐԱՊԵՏՈՒԹՅԱՆ ԿԱՌԱՎԱՐՈՒԹՅԱՆ 2021 ԹՎԱԿԱՆԻ ԴԵԿՏԵՄԲԵՐԻ 23-Ի N 2121-Ն ՈՐՈՇՄԱՆ N 5 ՀԱՎԵԼՎԱԾԻ N1 ԱՂՅՈՒՍԱԿՈՒՄ ԿԱՏԱՐՎՈՂ ՓՈՓՈԽՈՒԹՅՈՒՆՆԵՐԸ ԵՎ ԼՐԱՑՈՒՄՆԵՐԸ
D4: հազար դրամ
A5: Ծրագրային դասիչը | C5: Բյուջետային գլխավոր կարգադրիչների, ծրագրերի և միջոցառումների անվանումները | D5: Ցուցանիշների փոփոխությունը ( նվազեցումները նշված են փակագծերում)
A6: Ծրագիր | B6: Միջոցառում | D6: Տարի
C7: ԸՆԴԱՄԵՆԸ ԾԱԽՍԵՐ | D7: =+D8+D91 -> -565000
C8: ՀՀ բարձր տեխնոլոգիական արդյունաբերության նախարարություն | D8: =+D9+D46+D59+D72 -> -1777950
A9: 1043 | C9: Ծրագրի անվանումը` | D9: =SUM(D16+D22+D28+D34+D40) -> -1078150
C10: Բարձր տեխնոլոգիական արդյունաբերության էկոհամակարգի, թվայնացման և շուկայի զարգացման ծրագիր
C11: Ծրագրի նպատակը`
C12: Բարձր տեխնոլոգիաների ենթակառուցվածքների բարելավում
C13: Վերջնական արդյունքի նկարագրությունը`
C14: Բարձր տեխնոլոգիաների ոլորտի աճ
A15: Ծրագրի միջոցառումներ
B16: 11004 | C16: Միջոցառման անվանումը` | D16: -19000
C17: Մասնագետների պատրաստման ԲՈՒՀ-մասնավոր հատված համագործակցություն
C18: Միջոցառման նկարագրությունը`
C19: Համալսարանների հետ համատեղ՛ մասնավոր ընկերությունների կողմից իրականացվող մասնագետների պատրաստման ծրագրերի իրագործում, մասնագետների վերապատրաստման դասընթացների կազմակերպում մասնավոր ընկերությունների ծրագրերով և մասնագետների միջոցով
C20: Միջոցառման տեսակը
C21: Ծառայությունների մատուցում
B22: 11009 | C22: Միջոցառման անվանումը` | D22: -21150
C23: Ձեռներեցության տեխնոլոգիական էկոհամակարգ
C24: Միջոցառման նկարագրությունը`
C25: Ձեռնարկատիրական (գիտական և տեխնոլոգիական հիմքով) կրթության բարելավման, ստարտափերի զարգացման համար անհրաժեշտ ենթակառուցվածքների, ինչպես նաև դեպի հայաստանյան տեխնոլոգիական համակարգ գիտելիքի ներհոսքի ապահովման ծառայություններ
C26: Միջոցառման տեսակը
C27: Ծառայությունների մատուցում
B28: 11010 | C28: Միջոցառման անվանումը` | D28: -15000
C29: Թվայնացման և պետական ամպային ենթակառուցվածքային պահանջների՛ ստանդարտների, ձևաչափերի և ընթացակարգերի մշակում
C30: Միջոցառման նկարագրությունը`
C31: Թվայնացման գործընթացների ու պահանջների ձևավորման, ֆունկցիոնալության և պետական ամպային ենթակառուցվածքի, ամպային տեխնոլոգիաների պահանջների, դրանց սպասարկող ֆիզիկական տվյալների կենտրոնների տեխնիկական պահանջների և միջազգային ստանդարտների տեղայնացում
C32: Միջոցառման տեսակը
C33: Ծառայությունների մատուցում
B34: 11017 | C34: Միջոցառման անվանումը` | D34: -663000
C35: Համաշխարհային բանկի աջակցությամբ իրականացվող առևտրի և ենթակառուցվածքների զարգացման ծրագիր
C36: Միջոցառման նկարագրությունը`
C37: Համաշխարհային բանկի աջակցությամբ իրականացվող առևտրի և ենթակառուցվածքների զարգացման ծրագիր
C38: Միջոցառման տեսակը
C39: Ծառայությունների մատուցում
B40: 31004 | C40: Միջոցառման անվանումը` | D40: -360000
...

Sheet Հավելված 4
G1: Հավելված N 4
G2: ՀՀ կառավարության 2022 թվականի N -Ն որոշման
B3: ՀԱՅԱՍՏԱՆԻ ՀԱՆՐԱՊԵՏՈՒԹՅԱՆ ԿԱՌԱՎԱՐՈՒԹՅԱՆ 2021 ԹՎԱԿԱՆԻ ԴԵԿՏԵՄԲԵՐԻ 23-Ի N 2121-Ն ՈՐՈՇՄԱՆ N 3 ԵՎ 4 ՀԱՎԵԼՎԱԾՆԵՐՈՒՄ ԿԱՏԱՐՎՈՂ ՓՈՓՈԽՈՒԹՅՈՒՆՆԵՐԸ ԵՎ ԼՐԱՑՈՒՄՆԵՐԸ
G4: Հազ. դրամ
A5: Գործառական դասիչը | D5: Ծրագրային դասիչը | F5: Բյուջետային ծախսերի գործառական դասակարգման բաժինների, խմբերի և դասերի, բյուջետային ծրագրերի միջոցառումների, բյուջետային հատկացումների գլխավոր կարգադրիչների անվանումները | G5: Ցուցանիշների փոփոխությունը ( նվազեցումները նշված են փակագծերում)
G6: Տարի
A7: Բաժին | B7: Խումբ | C7: Դաս | D7: Ծրագիր | E7: Միջոցա ռում
F8: ԸՆԴԱՄԵՆԸ ԾԱԽՍԵՐ | G8: =+G9+G69+G84+G122 -> -565000
A9: 01 | F9: ԸՆԴՀԱՆՈՒՐ ԲՆՈՒՅԹԻ ՀԱՆՐԱՅԻՆ ԾԱՌԱՅՈՒԹՅՈՒՆՆԵՐ | G9: =+G11+G45 -> -1078150
F10: այդ թվում`
B11: 03 | F11: Ընդհանուր բնույթի ծառայություններ | G11: =SUM(G13) -> -55150
F12: այդ թվում`
C13: 02 | F13: Ծրագրման և վիճակագրական ընդհանուր ծառայություններ | G13: =SUM(G14) -> -55150
D14: 1043 | F14: Բարձր տեխնոլոգիական արդյունաբերության էկոհամակարգի, թվայնացման և շուկայի զարգացման ծրագիր | G14: =+G16+G25+G36 -> -55150
F15: այդ թվում`
E16: 11004 | F16: Մասնագետների պատրաստման ԲՈՒՀ-մասնավոր հատված համագործակցություն | G16: -19000
F17: այդ թվում` ըստ կատարողների
F18: ՀՀ բարձր տեխնոլոգիական արդյունաբերության նախարարություն | G18: -19000
F19: այդ թվում` բյուջետային ծախսերի տնտեսագիտական դասակարգման հոդվածներ
F20: ԸՆԴԱՄԵՆԸ ԾԱԽՍԵՐ | G20: -19000
F21: ԸՆԹԱՑԻԿ ԾԱԽՍԵՐ | G21: -19000
F22: ԴՐԱՄԱՇՆՈՐՀՆԵՐ | G22: -19000
F23: Ընթացիկ դրամաշնորհներ պետական հատվածի այլ մակարդակներին | G23: -19000
F24: - Այլ ընթացիկ դրամաշնորհներ | G24: -19000
E25: 11009 | F25: Ձեռներեցության տեխնոլոգիական էկոհամակարգ | G25: -21150
F26: այդ թվում` ըստ կատարողների
F27: ՀՀ բարձր տեխնոլոգիական արդյունաբերության նախարարություն | G27: -21150
F28: այդ թվում` բյուջետային ծախսերի տնտեսագիտական դասակարգման հոդվածներ
F29: ԸՆԴԱՄԵՆԸ ԾԱԽՍԵՐ | G29: -21150
F30: ԸՆԹԱՑԻԿ ԾԱԽՍԵՐ | G30: -21150
F31: ԾԱՌԱՅՈՂԱԿԱՆ ԳՈՐԾՈՒՂՈՒՄՆԵՐԻ ԳԾՈՎ ԾԱԽՍԵՐ | G31: -10000
F32: - Արտասահմանյան գործուղումներ | G32: -10000
F33: ԾԱՌԱՅՈՒԹՅՈՒՆՆԵՐԻ ԵՎ ԱՊՐԱՆՔՆԵՐԻ ՁԵՌՔԲԵՐՈՒՄ | G33: -11150
F34: Պայմանագրային այլ ծառայությունների ձեռքբերում | G34: -11150
F35: - Ընդհանուր բնույթի այլ ծառայություններ | G35: -11150
E36: 11010 | F36: Թվայնացման և պետական ամպային ենթակառուցվածքային պահանջների՛ ստանդարտների, ձևաչափերի և ընթացակարգերի մշակում | G36: -15000
F37: այդ թվում` ըստ կատարողների
F38: ՀՀ բարձր տեխնոլոգիական արդյունաբերության նախարարություն | G38: -15000
F39: այդ թվում` բյուջետային ծախսերի տնտեսագիտական դասակարգման հոդվածներ
F40: ԸՆԴԱՄԵՆԸ ԾԱԽՍԵՐ | G40: -15000
...

Sheet Հավելված 5
G1: Հավելված 5
G2: ՀՀ կառավարության 2022 թվականի N -Ն որոշման
A3: ՀԱՅԱՍՏԱՆԻ ՀԱՆՐԱՊԵՏՈՒԹՅԱՆ ԿԱՌԱՎԱՐՈՒԹՅԱՆ 2021 ԹՎԱԿԱՆԻ ԴԵԿՏԵՄԲԵՐԻ 23-Ի N 2121-Ն ՈՐՈՇՄԱՆ N 5 ՀԱՎԵԼՎԱԾԻ 7-ՐԴ ԱՂՅՈՒՍԱԿՈՒՄ ԿԱՏԱՐՎՈՂ ՓՈՓՈԽՈՒԹՅՈՒՆՆԵՐԸ
G4: Հազ. դրամ
A5: Ծրագրային դասիչ | C5: Բյուջետային հատկացումների գլխավոր կարգադրիչների, ծրագրերի, միջոցառումների, ծախսային ուղղությունների անվանումները | F5: Միջոցառումները կատարող պետական մարմինների և դրամաշնորհ ստացող տնտեսվարող սուբյեկտների անվանումները | G5: Տարի
G6: Ցուցանիշների փոփոխությունը ( նվազեցումները նշված են փակագծերում)
A7: Ծրագիր | B7: Միջոցառում
A8: 1 | B8: 2 | C8: 3 | F8: 4 | G8: 5
A9: ՀՀ բարձր տեխնոլոգիական արդյունաբերության նախարարություն
A10: 1043 | B10: Բարձր տեխնոլոգիական արդյունաբերության էկոհամակարգի, թվայնացման և շուկայի զարգացման ծրագիր | G10: -19000
B11: 11004 | C11: Մասնագետների պատրաստման ԲՈՒՀ-մասնավոր հատված համագործակցություն | F11: ՀՀ բարձր տեխնոլոգիական արդյունաբերության նախարարություն | G11: -19000
F12: Մրցույթով ընտրված կազմակերպություններ | G12: -19000

Sheet Հավելված 6
D1: Հավելված N 6
C2: ՀՀ կառավարության 2022 թվականի
C3: ___________ ___-ի N _______ -Ն որոշման
A6: «ՀԱՅԱՍՏԱՆԻ ՀԱՆՐԱՊԵՏՈՒԹՅԱՆ 2022 ԹՎԱԿԱՆԻ ՊԵՏԱԿԱՆ ԲՅՈՒՋԵԻ ՄԱՍԻՆ» ՕՐԵՆՔԻ N 1 ՀԱՎԵԼՎԱԾԻ N 4 ԱՂՅՈՒՍԱԿՈՒՄ ԵՎ ՀԱՅԱՍՏԱՆԻ ՀԱՆՐԱՊԵՏՈՒԹՅԱՆ ԿԱՌԱՎԱՐՈՒԹՅԱՆ 2021 ԹՎԱԿԱՆԻ ԴԵԿՏԵՄԲԵՐԻ 23-Ի N 2121-Ն ՈՐՈՇՄԱՆ N 5 ՀԱՎԵԼՎԱԾԻ N 3 ԱՂՅՈՒՍԱԿՈՒՄ ԿԱՏԱՐՎՈՂ ՓՈՓՈԽՈՒԹՅՈՒՆՆԵՐԸ
E7: հազ. դրամ
A8: Ծրագրային դասիչը | C8: Բյուջետային հատկացումների գլխավոր կարգադրիչների, ծրագրերի, միջոցառումների և միջոցառումները կատարող պետական մարմինների անվանումները | D8: Ցուցանիշների փոփոխությունները (ավելացումները նշված են դրական նշանով, իսկ նվազեցումները` փակագծերում)
D9: Տարի
A10: Ծրագիր | B10: Միջոց_x000D_առում | D10: Ընդամենը | E10: այդ թվում
E11: Վարկային միջոցներ | F11: Համաֆինան սավորում
C12: ԸՆԴԱՄԵՆԸ_x000D_ այդ թվում` | D12: =+D13+D14 -> -1023000 | E12: =+E13+E14 -> -565000 | F12: =+F13+F14 -> -458000
C13: - ԸՆԹԱՑԻԿ ԾԱԽՍԵՐ | D13: =E13+F13 -> -663000 | E13: =E23 -> -305000 | F13: =F23 -> -358000
C14: - ՈՉ ՖԻՆԱՆՍԱԿԱՆ ԱԿՏԻՎՆԵՐԻ ԳԾՈՎ ԾԱԽՍԵՐ | D14: =+E14+F14 -> -360000 | E14: =E32 -> -260000 | F14: =F32 -> -100000
C15: ՀՀ ԲԱՐՁՐ ՏԵԽՆՈԼՈԳԻԱԿԱՆ ԱՐԴՅՈՒՆԱԲԵՐՈՒԹՅԱՆ ՆԱԽԱՐԱՐՈՒԹՅՈՒՆ_x000D_ այդ թվում` | D15: =+D16 -> -1023000 | E15: =+E16 -> -565000 | F15: =+F16 -> -458000
A16: 1043 | C16: Բարձր տեխնոլոգիական արդյունաբերության էկոհամակարգի, թվայնացման և շուկայի զարգացման ծրագիր | D16: =+E16+F16 -> -1023000 | E16: =+E18+E28 -> -565000 | F16: =+F18+F28 -> -458000
C17: այդ թվում`
B18: 11017 | C18: Համաշխարհային բանկի աջակցությամբ իրականացվող առևտրի և ենթակառուցվածքների զարգացման ծրագիր | D18: =+E18+F18 -> -663000 | E18: =+E22 -> -305000 | F18: =+F22 -> -358000
C19: այդ թվում` ըստ կատարողների
C20: ՀՀ վարչապետի աշխատակազմ | D20: =+E20+F20 -> -663000 | E20: =+E18 -> -305000 | F20: =+F18 -> -358000
C21: այդ թվում` բյուջետային ծախսերի տնտեսագիտական դասակարգման հոդվածներ
C22: ԸՆԴԱՄԵՆԸ ԾԱԽՍԵՐ | D22: =D23 -> -663000 | E22: =E23 -> -305000 | F22: =F23 -> -358000
C23: ԸՆԹԱՑԻԿ ԾԱԽՍԵՐ | D23: =D24+D26 -> -663000 | E23: =E24+E26 -> -305000 | F23: =F24+F26 -> -358000
C24: ՍՈՒԲՍԻԴԻԱՆԵՐ | D24: =D25 -> -580000 | E24: =E25 -> -250000 | F24: =F25 -> -330000
C25: =[2]հավելված5.!C334 -> - Սուբսիդիաներ ոչ պետական ոչ ֆինանսական կազմակերպություններին | D25: =+E25+F25 -> -580000 | E25: -250000 | F25: -330000
C26: ԱՅԼ ԾԱԽՍԵՐ | D26: =D27 -> -83000 | E26: =E27 -> -55000 | F26: =F27 -> -28000
C27: =[2]հավելված5.!C336 -> Այլ ծախսեր | D27: =+E27+F27 -> -83000 | E27: -55000 | F27: -28000
B28: 31004 | C28: Համաշխարհային բանկի աջակցությամբ իրականացվող առևտրի և ենթակառուցվածքների զարգացման ծրագրի շրջանակներում սարքավորումների ձեռքբերում | D28: =+E28+F28 -> -360000 | E28: =+E32 -> -260000 | F28: =+F32 -> -100000
C29: այդ թվում` ըստ կատարողների
C30: ՀՀ վարչապետի աշխատակազմ | D30: =+E30+F30 -> -360000 | E30: =+E28 -> -260000 | F30: =+F28 -> -100000
C31: այդ թվում` բյուջետային ծախսերի տնտեսագիտական դասակարգման հոդվածներ
C32: ՈՉ ՖԻՆԱՆՍԱԿԱՆ ԱԿՏԻՎՆԵՐԻ ԳԾՈՎ ԾԱԽՍԵՐ | D32: =D33 -> -360000 | E32: =E33 -> -260000 | F32: =F33 -> -100000
C33: ՀԻՄՆԱԿԱՆ ՄԻՋՈՑՆԵՐ | D33: =D34 -> -360000 | E33: =E34 -> -260000 | F33: =F34 -> -100000
C34: ՄԵՔԵՆԱՆԵՐ ԵՎ ՍԱՐՔԱՎՈՐՈՒՄՆԵՐ | D34: =D35 -> -360000 | E34: =E35 -> -260000 | F34: =F35 -> -100000
C35: =[2]հավելված5.!C345 -> - Այլ մեքենաներ և սարքավորումներ | D35: =+E35+F35 -> -360000 | E35: -260000 | F35: -100000

Sheet Հավելված 7
F1: Հավելված N 7
D2: ՀՀ կառավարության 2022 թվականի
D3: ___________ ___-ի N _______ -Ն որոշման
A6: ՀԱՅԱՍՏԱՆԻ ՀԱՆՐԱՊԵՏՈՒԹՅԱՆ 2022 ԹՎԱԿԱՆԻ ՊԵՏԱԿԱՆ ԲՅՈՒՋԵԻ ՄԱՍԻՆ ՕՐԵՆՔԻ N 1 ՀԱՎԵԼՎԱԾԻ N 3 ԱՂՅՈՒՍԱԿՈՒՄ ԿԱՏԱՐՎՈՂ ՓՈՓՈԽՈՒԹՅՈՒՆՆԵՐԸ
G7: (հազ. դրամ)
A8: Շրագրային դասիչը | C8: Բյուջետային գլխավոր կարգադրիչների, ծրագրերի և միջոցառումների և ուղղությունների անվանումները | D8: Ընդամենը, | E8: Ցուցանիշների փոփոխությունը (նվազեցումները նշված են փակագծերում)
E9: այդ թվում
A10: Ծրագիր | B10: Միջոցառում | E10: Կառուցման աշխատանքներ | F10: Վերակառուցման, վերանորոգման և վերականգնման աշխատանքներ | G10: Նախագծահետազոտական, գեոդեզիա-քարտեզագրական աշխատանքներ | H10: Ոչ ֆինանսական այլ ակտիվների ձեռքբերում
C11: ԸՆԴԱՄԵՆԸ | D11: =+D14 -> -203000 | E11: =+E14 -> 0 | F11: =+F14 -> 0 | G11: =+G14 -> 0 | H11: =+H14 -> -203000
C12: այդ թվում`
C14: ՀՀ ԲԱՐՁՐ ՏԵԽՆՈԼՈԳԻԱԿԱՆ ԱՐԴՅՈՒՆԱԲԵՐՈՒԹՅԱՆ ՆԱԽԱՐԱՐՈՒԹՅՈՒՆ | D14: -203000 | H14: -203000
A15: 1164 | B15: 32001 | C15: ՀՀ տարածքում բազային և շարժական ռադիոմոնիտորինգի համակարգի ներդրում | D15: =SUM(E15:H15) -> -203000 | H15: -203000

Sheet Հավելված 8
D1: Հավելված N 8
D2: ՀՀ կառավարության 2022 թվականի
D3: ______________ ի ___Ն որոշման
A6: ՀԱՅԱՍՏԱՆԻ ՀԱՆՐԱՊԵՏՈՒԹՅԱՆ ԿԱՌԱՎԱՐՈՒԹՅԱՆ 2021ԹՎԱԿԱՆԻ ԴԵԿՏԵՄԲԵՐԻ23-Ի N 2121-Ն ՈՐՈՇՄԱՆ N 5 ՀԱՎԵԼՎԱԾԻ N 2 ԱՂՅՈՒՍԱԿՈՒՄ ԿԱՏԱՐՎՈՂ ՓՈՓՈԽՈՒԹՅՈՒՆՆԵՐԸ
D7: (հազ. դրամ)
A8: Շրագրային դասիչը | C8: Բյուջետային գլխավոր կարգադրիչների, ծրագրերի, միջոցառումների, միջոցառումները կատարող պետական մարմինների և ուղղությունների անվանումները | D8: Ցուցանիշների փոփոխությունը (նվազեցումները նշված են փակագծերում)
A10: Ծրագիր | B10: Միջոցառում | D10: տարի
C11: ԸՆԴԱՄԵՆԸ | D11: =+D13 -> -203000
C12: այդ թվում`
C13: ՀՀ ԲԱՐՁՐ ՏԵԽՆՈԼՈԳԻԱԿԱՆ ԱՐԴՅՈՒՆԱԲԵՐՈՒԹՅԱՆ ՆԱԽԱՐԱՐՈՒԹՅՈՒՆ | D13: =+D14 -> -203000
A14: 1164 | B14: 32001 | C14: ՀՀ տարածքում բազային և շարժական ռադիոմոնիտորինգի համակարգի ներդրում | D14: =+D16 -> -203000
C15: այդ թվում` ըստ կատարողների
C16: ՀՀ բարձր տեխնոլոգիական արդյունաբերության նախարարություն | D16: -203000

Sheet Հավելված 9
C1: Հավելված N 9
B2: ՀՀ կառավարության 2022 թվականի N -Ն որոշման
A3: ՀԱՅԱՍՏԱՆԻ ՀԱՆՐԱՊԵՏՈՒԹՅԱՆ ԿԱՌԱՎԱՐՈՒԹՅԱՆ 2021 ԹՎԱԿԱՆԻ ԴԵԿՏԵՄԲԵՐԻ 23-Ի N 2121-Ն ՈՐՈՇՄԱՆ N 9 ՀԱՎԵԼՎԱԾԻ NN 9.17 ԱՂՅՈՒՍԱԿՈՒՄ ԿԱՏԱՐՎՈՂ ՓՈՓՈԽՈՒԹՅՈՒՆՆԵՐԸ
A4: ՀՀ բարձր տեխնոլոգիական արդյունաբերության նախարարություն
A5: ՄԱՍ 2. ՊԵՏԱԿԱՆ ՄԱՐՄՆԻ ԳԾՈՎ ԱՐԴՅՈՒՆՔԱՅԻՆ (ԿԱՏԱՐՈՂԱԿԱՆ) ՑՈՒՑԱՆԻՇՆԵՐԸ
A7: Ծրագրի դասիչը | B7: Ծրագրի անվանումը
A8: 1043 | B8: Բարձր տեխնոլոգիական արդյունաբերության էկոհամակարգի, թվայնացման և շուկայի զարգացման ծրագիր
A10: Ծրագրի միջոցառումները
A12: Ծրագրի դասիչը` | B12: 1043 | C12: Ցուցանիշների փոփոխությունը ( նվազեցումները նշված են փակագծերում)
A13: Միջոցառման դասիչը` | B13: 11004
A14: Միջոցառման անվանումը` | B14: Մասնագետների պատրաստման ԲՈՒՀ-մասնավոր հատված համագործակցություն
A15: Նկարագրությունը` | B15: Համալսարանների հետ համատեղ՛ մասնավոր ընկերությունների կողմից իրականացվող մասնագետների պատրաստման ծրագրերի իրագործում, մասնագետների վերապատրաստման դասընթացների կազմակերպում մասնավոր ընկերությունների ծրագրերով և մասնագետների միջոցով
A16: Միջոցառման տեսակը` | B16: Ծառայությունների մատուցում
A17: Միջոցառումն իրականացնողի անվանումը | B17: ՀՀ բարձր տեխնոլոգիական արդյունաբերության նախարարություն
A18: Արդյունքի չափորոշիչներ
A19: Միջոցառման վրա կատարվող ծախսը (հազար դրամ) | C19: -19000
A22: Ծրագրի դասիչը` | B22: 1043 | C22: Ցուցանիշների փոփոխությունը ( նվազեցումները նշված են փակագծերում)
A23: Միջոցառման դասիչը` | B23: 11009
A24: Միջոցառման անվանումը` | B24: Ձեռներեցության տեխնոլոգիական էկոհամակարգ
A25: Նկարագրությունը` | B25: Ձեռնարկատիրական (գիտական և տեխնոլոգիական հիմքով) կրթության բարելավման, ստարտափերի զարգացման համար անհրաժեշտ ենթակառուցվածքների, ինչպես նաև դեպի հայաստանյան տեխնոլոգիական համակարգ գիտելիքի ներհոսքի ապահովման ծառայություններ
A26: Միջոցառման տեսակը` | B26: Ծառայությունների մատուցում
A27: Միջոցառումն իրականացնողի անվանումը | B27: ՀՀ բարձր տեխնոլոգիական արդյունաբերության նախարարություն
A28: Արդյունքի չափորոշիչներ
A29: Միջոցառման վրա կատարվող ծախսը (հազար դրամ) | C29: -21150
A31: Ծրագրի դասիչը` | B31: 1043 | C31: Ցուցանիշների փոփոխությունը ( նվազեցումները նշված են փակագծերում)
A32: Միջոցառման դասիչը` | B32: 11010
A33: Միջոցառման անվանումը` | B33: Թվայնացման և պետական ամպային ենթակառուցվածքային պահանջների՛ ստանդարտների, ձևաչափերի և ընթացակարգերի մշակում
A34: Նկարագրությունը` | B34: Թվայնացման գործընթացների ու պահանջների ձևավորման, ֆունկցիոնալության և պետական ամպային ենթակառուցվածքի, ամպային տեխնոլոգիաների պահանջների, դրանց սպասարկող ֆիզիկական տվյալների կենտրոնների տեխնիկական պահանջների և միջազգային ստանդարտների տեղայնացում
A35: Միջոցառման տեսակը` | B35: Ծառայությունների մատուցում
A36: Միջոցառումն իրականացնողի անվանումը | B36: ՀՀ բարձր տեխնոլոգիական արդյունաբերության նախարարություն
A37: Արդյունքի չափորոշիչներ
A38: Միջոցառման վրա կատարվող ծախսը (հազար դրամ) | C38: -15000
A41: Ծրագրի դասիչը` | B41: 1043 | C41: Ցուցանիշների փոփոխությունը ( նվազեցումները նշված են փակագծերում)
A42: Միջոցառման դասիչը` | B42: 11017
A43: Միջոցառման անվանումը` | B43: Համաշխարհային բանկի աջակցությամբ իրականացվող առևտրի և ենթակառուցվածքների զարգացման ծրագիր
A44: Նկարագրությունը` | B44: Համաշխարհային բանկի աջակցությամբ իրականացվող առևտրի և ենթակառուցվածքների զարգացման ծրագիր
A45: Միջոցառման տեսակը` | B45: Ծառայությունների մատուցում
A46: Միջոցառումն իրականացնողի անվանումը՛ | B46: Մասնագիտացված միավոր
A47: Արդյունքի չափորոշիչներ
A48: Միջոցառման վրա կատարված ծախսը (հազար դրամ) | C48: -663000
...

Sheet Հավելված 10
C1: Հավելված N 10
C2: ՀՀ կառավարության 2022 թվականի N -Ն որոշման
A3: ՀԱՅԱՍՏԱՆԻ ՀԱՆՐԱՊԵՏՈՒԹՅԱՆ ԿԱՌԱՎԱՐՈՒԹՅԱՆ 2021 ԹՎԱԿԱՆԻ ԴԵԿՏԵՄԲԵՐԻ 23-Ի N 2121-Ն ՈՐՈՇՄԱՆ N 9.1 ՀԱՎԵԼՎԱԾԻ NN 9.1.3, 9.1.17 ԵՎ 9.1.59 ԱՂՅՈՒՍԱԿՆԵՐՈՒՄ ԿԱՏԱՐՎՈՂ ՓՈՓՈԽՈՒԹՅՈՒՆՆԵՐԸ ԵՎ ԼՐԱՑՈՒՄՆԵՐԸ
C4: Աղյուսակ 9.1.3
A5: ՀՀ վարչապետի աշխատակազմ
A6: ՄԱՍ 1. ՊԵՏԱԿԱՆ ՄԱՐՄՆԻ ԳԾՈՎ ԱՐԴՅՈՒՆՔԱՅԻՆ (ԿԱՏԱՐՈՂԱԿԱՆ) ՑՈՒՑԱՆԻՇՆԵՐԸ
A8: Ծրագրի դասիչը | B8: Ծրագրի անվանումը
A9: Ծրագրի դասիչը | B9: Ծրագրի անվանումը
A10: 1043 | B10: Բարձր տեխնոլոգիական արդյունաբերության էկոհամակարգի, թվայնացման և շուկայի զարգացման ծրագիր
A12: Ծրագրի միջոցառումները
A14: Ծրագրի դասիչը` | B14: 1043
A15: Միջոցառման դասիչը` | B15: 11017
A16: Միջոցառման անվանումը` | B16: Համաշխարհային բանկի աջակցությամբ իրականացվող առևտրի և ենթակառուցվածքների զարգացման ծրագիր
A17: Նկարագրությունը` | B17: Համաշխարհային բանկի աջակցությամբ իրականացվող առևտրի և ենթակառուցվածքների զարգացման ծրագիր
A18: Միջոցառման տեսակը` | B18: Ծառայությունների մատուցում
A19: Միջոցառումն իրականացնողի անվանումը՛ | B19: Մասնագիտացված միավոր
A20: Արդյունքի չափորոշիչներ
A21: Միջոցառման վրա կատարված ծախսը (հազար դրամ) | C21: -663000
A24: Ծրագրի դասիչը` | B24: 1043
A25: Միջոցառման դասիչը` | B25: 31004
A26: Միջոցառման անվանումը` | B26: Համաշխարհային բանկի աջակցությամբ իրականացվող առևտրի և ենթակառուցվածքների զարգացման ծրագրի շրջանակներում սարքավորումների ձեռքբերում
A27: Նկարագրությունը` | B27: Համաշխարհային բանկի աջակցությամբ իրականացվող առևտրի և ենթակառուցվածքների զարգացման ծրագրի շրջանակներում սարքավորումների ձեռքբերում
A28: Միջոցառման տեսակը` | B28: Պետական մարմինների կողմից օգտագործվող ոչ ֆինանսական ակտիվների հետ գործառնություններ
A29: Ծառայությունը մատուցող կազմակերպություն(ների) անվանում(ներ)ը՛ | B29: ՀՀ վարչապետի աշխատակազմ
A30: Արդյունքի չափորոշիչներ
A31: ՍՉԱՄ-ի համար կահույք (տոկոս) | C31: -100
A32: Կիբերանվտանգության ինկուբատորի լաբորատորիաների և ցանցի տեղադրման համար համակարգչային սարքավորումներ (տոկոս) | C32: -100
A33: Կիբերանվտանգության ինկուբատորի դեմո լաբորատորիայի համար ցանցային սարքավորումների ձեռք բերում և ցանցի տեղադրում (տոկոս) | C33: -100
A34: Կիբերանվտանգության ինկուբատորի համար կահույք և գրասենյակային այլ պարագաներ ( տոկոս) | C34: -100
A35: Հայաստանի գերհամակարգչային համակարգի արդիականացում և տեղադրում ( տոկոս) | C35: -100
A36: Միջոցառման վրա կատարված ծախսը (հազար դրամ) | C36: -360000
C38: Աղյուսակ 9.1.17
A39: ՀՀ բարձր տեխնոլոգիական արդյունաբերության նախարարություն
A40: ՄԱՍ 2. ՊԵՏԱԿԱՆ ՄԱՐՄՆԻ ԳԾՈՎ ԱՐԴՅՈՒՆՔԱՅԻՆ (ԿԱՏԱՐՈՂԱԿԱՆ) ՑՈՒՑԱՆԻՇՆԵՐԸ
A42: Ծրագրի դասիչը | B42: Ծրագրի անվանումը
A43: 1043 | B43: Բարձր տեխնոլոգիական արդյունաբերության էկոհամակարգի, թվայնացման և շուկայի զարգացման ծրագիր
A45: Ծրագրի միջոցառումները
A48: Ծրագրի դասիչը` | B48: 1043 | C48: Ցուցանիշների փոփոխությունը ( նվազեցումները նշված են փակագծերում)
A49: Միջոցառման դասիչը` | B49: 11004
A50: Միջոցառման անվանումը` | B50: Մասնագետների պատրաստման ԲՈՒՀ-մասնավոր հատված համագործակցություն
...

Sheet Հավելված 11
B1: Հավելված 11
A2: ՀՀ կառավարության 2022 թվականի
A3: ______________ ի ___Ն որոշման
A4: ՀԱՅԱՍՏԱՆԻ ՀԱՆՐԱՊԵՏՈՒԹՅԱՆ ԿԱՌԱՎԱՐՈՒԹՅԱՆ 2021 ԹՎԱԿԱՆԻ ԴԵԿՏԵՄԲԵՐԻ 23-Ի N 2121-Ն ՈՐՈՇՄԱՆ N 10 ՀԱՎԵԼՎԱԾՈՒՄ ԿԱՏԱՐՎՈՂ ՓՈՓՈԽՈՒԹՅՈՒՆՆԵՐԸ
A5: Կոդը | B5: Անվանումը | C5: Գնման ձևը | D5: Չափման միավորը | E5: Միավորի գինը | F5: Ցուցանիշների փոփոխությունը (նվազեցումները նշված են փակագծերում)
F6: Քանակը | G6: Գումարը (հազար դրամով)
A7: ՀՀ բարձր տեխնոլոգիական արդյունաբերության նախարարություն | G7: =+G9+G14+G17 -> -300950
A8: Բաժին N 01 | B8: Խումբ N 03 | C8: Դաս N 02
A9: 1043 11009 | B9: Ձեռներեցության տեխնոլոգիական էկոհամակարգ | G9: =+G11+G12 -> -11150
B10: ՄԱՍ III. ԾԱՌԱՅՈՒԹՅՈՒՆՆԵՐ
A11: 79951100/3 | B11: Միջոցառումների հետ կապված ծառայություններ | C11: ՀՄԱ | D11: դրամ | G11: -10250
A12: 85311210/2 | B12: Խորհրդատվական ծառայություններ | C12: ՀՄԱ | D12: դրամ | G12: -900
A13: Բաժին N 04 | B13: Խումբ N 06 | C13: Դաս N 01
A14: 1164 11004 | B14: Տվյալների փոխանակման միջգերատեսչական կապի ապահովում | G14: =+G16 -> -86800
B15: ՄԱՍ III. ԾԱՌԱՅՈՒԹՅՈՒՆՆԵՐ
A16: 72721100/1 | B16: Տարածքային ցանցի հետ կապված ծառայություններ | C16: ԲՄ | D16: դրամ | G16: -86800
A17: 1164 32001 | B17: ՀՀ տարածքում բազային և շարժական ռադիոմոնիտորինգի համակարգի ներդրում | G17: =SUM(G19) -> -203000
B18: ՄԱՍ III. ԾԱՌԱՅՈՒԹՅՈՒՆՆԵՐ
A19: 52111110/501 | B19: մոնիթորինգի դիտակայանի տեղադրման և գործարկման աշխատանքներ | C19: ԲՄ | D19: դրամ | G19: -203000
