Workbook
Name AgencyCode: #REF!
Name AgencyCode: #REF!
Name AgencyName: #REF!
Name AgencyName: #REF!
Name davit: #REF!
Name Functional1: #REF!
Name Functional1: #REF!
Name ggg: #REF!
Name ggg: #REF!
Name PANature: #REF!
Name PANature: #REF!
Name PAType: #REF!
Name PAType: #REF!
Name Performance2: #REF!
Name Performance2: #REF!
Name PerformanceType: #REF!
Name PerformanceType: #REF!
Name Հավելված: #REF!
Name Մաս: #REF!
Name շախմատիստ: #REF!
Name շախմատիստ: #REF!

Sheet հավելված1
B1: Հավելված N 1
B2: ՀՀ կառավարության 2022 թվականի
B3: ______________ ի ___Ն որոշման
A5: «ՀԱՅԱՍՏԱՆԻ ՀԱՆՐԱՊԵՏՈՒԹՅԱՆ 2022 ԹՎԱԿԱՆԻ ՊԵՏԱԿԱՆ ԲՅՈՒՋԵԻ ՄԱՍԻՆ» ՕՐԵՆՔԻ N 2 ՀՈԴՎԱԾԻ ԱՂՅՈՒՍԱԿՈՒՄ ԿԱՏԱՐՎՈՂ ՓՈՓՈԽՈՒԹՅՈՒՆՆԵՐԸ
B7: հազար դրամներով
B8: Ցուցանիշների փոփոխությունը (նվազեցումները նշված են փակագծերում)
A9: 1. Եկամուտների գծով | B9: =+հավելված7!E12 -> 0
A10: 2. Ծախսերի գծով | B10: =հավելված3!D7 -> -1627000
A11: 3. Դեֆիցիտը (պակասուրդը) | B11: =B9+B10 -> -1627000

Sheet հավելված2
B1: Հավելված N 2
B2: ՀՀ կառավարության 2022 թվականի
B3: ______________ ի ___Ն որոշման
A5: «ՀԱՅԱՍՏԱՆԻ ՀԱՆՐԱՊԵՏՈՒԹՅԱՆ 2022 ԹՎԱԿԱՆԻ ՊԵՏԱԿԱՆ ԲՅՈՒՋԵԻ ՄԱՍԻՆ» ՀԱՅԱՍՏԱՆԻ ՀԱՆՐԱՊԵՏՈՒԹՅԱՆ ՕՐԵՆՔԻ N 3 ՀԱՎԵԼՎԱԾԻ N 1 ԱՂՅՈՒՍԱԿՈՒՄ ԵՎ ՀԱՅԱՍՏԱՆԻ ՀԱՆՐԱՊԵՏՈՒԹՅԱՆ ԿԱՌԱՎԱՐՈՒԹՅԱՆ 2021 ԹՎԱԿԱՆԻ ԴԵԿՏԵՄԲԵՐԻ 23-Ի N 2121-Ն ՈՐՈՇՄԱՆ N 1 ՀԱՎԵԼՎԱԾԻ N 1 ԱՂՅՈՒՍԱԿՈՒՄ ԿԱՏԱՐՎՈՂ ՓՈՓՈԽՈՒԹՅՈՒՆՆԵՐԸ
B7: հազ. դրամ
A8: Պետական բյուջեի դեֆիցիտի ֆինանսավորման աղբյուրներն ու դրանց տարրերի անվանումները | B8: Ցուցանիշների փոփոխությունը (ավելացումները նշված են դրական նշանով, իսկ նվազեցումները` փակագծերում)
B9: Տարի
A10: ԸՆԴԱՄԵՆԸ | B10: =+B12 -> -1627000
A11: այդ թվում՝
A12: Բ. Արտաքին աղբյուրներ - ընդամենը | B12: =+B14 -> -1627000
A13: այդ թվում
A14: 1. Փոխառու զուտ միջոցներ | B14: =+B16 -> -1627000
A15: այդ թվում՝
A16: 1.1. Վարկերի և փոխատվությունների ստացում | B16: =+B18 -> -1627000
A17: որից`
A18: նպատակային վարկերի գծով | B18: =հավելված6.!E12 -> -1627000

Sheet հավելված3
D1: Հավելված N 3 ՀՀ կառավարության 2022 թվականի ––-------------------–N –––––– որոշման
A3: «ՀԱՅԱUՏԱՆԻ ՀԱՆՐԱՊԵՏՈՒԹՅԱՆ 2022 ԹՎԱԿԱՆԻ ՊԵՏԱԿԱՆ ԲՅՈՒՋԵԻ ՄԱUԻՆ» OՐԵՆՔԻ N 1 ՀԱՎԵԼՎԱԾԻ N 2 ԱՂՅՈՒՍԱԿՈՒՄ ԿԱՏԱՐՎՈՂ ՎԵՐԱԲԱՇԽՈՒՄԸ ԵՎ ՀԱՅԱՍՏԱՆԻ ՀԱՆՐԱՊԵՏՈՒԹՅԱՆ ԿԱՌԱՎԱՐՈՒԹՅԱՆ 2021 ԹՎԱԿԱՆԻ ԴԵԿՏԵՄԲԵՐԻ 23-Ի N 2121-Ն ՈՐՈՇՄԱՆ N 5 ՀԱՎԵԼՎԱԾԻ N 1 ԱՂՅՈՒՍԱԿՈՒՄ ԿԱՏԱՐՎՈՂ ՓՈՓՈԽՈՒԹՅՈՒՆՆԵՐԸ
D5: հազ. դրամ
A6: Ծրագրային դասիչը | C6: Բյուջետային գլխավոր կարգադրիչների, ծրագրերի և միջոցառումների անվանումները | D6: Գումարը
C7: ԸՆԴԱՄԵՆԸ | D7: -1627000
C8: ՀՀ վարչապետի աշխատակազմ | D8: -168557.4
A9: 1033 | C9: Ծրագրի անվանումը` | D9: -9528
C10: Աջակցություն քաղաքական կուսակցություններին, հասարակական կազմակերպություններին և արհմիություններին
C11: Ծրագրի նպատակը`
C12: Քաղաքացիական հասարակության զարգացում
C13: Վերջնական արդյունքի նկարագրությունը`
C14: Քաղաքացիական հասարակության կառույցների և նրանց կարողությունների զարգացում, տնտեսական և քաղաքական կյանքում ՔՀԿ-ների ընդգրկվածության և մասնակցության աճ
A15: Ծրագրի միջոցառումներ
B16: 11002 | C16: Միջոցառման անվանումը` | D16: -9528
C17: Պետական կառավարման գործընթացներին քաղաքացիական հասարակության մասնակցության ապահովում
C18: Միջոցառման նկարագրությունը`
C19: Հանրային խորհրդի բնականոն գործունեության ապահովում
C20: Միջոցառման տեսակը
C21: Ծառայությունների մատուցում
A22: 1132 | C22: Ծրագրի անվանումը` | D22: -11000
C23: Քաղաքացիական ծառայողների վերապատրաստում
C24: Ծրագրի նպատակը`
C25: Քաղաքացիական ծառայողների աշխատանքի արդյունավետության բարելավում
C26: Վերջնական արդյունքի նկարագրությունը`
C27: Քաղաքացիական ծառայության ոլորտում անկախ, արհեստավարժ և բարոյական բարձր հատկանիշներով օժտված կադրերի ապահովումը
A28: Ծրագրի միջոցառումներ
B29: 11001 | C29: Միջոցառման անվանումը` | D29: -11000
C30: ՀՀ քաղաքացիական ծառայողների վերապատրաստման ծառայություններ
C31: Միջոցառման նկարագրությունը`
C32: Քաղաքացիական ծառայողների մասնագիտական գիտելիքների և աշխատանքային ունակությունների հետևողական վերապատրաստման և ուսուցման ծառայություններ
C33: Միջոցառման տեսակը
C34: Ծառայությունների մատուցում
A35: 1136 | C35: Ծրագրի անվանումը` | D35: -5318.8
C36: ՀՀ Վարչապետի լիազորությունների իրականացման ապահովում
C37: Ծրագրի նպատակը`
C38: Աջակցել կառավարության, վարչապետի և փոխվարչապետերի գործունեությանը
C39: Վերջնական արդյունքի նկարագրությունը`
C40: ՀՀ կառավարության և վարչապետի որոշումների ու հանձնարարականների կատարման վերահսկողության ապահովում
A41: Ծրագրի միջոցառումներ
B42: 11004 | C42: Միջոցառման անվանումը` | D42: -5318.8
C43: Աջակցություն ՀՀ վարչապետի աշխատակազմի ներքո գործող Արդյունահանող ճյուղերի թափանցիկության նախաձեռնության քարտուղարությանը
C44: Միջոցառման նկարագրությունը`
C45: Ազգային ծրագրով նախատեսված տեխնիկական առաջադրանքների նախագծերի հաստատման ենթակա փաստաթղթերի կազմում, հանրային իրազեկման միջոցառումների իրականացում և դոնոր կազմակերպությունների հետ աշխատանքի համակարգում
C46: Միջոցառման տեսակը
C47: Ծառայությունների մատուցում
A48: 1213 | C48: Ծրագրի անվանումը` | D48: -37089.4
C49: Տեսչական վերահսկողության ծրագիր
C50: Ծրագրի նպատակը`
C51: Տեսչական վերահսկողության ապահովում
C52: Վերջնական արդյունքի նկարագրությունը`
C53: Տեխնիկական կանոնակարգերին համապատասխանության գնահատում և պահանջների պահպանում
A54: Ծրագրի միջոցառումներ
B55: 11001 | C55: Միջոցառման անվանումը` | D55: -11500
C56: Առողջապահության ոլորտում վերահսկողության ծառայություններ
C57: Միջոցառման նկարագրությունը`
C58: Առողջապահության, աշխատողների առողջության և անվտանգության ապահովման բնագավառում վերահսկողության իրականացում
C59: Միջոցառման տեսակը
C60: Ծառայությունների մատուցում
B61: 11002 | C61: Միջոցառման անվանումը` | D61: -8523.1
C62: Բնապահպանության ոլորտում վերահսկողության ծառայություններ
C63: Միջոցառման նկարագրությունը`
C64: Շրջակա միջավայրի վրա վնասակար ներգործությունների և բնական ռեսուրսների գերշահագործման վերահսկողության իրականացում
C65: Միջոցառման տեսակը
C66: Ծառայությունների մատուցում
B67: 11003 | C67: Միջոցառման անվանումը` | D67: -2218.8
C68: Կրթության ոլորտում վերահսկողության ծառայություններ
C69: Միջոցառման նկարագրությունը`
C70: Կրթության ոլորտում տեսչական վերահսկողության ծառայությունների իրականացում
C71: Միջոցառման տեսակը
C72: Ծառայությունների մատուցում
B73: 11004 | C73: Միջոցառման անվանումը` | D73: -1500
C74: Շուկայի վերահսկողության ծառայություններ
C75: Միջոցառման նկարագրությունը`
C76: Տեխնիկական կանոնակարգի պահանջների և չափագիտական կանոնների ու նորմերի պահպանման վերահսկողություն
C77: Միջոցառման տեսակը
C78: Ծառայությունների մատուցում
B79: 11007 | C79: Միջոցառման անվանումը` | D79: -13347.5
C80: Սննդամթերքի անվտանգության բնագավառում վերահսկողության իրականացման ծառայություններ
C81: Միջոցառման նկարագրությունը`
C82: Սննդամթերքի, անասնաբուժության և բուսասանիտարիայի ոլորտներում վերահսկողության իրականացում, պետությանը և հանրությանը սպառնացող վտանգների հայտնաբերում, ներթափանցման և տարածման կանխարգելում:
C83: Միջոցառման տեսակը
C84: Ծառայությունների մատուցում
A85: 1214 | C85: Ծրագրի անվանումը` | D85: -8621.2
C86: Արդյունահանող ճյուղերի զարգացման ծրագիր
C87: Ծրագրի նպատակը`
C88: Հայաստանում տնտեսական աճին հանքարդյունաբերության ոլորտի նպաստի ամրապնդում
C89: Վերջնական արդյունքի նկարագրությունը`
C90: Հանքարդյունաբերության ոլորտի քաղաքականության մշակմանն աջակցության ապահովում, ապագայի միասնական տեսլականի ձևավորում, ոլորտի թափանցիկության և հաշվետվողականության բարձրացում
A91: Ծրագրի միջոցառումներ
B92: 11003 | C92: Միջոցառման անվանումը` | D92: -8621.2
C93: Համաշխարհային բանկիաջակցությամբ իրականացվող «Հայսատանի արդյունահանող ճյուղերի թափանցիկության նախաձեռնությանն աջակցություն. Լրացուցիչ ֆինանսավորում» դրամաշնորհային ծրագիր
C94: Միջոցառման նկարագրությունը`
C95: ԱՃԹՆ-ի միջազգային ստանդարտին համապատասխան՛ հանքարդյունաբերության ոլորտի թափանցիկության և հաշվետվողականության բարձրացմանն աջակցություն, տվյալների համակարգված բացահայտումներիհամակարգի ներդնում
C96: Միջոցառման տեսակը
C97: Ծառայությունների մատուցում
A98: 1223 | C98: Ծրագրի անվանումը` | D98: -97000
C99: Միջազգային դատարաններում, միջազգային արբիտրաժներում և այլ միջազգային ատյաններում ՀՀ շահերի ներկայացում և պաշտպանություն , դրանց կողմից ընդունված վճիռների և որոշումների կատարման ապահովում
C100: Ծրագրի նպատակը`
C101: Միջազգային դատարաններում, միջազգային արբիտրաժներում և այլ միջազգային ատյաններում ՀՀ վերաբերյալ գործընթացներում մասնակցություն, դրանց կողմից ընդունված վճիռների և որոշումների կատարման ապահովում
C102: Վերջնական արդյունքի նկարագրությունը`
...

Sheet հավելված4
F1: Հավելված N 4 ՀՀ կառավարության 2022 թվականի ––-----------–––––––– N –––––– որոշման
A3: ՀԱՅԱՍՏԱՆԻ ՀԱՆՐԱՊԵՏՈՒԹՅԱՆ ԿԱՌԱՎԱՐՈՒԹՅԱՆ 2021 ԹՎԱԿԱՆԻ ԴԵԿՏԵՄԲԵՐԻ 23-Ի N 2121-Ն ՈՐՈՇՄԱՆ N 3 ՀԱՎԵԼՎԱԾՈՒՄ ԿԱՏԱՐՎՈՂ ՓՈՓՈԽՈՒԹՅՈՒՆՆԵՐԸ
G4: հազ. դրամ
A5: Գործառական դասիչը | D5: Ծրագրային դասիչը | F5: Բյուջետային ծախսերի գործառական դասակարգման բաժինների, խմբերի և դասերի, բյուջետային ծրագրերի, միջոցառումների բյուջետային հատկացումնեյի գլխավոր կարկադրիչների անվանումները | G5: Ցուցանիշների փոփոխությունները (ավելացումները նշված են դրական նշանով, իսկ նվազեցումները` փակագծերում)
A6: Բաժին | B6: Խումբ | C6: Դաս | D6: Ծրագիր | E6: Միջոցառում | G6: Տարի
F7: ԸՆԴԱՄԵՆԸ ԾԱԽՍԵՐ | G7: -1627000
F8: այդ թվում`
A9: 01 | F9: ԸՆԴՀԱՆՈՒՐ ԲՆՈՒՅԹԻ ՀԱՆՐԱՅԻՆ ԾԱՌԱՅՈՒԹՅՈՒՆՆԵՐ | G9: -2282057.2
F10: այդ թվում`
B11: 01 | F11: Օրենսդիր և գործադիր մարմիններ, պետական կառավարում, ֆինանսական և հարկաբյուջետային հարաբերություններ, արտաքին հարաբերություններ | G11: -437689.9
F12: այդ թվում`
C13: 01 | F13: Օրենսդիր և գործադիր մարմիններ, պետական կառավարում | G13: -87033.2
F14: այդ թվում`
D15: 1009 | E15: 11001 | F15: ՀՀ Արարատի մարզպետարանի կողմից տարածքային պետական կառավարման ապահովում | G15: -15700
F16: այդ թվում`
F17: ՀՀ Արարատի մարզպետարան | G17: -15700
D18: 1025 | E18: 11001 | F18: ՀՀ Գեղարքունիքի մարզպետարանի կողմից տարածքային պետական կառավարման ապահովում | G18: -2800
F19: այդ թվում`
F20: ՀՀ Գեղարքունիքի մարզպետարան | G20: -2800
D21: 1030 | E21: 11001 | F21: ՀՀ Լոռու մարզպետարանի կողմից տարածքային պետական կառավարման ապահովում | G21: -1350
F22: այդ թվում`
F23: ՀՀ Լոռու մարզպետարան | G23: -1350
D24: 1033 | E24: 11002 | F24: Պետական կառավարման գործընթացներին քաղաքացիական հասարակության մասնակցության ապահովում | G24: -9528
F25: այդ թվում`
F26: ՀՀ վարչապետի աշխատակազմ | G26: -9528
D27: 1051 | E27: 11001 | F27: ՀՀ Վայոց ձորի մարզպետարանի կողմից տարածքային պետական կառավարման ապահովում | G27: -4462.6
F28: այդ թվում`
F29: ՀՀ Վայոց ձորի մարզպետարան | G29: -4462.6
D30: 1055 | E30: 11001 | F30: ՀՀ Տավուշի մարզպետարանի կողմից տարածքային պետական կառավարման ապահովում | G30: -3728.6
F31: այդ թվում`
F32: ՀՀ Տավուշի մարզպետարան | G32: -3728.6
D33: 1057 | E33: 11001 | F33: Արդարադատության ոլորտում քաղաքականության, խորհրդատվության, մոնիտորինգի, գնման և աջակցության իրականացում | G33: -3630.1
F34: այդ թվում`
F35: ՀՀ արդարադատության նախարարություն | G35: -3630.1
D36: 1161 | E36: 11001 | F36: Հաշվեքննիչ պալատի գործունեություն և հաշվեքննության իրականացման ծառայություններ | G36: -8744.5
F37: այդ թվում`
F38: ՀՀ հաշվեքննիչ պալատ | G38: -8744.5
D39: 1213 | E39: 11001 | F39: Առողջապահության ոլորտում վերահսկողության ծառայություններ | G39: -11500
F40: այդ թվում`
F41: ՀՀ վարչապետի աշխատակազմ | G41: -11500
D42: 1213 | E42: 11002 | F42: Բնապահպանության ոլորտում վերահսկողության ծառայություններ | G42: -8523.1
F43: այդ թվում`
F44: ՀՀ վարչապետի աշխատակազմ | G44: -8523.1
D45: 1213 | E45: 11003 | F45: Կրթության ոլորտում վերահսկողության ծառայություններ | G45: -2218.8
F46: այդ թվում`
F47: ՀՀ վարչապետի աշխատակազմ | G47: -2218.8
D48: 1213 | E48: 11004 | F48: Շուկայի վերահսկողության ծառայություններ | G48: -1500
F49: այդ թվում`
F50: ՀՀ վարչապետի աշխատակազմ | G50: -1500
D51: 1213 | E51: 11007 | F51: Սննդամթերքի անվտանգության բնագավառում վերահսկողության իրականացման ծառայություններ | G51: -13347.5
F52: այդ թվում`
F53: ՀՀ վարչապետի աշխատակազմ | G53: -13347.5
C54: 02 | F54: Ֆինանսական և հարկաբյուջետային հարաբերություններ | G54: -49656.7
F55: այդ թվում`
D56: 1006 | E56: 11003 | F56: ՀՀ պետական պարտքի կառավարման գործընթացի հրապարակայնության ապահովում | G56: -6758
F57: այդ թվում`
F58: ՀՀ ֆինանսների նախարարություն | G58: -6758
D59: 1108 | E59: 11001 | F59: Պլանավորում, բյուջետավորում, գանձապետական ծառայություններ, պետական պարտքի կառավարում, տնտեսական և հարկաբյուջետային քաղաքականության մշակում և մոնիտորինգ | G59: -41642.9
F60: այդ թվում`
F61: ՀՀ ֆինանսների նախարարություն | G61: -41642.9
D62: 1108 | E62: 31001 | F62: ՀՀ ֆինանսների նախարարության տեխնիկական հագեցվածության բարելավում | G62: -1255.8
F63: այդ թվում`
F64: ՀՀ ֆինանսների նախարարություն | G64: -1255.8
C65: 03 | F65: Արտաքին հարաբերություններ | G65: -301000
F66: այդ թվում`
D67: 1128 | E67: 11001 | F67: Օտարերկրյա պետություններում և միջազգային կազմակերպություններում հավատարմագրված ՀՀ դիվանագիտական ծառայության մարմինների գործունեության իրականացում | G67: -300000
F68: այդ թվում`
F69: ՀՀ արտաքին գործերի նախարարություն | G69: -300000
D70: 1178 | E70: 11001 | F70: Հայաստանի Հանրապետությունում և օտարերկրյա պետություններում արարողակարգային միջոցառումների իրականացում | G70: -1000
F71: այդ թվում`
F72: ՀՀ արտաքին գործերի նախարարություն | G72: -1000
B73: 03 | F73: Ընդհանուր բնույթի ծառայություններ | G73: -4658.7
F74: այդ թվում`
C75: 02 | F75: Ծրագրման և վիճակագրական ընդհանուր ծառայություններ | G75: -4658.7
F76: այդ թվում`
D77: 1143 | E77: 11001 | F77: Վիճակագրության քաղաքականության մշակում և իրականացում, պաշտոնական վիճակագրական տեղեկատվության մշակում, արտադրում և տարածում | G77: -2139.6
F78: այդ թվում`
F79: ՀՀ վիճակագրական կոմիտե | G79: -2139.6
D80: 1143 | E80: 11003 | F80: Հերթական մարդահամարի նախապատրաստման և անցկացման միջոցառումների իրականացում | G80: -567.9
F81: այդ թվում`
F82: ՀՀ վիճակագրական կոմիտե | G82: -567.9
D83: 1143 | E83: 31001 | F83: ՀՀ վիճակագրական կոմիտեի մարդահամարի վարչության տեխնիկական հագեցվածության բարելավում | G83: -1951.2
F84: այդ թվում`
F85: ՀՀ վիճակագրական կոմիտե | G85: -1951.2
B86: 06 | F86: Ընդհանուր բնույթի հանրային ծառայություններ (այլ դասերին չպատկանող) | G86: -21771.2
F87: այդ թվում`
C88: 01 | F88: Ընդհանուր բնույթի հանրային ծառայություններ (այլ դասերին չպատկանող) | G88: -21771.2
F89: այդ թվում`
D90: 1012 | E90: 11001 | F90: Գույքի նկատմամբ իրավունքների պետական գրանցում,գույքի և դրա նկատմամբ գրանցված իրավունքների և սահմանափակումների վերաբերյալ տեղեկատվության տրամադրում | G90: -13150
F91: այդ թվում`
F92: ՀՀ կադաստրի կոմիտե | G92: -13150
D93: 1214 | E93: 11003 | F93: Համաշխարհային բանկիաջակցությամբ իրականացվող «Հայսատանի արդյունահանող ճյուղերի թափանցիկության նախաձեռնությանն աջակցություն. Լրացուցիչ ֆինանսավորում» դրամաշնորհային ծրագիր | G93: -8621.2
F94: այդ թվում`
F95: ՀՀ վարչապետի աշխատակազմ | G95: -8621.2
B96: 07 | F96: Պետական պարտքի գծով գործառնություններ | G96: -1817937.4
F97: այդ թվում`
C98: 01 | F98: Պետական պարտքի գծով գործառնություններ | G98: -1817937.4
F99: այդ թվում`
D100: 1006 | E100: 13001 | F100: Կառավարության պարտքի սպասարկում | G100: -1817937.4
F101: այդ թվում`
...

Sheet հավելված5.
D1: Հավելված N 5 ՀՀ կառավարության 2022 թվականի ––-----------–––––––– N –––––– որոշման
A3: ՀԱՅԱՍՏԱՆԻ ՀԱՆՐԱՊԵՏՈՒԹՅԱՆ ԿԱՌԱՎԱՐՈՒԹՅԱՆ 2021 ԹՎԱԿԱՆԻ ԴԵԿՏԵՄԲԵՐԻ 23-Ի N 2121-Ն ՈՐՈՇՄԱՆ N 4 ՀԱՎԵԼՎԱԾՈՒՄ ԿԱՏԱՐՎՈՂ ՓՈՓՈԽՈՒԹՅՈՒՆՆԵՐԸ
A7: Ծրագրային դասիչը | C7: Բյուջետային գլխավոր կարգադրիչների, ծրագրերի և միջոցառումների, վերջիններս կատարող պետական կառավարման մարմինների և բյուջետային ծախսերի տնտեսագիտական դասակարգման հոդվածների անվանումները | D7: Գումարը (հազար դրամ)
A8: Ծրագիր | B8: Միջոց առում
C9: ԸՆԴԱՄԵՆԸ | D9: -1627000
C10: այդ թվում`
C11: ՀՀ վարչապետի աշխատակազմ | D11: -168557.4
C12: այդ թվում`
A13: 1033 | C13: Աջակցություն քաղաքական կուսակցություններին, հասարակական կազմակերպություններին և արհմիություններին | D13: -9528
C14: այդ թվում`
B15: 11002 | C15: Պետական կառավարման գործընթացներին քաղաքացիական հասարակության մասնակցության ապահովում | D15: -9528
C16: այդ թվում` ըստ կատարողների
C17: ՀՀ վարչապետի աշխատակազմ | D17: -9528
C18: այդ թվում` բյուջետային ծախսերի տնտեսագիտական դասակարգման հոդվածներ
C19: ԸՆԴԱՄԵՆԸ ԾԱԽՍԵՐ | D19: -9528
C20: ԸՆԹԱՑԻԿ ԾԱԽՍԵՐ | D20: -9528
C21: ԾԱՌԱՅՈՒԹՅՈՒՆՆԵՐԻ ԵՎ ԱՊՐԱՆՔՆԵՐԻ ՁԵՌՔԲԵՐՈՒՄ | D21: -9528
C22: Շարունակական ծախսեր | D22: -1000
C23: - Գույքի և սարքավորումների վարձակալություն | D23: -1000
C24: Ծառայողական գործուղումների գծով ծախսեր | D24: -7328
C25: - Ներքին գործուղումներ | D25: -1000
C26: - Արտասահմանյան գործուղումների գծով ծախսեր | D26: -6328
C27: Պայմանագրային այլ ծառայությունների ձեռքբերում | D27: -1200
C28: - Ներկայացուցչական ծախսեր | D28: -1200
A29: 1132 | C29: Քաղաքացիական ծառայողների վերապատրաստում | D29: -11000
C30: այդ թվում`
B31: 11001 | C31: ՀՀ քաղաքացիական ծառայողների վերապատրաստման ծառայություններ | D31: -11000
C32: այդ թվում` ըստ կատարողների
C33: ՀՀ վարչապետի աշխատակազմ | D33: -11000
C34: այդ թվում` բյուջետային ծախսերի տնտեսագիտական դասակարգման հոդվածներ
C35: ԸՆԴԱՄԵՆԸ ԾԱԽՍԵՐ | D35: -11000
C36: ԸՆԹԱՑԻԿ ԾԱԽՍԵՐ | D36: -11000
C37: ԾԱՌԱՅՈՒԹՅՈՒՆՆԵՐԻ ԵՎ ԱՊՐԱՆՔՆԵՐԻ ՁԵՌՔԲԵՐՈՒՄ | D37: -11000
C38: Պայմանագրային այլ ծառայությունների ձեռքբերում | D38: -11000
C39: - Ընդհանուր բնույթի այլ ծառայություններ | D39: -11000
A40: 1136 | C40: ՀՀ Վարչապետի լիազորությունների իրականացման ապահովում | D40: -5318.8
C41: այդ թվում`
B42: 11004 | C42: Աջակցություն ՀՀ վարչապետի աշխատակազմի ներքո գործող Արդյունահանող ճյուղերի թափանցիկության նախաձեռնության քարտուղարությանը | D42: -5318.8
C43: այդ թվում` ըստ կատարողների
C44: ՀՀ վարչապետի աշխատակազմ | D44: -5318.8
C45: այդ թվում` բյուջետային ծախսերի տնտեսագիտական դասակարգման հոդվածներ
C46: ԸՆԴԱՄԵՆԸ ԾԱԽՍԵՐ | D46: -5318.8
C47: ԸՆԹԱՑԻԿ ԾԱԽՍԵՐ | D47: -5318.8
C48: ԱՇԽԱՏԱՆՔԻ ՎԱՐՁԱՏՐՈՒԹՅՈՒՆ | D48: -4400
C49: Դրամով վճարվող աշխատավարձեր և հավելավճարներ | D49: -4400
C50: - Աշխատողների աշխատավարձեր և հավելավճարներ | D50: -4400
C51: ԴՐԱՄԱՇՆՈՐՀՆԵՐ | D51: -918.8
C52: Դրամաշնորհներ միջազգային կազմակերպություններին | D52: -918.8
C53: - Ընթացիկ դրամաշնորհներ միջազգային կազմակերպություններին | D53: -918.8
A54: 1213 | C54: Տեսչական վերահսկողության ծրագիր | D54: -37089.4
C55: այդ թվում`
B56: 11001 | C56: Առողջապահության ոլորտում վերահսկողության ծառայություններ | D56: -11500
C57: այդ թվում` ըստ կատարողների
C58: ՀՀ վարչապետի աշխատակազմ | D58: -11500
C59: այդ թվում` բյուջետային ծախսերի տնտեսագիտական դասակարգման հոդվածներ
C60: ԸՆԴԱՄԵՆԸ ԾԱԽՍԵՐ | D60: -11500
C61: ԸՆԹԱՑԻԿ ԾԱԽՍԵՐ | D61: -11500
C62: ԾԱՌԱՅՈՒԹՅՈՒՆՆԵՐԻ ԵՎ ԱՊՐԱՆՔՆԵՐԻ ՁԵՌՔԲԵՐՈՒՄ | D62: -11500
C63: Շարունակական ծախսեր | D63: -6500
C64: - Էներգետիկ ծառայություններ | D64: -1500
C65: - Գույքի և սարքավորումների վարձակալություն | D65: -5000
C66: Ծառայողական գործուղումների գծով ծախսեր | D66: -1000
C67: - Ներքին գործուղումներ | D67: -1000
C68: Այլ մասնագիտական ծառայությունների ձեռքբերում | D68: -4000
C69: - Մասնագիտական ծառայություններ | D69: -4000
B70: 11002 | C70: Բնապահպանության ոլորտում վերահսկողության ծառայություններ | D70: -8523.1
C71: այդ թվում` ըստ կատարողների
C72: ՀՀ վարչապետի աշխատակազմ | D72: -8523.1
C73: այդ թվում` բյուջետային ծախսերի տնտեսագիտական դասակարգման հոդվածներ
C74: ԸՆԴԱՄԵՆԸ ԾԱԽՍԵՐ | D74: -8523.1
C75: ԸՆԹԱՑԻԿ ԾԱԽՍԵՐ | D75: -8523.1
C76: ԾԱՌԱՅՈՒԹՅՈՒՆՆԵՐԻ ԵՎ ԱՊՐԱՆՔՆԵՐԻ ՁԵՌՔԲԵՐՈՒՄ | D76: -8523.1
C77: Շարունակական ծախսեր | D77: -3000
C78: - Էներգետիկ ծառայություններ | D78: -3000
C79: Ծառայողական գործուղումների գծով ծախսեր | D79: -4000
C80: - Ներքին գործուղումներ | D80: -4000
C81: Նյութեր (Ապրանքներ) | D81: -1523.1
C82: - Տրանսպորտային նյութեր | D82: -1523.1
B83: 11003 | C83: Կրթության ոլորտում վերահսկողության ծառայություններ | D83: -2218.8
C84: այդ թվում` ըստ կատարողների
C85: ՀՀ վարչապետի աշխատակազմ | D85: -2218.8
C86: այդ թվում` բյուջետային ծախսերի տնտեսագիտական դասակարգման հոդվածներ
C87: ԸՆԴԱՄԵՆԸ ԾԱԽՍԵՐ | D87: -2218.8
C88: ԸՆԹԱՑԻԿ ԾԱԽՍԵՐ | D88: -2218.8
C89: ԾԱՌԱՅՈՒԹՅՈՒՆՆԵՐԻ ԵՎ ԱՊՐԱՆՔՆԵՐԻ ՁԵՌՔԲԵՐՈՒՄ | D89: -2218.8
C90: Ծառայողական գործուղումների գծով ծախսեր | D90: -2218.8
C91: - Ներքին գործուղումներ | D91: -2218.8
B92: 11004 | C92: Շուկայի վերահսկողության ծառայություններ | D92: -1500
C93: այդ թվում` ըստ կատարողների
C94: ՀՀ վարչապետի աշխատակազմ | D94: -1500
C95: այդ թվում` բյուջետային ծախսերի տնտեսագիտական դասակարգման հոդվածներ
C96: ԸՆԴԱՄԵՆԸ ԾԱԽՍԵՐ | D96: -1500
C97: ԸՆԹԱՑԻԿ ԾԱԽՍԵՐ | D97: -1500
C98: ԾԱՌԱՅՈՒԹՅՈՒՆՆԵՐԻ ԵՎ ԱՊՐԱՆՔՆԵՐԻ ՁԵՌՔԲԵՐՈՒՄ | D98: -1500
C99: Շարունակական ծախսեր | D99: -500
C100: - Կապի ծառայություններ | D100: -500
C101: Պայմանագրային այլ ծառայությունների ձեռքբերում | D101: -1000
C102: - Համակարգչային ծառայություններ | D102: -1000
B103: 11007 | C103: Սննդամթերքի անվտանգության բնագավառում վերահսկողության իրականացման ծառայություններ | D103: -13347.5
C104: այդ թվում` ըստ կատարողների
...

Sheet հավելված6.
D1: Հավելված N 6
C2: ՀՀ կառավարության 2022 թվականի
C3: ___________ ___-ի N _______ -Ն որոշման
A6: «ՀԱՅԱՍՏԱՆԻ ՀԱՆՐԱՊԵՏՈՒԹՅԱՆ 2022 ԹՎԱԿԱՆԻ ՊԵՏԱԿԱՆ ԲՅՈՒՋԵԻ ՄԱՍԻՆ» ՕՐԵՆՔԻ N 1 ՀԱՎԵԼՎԱԾԻ N 4 ԱՂՅՈՒՍԱԿՈՒՄ ԵՎ ՀԱՅԱՍՏԱՆԻ ՀԱՆՐԱՊԵՏՈՒԹՅԱՆ ԿԱՌԱՎԱՐՈՒԹՅԱՆ 2021 ԹՎԱԿԱՆԻ ԴԵԿՏԵՄԲԵՐԻ 23-Ի N 2121-Ն ՈՐՈՇՄԱՆ N 5 ՀԱՎԵԼՎԱԾԻ N 3 ԱՂՅՈՒՍԱԿՈՒՄ ԿԱՏԱՐՎՈՂ ՓՈՓՈԽՈՒԹՅՈՒՆՆԵՐԸ
E7: հազ. դրամ
A8: Ծրագրային դասիչը | C8: Բյուջետային հատկացումների գլխավոր կարգադրիչների, ծրագրերի, միջոցառումների և միջոցառումները կատարող պետական մարմինների անվանումները | D8: Ցուցանիշների փոփոխությունները (ավելացումները նշված են դրական նշանով, իսկ նվազեցումները` փակագծերում)
D9: Տարի
A10: Ծրագիր | B10: Միջոց_x000D_առում | D10: Ընդամենը | E10: այդ թվում
E11: Վարկային միջոցներ | F11: Համաֆինան սավորում
C12: ԸՆԴԱՄԵՆԸ_x000D_ այդ թվում` | D12: =+D13+D14 -> -2176000 | E12: =+E13+E14 -> -1627000 | F12: =+F13+F14 -> -549000
C13: - ԸՆԹԱՑԻԿ ԾԱԽՍԵՐ | D13: =+E13+F13 -> 0 | E13: 0 | F13: 0
C14: - ՈՉ ՖԻՆԱՆՍԱԿԱՆ ԱԿՏԻՎՆԵՐԻ ԳԾՈՎ ԾԱԽՍԵՐ | D14: =+D22 -> -2176000 | E14: =+E22 -> -1627000 | F14: =+F22 -> -549000
C15: ՀՀ ԷԿՈՆՈՄԻԿԱՅԻ ՆԱԽԱՐԱՐՈՒԹՅՈՒՆ_x000D_ այդ թվում` | D15: =+D16 -> -2176000 | E15: =+E16 -> -1627000 | F15: =+F16 -> -549000
A16: 1190 | C16: Զբոսաշրջության զարգացման ծրագիր | D16: =+E16+F16 -> -2176000 | E16: =+E18 -> -1627000 | F16: =+F18 -> -549000
C17: այդ թվում`
B18: 12001 | C18: Համաշխարհային բանկի աջակցությամբ իրականացվող Տեղական տնտեսության և_x000D_ ենթակառուցվածքների զարգացման ծրագրի շրջանակներում ՀՀ տարբեր մարզերում_x000D_ զբոսաշրջության հետ կապված ենթակառուցվածքների բարելավմանն ուղղված միջոցառումներ | D18: =+E18+F18 -> -2176000 | E18: =+E22 -> -1627000 | F18: =+F22 -> -549000
C19: այդ թվում` ըստ կատարողների
C20: ՀՀ էկոնոմիկայի նախարարություն | D20: =+E20+F20 -> -2176000 | E20: =+E18 -> -1627000 | F20: =+F18 -> -549000
C21: այդ թվում` բյուջետային ծախսերի տնտեսագիտական դասակարգման հոդվածներ
C22: ՈՉ ՖԻՆԱՆՍԱԿԱՆ ԱԿՏԻՎՆԵՐԻ ԳԾՈՎ ԾԱԽՍԵՐ | D22: =D23 -> -2176000 | E22: =E23 -> -1627000 | F22: =F23 -> -549000
C23: ՀԻՄՆԱԿԱՆ ՄԻՋՈՑՆԵՐ | D23: =D24+D26 -> -2176000 | E23: =E24+E26 -> -1627000 | F23: =F24+F26 -> -549000
C24: ՇԵՆՔԵՐ ԵՎ ՇԻՆՈՒԹՅՈՒՆՆԵՐ | D24: =D25 -> -1689000 | E24: =E25 -> -1251000 | F24: =F25 -> -438000
C25: - Շենքերի և շինությունների շինարարություն | D25: =+E25+F25 -> -1689000 | E25: -1251000 | F25: -438000
C26: ԱՅԼ ՀԻՄՆԱԿԱՆ ՄԻՋՈՑՆԵՐ | D26: =D27 -> -487000 | E26: =E27 -> -376000 | F26: =F27 -> -111000
C27: - Նախագծահետազոտական ծախսեր | D27: =+E27+F27 -> -487000 | E27: -376000 | F27: -111000

Sheet հավելված7
D1: Հավելված N 7
C2: ՀՀ կառավարության 2022 թվականի
C3: ___________ ___-ի N _______ -Ն որոշման
A6: «ՀԱՅԱՍՏԱՆԻ ՀԱՆՐԱՊԵՏՈՒԹՅԱՆ 2022 ԹՎԱԿԱՆԻ ՊԵՏԱԿԱՆ ԲՅՈՒՋԵԻ ՄԱՍԻՆ» ՕՐԵՆՔԻ N 1 ՀԱՎԵԼՎԱԾԻ N 5 ԱՂՅՈՒՍԱԿՈՒՄ ԵՎ ՀԱՅԱՍՏԱՆԻ ՀԱՆՐԱՊԵՏՈՒԹՅԱՆ ԿԱՌԱՎԱՐՈՒԹՅԱՆ 2021 ԹՎԱԿԱՆԻ ԴԵԿՏԵՄԲԵՐԻ 23-Ի N 2121-Ն ՈՐՈՇՄԱՆ N 5 ՀԱՎԵԼՎԱԾԻ N 4 ԱՂՅՈՒՍԱԿՈՒՄ ԿԱՏԱՐՎՈՂ ՓՈՓՈԽՈՒԹՅՈՒՆՆԵՐԸ
E7: հազ. դրամ
A8: Ծրագրային դասիչը | C8: Բյուջետային հատկացումների գլխավոր կարգադրիչների, ծրագրերի, միջոցառումների և միջոցառումները կատարող պետական մարմինների անվանումները | D8: Ցուցանիշների փոփոխությունները (ավելացումները նշված են դրական նշանով, իսկ նվազեցումները` փակագծերում)
D9: Տարի
A10: Ծրագիր | B10: Միջոց_x000D_առում | D10: Ընդամենը | E10: այդ թվում
E11: Դրամաշնորհային միջոցներ | F11: Համաֆինան սավորում
C12: ԸՆԴԱՄԵՆԸ_x000D_ այդ թվում` | D12: =+D13+D14 -> -8621.2 | E12: =+E13+E14 -> 0 | F12: =+F13+F14 -> -8621.2
C13: - ԸՆԹԱՑԻԿ ԾԱԽՍԵՐ | D13: =+E13+F13 -> 0 | E13: 0 | F13: 0
C14: - ՈՉ ՖԻՆԱՆՍԱԿԱՆ ԱԿՏԻՎՆԵՐԻ ԳԾՈՎ ԾԱԽՍԵՐ | D14: =+D22 -> -8621.2 | E14: =+E22 -> 0 | F14: =+F22 -> -8621.2
C15: ՀՀ վարչապետի աշխատակազմ | D15: =+D16 -> -8621.2 | E15: =+E16 -> 0 | F15: =+F16 -> -8621.2
A16: 1214 | C16: Արդյունահանող ճյուղերի զարգացման ծրագիր | D16: =+E16+F16 -> -8621.2 | E16: =+E18 -> 0 | F16: =+F18 -> -8621.2
C17: այդ թվում`
B18: 11003 | C18: Համաշխարհային բանկիաջակցությամբ իրականացվող «Հայսատանի արդյունահանող ճյուղերի թափանցիկության նախաձեռնությանն աջակցություն. Լրացուցիչ ֆինանսավորում» դրամաշնորհային ծրագիր | D18: =+E18+F18 -> -8621.2 | E18: =+E22 -> 0 | F18: =+F22 -> -8621.2
C19: այդ թվում` ըստ կատարողների
C20: ՀՀ վարչապետի աշխատակազմ | D20: =+E20+F20 -> -8621.2 | E20: =+E18 -> 0 | F20: =+F18 -> -8621.2
C21: այդ թվում` բյուջետային ծախսերի տնտեսագիտական դասակարգման հոդվածներ
C22: ԸՆԴԱՄԵՆԸ ԾԱԽՍԵՐ | D22: =+D23 -> -8621.2 | E22: 0 | F22: =+F23 -> -8621.2
C23: ԸՆԹԱՑԻԿ ԾԱԽՍԵՐ | D23: =+E23+F23 -> -8621.2 | E23: 0 | F23: =+F24 -> -8621.2
C24: ԱՅԼ ԾԱԽՍԵՐ | D24: =+E24+F24 -> -8621.2 | E24: 0 | F24: =F25 -> -8621.2
C25: - Այլ ծախսեր | D25: =+E25+F25 -> -8621.2 | E25: 0 | F25: -8621.2

Sheet հավելված8.
E1: Հավելված N 8
A2: «ՀԱՅԱՍՏԱՆԻ ՀԱՆՐԱՊԵՏՈՒԹՅԱՆ 2022 ԹՎԱԿԱՆԻ ՊԵՏԱԿԱՆ ԲՅՈՒՋԵԻ ՄԱՍԻՆ» ՀԱՅԱՍՏԱՆԻ ՀԱՆՐԱՊԵՏՈՒԹՅԱՆ ՕՐԵՆՔԻ N 1 ՀԱՎԵԼՎԱԾԻ N 7 ԱՂՅՈՒՍԱԿՈՒՄ ԵՎ ՀԱՅԱՍՏԱՆԻ ՀԱՆՐԱՊԵՏՈՒԹՅԱՆ ԿԱՌԱՎԱՐՈՒԹՅԱՆ 2021 ԹՎԱԿԱՆԻ ԴԵԿՏԵՄԲԵՐԻ 23-Ի N 2121-Ն ՈՐՈՇՄԱՆ N5 ՀԱՎԵԼՎԱԾԻ N 6 ԱՂՅՈՒՍԱԿՈՒՄ ԿԱՏԱՐՎՈՂ ՓՈՓՈԽՈՒԹՅՈՒՆՆԵՐԸ
D3: հազար դրամ
A4: Ծրագրային դասիչը | C4: Հատկացումների տրամադրման նպատակները և բյուջետային գլխավոր կարգադրիչների, ծրագրերի, միջոցառումների և կատարող պետական մարմնի անվանումները | D4: Տարի
A5: Ծրագիր | B5: Միջոցառում
C6: Ընդամենը | D6: =D8 -> -8147.9
A7: այդ թվում`
A8: Ընթացիկ սուբվենցիաներ համայնքներին | D8: =D9 -> -8147.9
A9: ՀՀ շրջակա միջավայրի նախարարություն | D9: =+D10 -> -8147.9
A10: 1133 | C10: Բնապահպանական ծրագրերի իրականացում համայնքներում | D10: =+D12 -> -8147.9
C11: այդ թվում`
B12: 12001 | C12: Բնապահպանական սուբվենցիաներ համայնքներին | D12: =+D14 -> -8147.9
C13: այդ թվում` ըստ կատարողների
C14: ՀՀ շրջակա միջավայրի նախարարություն | D14: ='[1]N 1'!D48 -> -8147.9

Sheet հավելված9
E1: Հավելված N 9
A2: «ՀԱՅԱՍՏԱՆԻ ՀԱՆՐԱՊԵՏՈՒԹՅԱՆ 2022 ԹՎԱԿԱՆԻ ՊԵՏԱԿԱՆ ԲՅՈՒՋԵԻ ՄԱՍԻՆ» ՀԱՅԱՍՏԱՆԻ ՀԱՆՐԱՊԵՏՈՒԹՅԱՆ ՕՐԵՆՔԻ N 7 ՀԱՎԵԼՎԱԾՈՒՄ ԵՎ ՀԱՅԱՍՏԱՆԻ ՀԱՆՐԱՊԵՏՈՒԹՅԱՆ ԿԱՌԱՎԱՐՈՒԹՅԱՆ 2021 ԹՎԱԿԱՆԻ ԴԵԿՏԵՄԲԵՐԻ 23-Ի N 2121-Ն ՈՐՈՇՄԱՆ N 5 ՀԱՎԵԼՎԱԾԻ N 10 ԱՂՅՈՒՍԱԿՈՒՄ ԿԱՏԱՐՎՈՂ ՓՈՓՈԽՈՒԹՅՈՒՆՆԵՐԸ
E4: հազար դրամներով
A5: NN | B5: Համայնքի անվանումը | C5: Ընդամենը, | D5: այդ թվում` ըստ բյուջետային ծախսերի տնտեսագիտական դասակարգման հոդվածների
D6: Ընթացիկ սուբվենցիաներ համայնքներին | E6: Կապիտալ սուբվենցիաներ համայնքներին
B7: 1 | C7: 2 | D7: 3 | E7: 4
B8: ԸՆԴԱՄԵՆԸ | C8: =C10 -> -8147.9 | D8: =D10 -> -8147.9 | E8: =E10 -> 0
B9: այդ թվում`
A10: 5 | B10: ՀՀ ՍՅՈՒՆԻՔԻ ՄԱՐԶ | C10: =SUM(C12) -> -8147.9 | D10: =SUM(D12) -> -8147.9 | E10: =SUM(E12) -> 0
B11: այդ թվում`
A12: 5.1 | B12: Կապան համայնք | C12: =C14 -> -8147.9 | D12: =D14 -> -8147.9 | E12: =E14 -> 0
B13: այդ թվում`
B14: Կապան համայնքի բնապահպանական ծրագրով նախատեսված միջոցառումների իրականացման առաջնայնությունները և դրանց ֆինանսական համամասնությունները ծրագիր | C14: =D14+E14 -> -8147.9 | D14: -8147.9

Sheet հավելված10
F1: Հավելված N 10
D2: ՀՀ կառավարության 2022 թվականի
D3: ___________ ___-ի N _______ -Ն որոշման
A6: ՀԱՅԱՍՏԱՆԻ ՀԱՆՐԱՊԵՏՈՒԹՅԱՆ 2022 ԹՎԱԿԱՆԻ ՊԵՏԱԿԱՆ ԲՅՈՒՋԵԻ ՄԱՍԻՆ ՕՐԵՆՔԻ N 1 ՀԱՎԵԼՎԱԾԻ N 3 ԱՂՅՈՒՍԱԿՈՒՄ ԿԱՏԱՐՎՈՂ ՓՈՓՈԽՈՒԹՅՈՒՆՆԵՐԸ
G7: (հազ. դրամ)
A8: Շրագրային դասիչը | C8: Բյուջետային գլխավոր կարգադրիչների, ծրագրերի և միջոցառումների և ուղղությունների անվանումները | D8: Ընդամենը, | E8: Ցուցանիշների փոփոխությունը (նվազեցումները նշված են փակագծերում)
E9: այդ թվում
A10: Ծրագիր | B10: Միջոցառում | E10: Կառուցման աշխատանքներ | F10: Վերակառուցման, վերանորոգման և վերականգնման աշխատանքներ | G10: Նախագծահետազոտական, գեոդեզիա-քարտեզագրական աշխատանքներ | H10: Ոչ ֆինանսական այլ ակտիվների ձեռքբերում
C11: ԸՆԴԱՄԵՆԸ | D11: =+D14+D19+D26+D30+D34+D38+D42 -> -815042.8 | E11: =+E14+E19+E26+E30+E34+E38+E42 -> 0 | F11: =+F14+F19+F26+F30+F34+F38+F42 -> -697383.4 | G11: =+G14+G19+G26+G30+G34+G38+G42 -> -59993 | H11: =+H14+H19+H26+H30+H34+H38+H42 -> -57666.4
C12: այդ թվում`
C14: ՀՀ ՔՆՆՉԱԿԱՆ ԿՈՄԻՏԵ | D14: =+E14+F14+G14+H14 -> -15696.5 | F14: =+F16+F17 -> -8683.4 | H14: =+H16+H17 -> -7013.1
C15: այդ թվում`
A16: 1180 | B16: 31001 | C16: ՀՀ քննչական կոմիտեի տեխնիկական հագեցվածության բարելավում | D16: =+E16+F16+G16+H16 -> -7013.1 | H16: -7013.1
A17: 1180 | B17: 31004 | C17: ՀՀ քննչական կոմիտեի շենքային պայմանների բարելավում | D17: =+E17+F17+G17+H17 -> -8683.4 | F17: -8683.4
C19: ՀՀ ՔԱՂԱՔԱՇԻՆՈՒԹՅԱՆ ԿՈՄԻՏԵ | D19: =+E19+F19+G19+H19 -> -10212 | G19: =+G21+G22+G24 -> -10212
C20: այդ թվում`
A21: 1103 | B21: 11002 | C21: Նորմատիվատեխնիկական փաստաթղթերի մշակում և տեղայնացում | D21: =+E21+F21+G21+H21 -> -1200 | G21: -1200
A22: 1103 | B22: 11003 | C22: Միկրոռեգիոնալ մակարդակի համակցված տարածական պլանավորման փաստաթղթերի մշակում | D22: =+E22+F22+G22+H22 -> -1512 | G22: =G23 -> -1512
C23: ՀՀ Գեղարքունի մարզի համայնքների (մասնակի) համակցված տարածական պլանավորման թվով 8 փաստաթղթերի նախագծերի մշակում (տարածքային հատակագծման նախագծի և փորձաքննությունների մասով) | D23: =+E23+F23+G23+H23 -> -1512 | G23: -1512
A24: 1103 | B24: 21001 | C24: Քաղաքաշինության բնագավառում պետական ծրագրերի իրականացման ապահովում | D24: =+E24+F24+G24+H24 -> -7500 | G24: =G25 -> -7500
C25: Հայաստանի Հանրապետության Լոռու մարզի Ստեփանավան համայնքի Աշոտաբերդում թաղամասի կառուցում | D25: =+E25+F25+G25+H25 -> -7500 | G25: -7500
C26: ՀՀ ոստիկանություն | D26: =+E26+F26+G26+H26 -> -718736.5 | F26: =+F28 -> -688700 | G26: =+G28 -> -11300 | H26: =+H28 -> -18736.5
C27: այդ թվում`
A28: 1158 | B28: 31001 | C28: ՀՀ ոստիկանության կարիքի բավարարում | D28: =+E28+F28+G28+H28 -> -718736.5 | F28: -688700 | G28: -11300 | H28: -18736.5
C30: ՀՀ ՎԻՃԱԿԱԳՐԱԿԱՆ ԿՈՄԻՏԵ | D30: =SUM(E30:H30) -> -1951.2 | E30: =E32 -> 0 | F30: =F32 -> 0 | G30: =G32 -> 0 | H30: =H32 -> -1951.2
C31: այդ թվում`
A32: 1143 | B32: 31001 | C32: ՀՀ վիճակագրական կոմիտեի մարդահամարի վարչության տեխնիկական հագեցվածության բարելավում | D32: =SUM(E32:H32) -> -1951.2 | H32: -1951.2
C34: ՀՀ ՖԻՆԱՆՍՆԵՐԻ ՆԱԽԱՐԱՐՈՒԹՅՈՒՆ | D34: =D36 -> -1255.8 | E34: =E36 -> 0 | F34: =F36 -> 0 | G34: =G36 -> 0 | H34: =H36 -> -1255.8
C35: այդ թվում`
A36: 1108 | B36: 31001 | C36: ՀՀ ֆինանսների նախարարության տեխնիկական հագեցվածության բարելավում | D36: =SUM(E36:H36) -> -1255.8 | H36: -1255.8
C38: ՀՀ ԱՐԴԱՐԱԴԱՏՈՒԹՅԱՆ ՆԱԽԱՐԱՐՈՒԹՅՈՒՆ | D38: =SUM(E38:H38) -> -46432.8 | E38: =SUM(E40:E41) -> 0 | F38: =SUM(F40:F41) -> 0 | G38: =SUM(G40:G41) -> -38481 | H38: =SUM(H40:H41) -> -7951.8
C39: այդ թվում`
A40: 1120 | B40: 31002 | C40: ՀՀ արդարադատության նախարարության քրեակատարողական ծառայության կարողությունների զարգացում և տեխնիկական հագեցվածության ապահովում | D40: =SUM(E40:H40) -> -7951.8 | H40: -7951.8
A41: 1120 | B41: 31003 | C41: Քրեակատարողական հիմմնարկների շենքային պայմանների բարելավում | D41: =SUM(E41:H41) -> -38481 | G41: -38481
C42: ՀՀ ԱԶԳԱՅԻՆ ԱՆՎՏԱՆԳՈՒԹՅԱՆ ԾԱՌԱՅՈՒԹՅՈՒՆ | D42: =SUM(E42:H42) -> -20758 | E42: =SUM(E44:E45) -> 0 | F42: =SUM(F44:F45) -> 0 | G42: =SUM(G44:G45) -> 0 | H42: =SUM(H44:H45) -> -20758
C43: այդ թվում`
A44: 1036 | B44: 31001 | C44: ՊՊԾ տրանսպորտային միջոցներով ապահովվածության բարելավում | D44: =SUM(E44:H44) -> -20758 | H44: -20758

Sheet հավելված11
D1: Հավելված N 11
D2: ՀՀ կառավարության 2022 թվականի
D3: ______________ ի ___Ն որոշման
A6: ՀԱՅԱՍՏԱՆԻ ՀԱՆՐԱՊԵՏՈՒԹՅԱՆ ԿԱՌԱՎԱՐՈՒԹՅԱՆ 2021ԹՎԱԿԱՆԻ ԴԵԿՏԵՄԲԵՐԻ23-Ի N 2121-Ն ՈՐՈՇՄԱՆ N 5 ՀԱՎԵԼՎԱԾԻ N 2 ԱՂՅՈՒՍԱԿՈՒՄ ԿԱՏԱՐՎՈՂ ՓՈՓՈԽՈՒԹՅՈՒՆՆԵՐԸ
D7: (հազ. դրամ)
A8: Շրագրային դասիչը | C8: Բյուջետային գլխավոր կարգադրիչների, ծրագրերի, միջոցառումների, միջոցառումները կատարող պետական մարմինների և ուղղությունների անվանումները | D8: Ցուցանիշների փոփոխությունը (նվազեցումները նշված են փակագծերում)
A10: Ծրագիր | B10: Միջոցառում | D10: տարի
C11: ԸՆԴԱՄԵՆԸ | D11: =+D14+D25+D39+D45+D51+D57+D65 -> -815042.8
C12: այդ թվում`
C14: ՀՀ ՔՆՆՉԱԿԱՆ ԿՈՄԻՏԵ | D14: =+D16+D19 -> -15696.5
C15: այդ թվում`
A16: 1180 | B16: 31001 | C16: ՀՀ քննչական կոմիտեի տեխնիկական հագեցվածության բարելավում | D16: =D18 -> -7013.1
C17: այդ թվում` ըստ կատարողների
C18: ՀՀ քննչական կոմիտե | D18: -7013.1
A19: 1180 | B19: 31004 | C19: ՀՀ քննչական կոմիտեի շենքային պայմանների բարելավում | D19: -8683.4
C20: այդ թվում` ըստ կատարողների
C21: ՀՀ քննչական կոմիտե | D21: =D23 -> -8683.4
C22: այդ թվում` ըստ ուղղությունների
C23: ՀՀ քննչական կոմիտեի Տավուշի մարզի Գետահովիտ համայնքի 1-ի փողոցի 3/3 վեցերորդ կայազորային քննչական բաժնի վարչական շենքի կապիտալ վերանորոգում | D23: -8683.4
C25: ՀՀ ՔԱՂԱՔԱՇԻՆՈՒԹՅԱՆ ԿՈՄԻՏԵ | D25: =+D26+D29+D34 -> -10212
A26: 1103 | B26: 11002 | C26: Նորմատիվատեխնիկական փաստաթղթերի մշակում և տեղայնացում | D26: =D28 -> -1200
C27: այդ թվում` ըստ կատարողների
C28: ՀՀ քաղաքաշինության կոմիտե | D28: -1200
A29: 1103 | B29: 11003 | C29: Միկրոռեգիոնալ մակարդակի համակցված տարածական պլանավորման փաստաթղթերի մշակում | D29: =D31 -> -1512
C30: այդ թվում` ըստ կատարողների
C31: ՀՀ քաղաքաշինության կոմիտե | D31: =D33 -> -1512
C32: այդ թվում` ըստ ուղղությունների
C33: ՀՀ Գեղարքունի մարզի համայնքների (մասնակի) համակցված տարածական պլանավորման թվով 8 փաստաթղթերի նախագծերի մշակում (տարածքային հատակագծման նախագծի և փորձաքննությունների մասով) | D33: -1512
A34: 1103 | B34: 21001 | C34: Քաղաքաշինության բնագավառում պետական ծրագրերի իրականացման ապահովում | D34: =D36 -> -7500
C35: այդ թվում` ըստ կատարողների
C36: ՀՀ քաղաքաշինության կոմիտե | D36: =D38 -> -7500
C37: այդ թվում` ըստ ուղղությունների
C38: Հայաստանի Հանրապետության Լոռու մարզի Ստեփանավան համայնքի Աշոտաբերդում թաղամասի կառուցում | D38: -7500
C39: ՀՀ ՈՍՏԻԿԱՆՈՒԹՅՈՒՆ | D39: =+D41 -> -718736.5
C40: այդ թվում`
A41: 1158 | B41: 31001 | C41: ՀՀ ոստիկանության կարիքի բավարարում | D41: =+D43 -> -718736.5
C42: այդ թվում` ըստ կատարողների
C43: ՀՀ ոստիկանություն | D43: -718736.5
C45: ՀՀ ՎԻՃԱԿԱԳՐԱԿԱՆ ԿՈՄԻՏԵ | D45: =D47 -> -1951.2
C46: այդ թվում`
A47: 1143 | B47: 31001 | C47: ՀՀ վիճակագրական կոմիտեի մարդահամարի վարչության տեխնիկական հագեցվածության բարելավում | D47: =D49 -> -1951.2
C48: այդ թվում` ըստ կատարողների
C49: ՀՀ վիճակագրական կոմիտե | D49: -1951.2
C51: ՀՀ ՖԻՆԱՆՍՆԵՐԻ ՆԱԽԱՐԱՐՈՒԹՅՈՒՆ | D51: =D53 -> -1255.8
C52: այդ թվում`
A53: 1108 | B53: 31001 | C53: ՀՀ ֆինանսների նախարարության տեխնիկական հագեցվածության բարելավում | D53: =D55 -> -1255.8
C54: այդ թվում` ըստ կատարողների
C55: ՀՀ ֆինանսների նախարարություն | D55: -1255.8
C57: ՀՀ ԱՐԴԱՐԱԴԱՏՈՒԹՅԱՆ ՆԱԽԱՐԱՐՈՒԹՅՈՒՆ | D57: =D59+D62 -> -46432.8
C58: այդ թվում`
A59: 1120 | B59: 31002 | C59: ՀՀ արդարադատության նախարարության քրեակատարողական ծառայության կարողությունների զարգացում և տեխնիկական հագեցվածության ապահովում | D59: =D61 -> -7951.8
C60: այդ թվում` ըստ կատարողների
C61: ՀՀ արդարադատության նախարարության քրեակատարողական ծառայություն | D61: -7951.8
A62: 1120 | B62: 31003 | C62: Քրեակատարողական հիմմնարկների շենքային պայմանների բարելավում | D62: =D64 -> -38481
C63: այդ թվում` ըստ կատարողների
C64: ՀՀ արդարադատության նախարարության քրեակատարողական ծառայություն | D64: -38481
C65: ՀՀ ԱԶԳԱՅԻՆ ԱՆՎՏԱՆԳՈՒԹՅԱՆ ԾԱՌԱՅՈՒԹՅՈՒՆ | D65: =D67+D70 -> -20758
C66: այդ թվում`
A67: 1036 | B67: 31001 | C67: ՊՊԾ տրանսպորտային միջոցներով ապահովվածության բարելավում | D67: =D69 -> -20758
C68: այդ թվում` ըստ կատարողների
C69: ՀՀ պետական պահպանության ծառայություն | D69: -20758

Sheet հավելված12
D1: Հավելված N 12
A2: ՀՀ կառավարության 2022 թվականի
A3: ______________ ի ___Ն որոշման
A4: ՀԱՅԱՍՏԱՆԻ ՀԱՆՐԱՊԵՏՈՒԹՅԱՆ ԿԱՌԱՎԱՐՈՒԹՅԱՆ 2021 ԹՎԱԿԱՆԻ ԴԵԿՏԵՄԲԵՐԻ 23-Ի N 2121-Ն ՈՐՈՇՄԱՆ N 9 ԱՂՅՈՒՍԱԿՆԵՐՈՒՄ ԿԱՏԱՐՎՈՂ ՓՈՓՈԽՈՒԹՅՈՒՆՆԵՐԸ
E5: Աղյուսակ 11.1
A6: ՀՀ վարչապետի աշխատակազմ
A7: ՄԱՍ 2. ՊԵՏԱԿԱՆ ՄԱՐՄՆԻ ԳԾՈՎ ԱՐԴՅՈՒՆՔԱՅԻՆ (ԿԱՏԱՐՈՂԱԿԱՆ) ՑՈՒՑԱՆԻՇՆԵՐԸ
A9: Ծրագրի դասիչը | B9: Ծրագրի անվանումը
A10: 1033 | B10: Աջակցություն քաղաքական կուսակցություններին, հասարակական կազմակերպություններին և արհմիություններին
A12: Ծրագրի միջոցառումները
A14: Ծրագրի դասիչը` | B14: 1033 | C14: Ցուցանիշներ
A15: Միջոցառման դասիչը` | B15: 11002 | C15: 2020թ. փաստացի | D15: 2021թ. սպասվող | E15: 2022թ.տարի
A16: Միջոցառման անվանումը` | B16: Պետական կառավարման գործընթացներին քաղաքացիական հասարակության մասնակցության ապահովում
A17: Նկարագրությունը` | B17: Հանրային խորհրդի բնականոն գործունեության ապահովում
A18: Միջոցառման տեսակը` | B18: Ծառայությունների մատուցում
A19: Միջոցառումն իրականացնողի անվանումը | B19: ՀՀ վարչապետի աշխատակազմ
A20: Արդյունքի չափորոշիչներ
A21: Միջոցառման վրա կատարված ծախսը (հազար դրամ) | E21: -9528
A24: Ծրագրի դասիչը | B24: Ծրագրի անվանումը
A25: 1132 | B25: Քաղաքացիական ծառայողների վերապատրաստում
A27: Ծրագրի միջոցառումները
A29: Ծրագրի դասիչը` | B29: 1132 | C29: Ցուցանիշներ
A30: Միջոցառման դասիչը` | B30: 11001 | C30: 2020թ. փաստացի | D30: 2021թ սպասվող | E30: 2022թ տարի
A31: Միջոցառման անվանումը` | B31: ՀՀ քաղաքացիական ծառայողների վերապատրաստման ծառայություններ
A32: Նկարագրությունը` | B32: Քաղաքացիական ծառայողների մասնագիտական գիտելիքների և աշխատանքային ունակությունների հետևողական վերապատրաստման և ուսուցման ծառայություններ
A33: Միջոցառման տեսակը` | B33: Ծառայությունների մատուցում
A34: Ծառայությունը մատուցող կազմակերպության(ների) անվանում(ներ)ը? | B34: «Գնումների մասին» ՀՀ օրենքի համաձայն ընտրված կազմակերպություն
A35: Արդյունքի չափորոշիչներ
A36: Վերապատրաստվող քաղաքացիական ծառայողների թիվ, մարդ | E36: -1111
A37: Վերապատրաստման ծրագրերի թիվ, հատ
A38: Հեռավար ուսուցման մոդուլների քանակը | E38: -6
A39: Վերապատրաստվող աշխատակիցների շրջանակում կանանց և տղամարդկանց հարաբերակցություն, տոկոս
A40: Միջոցառման վրա կատարվող ծախսը (հազար դրամ) | E40: -11000
A43: Ծրագրի դասիչը | B43: Ծրագրի անվանումը
A44: 1136 | B44: ՀՀ Վարչապետի լիազորությունների իրականացման ապահովում
A46: Ծրագրի միջոցառումները
A48: Ծրագրի դասիչը` | B48: 1136 | C48: Ցուցանիշներ
A49: Միջոցառման դասիչը` | B49: 11004 | C49: 2020թ. փաստացի | D49: 2021թ սպասվող | E49: 2022թ տարի
A50: Միջոցառման անվանումը` | B50: Աջակցություն ՀՀ վարչապետի աշխատակազմի ներքո գործող Արդյունահանող ճյուղերի թափանցիկության նախաձեռնության քարտուղարությանը
A51: Նկարագրությունը` | B51: Ազգային ծրագրով նախատեսված տեխնիկական առաջադրանքների նախագծերի հաստատման ենթակա փաստաթղթերի կազմում, հանրային իրազեկման միջոցառումների իրականացում և դոնոր կազմակերպությունների հետ աշխատանքի համակարգում
A52: Միջոցառման տեսակը` | B52: Ծառայությունների մատուցում
A53: Միջոցառումն իրականացնողի անվանումը՛ | B53: ՀՀ վարչապետի աշխատակազմ
A54: Արդյունքի չափորոշիչներ
A55: Անդամակցվող միջազգային կազմակերպությունների քանակ
A56: ԱՃԹՆ-ին ՀՀ-ի անդամակցության կարգավիճակի պահպանմամբ զբաղվող աշխատակիցների քանակ, մարդ
A57: Անդամակցության պահանջների բավարարում, տոկոս
A58: Միջոցառման վրա կատարվող ծախսը (հազար դրամ) | E58: -5318.8
A61: Ծրագրի դասիչը | B61: Ծրագրի անվանումը
A62: 1213 | B62: Տեսչական վերահսկողության ծրագիր
A64: Ծրագրի միջոցառումները
A66: Ծրագրի դասիչը` | B66: 1213 | C66: Ցուցանիշներ
A67: Միջոցառման դասիչը` | B67: 11001 | C67: 2020թ. փաստացի | D67: 2021թ. սպասվող | E67: 2022թ.տարի
A68: Միջոցառման անվանումը` | B68: Առողջապահության ոլորտում վերահսկողության ծառայություններ
A69: Նկարագրությունը` | B69: Առողջապահության, աշխատողների առողջության և անվտանգության ապահովման բնագավառում վերահսկողության իրականացում
A70: Միջոցառման տեսակը` | B70: Ծառայությունների մատուցում
A71: Միջոցառումն իրականացնողի անվանումը | B71: ՀՀ առողջապահական և աշխատանքի տեսչական մարմին
A72: Արդյունքի չափորոշիչներ
A73: Միջոցառման վրա կատարվող ծախսը (հազար դրամ) | E73: -11500
A75: Ծրագրի դասիչը` | B75: 1213 | C75: Ցուցանիշներ
A76: Միջոցառման դասիչը` | B76: 11002 | C76: 2020թ. փաստացի | D76: 2021թ. սպասվող | E76: 2022թ.տարի
A77: Միջոցառման անվանումը` | B77: Բնապահպանության ոլորտում վերահսկողության ծառայություններ
A78: Նկարագրությունը` | B78: Շրջակա միջավայրի վրա վնասակար ներգործությունների և բնական ռեսուրսների գերշահագործման վերահսկողության իրականացում
A79: Միջոցառման տեսակը` | B79: Ծառայությունների մատուցում
A80: Միջոցառումն իրականացնողի անվանումը | B80: ՀՀ բնապահպանության և ընդերքի տեսչական մարմին
A81: Արդյունքի չափորոշիչներ
A82: Միջոցառման վրա կատարվող ծախսը (հազար դրամ) | E82: -8523.1
A84: Ծրագրի դասիչը` | B84: 1213 | C84: Ցուցանիշներ
A85: Միջոցառման դասիչը` | B85: 11003 | C85: 2020թ. փաստացի | D85: 2021թ. սպասվող | E85: 2022թ.տարի
A86: Միջոցառման անվանումը` | B86: Կրթության ոլորտում վերահսկողության ծառայություններ
A87: Նկարագրությունը` | B87: Կրթության ոլորտում տեսչական վերահսկողության ծառայությունների իրականացում
A88: Միջոցառման տեսակը` | B88: Ծառայությունների մատուցում
A89: Միջոցառումն իրականացնողի անվանումը | B89: ՀՀ կրթության տեսչական մարմին
A90: Արդյունքի չափորոշիչներ
A91: Միջոցառման վրա կատարվող ծախսը (հազար դրամ) | E91: -2218.8
A93: Ծրագրի դասիչը` | B93: 1213 | C93: Ցուցանիշներ
A94: Միջոցառման դասիչը` | B94: 11004 | C94: 2020թ. փաստացի | D94: 2021թ. սպասվող | E94: 2022թ.տարի
A95: Միջոցառման անվանումը` | B95: Շուկայի վերահսկողության ծառայություններ
A96: Նկարագրությունը` | B96: Տեխնիկական կանոնակարգի պահանջների և չափագիտական կանոնների ու նորմերի պահպանման վերահսկողություն
A97: Միջոցառման տեսակը` | B97: Ծառայությունների մատուցում
A98: Միջոցառումն իրականացնողի անվանումը | B98: ՀՀ շուկայի վերահսկողության տեսչական մարմին
A99: Արդյունքի չափորոշիչներ
A100: Միջոցառման վրա կատարվող ծախսը (հազար դրամ) | E100: -1500
A102: Ծրագրի դասիչը` | B102: 1213 | C102: Ցուցանիշներ
A103: Միջոցառման դասիչը` | B103: 11007 | C103: 2020թ. փաստացի | D103: 2021թ. սպասվող | E103: 2022թ.տարի
A104: Միջոցառման անվանումը` | B104: Սննդամթերքի անվտանգության բնագավառում վերահսկողության իրականացման ծառայություններ
A105: Նկարագրությունը` | B105: Սննդամթերքի, անասնաբուժության և բուսասանիտարիայի ոլորտներում վերահսկողության իրականացում, պետությանը և հանրությանը սպառնացող վտանգների հայտնաբերում, ներթափանցման և տարածման կանխարգելում:
A106: Միջոցառման տեսակը` | B106: Ծառայությունների մատուցում
A107: Միջոցառումն իրականացնողի անվանումը | B107: ՀՀ սննդամթերքի անվտանգության տեսչական մարմին
A108: Արդյունքի չափորոշիչներ
A109: Միջոցառման վրա կատարվող ծախսը (հազար դրամ) | E109: -13347.5
A112: Ծրագրի դասիչը | B112: Ծրագրի անվանումը
A113: 1214 | B113: Արդյունահանող ճյուղերի զարգացման ծրագիր
A115: Ծրագրի միջոցառումները
A117: Ծրագրի դասիչը` | B117: 1214 | C117: Ցուցանիշներ
A118: Միջոցառման դասիչը` | B118: 11003 | C118: 2020թ. փաստացի | D118: 2021թ. սպասվող | E118: 2022թ. տարի
A119: Միջոցառման անվանումը` | B119: Համաշխարհային բանկիաջակցությամբ իրականացվող «Հայսատանի արդյունահանող ճյուղերի թափանցիկության նախաձեռնությանն աջակցություն. Լրացուցիչ ֆինանսավորում» դրամաշնորհային ծրագիր
A120: Նկարագրությունը` | B120: ԱՃԹՆ-ի միջազգային ստանդարտին համապատասխան՛ հանքարդյունաբերության ոլորտի թափանցիկության և հաշվետվողականության բարձրացմանն աջակցություն, տվյալների համակարգված բացահայտումներիհամակարգի ներդնում
A121: Միջոցառման տեսակը` | B121: Ծառայությունների մատուցում
A122: Միջոցառումն իրականացնողի անվանումը | B122: Մասնագիտացված միավոր
A123: Արդյունքի չափորոշիչներ
...

Sheet հավելված13
D1: Հավելված N 13
A2: ՀՀ կառավարության 2022 թվականի
A3: ______________ ի ___Ն որոշման
A4: ՀԱՅԱՍՏԱՆԻ ՀԱՆՐԱՊԵՏՈՒԹՅԱՆ ԿԱՌԱՎԱՐՈՒԹՅԱՆ 2021 ԹՎԱԿԱՆԻ ԴԵԿՏԵՄԲԵՐԻ 23-Ի N 2121-Ն ՈՐՈՇՄԱՆ N 9.1 ԱՂՅՈՒՍԱԿՆԵՐՈՒՄ ԿԱՏԱՐՎՈՂ ՓՈՓՈԽՈՒԹՅՈՒՆՆԵՐԸ
E5: Աղյուսակ 12.1
A6: ՀՀ վարչապետի աշխատակազմ
A7: ՄԱՍ 1. ՊԵՏԱԿԱՆ ՄԱՐՄՆԻ ԳԾՈՎ ԱՐԴՅՈՒՆՔԱՅԻՆ (ԿԱՏԱՐՈՂԱԿԱՆ) ՑՈՒՑԱՆԻՇՆԵՐԸ
A9: Ծրագրի դասիչը | B9: Ծրագրի անվանումը
A10: 1033 | B10: Աջակցություն քաղաքական կուսակցություններին, հասարակական կազմակերպություններին և արհմիություններին
A12: Ծրագրի միջոցառումները
A14: Ծրագրի դասիչը` | B14: 1033 | C14: Ցուցանիշներ
A15: Միջոցառման դասիչը` | B15: 11002 | C15: 2020թ. փաստացի | D15: 2021թ. սպասվող | E15: 2022թ.տարի
A16: Միջոցառման անվանումը` | B16: Պետական կառավարման գործընթացներին քաղաքացիական հասարակության մասնակցության ապահովում
A17: Նկարագրությունը` | B17: Հանրային խորհրդի բնականոն գործունեության ապահովում
A18: Միջոցառման տեսակը` | B18: Ծառայությունների մատուցում
A19: Միջոցառումն իրականացնողի անվանումը | B19: ՀՀ վարչապետի աշխատակազմ
A20: Արդյունքի չափորոշիչներ
A21: Միջոցառման վրա կատարված ծախսը (հազար դրամ) | E21: -9528
A24: Ծրագրի դասիչը | B24: Ծրագրի անվանումը
A25: 1132 | B25: Քաղաքացիական ծառայողների վերապատրաստում
A27: Ծրագրի միջոցառումները
A29: Ծրագրի դասիչը` | B29: 1132 | C29: Ցուցանիշներ
A30: Միջոցառման դասիչը` | B30: 11001 | C30: 2020թ. փաստացի | D30: 2021թ սպասվող | E30: 2022թ տարի
A31: Միջոցառման անվանումը` | B31: ՀՀ քաղաքացիական ծառայողների վերապատրաստման ծառայություններ
A32: Նկարագրությունը` | B32: Քաղաքացիական ծառայողների մասնագիտական գիտելիքների և աշխատանքային ունակությունների հետևողական վերապատրաստման և ուսուցման ծառայություններ
A33: Միջոցառման տեսակը` | B33: Ծառայությունների մատուցում
A34: Ծառայությունը մատուցող կազմակերպության(ների) անվանում(ներ)ը? | B34: «Գնումների մասին» ՀՀ օրենքի համաձայն ընտրված կազմակերպություն
A35: Արդյունքի չափորոշիչներ
A36: Վերապատրաստվող քաղաքացիական ծառայողների թիվ, մարդ | E36: -1111
A37: Վերապատրաստման ծրագրերի թիվ, հատ
A38: Հեռավար ուսուցման մոդուլների քանակը | E38: -6
A39: Վերապատրաստվող աշխատակիցների շրջանակում կանանց և տղամարդկանց հարաբերակցություն, տոկոս
A40: Միջոցառման վրա կատարվող ծախսը (հազար դրամ) | E40: -11000
A43: Ծրագրի դասիչը | B43: Ծրագրի անվանումը
A44: 1136 | B44: ՀՀ Վարչապետի լիազորությունների իրականացման ապահովում
A46: Ծրագրի միջոցառումները
A48: Ծրագրի դասիչը` | B48: 1136 | C48: Ցուցանիշներ
A49: Միջոցառման դասիչը` | B49: 11004 | C49: 2020թ. փաստացի | D49: 2021թ սպասվող | E49: 2022թ տարի
A50: Միջոցառման անվանումը` | B50: Աջակցություն ՀՀ վարչապետի աշխատակազմի ներքո գործող Արդյունահանող ճյուղերի թափանցիկության նախաձեռնության քարտուղարությանը
A51: Նկարագրությունը` | B51: Ազգային ծրագրով նախատեսված տեխնիկական առաջադրանքների նախագծերի հաստատման ենթակա փաստաթղթերի կազմում, հանրային իրազեկման միջոցառումների իրականացում և դոնոր կազմակերպությունների հետ աշխատանքի համակարգում
A52: Միջոցառման տեսակը` | B52: Ծառայությունների մատուցում
A53: Միջոցառումն իրականացնողի անվանումը՛ | B53: ՀՀ վարչապետի աշխատակազմ
A54: Արդյունքի չափորոշիչներ
A55: Անդամակցվող միջազգային կազմակերպությունների քանակ
A56: ԱՃԹՆ-ին ՀՀ-ի անդամակցության կարգավիճակի պահպանմամբ զբաղվող աշխատակիցների քանակ, մարդ
A57: Անդամակցության պահանջների բավարարում, տոկոս
A58: Միջոցառման վրա կատարվող ծախսը (հազար դրամ) | E58: -5318.8
A61: Ծրագրի դասիչը | B61: Ծրագրի անվանումը
A62: 1213 | B62: Տեսչական վերահսկողության ծրագիր
A64: Ծրագրի միջոցառումները
A66: Ծրագրի դասիչը` | B66: 1213 | C66: Ցուցանիշներ
A67: Միջոցառման դասիչը` | B67: 11001 | C67: 2020թ. փաստացի | D67: 2021թ. սպասվող | E67: 2022թ.տարի
A68: Միջոցառման անվանումը` | B68: Առողջապահության ոլորտում վերահսկողության ծառայություններ
A69: Նկարագրությունը` | B69: Առողջապահության, աշխատողների առողջության և անվտանգության ապահովման բնագավառում վերահսկողության իրականացում
A70: Միջոցառման տեսակը` | B70: Ծառայությունների մատուցում
A71: Միջոցառումն իրականացնողի անվանումը | B71: ՀՀ առողջապահական և աշխատանքի տեսչական մարմին
A72: Արդյունքի չափորոշիչներ
A73: Միջոցառման վրա կատարվող ծախսը (հազար դրամ) | E73: -11500
A75: Ծրագրի դասիչը` | B75: 1213 | C75: Ցուցանիշներ
A76: Միջոցառման դասիչը` | B76: 11002 | C76: 2020թ. փաստացի | D76: 2021թ. սպասվող | E76: 2022թ.տարի
A77: Միջոցառման անվանումը` | B77: Բնապահպանության ոլորտում վերահսկողության ծառայություններ
A78: Նկարագրությունը` | B78: Շրջակա միջավայրի վրա վնասակար ներգործությունների և բնական ռեսուրսների գերշահագործման վերահսկողության իրականացում
A79: Միջոցառման տեսակը` | B79: Ծառայությունների մատուցում
A80: Միջոցառումն իրականացնողի անվանումը | B80: ՀՀ բնապահպանության և ընդերքի տեսչական մարմին
A81: Արդյունքի չափորոշիչներ
A82: Միջոցառման վրա կատարվող ծախսը (հազար դրամ) | E82: -8523.1
A84: Ծրագրի դասիչը` | B84: 1213 | C84: Ցուցանիշներ
A85: Միջոցառման դասիչը` | B85: 11003 | C85: 2020թ. փաստացի | D85: 2021թ. սպասվող | E85: 2022թ.տարի
A86: Միջոցառման անվանումը` | B86: Կրթության ոլորտում վերահսկողության ծառայություններ
A87: Նկարագրությունը` | B87: Կրթության ոլորտում տեսչական վերահսկողության ծառայությունների իրականացում
A88: Միջոցառման տեսակը` | B88: Ծառայությունների մատուցում
A89: Միջոցառումն իրականացնողի անվանումը | B89: ՀՀ կրթության տեսչական մարմին
A90: Արդյունքի չափորոշիչներ
A91: Միջոցառման վրա կատարվող ծախսը (հազար դրամ) | E91: -2218.8
A93: Ծրագրի դասիչը` | B93: 1213 | C93: Ցուցանիշներ
A94: Միջոցառման դասիչը` | B94: 11004 | C94: 2020թ. փաստացի | D94: 2021թ. սպասվող | E94: 2022թ.տարի
A95: Միջոցառման անվանումը` | B95: Շուկայի վերահսկողության ծառայություններ
A96: Նկարագրությունը` | B96: Տեխնիկական կանոնակարգի պահանջների և չափագիտական կանոնների ու նորմերի պահպանման վերահսկողություն
A97: Միջոցառման տեսակը` | B97: Ծառայությունների մատուցում
A98: Միջոցառումն իրականացնողի անվանումը | B98: ՀՀ շուկայի վերահսկողության տեսչական մարմին
A99: Արդյունքի չափորոշիչներ
A100: Միջոցառման վրա կատարվող ծախսը (հազար դրամ) | E100: -1500
A102: Ծրագրի դասիչը` | B102: 1213 | C102: Ցուցանիշներ
A103: Միջոցառման դասիչը` | B103: 11007 | C103: 2020թ. փաստացի | D103: 2021թ. սպասվող | E103: 2022թ.տարի
A104: Միջոցառման անվանումը` | B104: Սննդամթերքի անվտանգության բնագավառում վերահսկողության իրականացման ծառայություններ
A105: Նկարագրությունը` | B105: Սննդամթերքի, անասնաբուժության և բուսասանիտարիայի ոլորտներում վերահսկողության իրականացում, պետությանը և հանրությանը սպառնացող վտանգների հայտնաբերում, ներթափանցման և տարածման կանխարգելում:
A106: Միջոցառման տեսակը` | B106: Ծառայությունների մատուցում
A107: Միջոցառումն իրականացնողի անվանումը | B107: ՀՀ սննդամթերքի անվտանգության տեսչական մարմին
A108: Արդյունքի չափորոշիչներ
A109: Միջոցառման վրա կատարվող ծախսը (հազար դրամ) | E109: -13347.5
A112: Ծրագրի դասիչը | B112: Ծրագրի անվանումը
A113: 1214 | B113: Արդյունահանող ճյուղերի զարգացման ծրագիր
A115: Ծրագրի միջոցառումները
A117: Ծրագրի դասիչը` | B117: 1214 | C117: Ցուցանիշներ
A118: Միջոցառման դասիչը` | B118: 11003 | C118: 2020թ. փաստացի | D118: 2021թ. սպասվող | E118: 2022թ. տարի
A119: Միջոցառման անվանումը` | B119: Համաշխարհային բանկիաջակցությամբ իրականացվող «Հայսատանի արդյունահանող ճյուղերի թափանցիկության նախաձեռնությանն աջակցություն. Լրացուցիչ ֆինանսավորում» դրամաշնորհային ծրագիր
A120: Նկարագրությունը` | B120: ԱՃԹՆ-ի միջազգային ստանդարտին համապատասխան՛ հանքարդյունաբերության ոլորտի թափանցիկության և հաշվետվողականության բարձրացմանն աջակցություն, տվյալների համակարգված բացահայտումներիհամակարգի ներդնում
A121: Միջոցառման տեսակը` | B121: Ծառայությունների մատուցում
A122: Միջոցառումն իրականացնողի անվանումը | B122: Մասնագիտացված միավոր
A123: Արդյունքի չափորոշիչներ
...

Sheet հավելված14
F1: Հավելված N 14
E2: ՀՀ կառավարության 2020 թվականի
E3: ________ N ____ որոշման
A6: ՀԱՅԱՍՏԱՆԻ ՀԱՆՐԱՊԵՏՈՒԹՅԱՆ ԿԱՌԱՎԱՐՈՒԹՅԱՆ 2020 ԹՎԱԿԱՆԻ ԴԵԿՏԵՄԲԵՐԻ 30-Ի N 2215-Ն ՈՐՈՇՄԱՆ N 10 ՀԱՎԵԼՎԱԾՈՒՄ ԿԱՏԱՐՎՈՂ ՓՈՓՈԽՈՒԹՅՈՒՆՆԵՐԸ
A8: Կոդը | B8: Անվանումը | C8: Գնման ձևը | D8: Չափման միավորը | E8: Ցուցանիշների փոփոխությունը (ավելացումները նշված են դրական նշանով, իսկ նվազեցումները` փակագծերում)
E9: միավորի գինը (դրամով) | F9: քանակը | G9: գումարը (հազար դրամով)
G10: =G11+G113+G120+G193+G211+G219+G314+G347+G353+G363+G427+G709+G717+G727+G756+G775+G789+G838 -> -1226686.2
A11: ՀՀ վարչապետի աշխատակազմ | G11: =G12+G108 -> -72070.65
A12: Բաժին N 01 Խումբ N 01 Դաս N 01 Օրենսդիր և գործադիր մարմիններ, պետական կառավարում | G12: =G13+G17+G22+G31+G50+G54 -> -42070.65
A13: 1033 11002 | B13: Պետական կառավարման գործընթացներին քաղաքացիական հասարակության մասնակցության ապահովում | G13: =G14 -> -2200
B14: ՄԱՍ III. ԾԱՌԱՅՈՒԹՅՈՒՆՆԵՐ | G14: =G15+G16 -> -2200
A15: 70221100-1 | B15: ոչ բնակելի անշարժ գույքի վարձակալության կամ լիզինգի ծառայություններ | C15: ՄԱ | D15: դրամ | E15: 1000000 | F15: -1 | G15: -1000
A16: 79111200-1 | B16: ներկայացուցչական ծառայություններ | C16: ՄԱ | D16: դրամ | E16: 1200000 | F16: -1 | G16: -1200
A17: 1132 11001 | B17: ՀՀ քաղաքացիական ծառայողների վերապատրաստման ծառայություններ | G17: =G18 -> -11000
B18: ՄԱՍ III. ԾԱՌԱՅՈՒԹՅՈՒՆՆԵՐ | G18: =G19+G20+G21 -> -11000
A19: 79631200-1 | B19: աշխատակիցների վերապատրաստման ծառայություններ | C19: ԷԱՃ | D19: դրամ | E19: 10789664 | F19: -1 | G19: -10789.7
A20: 79631200-18 | B20: աշխատակիցների վերապատրաստման ծառայություններ | C20: ԷԱՃ | D20: դրամ | G20: -184
A21: 79631200-17 | B21: աշխատակիցների վերապատրաստման ծառայություններ | C21: ԷԱՃ | D21: դրամ | G21: -26.3
A22: 1213 11001 | B22: Առողջապահության ոլորտում վերահսկողության ծառայություններ | G22: =G23 -> -10500
B23: ՄԱՍ III. ԾԱՌԱՅՈՒԹՅՈՒՆՆԵՐ | G23: =G24+G25+G26+G27+G28+G29+G30 -> -10500
A24: 65311100-1 | B24: էլեկտրականության բաշխում | C24: ՄԱ | D24: դրամ | G24: -830
A25: 76131100-1 | B25: գազասպառման համակարգի տեխնիկական սպասարկման ծառայություններ | C25: ՄԱ | D25: դրամ | G25: -120
A26: 6521110011 | B26: գազի բաշխում | C26: ՄԱ | D26: դրամ | G26: -550
A27: 70221100-1 | B27: ոչ բնակելի անշարժ գույքի վարձակալության կամ լիզինգի ծառայություններ | C27: ՄԱ | D27: դրամ | G27: -5000
A28: 71911100-17 | B28: լաբորատորիական ծառայություններ | C28: ՄԱ | D28: դրամ | G28: -500
A29: 71911100-18 | B29: լաբորատորիական ծառայություններ | C29: ՄԱ | D29: դրամ | G29: -1192
A30: 71911100-16 | B30: լաբորատորիական ծառայություններ | C30: ՄԱ | D30: դրամ | G30: -2308
A31: 1213 11002 | B31: Բնապահպանության ոլորտում վերահսկողության ծառայություններ | G31: =G32+G48 -> -4523.1
B32: ՄԱՍ I. ԱՊՐԱՆՔՆԵՐ | G32: =G33+G34+G35+G36+G37+G38+G39+G40+G41+G42+G43+G44+G45+G46+G47 -> -1523.1
A33: 09211110-501 | B33: շարժիչի յուղեր | C33: ԷԱՃ | D33: կգ | G33: -97.7
A34: 34351200-571 | B34: ավտոմեքենաների անիվներ | C34: ԷԱՃ | D34: հատ | G34: -20
A35: 09132200-7 | B35: բենզին, ռեգուլյար | C35: ԷԱՃ | D35: լիտր | G35: -84.4
A36: 34351200-572 | B36: ավտոմեքենաների անիվներ | C36: ԷԱՃ | D36: հատ | G36: -20
A37: 34351200-18 | B37: ավտոմեքենաների անիվներ | C37: ԷԱՃ | D37: հատ | G37: -4
A38: 31442100-7 | B38: կուտակիչ մարտկոցներ | C38: ԷԱՃ | D38: հատ | G38: -16.7
A39: 31442100-8 | B39: կուտակիչ մարտկոցներ | C39: ԷԱՃ | D39: հատ | G39: -51.3
A40: 34351200-16 | B40: ավտոմեքենաների անիվներ | C40: ԷԱՃ | D40: հատ | G40: -25.6
A41: 09132200-15 | B41: բենզին, ռեգուլյար | C41: ԷԱՃ | D41: լիտր | G41: -650.8
A42: 24951320-501 | B42: հակասառիչ հեղուկ | C42: ԷԱՃ | D42: կգ | G42: -240
A43: 31442100-1 | B43: կուտակիչ մարտկոցներ | C43: ԷԱՃ | D43: հատ | G43: -9.4
A44: 34351200-7 | B44: ավտոմեքենաների անիվներ | C44: ԷԱՃ | D44: հատ | G44: -1.2
... A47: 34351200-8 | B47: ավտոմեքենաների անիվներ | C47: ԷԱՃ | D47: հատ | G47: -48
B48: ՄԱՍ III. ԾԱՌԱՅՈՒԹՅՈՒՆՆԵՐ | G48: =G49 -> -3000
A49: 65311100-1 | B49: էլեկտրականության բաշխում | C49: ՄԱ | D49: դրամ | G49: -3000
A50: 1213 11004 | B50: Շուկայի վերահսկողության ծառայություններ | G50: =G51 -> -1500
B51: ՄԱՍ III. ԾԱՌԱՅՈՒԹՅՈՒՆՆԵՐ | G51: =G52+G53 -> -1500
A52: 72261180-1 | B52: տեղեկատվական տեխնոլոգիաների ծրագրային ապահովման սպասարկում | C52: ԷԱՃ | D52: դրամ | G52: -1000
A53: 64211100-5 | B53: հանրային հեռախոսային ծառայություններ | C53: ԳՀ | D53: դրամ | G53: -500
A54: 1213 11007 | B54: Սննդամթերքի անվտանգության բնագավառում վերահսկողության իրականացման ծառայություններ | G54: =G55+G98+G101 -> -12347.55
B55: ՄԱՍ I. ԱՊՐԱՆՔՆԵՐ | G55: =G56+G57+G58+G59+G60+G61+G62+G63+G64+G65+G66+G67+G68+G69+G70+G71+G72+G73+G74+G75+G76+G77+G78+G79+G80+G81+G82+G83+G84+G85+G86+G87+G88+G89+G90+G91+G92+G93+G94+G95+G96+G97 -> -5895.4999
A56: 30197231-2 | B56: թղթապանակ, պոլիմերային թաղանթ, ֆայլ | C56: ԷԱՃ | D56: հատ | G56: -4
A57: 39292510-2 | B57: քանոն, պլաստիկ | C57: ԷԱՃ | D57: հատ | G57: -3.5
A58: 30192231-2 | B58: սկոչ | C58: ԷԱՃ | D58: հատ | G58: -0.3
A59: 35811170-2 | B59: համազգեստ | C59: ԷԱՃ | D59: լրակազմ | G59: -435.96
A60: 22811150-4 | B60: նոթատետրեր | C60: ԷԱՃ | D60: հատ | G60: -3
A61: 30197230-7 | B61: թղթապանակ | C61: ԷԱՃ | D61: հատ | G61: -8.42
A62: 35811170-1 | B62: համազգեստ | C62: ԷԱՃ | D62: լրակազմ | G62: -1770
A63: 32421300-1 | B63: ցանցային բաժանարար | C63: ԷԱՃ | D63: հատ | G63: -2.9
A64: 30197622-3 | B64: թուղթ, A4 ֆորմատի | C64: ԷԱՃ | D64: կգ | G64: -0.26
A65: 39263100-3 | B65: գրասենյակային լրակազմ | C65: ԷԱՃ | D65: հատ | G65: -43.4
A66: 30237411-501 | B66: մկնիկ, համակարգչային, լարով | C66: ԷԱՃ | D66: հատ | G66: -20
A67: 30197120-1 | B67: կոճգամներ | C67: ԷԱՃ | D67: տուփ | G67: -7.5
... A71: 30197322-2 | B71: կարիչ, 20-50 թերթի համար | C71: ԷԱՃ | D71: հատ | G71: -51.24
A72: 39263530-2 | B72: սեղմակ, մեծ | C72: ԷԱՃ | D72: հատ | E72: 800 | F72: -1 | G72: =E72*F72/1000 -> -0.8
A73: 30192121-4 | B73: գրիչ գնդիկավոր | C73: ԷԱՃ | D73: հատ | G73: -141.011
A74: 30197234-4 | B74: թղթապանակ, կոշտ կազմով | C74: ԷԱՃ | D74: հատ | G74: -42.544
A75: 30237412-501 | B75: մկնիկ, համակարգչային, անլար | C75: ԷԱՃ | D75: հատ | G75: -7
A76: 30192125-2 | B76: մարկերներ | C76: ԷԱՃ | D76: հատ | G76: -8.278
A77: 30197235-2 | B77: թղթապանակ` ամրակով | C77: ԷԱՃ | D77: հատ | G77: -52.12
A78: 30197321-3 | B78: կարիչ, մինչ― 20 թերթի համար | C78: ԷԱՃ | D78: հատ | G78: -20.676
A79: 30192710-2 | B79: սոսնձամատիտ, գրասենյակային | C79: ԷԱՃ | D79: հատ | G79: -23
A80: 09132200-5 | B80: բենզին, ռեգուլյար | C80: ԷԱՃ | D80: լիտր | E80: 266.9 | F80: -1 | G80: =E80*F80/1000 -> -0.2669
A81: 09132200-9 | B81: բենզին, ռեգուլյար | C81: ԷԱՃ | D81: լիտր | G81: -2150.532
A82: 09134200-6 | B82: դիզելային վառելիք, ամառային | C82: ԷԱՃ | D82: լիտր | G82: -1.401
A83: 09134200-7 | B83: դիզելային վառելիք, ամառային | C83: ԷԱՃ | D83: լիտր | E83: 600 | F83: -1 | G83: =E83*F83/1000 -> -0.6
A84: 19642000-504 | B84: պոլիէթիլենային պարկ, սննդային | C84: ԷԱՃ | D84: հատ | G84: -54.1
A85: 44511120-501 | B85: գոգաթիակներ | C85: ԷԱՃ | D85: հատ | G85: -8.447
A86: 18421140-504 | B86: մեկանգամյա օգտագործման ձեռնոցներ | C86: ԷԱՃ | D86: զույգ | G86: -371.339
A87: 39836000-505 | B87: ավել, սովորական | C87: ԷԱՃ | D87: հատ | G87: -4.48
A88: 39831283-505 | B88: հատակի լվացման լաթ | C88: ԷԱՃ | D88: հատ | G88: -7.8
A89: 31531300-506 | B89: տնտեսող լամպեր | C89: ԷԱՃ | D89: հատ | G89: -202.5
A90: 39831276-501 | B90: զուգարանների մաքրման նյութեր | C90: ԷԱՃ | D90: լիտր | G90: -4.124
A91: 33761000-506 | B91: զուգարանի թուղթ, ռուլոնով | C91: ԷԱՃ | D91: հատ | G91: -128
A92: 39812410-504 | B92: կահույքի փայլեցման միջոց | C92: ԷԱՃ | D92: հատ | G92: -16.95
A93: 39831242-503 | B93: լվացքի փոշի ձեռքով լվանալու համար | C93: ԷԱՃ | D93: կգ | G93: -7
A94: 39831273-505 | B94: հատակի մաքրման նյութեր | C94: ԷԱՃ | D94: լիտր | G94: -6.6
A95: 39831245-503 | B95: օճառ, հեղուկ | C95: ԷԱՃ | D95: լիտր | G95: -146.261
A96: 39831281-1 | B96: ապակի մաքրման լաթ | C96: ԷԱՃ | D96: հատ | E96: 300 | F96: -10 | G96: =E96*F96/1000 -> -3
A97: 39811300-501 | B97: հոտազերծիչ, օդի | C97: ԷԱՃ | D97: հատ | G97: -5.199
B98: ՄԱՍ II. ԱՇԽԱՏԱՆՔՆԵՐ | G98: =G99+G100 -> -4150.8
A99: 45461100-3 | B99: շենքերի, շինությունների ընթացիկ նորոգման աշխատանքներ | C99: ԳՀ | D99: դրամ | E99: 556670 | F99: -1 | G99: -556.7
A100: 45461100-2 | B100: շենքերի, շինությունների ընթացիկ նորոգման աշխատանքներ | C100: ԳՀ | D100: դրամ | G100: -3594.1
B101: ՄԱՍ III. ԾԱՌԱՅՈՒԹՅՈՒՆՆԵՐ | G101: =G102+G103+G104+G105+G106+G107 -> -2301.25
A102: 90921100-1 | B102: ախտահանման ― մակաբույծների ոչնչացման ծառայություններ | C102: ԷԱՃ | D102: դրամ | G102: -40
A103: 65111100-1 | B103: խմելու ջրի բաշխում | C103: ՄԱ | D103: դրամ | G103: -660
A104: 98111120-505 | B104: մասնագիտացված կազմակերպությունների կողմից մատուցվող ծառայություններ | C104: ԳՀ | D104: դրամ | G104: -852
A105: 71351540-1 | B105: տեխնիկական հսկողության ծառայություններ | C105: ԳՀ | D105: դրամ | G105: -85.577
A106: 71351540-2 | B106: տեխնիկական հսկողության ծառայություններ | C106: ԳՀ | D106: դրամ | E106: 660000 | F106: -1 | G106: =E106*F106/1000 -> -660
A107: 98111140-2 | B107: հեղինակային հսկողության ծառայություններ | C107: ՀՄԱ | D107: դրամ | G107: -3.673
A108: Բաժին N 03 Խումբ N 03 Դաս N 02 Իրավական պաշտպանություն | G108: =G109 -> -30000
...
