Workbook
Name AgencyCode: #REF!
Name AgencyCode: #REF!
Name AgencyName: #REF!
Name AgencyName: #REF!
Name davit: #REF!
Name Functional1: #REF!
Name Functional1: #REF!
Name ggg: #REF!
Name ggg: #REF!
Name PANature: #REF!
Name PANature: #REF!
Name PAType: #REF!
Name PAType: #REF!
Name Performance2: #REF!
Name Performance2: #REF!
Name PerformanceType: #REF!
Name PerformanceType: #REF!
Name Հավելված: #REF!
Name Մաս: #REF!
Name շախմատիստ: #REF!
Name շախմատիստ: #REF!

Sheet հավելված1
B1: Հավելված N 1
B2: ՀՀ կառավարության 2022 թվականի
B3: ______________ ի ___Ն որոշման
A5: «ՀԱՅԱՍՏԱՆԻ ՀԱՆՐԱՊԵՏՈՒԹՅԱՆ 2022 ԹՎԱԿԱՆԻ ՊԵՏԱԿԱՆ ԲՅՈՒՋԵԻ ՄԱՍԻՆ» ՕՐԵՆՔԻ N 2 ՀՈԴՎԱԾԻ ԱՂՅՈՒՍԱԿՈՒՄ ԿԱՏԱՐՎՈՂ ՓՈՓՈԽՈՒԹՅՈՒՆՆԵՐԸ
B7: հազար դրամներով
B8: Ցուցանիշների փոփոխությունը (նվազեցումները նշված են փակագծերում)
A9: 1. Եկամուտների գծով | B9: =+հավելված7!E12 -> 0
A10: 2. Ծախսերի գծով | B10: =հավելված3!D7 -> -1627000
A11: 3. Դեֆիցիտը (պակասուրդը) | B11: =B9+B10 -> -1627000

Sheet հավելված2
B1: Հավելված N 2
B2: ՀՀ կառավարության 2022 թվականի
B3: ______________ ի ___Ն որոշման
A5: «ՀԱՅԱՍՏԱՆԻ ՀԱՆՐԱՊԵՏՈՒԹՅԱՆ 2022 ԹՎԱԿԱՆԻ ՊԵՏԱԿԱՆ ԲՅՈՒՋԵԻ ՄԱՍԻՆ» ՀԱՅԱՍՏԱՆԻ ՀԱՆՐԱՊԵՏՈՒԹՅԱՆ ՕՐԵՆՔԻ N 3 ՀԱՎԵԼՎԱԾԻ N 1 ԱՂՅՈՒՍԱԿՈՒՄ ԵՎ ՀԱՅԱՍՏԱՆԻ ՀԱՆՐԱՊԵՏՈՒԹՅԱՆ ԿԱՌԱՎԱՐՈՒԹՅԱՆ 2021 ԹՎԱԿԱՆԻ ԴԵԿՏԵՄԲԵՐԻ 23-Ի N 2121-Ն ՈՐՈՇՄԱՆ N 1 ՀԱՎԵԼՎԱԾԻ N 1 ԱՂՅՈՒՍԱԿՈՒՄ ԿԱՏԱՐՎՈՂ ՓՈՓՈԽՈՒԹՅՈՒՆՆԵՐԸ
B7: հազ. դրամ
A8: Պետական բյուջեի դեֆիցիտի ֆինանսավորման աղբյուրներն ու դրանց տարրերի անվանումները | B8: Ցուցանիշների փոփոխությունը (ավելացումները նշված են դրական նշանով, իսկ նվազեցումները` փակագծերում)
B9: Տարի
A10: ԸՆԴԱՄԵՆԸ | B10: =+B12 -> -1627000
A11: այդ թվում՝
A12: Բ. Արտաքին աղբյուրներ - ընդամենը | B12: =+B14 -> -1627000
A13: այդ թվում
A14: 1. Փոխառու զուտ միջոցներ | B14: =+B16 -> -1627000
A15: այդ թվում՝
A16: 1.1. Վարկերի և փոխատվությունների ստացում | B16: =+B18 -> -1627000
A17: որից`
A18: նպատակային վարկերի գծով | B18: =հավելված6.!E12 -> -1627000

Sheet հավելված3
D1: Հավելված N 3 ՀՀ կառավարության 2022 թվականի ––-------------------–N –––––– որոշման
A3: «ՀԱՅԱUՏԱՆԻ ՀԱՆՐԱՊԵՏՈՒԹՅԱՆ 2022 ԹՎԱԿԱՆԻ ՊԵՏԱԿԱՆ ԲՅՈՒՋԵԻ ՄԱUԻՆ» OՐԵՆՔԻ N 1 ՀԱՎԵԼՎԱԾԻ N 2 ԱՂՅՈՒՍԱԿՈՒՄ ԿԱՏԱՐՎՈՂ ՎԵՐԱԲԱՇԽՈՒՄԸ ԵՎ ՀԱՅԱՍՏԱՆԻ ՀԱՆՐԱՊԵՏՈՒԹՅԱՆ ԿԱՌԱՎԱՐՈՒԹՅԱՆ 2021 ԹՎԱԿԱՆԻ ԴԵԿՏԵՄԲԵՐԻ 23-Ի N 2121-Ն ՈՐՈՇՄԱՆ N 5 ՀԱՎԵԼՎԱԾԻ N 1 ԱՂՅՈՒՍԱԿՈՒՄ ԿԱՏԱՐՎՈՂ ՓՈՓՈԽՈՒԹՅՈՒՆՆԵՐԸ
D5: հազ. դրամ
A6: Ծրագրային դասիչը | C6: Բյուջետային գլխավոր կարգադրիչների, ծրագրերի և միջոցառումների անվանումները | D6: Գումարը
C7: ԸՆԴԱՄԵՆԸ | D7: -1627000
C8: ՀՀ վարչապետի աշխատակազմ | D8: -168557.4
A9: 1033 | C9: Ծրագրի անվանումը` | D9: -9528
C10: Աջակցություն քաղաքական կուսակցություններին, հասարակական կազմակերպություններին և արհմիություններին
C11: Ծրագրի նպատակը`
C12: Քաղաքացիական հասարակության զարգացում
C13: Վերջնական արդյունքի նկարագրությունը`
C14: Քաղաքացիական հասարակության կառույցների և նրանց կարողությունների զարգացում, տնտեսական և քաղաքական կյանքում ՔՀԿ-ների ընդգրկվածության և մասնակցության աճ
A15: Ծրագրի միջոցառումներ
B16: 11002 | C16: Միջոցառման անվանումը` | D16: -9528
C17: Պետական կառավարման գործընթացներին քաղաքացիական հասարակության մասնակցության ապահովում
C18: Միջոցառման նկարագրությունը`
C19: Հանրային խորհրդի բնականոն գործունեության ապահովում
C20: Միջոցառման տեսակը
C21: Ծառայությունների մատուցում
A22: 1132 | C22: Ծրագրի անվանումը` | D22: -11000
C23: Քաղաքացիական ծառայողների վերապատրաստում
C24: Ծրագրի նպատակը`
C25: Քաղաքացիական ծառայողների աշխատանքի արդյունավետության բարելավում
C26: Վերջնական արդյունքի նկարագրությունը`
C27: Քաղաքացիական ծառայության ոլորտում անկախ, արհեստավարժ և բարոյական բարձր հատկանիշներով օժտված կադրերի ապահովումը
A28: Ծրագրի միջոցառումներ
B29: 11001 | C29: Միջոցառման անվանումը` | D29: -11000
C30: ՀՀ քաղաքացիական ծառայողների վերապատրաստման ծառայություններ
C31: Միջոցառման նկարագրությունը`
C32: Քաղաքացիական ծառայողների մասնագիտական գիտելիքների և աշխատանքային ունակությունների հետևողական վերապատրաստման և ուսուցման ծառայություններ
C33: Միջոցառման տեսակը
C34: Ծառայությունների մատուցում
A35: 1136 | C35: Ծրագրի անվանումը` | D35: -5318.8
C36: ՀՀ Վարչապետի լիազորությունների իրականացման ապահովում
C37: Ծրագրի նպատակը`
C38: Աջակցել կառավարության, վարչապետի և փոխվարչապետերի գործունեությանը
C39: Վերջնական արդյունքի նկարագրությունը`
C40: ՀՀ կառավարության և վարչապետի որոշումների ու հանձնարարականների կատարման վերահսկողության ապահովում
A41: Ծրագրի միջոցառումներ
B42: 11004 | C42: Միջոցառման անվանումը` | D42: -5318.8
...

Sheet հավելված4
F1: Հավելված N 4 ՀՀ կառավարության 2022 թվականի ––-----------–––––––– N –––––– որոշման
A3: ՀԱՅԱՍՏԱՆԻ ՀԱՆՐԱՊԵՏՈՒԹՅԱՆ ԿԱՌԱՎԱՐՈՒԹՅԱՆ 2021 ԹՎԱԿԱՆԻ ԴԵԿՏԵՄԲԵՐԻ 23-Ի N 2121-Ն ՈՐՈՇՄԱՆ N 3 ՀԱՎԵԼՎԱԾՈՒՄ ԿԱՏԱՐՎՈՂ ՓՈՓՈԽՈՒԹՅՈՒՆՆԵՐԸ
G4: հազ. դրամ
A5: Գործառական դասիչը | D5: Ծրագրային դասիչը | F5: Բյուջետային ծախսերի գործառական դասակարգման բաժինների, խմբերի և դասերի, բյուջետային ծրագրերի, միջոցառումների բյուջետային հատկացումնեյի գլխավոր կարկադրիչների անվանումները | G5: Ցուցանիշների փոփոխությունները (ավելացումները նշված են դրական նշանով, իսկ նվազեցումները` փակագծերում)
A6: Բաժին | B6: Խումբ | C6: Դաս | D6: Ծրագիր | E6: Միջոցառում | G6: Տարի
F7: ԸՆԴԱՄԵՆԸ ԾԱԽՍԵՐ | G7: -1627000
F8: այդ թվում`
A9: 01 | F9: ԸՆԴՀԱՆՈՒՐ ԲՆՈՒՅԹԻ ՀԱՆՐԱՅԻՆ ԾԱՌԱՅՈՒԹՅՈՒՆՆԵՐ | G9: -2282057.2
F10: այդ թվում`
B11: 01 | F11: Օրենսդիր և գործադիր մարմիններ, պետական կառավարում, ֆինանսական և հարկաբյուջետային հարաբերություններ, արտաքին հարաբերություններ | G11: -437689.9
F12: այդ թվում`
C13: 01 | F13: Օրենսդիր և գործադիր մարմիններ, պետական կառավարում | G13: -87033.2
F14: այդ թվում`
D15: 1009 | E15: 11001 | F15: ՀՀ Արարատի մարզպետարանի կողմից տարածքային պետական կառավարման ապահովում | G15: -15700
F16: այդ թվում`
F17: ՀՀ Արարատի մարզպետարան | G17: -15700
D18: 1025 | E18: 11001 | F18: ՀՀ Գեղարքունիքի մարզպետարանի կողմից տարածքային պետական կառավարման ապահովում | G18: -2800
F19: այդ թվում`
F20: ՀՀ Գեղարքունիքի մարզպետարան | G20: -2800
D21: 1030 | E21: 11001 | F21: ՀՀ Լոռու մարզպետարանի կողմից տարածքային պետական կառավարման ապահովում | G21: -1350
F22: այդ թվում`
F23: ՀՀ Լոռու մարզպետարան | G23: -1350
D24: 1033 | E24: 11002 | F24: Պետական կառավարման գործընթացներին քաղաքացիական հասարակության մասնակցության ապահովում | G24: -9528
F25: այդ թվում`
F26: ՀՀ վարչապետի աշխատակազմ | G26: -9528
D27: 1051 | E27: 11001 | F27: ՀՀ Վայոց ձորի մարզպետարանի կողմից տարածքային պետական կառավարման ապահովում | G27: -4462.6
F28: այդ թվում`
F29: ՀՀ Վայոց ձորի մարզպետարան | G29: -4462.6
D30: 1055 | E30: 11001 | F30: ՀՀ Տավուշի մարզպետարանի կողմից տարածքային պետական կառավարման ապահովում | G30: -3728.6
F31: այդ թվում`
F32: ՀՀ Տավուշի մարզպետարան | G32: -3728.6
D33: 1057 | E33: 11001 | F33: Արդարադատության ոլորտում քաղաքականության, խորհրդատվության, մոնիտորինգի, գնման և աջակցության իրականացում | G33: -3630.1
F34: այդ թվում`
F35: ՀՀ արդարադատության նախարարություն | G35: -3630.1
D36: 1161 | E36: 11001 | F36: Հաշվեքննիչ պալատի գործունեություն և հաշվեքննության իրականացման ծառայություններ | G36: -8744.5
F37: այդ թվում`
F38: ՀՀ հաշվեքննիչ պալատ | G38: -8744.5
D39: 1213 | E39: 11001 | F39: Առողջապահության ոլորտում վերահսկողության ծառայություններ | G39: -11500
F40: այդ թվում`
F41: ՀՀ վարչապետի աշխատակազմ | G41: -11500
...

Sheet հավելված5.
D1: Հավելված N 5 ՀՀ կառավարության 2022 թվականի ––-----------–––––––– N –––––– որոշման
A3: ՀԱՅԱՍՏԱՆԻ ՀԱՆՐԱՊԵՏՈՒԹՅԱՆ ԿԱՌԱՎԱՐՈՒԹՅԱՆ 2021 ԹՎԱԿԱՆԻ ԴԵԿՏԵՄԲԵՐԻ 23-Ի N 2121-Ն ՈՐՈՇՄԱՆ N 4 ՀԱՎԵԼՎԱԾՈՒՄ ԿԱՏԱՐՎՈՂ ՓՈՓՈԽՈՒԹՅՈՒՆՆԵՐԸ
A7: Ծրագրային դասիչը | C7: Բյուջետային գլխավոր կարգադրիչների, ծրագրերի և միջոցառումների, վերջիններս կատարող պետական կառավարման մարմինների և բյուջետային ծախսերի տնտեսագիտական դասակարգման հոդվածների անվանումները | D7: Գումարը (հազար դրամ)
A8: Ծրագիր | B8: Միջոց առում
C9: ԸՆԴԱՄԵՆԸ | D9: -1627000
C10: այդ թվում`
C11: ՀՀ վարչապետի աշխատակազմ | D11: -168557.4
C12: այդ թվում`
A13: 1033 | C13: Աջակցություն քաղաքական կուսակցություններին, հասարակական կազմակերպություններին և արհմիություններին | D13: -9528
C14: այդ թվում`
B15: 11002 | C15: Պետական կառավարման գործընթացներին քաղաքացիական հասարակության մասնակցության ապահովում | D15: -9528
C16: այդ թվում` ըստ կատարողների
C17: ՀՀ վարչապետի աշխատակազմ | D17: -9528
C18: այդ թվում` բյուջետային ծախսերի տնտեսագիտական դասակարգման հոդվածներ
C19: ԸՆԴԱՄԵՆԸ ԾԱԽՍԵՐ | D19: -9528
C20: ԸՆԹԱՑԻԿ ԾԱԽՍԵՐ | D20: -9528
C21: ԾԱՌԱՅՈՒԹՅՈՒՆՆԵՐԻ ԵՎ ԱՊՐԱՆՔՆԵՐԻ ՁԵՌՔԲԵՐՈՒՄ | D21: -9528
C22: Շարունակական ծախսեր | D22: -1000
C23: - Գույքի և սարքավորումների վարձակալություն | D23: -1000
C24: Ծառայողական գործուղումների գծով ծախսեր | D24: -7328
C25: - Ներքին գործուղումներ | D25: -1000
C26: - Արտասահմանյան գործուղումների գծով ծախսեր | D26: -6328
C27: Պայմանագրային այլ ծառայությունների ձեռքբերում | D27: -1200
C28: - Ներկայացուցչական ծախսեր | D28: -1200
A29: 1132 | C29: Քաղաքացիական ծառայողների վերապատրաստում | D29: -11000
C30: այդ թվում`
B31: 11001 | C31: ՀՀ քաղաքացիական ծառայողների վերապատրաստման ծառայություններ | D31: -11000
C32: այդ թվում` ըստ կատարողների
C33: ՀՀ վարչապետի աշխատակազմ | D33: -11000
C34: այդ թվում` բյուջետային ծախսերի տնտեսագիտական դասակարգման հոդվածներ
C35: ԸՆԴԱՄԵՆԸ ԾԱԽՍԵՐ | D35: -11000
C36: ԸՆԹԱՑԻԿ ԾԱԽՍԵՐ | D36: -11000
C37: ԾԱՌԱՅՈՒԹՅՈՒՆՆԵՐԻ ԵՎ ԱՊՐԱՆՔՆԵՐԻ ՁԵՌՔԲԵՐՈՒՄ | D37: -11000
C38: Պայմանագրային այլ ծառայությունների ձեռքբերում | D38: -11000
C39: - Ընդհանուր բնույթի այլ ծառայություններ | D39: -11000
A40: 1136 | C40: ՀՀ Վարչապետի լիազորությունների իրականացման ապահովում | D40: -5318.8
C41: այդ թվում`
B42: 11004 | C42: Աջակցություն ՀՀ վարչապետի աշխատակազմի ներքո գործող Արդյունահանող ճյուղերի թափանցիկության նախաձեռնության քարտուղարությանը | D42: -5318.8
C43: այդ թվում` ըստ կատարողների
C44: ՀՀ վարչապետի աշխատակազմ | D44: -5318.8
...

Sheet հավելված6.
D1: Հավելված N 6
C2: ՀՀ կառավարության 2022 թվականի
C3: ___________ ___-ի N _______ -Ն որոշման
A6: «ՀԱՅԱՍՏԱՆԻ ՀԱՆՐԱՊԵՏՈՒԹՅԱՆ 2022 ԹՎԱԿԱՆԻ ՊԵՏԱԿԱՆ ԲՅՈՒՋԵԻ ՄԱՍԻՆ» ՕՐԵՆՔԻ N 1 ՀԱՎԵԼՎԱԾԻ N 4 ԱՂՅՈՒՍԱԿՈՒՄ ԵՎ ՀԱՅԱՍՏԱՆԻ ՀԱՆՐԱՊԵՏՈՒԹՅԱՆ ԿԱՌԱՎԱՐՈՒԹՅԱՆ 2021 ԹՎԱԿԱՆԻ ԴԵԿՏԵՄԲԵՐԻ 23-Ի N 2121-Ն ՈՐՈՇՄԱՆ N 5 ՀԱՎԵԼՎԱԾԻ N 3 ԱՂՅՈՒՍԱԿՈՒՄ ԿԱՏԱՐՎՈՂ ՓՈՓՈԽՈՒԹՅՈՒՆՆԵՐԸ
E7: հազ. դրամ
A8: Ծրագրային դասիչը | C8: Բյուջետային հատկացումների գլխավոր կարգադրիչների, ծրագրերի, միջոցառումների և միջոցառումները կատարող պետական մարմինների անվանումները | D8: Ցուցանիշների փոփոխությունները (ավելացումները նշված են դրական նշանով, իսկ նվազեցումները` փակագծերում)
D9: Տարի
A10: Ծրագիր | B10: Միջոց_x000D_առում | D10: Ընդամենը | E10: այդ թվում
E11: Վարկային միջոցներ | F11: Համաֆինան սավորում
C12: ԸՆԴԱՄԵՆԸ_x000D_ այդ թվում` | D12: =+D13+D14 -> -2176000 | E12: =+E13+E14 -> -1627000 | F12: =+F13+F14 -> -549000
C13: - ԸՆԹԱՑԻԿ ԾԱԽՍԵՐ | D13: =+E13+F13 -> 0 | E13: 0 | F13: 0
C14: - ՈՉ ՖԻՆԱՆՍԱԿԱՆ ԱԿՏԻՎՆԵՐԻ ԳԾՈՎ ԾԱԽՍԵՐ | D14: =+D22 -> -2176000 | E14: =+E22 -> -1627000 | F14: =+F22 -> -549000
C15: ՀՀ ԷԿՈՆՈՄԻԿԱՅԻ ՆԱԽԱՐԱՐՈՒԹՅՈՒՆ_x000D_ այդ թվում` | D15: =+D16 -> -2176000 | E15: =+E16 -> -1627000 | F15: =+F16 -> -549000
A16: 1190 | C16: Զբոսաշրջության զարգացման ծրագիր | D16: =+E16+F16 -> -2176000 | E16: =+E18 -> -1627000 | F16: =+F18 -> -549000
C17: այդ թվում`
B18: 12001 | C18: Համաշխարհային բանկի աջակցությամբ իրականացվող Տեղական տնտեսության և_x000D_ ենթակառուցվածքների զարգացման ծրագրի շրջանակներում ՀՀ տարբեր մարզերում_x000D_ զբոսաշրջության հետ կապված ենթակառուցվածքների բարելավմանն ուղղված միջոցառումներ | D18: =+E18+F18 -> -2176000 | E18: =+E22 -> -1627000 | F18: =+F22 -> -549000
C19: այդ թվում` ըստ կատարողների
C20: ՀՀ էկոնոմիկայի նախարարություն | D20: =+E20+F20 -> -2176000 | E20: =+E18 -> -1627000 | F20: =+F18 -> -549000
C21: այդ թվում` բյուջետային ծախսերի տնտեսագիտական դասակարգման հոդվածներ
C22: ՈՉ ՖԻՆԱՆՍԱԿԱՆ ԱԿՏԻՎՆԵՐԻ ԳԾՈՎ ԾԱԽՍԵՐ | D22: =D23 -> -2176000 | E22: =E23 -> -1627000 | F22: =F23 -> -549000
C23: ՀԻՄՆԱԿԱՆ ՄԻՋՈՑՆԵՐ | D23: =D24+D26 -> -2176000 | E23: =E24+E26 -> -1627000 | F23: =F24+F26 -> -549000
C24: ՇԵՆՔԵՐ ԵՎ ՇԻՆՈՒԹՅՈՒՆՆԵՐ | D24: =D25 -> -1689000 | E24: =E25 -> -1251000 | F24: =F25 -> -438000
C25: - Շենքերի և շինությունների շինարարություն | D25: =+E25+F25 -> -1689000 | E25: -1251000 | F25: -438000
C26: ԱՅԼ ՀԻՄՆԱԿԱՆ ՄԻՋՈՑՆԵՐ | D26: =D27 -> -487000 | E26: =E27 -> -376000 | F26: =F27 -> -111000
C27: - Նախագծահետազոտական ծախսեր | D27: =+E27+F27 -> -487000 | E27: -376000 | F27: -111000

Sheet հավելված7
D1: Հավելված N 7
C2: ՀՀ կառավարության 2022 թվականի
C3: ___________ ___-ի N _______ -Ն որոշման
A6: «ՀԱՅԱՍՏԱՆԻ ՀԱՆՐԱՊԵՏՈՒԹՅԱՆ 2022 ԹՎԱԿԱՆԻ ՊԵՏԱԿԱՆ ԲՅՈՒՋԵԻ ՄԱՍԻՆ» ՕՐԵՆՔԻ N 1 ՀԱՎԵԼՎԱԾԻ N 5 ԱՂՅՈՒՍԱԿՈՒՄ ԵՎ ՀԱՅԱՍՏԱՆԻ ՀԱՆՐԱՊԵՏՈՒԹՅԱՆ ԿԱՌԱՎԱՐՈՒԹՅԱՆ 2021 ԹՎԱԿԱՆԻ ԴԵԿՏԵՄԲԵՐԻ 23-Ի N 2121-Ն ՈՐՈՇՄԱՆ N 5 ՀԱՎԵԼՎԱԾԻ N 4 ԱՂՅՈՒՍԱԿՈՒՄ ԿԱՏԱՐՎՈՂ ՓՈՓՈԽՈՒԹՅՈՒՆՆԵՐԸ
E7: հազ. դրամ
A8: Ծրագրային դասիչը | C8: Բյուջետային հատկացումների գլխավոր կարգադրիչների, ծրագրերի, միջոցառումների և միջոցառումները կատարող պետական մարմինների անվանումները | D8: Ցուցանիշների փոփոխությունները (ավելացումները նշված են դրական նշանով, իսկ նվազեցումները` փակագծերում)
D9: Տարի
A10: Ծրագիր | B10: Միջոց_x000D_առում | D10: Ընդամենը | E10: այդ թվում
E11: Դրամաշնորհային միջոցներ | F11: Համաֆինան սավորում
C12: ԸՆԴԱՄԵՆԸ_x000D_ այդ թվում` | D12: =+D13+D14 -> -8621.2 | E12: =+E13+E14 -> 0 | F12: =+F13+F14 -> -8621.2
C13: - ԸՆԹԱՑԻԿ ԾԱԽՍԵՐ | D13: =+E13+F13 -> 0 | E13: 0 | F13: 0
C14: - ՈՉ ՖԻՆԱՆՍԱԿԱՆ ԱԿՏԻՎՆԵՐԻ ԳԾՈՎ ԾԱԽՍԵՐ | D14: =+D22 -> -8621.2 | E14: =+E22 -> 0 | F14: =+F22 -> -8621.2
C15: ՀՀ վարչապետի աշխատակազմ | D15: =+D16 -> -8621.2 | E15: =+E16 -> 0 | F15: =+F16 -> -8621.2
A16: 1214 | C16: Արդյունահանող ճյուղերի զարգացման ծրագիր | D16: =+E16+F16 -> -8621.2 | E16: =+E18 -> 0 | F16: =+F18 -> -8621.2
C17: այդ թվում`
B18: 11003 | C18: Համաշխարհային բանկիաջակցությամբ իրականացվող «Հայսատանի արդյունահանող ճյուղերի թափանցիկության նախաձեռնությանն աջակցություն. Լրացուցիչ ֆինանսավորում» դրամաշնորհային ծրագիր | D18: =+E18+F18 -> -8621.2 | E18: =+E22 -> 0 | F18: =+F22 -> -8621.2
C19: այդ թվում` ըստ կատարողների
C20: ՀՀ վարչապետի աշխատակազմ | D20: =+E20+F20 -> -8621.2 | E20: =+E18 -> 0 | F20: =+F18 -> -8621.2
C21: այդ թվում` բյուջետային ծախսերի տնտեսագիտական դասակարգման հոդվածներ
C22: ԸՆԴԱՄԵՆԸ ԾԱԽՍԵՐ | D22: =+D23 -> -8621.2 | E22: 0 | F22: =+F23 -> -8621.2
C23: ԸՆԹԱՑԻԿ ԾԱԽՍԵՐ | D23: =+E23+F23 -> -8621.2 | E23: 0 | F23: =+F24 -> -8621.2
C24: ԱՅԼ ԾԱԽՍԵՐ | D24: =+E24+F24 -> -8621.2 | E24: 0 | F24: =F25 -> -8621.2
C25: - Այլ ծախսեր | D25: =+E25+F25 -> -8621.2 | E25: 0 | F25: -8621.2

Sheet հավելված8.
E1: Հավելված N 8
A2: «ՀԱՅԱՍՏԱՆԻ ՀԱՆՐԱՊԵՏՈՒԹՅԱՆ 2022 ԹՎԱԿԱՆԻ ՊԵՏԱԿԱՆ ԲՅՈՒՋԵԻ ՄԱՍԻՆ» ՀԱՅԱՍՏԱՆԻ ՀԱՆՐԱՊԵՏՈՒԹՅԱՆ ՕՐԵՆՔԻ N 1 ՀԱՎԵԼՎԱԾԻ N 7 ԱՂՅՈՒՍԱԿՈՒՄ ԵՎ ՀԱՅԱՍՏԱՆԻ ՀԱՆՐԱՊԵՏՈՒԹՅԱՆ ԿԱՌԱՎԱՐՈՒԹՅԱՆ 2021 ԹՎԱԿԱՆԻ ԴԵԿՏԵՄԲԵՐԻ 23-Ի N 2121-Ն ՈՐՈՇՄԱՆ N5 ՀԱՎԵԼՎԱԾԻ N 6 ԱՂՅՈՒՍԱԿՈՒՄ ԿԱՏԱՐՎՈՂ ՓՈՓՈԽՈՒԹՅՈՒՆՆԵՐԸ
D3: հազար դրամ
A4: Ծրագրային դասիչը | C4: Հատկացումների տրամադրման նպատակները և բյուջետային գլխավոր կարգադրիչների, ծրագրերի, միջոցառումների և կատարող պետական մարմնի անվանումները | D4: Տարի
A5: Ծրագիր | B5: Միջոցառում
C6: Ընդամենը | D6: =D8 -> -8147.9
A7: այդ թվում`
A8: Ընթացիկ սուբվենցիաներ համայնքներին | D8: =D9 -> -8147.9
A9: ՀՀ շրջակա միջավայրի նախարարություն | D9: =+D10 -> -8147.9
A10: 1133 | C10: Բնապահպանական ծրագրերի իրականացում համայնքներում | D10: =+D12 -> -8147.9
C11: այդ թվում`
B12: 12001 | C12: Բնապահպանական սուբվենցիաներ համայնքներին | D12: =+D14 -> -8147.9
C13: այդ թվում` ըստ կատարողների
C14: ՀՀ շրջակա միջավայրի նախարարություն | D14: ='[1]N 1'!D48 -> -8147.9

Sheet հավելված9
E1: Հավելված N 9
A2: «ՀԱՅԱՍՏԱՆԻ ՀԱՆՐԱՊԵՏՈՒԹՅԱՆ 2022 ԹՎԱԿԱՆԻ ՊԵՏԱԿԱՆ ԲՅՈՒՋԵԻ ՄԱՍԻՆ» ՀԱՅԱՍՏԱՆԻ ՀԱՆՐԱՊԵՏՈՒԹՅԱՆ ՕՐԵՆՔԻ N 7 ՀԱՎԵԼՎԱԾՈՒՄ ԵՎ ՀԱՅԱՍՏԱՆԻ ՀԱՆՐԱՊԵՏՈՒԹՅԱՆ ԿԱՌԱՎԱՐՈՒԹՅԱՆ 2021 ԹՎԱԿԱՆԻ ԴԵԿՏԵՄԲԵՐԻ 23-Ի N 2121-Ն ՈՐՈՇՄԱՆ N 5 ՀԱՎԵԼՎԱԾԻ N 10 ԱՂՅՈՒՍԱԿՈՒՄ ԿԱՏԱՐՎՈՂ ՓՈՓՈԽՈՒԹՅՈՒՆՆԵՐԸ
E4: հազար դրամներով
A5: NN | B5: Համայնքի անվանումը | C5: Ընդամենը, | D5: այդ թվում` ըստ բյուջետային ծախսերի տնտեսագիտական դասակարգման հոդվածների
D6: Ընթացիկ սուբվենցիաներ համայնքներին | E6: Կապիտալ սուբվենցիաներ համայնքներին
B7: 1 | C7: 2 | D7: 3 | E7: 4
B8: ԸՆԴԱՄԵՆԸ | C8: =C10 -> -8147.9 | D8: =D10 -> -8147.9 | E8: =E10 -> 0
B9: այդ թվում`
A10: 5 | B10: ՀՀ ՍՅՈՒՆԻՔԻ ՄԱՐԶ | C10: =SUM(C12) -> -8147.9 | D10: =SUM(D12) -> -8147.9 | E10: =SUM(E12) -> 0
B11: այդ թվում`
A12: 5.1 | B12: Կապան համայնք | C12: =C14 -> -8147.9 | D12: =D14 -> -8147.9 | E12: =E14 -> 0
B13: այդ թվում`
B14: Կապան համայնքի բնապահպանական ծրագրով նախատեսված միջոցառումների իրականացման առաջնայնությունները և դրանց ֆինանսական համամասնությունները ծրագիր | C14: =D14+E14 -> -8147.9 | D14: -8147.9

Sheet հավելված10
F1: Հավելված N 10
D2: ՀՀ կառավարության 2022 թվականի
D3: ___________ ___-ի N _______ -Ն որոշման
A6: ՀԱՅԱՍՏԱՆԻ ՀԱՆՐԱՊԵՏՈՒԹՅԱՆ 2022 ԹՎԱԿԱՆԻ ՊԵՏԱԿԱՆ ԲՅՈՒՋԵԻ ՄԱՍԻՆ ՕՐԵՆՔԻ N 1 ՀԱՎԵԼՎԱԾԻ N 3 ԱՂՅՈՒՍԱԿՈՒՄ ԿԱՏԱՐՎՈՂ ՓՈՓՈԽՈՒԹՅՈՒՆՆԵՐԸ
G7: (հազ. դրամ)
A8: Շրագրային դասիչը | C8: Բյուջետային գլխավոր կարգադրիչների, ծրագրերի և միջոցառումների և ուղղությունների անվանումները | D8: Ընդամենը, | E8: Ցուցանիշների փոփոխությունը (նվազեցումները նշված են փակագծերում)
E9: այդ թվում
A10: Ծրագիր | B10: Միջոցառում | E10: Կառուցման աշխատանքներ | F10: Վերակառուցման, վերանորոգման և վերականգնման աշխատանքներ | G10: Նախագծահետազոտական, գեոդեզիա-քարտեզագրական աշխատանքներ | H10: Ոչ ֆինանսական այլ ակտիվների ձեռքբերում
C11: ԸՆԴԱՄԵՆԸ | D11: =+D14+D19+D26+D30+D34+D38+D42 -> -815042.8 | E11: =+E14+E19+E26+E30+E34+E38+E42 -> 0 | F11: =+F14+F19+F26+F30+F34+F38+F42 -> -697383.4 | G11: =+G14+G19+G26+G30+G34+G38+G42 -> -59993 | H11: =+H14+H19+H26+H30+H34+H38+H42 -> -57666.4
C12: այդ թվում`
C14: ՀՀ ՔՆՆՉԱԿԱՆ ԿՈՄԻՏԵ | D14: =+E14+F14+G14+H14 -> -15696.5 | F14: =+F16+F17 -> -8683.4 | H14: =+H16+H17 -> -7013.1
C15: այդ թվում`
A16: 1180 | B16: 31001 | C16: ՀՀ քննչական կոմիտեի տեխնիկական հագեցվածության բարելավում | D16: =+E16+F16+G16+H16 -> -7013.1 | H16: -7013.1
A17: 1180 | B17: 31004 | C17: ՀՀ քննչական կոմիտեի շենքային պայմանների բարելավում | D17: =+E17+F17+G17+H17 -> -8683.4 | F17: -8683.4
C19: ՀՀ ՔԱՂԱՔԱՇԻՆՈՒԹՅԱՆ ԿՈՄԻՏԵ | D19: =+E19+F19+G19+H19 -> -10212 | G19: =+G21+G22+G24 -> -10212
C20: այդ թվում`
A21: 1103 | B21: 11002 | C21: Նորմատիվատեխնիկական փաստաթղթերի մշակում և տեղայնացում | D21: =+E21+F21+G21+H21 -> -1200 | G21: -1200
A22: 1103 | B22: 11003 | C22: Միկրոռեգիոնալ մակարդակի համակցված տարածական պլանավորման փաստաթղթերի մշակում | D22: =+E22+F22+G22+H22 -> -1512 | G22: =G23 -> -1512
C23: ՀՀ Գեղարքունի մարզի համայնքների (մասնակի) համակցված տարածական պլանավորման թվով 8 փաստաթղթերի նախագծերի մշակում (տարածքային հատակագծման նախագծի և փորձաքննությունների մասով) | D23: =+E23+F23+G23+H23 -> -1512 | G23: -1512
A24: 1103 | B24: 21001 | C24: Քաղաքաշինության բնագավառում պետական ծրագրերի իրականացման ապահովում | D24: =+E24+F24+G24+H24 -> -7500 | G24: =G25 -> -7500
C25: Հայաստանի Հանրապետության Լոռու մարզի Ստեփանավան համայնքի Աշոտաբերդում թաղամասի կառուցում | D25: =+E25+F25+G25+H25 -> -7500 | G25: -7500
C26: ՀՀ ոստիկանություն | D26: =+E26+F26+G26+H26 -> -718736.5 | F26: =+F28 -> -688700 | G26: =+G28 -> -11300 | H26: =+H28 -> -18736.5
C27: այդ թվում`
A28: 1158 | B28: 31001 | C28: ՀՀ ոստիկանության կարիքի բավարարում | D28: =+E28+F28+G28+H28 -> -718736.5 | F28: -688700 | G28: -11300 | H28: -18736.5
C30: ՀՀ ՎԻՃԱԿԱԳՐԱԿԱՆ ԿՈՄԻՏԵ | D30: =SUM(E30:H30) -> -1951.2 | E30: =E32 -> 0 | F30: =F32 -> 0 | G30: =G32 -> 0 | H30: =H32 -> -1951.2
C31: այդ թվում`
A32: 1143 | B32: 31001 | C32: ՀՀ վիճակագրական կոմիտեի մարդահամարի վարչության տեխնիկական հագեցվածության բարելավում | D32: =SUM(E32:H32) -> -1951.2 | H32: -1951.2
C34: ՀՀ ՖԻՆԱՆՍՆԵՐԻ ՆԱԽԱՐԱՐՈՒԹՅՈՒՆ | D34: =D36 -> -1255.8 | E34: =E36 -> 0 | F34: =F36 -> 0 | G34: =G36 -> 0 | H34: =H36 -> -1255.8
C35: այդ թվում`
A36: 1108 | B36: 31001 | C36: ՀՀ ֆինանսների նախարարության տեխնիկական հագեցվածության բարելավում | D36: =SUM(E36:H36) -> -1255.8 | H36: -1255.8
C38: ՀՀ ԱՐԴԱՐԱԴԱՏՈՒԹՅԱՆ ՆԱԽԱՐԱՐՈՒԹՅՈՒՆ | D38: =SUM(E38:H38) -> -46432.8 | E38: =SUM(E40:E41) -> 0 | F38: =SUM(F40:F41) -> 0 | G38: =SUM(G40:G41) -> -38481 | H38: =SUM(H40:H41) -> -7951.8
C39: այդ թվում`
A40: 1120 | B40: 31002 | C40: ՀՀ արդարադատության նախարարության քրեակատարողական ծառայության կարողությունների զարգացում և տեխնիկական հագեցվածության ապահովում | D40: =SUM(E40:H40) -> -7951.8 | H40: -7951.8
A41: 1120 | B41: 31003 | C41: Քրեակատարողական հիմմնարկների շենքային պայմանների բարելավում | D41: =SUM(E41:H41) -> -38481 | G41: -38481
C42: ՀՀ ԱԶԳԱՅԻՆ ԱՆՎՏԱՆԳՈՒԹՅԱՆ ԾԱՌԱՅՈՒԹՅՈՒՆ | D42: =SUM(E42:H42) -> -20758 | E42: =SUM(E44:E45) -> 0 | F42: =SUM(F44:F45) -> 0 | G42: =SUM(G44:G45) -> 0 | H42: =SUM(H44:H45) -> -20758
C43: այդ թվում`
A44: 1036 | B44: 31001 | C44: ՊՊԾ տրանսպորտային միջոցներով ապահովվածության բարելավում | D44: =SUM(E44:H44) -> -20758 | H44: -20758

Sheet հավելված11
D1: Հավելված N 11
D2: ՀՀ կառավարության 2022 թվականի
D3: ______________ ի ___Ն որոշման
A6: ՀԱՅԱՍՏԱՆԻ ՀԱՆՐԱՊԵՏՈՒԹՅԱՆ ԿԱՌԱՎԱՐՈՒԹՅԱՆ 2021ԹՎԱԿԱՆԻ ԴԵԿՏԵՄԲԵՐԻ23-Ի N 2121-Ն ՈՐՈՇՄԱՆ N 5 ՀԱՎԵԼՎԱԾԻ N 2 ԱՂՅՈՒՍԱԿՈՒՄ ԿԱՏԱՐՎՈՂ ՓՈՓՈԽՈՒԹՅՈՒՆՆԵՐԸ
D7: (հազ. դրամ)
A8: Շրագրային դասիչը | C8: Բյուջետային գլխավոր կարգադրիչների, ծրագրերի, միջոցառումների, միջոցառումները կատարող պետական մարմինների և ուղղությունների անվանումները | D8: Ցուցանիշների փոփոխությունը (նվազեցումները նշված են փակագծերում)
A10: Ծրագիր | B10: Միջոցառում | D10: տարի
C11: ԸՆԴԱՄԵՆԸ | D11: =+D14+D25+D39+D45+D51+D57+D65 -> -815042.8
C12: այդ թվում`
C14: ՀՀ ՔՆՆՉԱԿԱՆ ԿՈՄԻՏԵ | D14: =+D16+D19 -> -15696.5
C15: այդ թվում`
A16: 1180 | B16: 31001 | C16: ՀՀ քննչական կոմիտեի տեխնիկական հագեցվածության բարելավում | D16: =D18 -> -7013.1
C17: այդ թվում` ըստ կատարողների
C18: ՀՀ քննչական կոմիտե | D18: -7013.1
A19: 1180 | B19: 31004 | C19: ՀՀ քննչական կոմիտեի շենքային պայմանների բարելավում | D19: -8683.4
C20: այդ թվում` ըստ կատարողների
C21: ՀՀ քննչական կոմիտե | D21: =D23 -> -8683.4
C22: այդ թվում` ըստ ուղղությունների
C23: ՀՀ քննչական կոմիտեի Տավուշի մարզի Գետահովիտ համայնքի 1-ի փողոցի 3/3 վեցերորդ կայազորային քննչական բաժնի վարչական շենքի կապիտալ վերանորոգում | D23: -8683.4
C25: ՀՀ ՔԱՂԱՔԱՇԻՆՈՒԹՅԱՆ ԿՈՄԻՏԵ | D25: =+D26+D29+D34 -> -10212
A26: 1103 | B26: 11002 | C26: Նորմատիվատեխնիկական փաստաթղթերի մշակում և տեղայնացում | D26: =D28 -> -1200
C27: այդ թվում` ըստ կատարողների
C28: ՀՀ քաղաքաշինության կոմիտե | D28: -1200
A29: 1103 | B29: 11003 | C29: Միկրոռեգիոնալ մակարդակի համակցված տարածական պլանավորման փաստաթղթերի մշակում | D29: =D31 -> -1512
C30: այդ թվում` ըստ կատարողների
C31: ՀՀ քաղաքաշինության կոմիտե | D31: =D33 -> -1512
C32: այդ թվում` ըստ ուղղությունների
C33: ՀՀ Գեղարքունի մարզի համայնքների (մասնակի) համակցված տարածական պլանավորման թվով 8 փաստաթղթերի նախագծերի մշակում (տարածքային հատակագծման նախագծի և փորձաքննությունների մասով) | D33: -1512
A34: 1103 | B34: 21001 | C34: Քաղաքաշինության բնագավառում պետական ծրագրերի իրականացման ապահովում | D34: =D36 -> -7500
C35: այդ թվում` ըստ կատարողների
C36: ՀՀ քաղաքաշինության կոմիտե | D36: =D38 -> -7500
C37: այդ թվում` ըստ ուղղությունների
C38: Հայաստանի Հանրապետության Լոռու մարզի Ստեփանավան համայնքի Աշոտաբերդում թաղամասի կառուցում | D38: -7500
C39: ՀՀ ՈՍՏԻԿԱՆՈՒԹՅՈՒՆ | D39: =+D41 -> -718736.5
C40: այդ թվում`
A41: 1158 | B41: 31001 | C41: ՀՀ ոստիկանության կարիքի բավարարում | D41: =+D43 -> -718736.5
C42: այդ թվում` ըստ կատարողների
C43: ՀՀ ոստիկանություն | D43: -718736.5
C45: ՀՀ ՎԻՃԱԿԱԳՐԱԿԱՆ ԿՈՄԻՏԵ | D45: =D47 -> -1951.2
C46: այդ թվում`
...

Sheet հավելված12
D1: Հավելված N 12
A2: ՀՀ կառավարության 2022 թվականի
A3: ______________ ի ___Ն որոշման
A4: ՀԱՅԱՍՏԱՆԻ ՀԱՆՐԱՊԵՏՈՒԹՅԱՆ ԿԱՌԱՎԱՐՈՒԹՅԱՆ 2021 ԹՎԱԿԱՆԻ ԴԵԿՏԵՄԲԵՐԻ 23-Ի N 2121-Ն ՈՐՈՇՄԱՆ N 9 ԱՂՅՈՒՍԱԿՆԵՐՈՒՄ ԿԱՏԱՐՎՈՂ ՓՈՓՈԽՈՒԹՅՈՒՆՆԵՐԸ
E5: Աղյուսակ 11.1
A6: ՀՀ վարչապետի աշխատակազմ
A7: ՄԱՍ 2. ՊԵՏԱԿԱՆ ՄԱՐՄՆԻ ԳԾՈՎ ԱՐԴՅՈՒՆՔԱՅԻՆ (ԿԱՏԱՐՈՂԱԿԱՆ) ՑՈՒՑԱՆԻՇՆԵՐԸ
A9: Ծրագրի դասիչը | B9: Ծրագրի անվանումը
A10: 1033 | B10: Աջակցություն քաղաքական կուսակցություններին, հասարակական կազմակերպություններին և արհմիություններին
A12: Ծրագրի միջոցառումները
A14: Ծրագրի դասիչը` | B14: 1033 | C14: Ցուցանիշներ
A15: Միջոցառման դասիչը` | B15: 11002 | C15: 2020թ. փաստացի | D15: 2021թ. սպասվող | E15: 2022թ.տարի
A16: Միջոցառման անվանումը` | B16: Պետական կառավարման գործընթացներին քաղաքացիական հասարակության մասնակցության ապահովում
A17: Նկարագրությունը` | B17: Հանրային խորհրդի բնականոն գործունեության ապահովում
A18: Միջոցառման տեսակը` | B18: Ծառայությունների մատուցում
A19: Միջոցառումն իրականացնողի անվանումը | B19: ՀՀ վարչապետի աշխատակազմ
A20: Արդյունքի չափորոշիչներ
A21: Միջոցառման վրա կատարված ծախսը (հազար դրամ) | E21: -9528
A24: Ծրագրի դասիչը | B24: Ծրագրի անվանումը
A25: 1132 | B25: Քաղաքացիական ծառայողների վերապատրաստում
A27: Ծրագրի միջոցառումները
A29: Ծրագրի դասիչը` | B29: 1132 | C29: Ցուցանիշներ
A30: Միջոցառման դասիչը` | B30: 11001 | C30: 2020թ. փաստացի | D30: 2021թ սպասվող | E30: 2022թ տարի
A31: Միջոցառման անվանումը` | B31: ՀՀ քաղաքացիական ծառայողների վերապատրաստման ծառայություններ
A32: Նկարագրությունը` | B32: Քաղաքացիական ծառայողների մասնագիտական գիտելիքների և աշխատանքային ունակությունների հետևողական վերապատրաստման և ուսուցման ծառայություններ
A33: Միջոցառման տեսակը` | B33: Ծառայությունների մատուցում
A34: Ծառայությունը մատուցող կազմակերպության(ների) անվանում(ներ)ը? | B34: «Գնումների մասին» ՀՀ օրենքի համաձայն ընտրված կազմակերպություն
A35: Արդյունքի չափորոշիչներ
A36: Վերապատրաստվող քաղաքացիական ծառայողների թիվ, մարդ | E36: -1111
A37: Վերապատրաստման ծրագրերի թիվ, հատ
A38: Հեռավար ուսուցման մոդուլների քանակը | E38: -6
A39: Վերապատրաստվող աշխատակիցների շրջանակում կանանց և տղամարդկանց հարաբերակցություն, տոկոս
A40: Միջոցառման վրա կատարվող ծախսը (հազար դրամ) | E40: -11000
A43: Ծրագրի դասիչը | B43: Ծրագրի անվանումը
A44: 1136 | B44: ՀՀ Վարչապետի լիազորությունների իրականացման ապահովում
A46: Ծրագրի միջոցառումները
A48: Ծրագրի դասիչը` | B48: 1136 | C48: Ցուցանիշներ
A49: Միջոցառման դասիչը` | B49: 11004 | C49: 2020թ. փաստացի | D49: 2021թ սպասվող | E49: 2022թ տարի
A50: Միջոցառման անվանումը` | B50: Աջակցություն ՀՀ վարչապետի աշխատակազմի ներքո գործող Արդյունահանող ճյուղերի թափանցիկության նախաձեռնության քարտուղարությանը
A51: Նկարագրությունը` | B51: Ազգային ծրագրով նախատեսված տեխնիկական առաջադրանքների նախագծերի հաստատման ենթակա փաստաթղթերի կազմում, հանրային իրազեկման միջոցառումների իրականացում և դոնոր կազմակերպությունների հետ աշխատանքի համակարգում
...

Sheet հավելված13
D1: Հավելված N 13
A2: ՀՀ կառավարության 2022 թվականի
A3: ______________ ի ___Ն որոշման
A4: ՀԱՅԱՍՏԱՆԻ ՀԱՆՐԱՊԵՏՈՒԹՅԱՆ ԿԱՌԱՎԱՐՈՒԹՅԱՆ 2021 ԹՎԱԿԱՆԻ ԴԵԿՏԵՄԲԵՐԻ 23-Ի N 2121-Ն ՈՐՈՇՄԱՆ N 9.1 ԱՂՅՈՒՍԱԿՆԵՐՈՒՄ ԿԱՏԱՐՎՈՂ ՓՈՓՈԽՈՒԹՅՈՒՆՆԵՐԸ
E5: Աղյուսակ 12.1
A6: ՀՀ վարչապետի աշխատակազմ
A7: ՄԱՍ 1. ՊԵՏԱԿԱՆ ՄԱՐՄՆԻ ԳԾՈՎ ԱՐԴՅՈՒՆՔԱՅԻՆ (ԿԱՏԱՐՈՂԱԿԱՆ) ՑՈՒՑԱՆԻՇՆԵՐԸ
A9: Ծրագրի դասիչը | B9: Ծրագրի անվանումը
A10: 1033 | B10: Աջակցություն քաղաքական կուսակցություններին, հասարակական կազմակերպություններին և արհմիություններին
A12: Ծրագրի միջոցառումները
A14: Ծրագրի դասիչը` | B14: 1033 | C14: Ցուցանիշներ
A15: Միջոցառման դասիչը` | B15: 11002 | C15: 2020թ. փաստացի | D15: 2021թ. սպասվող | E15: 2022թ.տարի
A16: Միջոցառման անվանումը` | B16: Պետական կառավարման գործընթացներին քաղաքացիական հասարակության մասնակցության ապահովում
A17: Նկարագրությունը` | B17: Հանրային խորհրդի բնականոն գործունեության ապահովում
A18: Միջոցառման տեսակը` | B18: Ծառայությունների մատուցում
A19: Միջոցառումն իրականացնողի անվանումը | B19: ՀՀ վարչապետի աշխատակազմ
A20: Արդյունքի չափորոշիչներ
A21: Միջոցառման վրա կատարված ծախսը (հազար դրամ) | E21: -9528
A24: Ծրագրի դասիչը | B24: Ծրագրի անվանումը
A25: 1132 | B25: Քաղաքացիական ծառայողների վերապատրաստում
A27: Ծրագրի միջոցառումները
A29: Ծրագրի դասիչը` | B29: 1132 | C29: Ցուցանիշներ
A30: Միջոցառման դասիչը` | B30: 11001 | C30: 2020թ. փաստացի | D30: 2021թ սպասվող | E30: 2022թ տարի
A31: Միջոցառման անվանումը` | B31: ՀՀ քաղաքացիական ծառայողների վերապատրաստման ծառայություններ
A32: Նկարագրությունը` | B32: Քաղաքացիական ծառայողների մասնագիտական գիտելիքների և աշխատանքային ունակությունների հետևողական վերապատրաստման և ուսուցման ծառայություններ
A33: Միջոցառման տեսակը` | B33: Ծառայությունների մատուցում
A34: Ծառայությունը մատուցող կազմակերպության(ների) անվանում(ներ)ը? | B34: «Գնումների մասին» ՀՀ օրենքի համաձայն ընտրված կազմակերպություն
A35: Արդյունքի չափորոշիչներ
A36: Վերապատրաստվող քաղաքացիական ծառայողների թիվ, մարդ | E36: -1111
A37: Վերապատրաստման ծրագրերի թիվ, հատ
A38: Հեռավար ուսուցման մոդուլների քանակը | E38: -6
A39: Վերապատրաստվող աշխատակիցների շրջանակում կանանց և տղամարդկանց հարաբերակցություն, տոկոս
A40: Միջոցառման վրա կատարվող ծախսը (հազար դրամ) | E40: -11000
A43: Ծրագրի դասիչը | B43: Ծրագրի անվանումը
A44: 1136 | B44: ՀՀ Վարչապետի լիազորությունների իրականացման ապահովում
A46: Ծրագրի միջոցառումները
A48: Ծրագրի դասիչը` | B48: 1136 | C48: Ցուցանիշներ
A49: Միջոցառման դասիչը` | B49: 11004 | C49: 2020թ. փաստացի | D49: 2021թ սպասվող | E49: 2022թ տարի
A50: Միջոցառման անվանումը` | B50: Աջակցություն ՀՀ վարչապետի աշխատակազմի ներքո գործող Արդյունահանող ճյուղերի թափանցիկության նախաձեռնության քարտուղարությանը
A51: Նկարագրությունը` | B51: Ազգային ծրագրով նախատեսված տեխնիկական առաջադրանքների նախագծերի հաստատման ենթակա փաստաթղթերի կազմում, հանրային իրազեկման միջոցառումների իրականացում և դոնոր կազմակերպությունների հետ աշխատանքի համակարգում
...

Sheet հավելված14
F1: Հավելված N 14
E2: ՀՀ կառավարության 2020 թվականի
E3: ________ N ____ որոշման
A6: ՀԱՅԱՍՏԱՆԻ ՀԱՆՐԱՊԵՏՈՒԹՅԱՆ ԿԱՌԱՎԱՐՈՒԹՅԱՆ 2020 ԹՎԱԿԱՆԻ ԴԵԿՏԵՄԲԵՐԻ 30-Ի N 2215-Ն ՈՐՈՇՄԱՆ N 10 ՀԱՎԵԼՎԱԾՈՒՄ ԿԱՏԱՐՎՈՂ ՓՈՓՈԽՈՒԹՅՈՒՆՆԵՐԸ
A8: Կոդը | B8: Անվանումը | C8: Գնման ձևը | D8: Չափման միավորը | E8: Ցուցանիշների փոփոխությունը (ավելացումները նշված են դրական նշանով, իսկ նվազեցումները` փակագծերում)
E9: միավորի գինը (դրամով) | F9: քանակը | G9: գումարը (հազար դրամով)
G10: =G11+G113+G120+G193+G211+G219+G314+G347+G353+G363+G427+G709+G717+G727+G756+G775+G789+G838 -> -1226686.2
A11: ՀՀ վարչապետի աշխատակազմ | G11: =G12+G108 -> -72070.65
A12: Բաժին N 01 Խումբ N 01 Դաս N 01 Օրենսդիր և գործադիր մարմիններ, պետական կառավարում | G12: =G13+G17+G22+G31+G50+G54 -> -42070.65
A13: 1033 11002 | B13: Պետական կառավարման գործընթացներին քաղաքացիական հասարակության մասնակցության ապահովում | G13: =G14 -> -2200
B14: ՄԱՍ III. ԾԱՌԱՅՈՒԹՅՈՒՆՆԵՐ | G14: =G15+G16 -> -2200
A15: 70221100-1 | B15: ոչ բնակելի անշարժ գույքի վարձակալության կամ լիզինգի ծառայություններ | C15: ՄԱ | D15: դրամ | E15: 1000000 | F15: -1 | G15: -1000
A16: 79111200-1 | B16: ներկայացուցչական ծառայություններ | C16: ՄԱ | D16: դրամ | E16: 1200000 | F16: -1 | G16: -1200
A17: 1132 11001 | B17: ՀՀ քաղաքացիական ծառայողների վերապատրաստման ծառայություններ | G17: =G18 -> -11000
B18: ՄԱՍ III. ԾԱՌԱՅՈՒԹՅՈՒՆՆԵՐ | G18: =G19+G20+G21 -> -11000
A19: 79631200-1 | B19: աշխատակիցների վերապատրաստման ծառայություններ | C19: ԷԱՃ | D19: դրամ | E19: 10789664 | F19: -1 | G19: -10789.7
A20: 79631200-18 | B20: աշխատակիցների վերապատրաստման ծառայություններ | C20: ԷԱՃ | D20: դրամ | G20: -184
A21: 79631200-17 | B21: աշխատակիցների վերապատրաստման ծառայություններ | C21: ԷԱՃ | D21: դրամ | G21: -26.3
A22: 1213 11001 | B22: Առողջապահության ոլորտում վերահսկողության ծառայություններ | G22: =G23 -> -10500
B23: ՄԱՍ III. ԾԱՌԱՅՈՒԹՅՈՒՆՆԵՐ | G23: =G24+G25+G26+G27+G28+G29+G30 -> -10500
A24: 65311100-1 | B24: էլեկտրականության բաշխում | C24: ՄԱ | D24: դրամ | G24: -830
A25: 76131100-1 | B25: գազասպառման համակարգի տեխնիկական սպասարկման ծառայություններ | C25: ՄԱ | D25: դրամ | G25: -120
A26: 6521110011 | B26: գազի բաշխում | C26: ՄԱ | D26: դրամ | G26: -550
A27: 70221100-1 | B27: ոչ բնակելի անշարժ գույքի վարձակալության կամ լիզինգի ծառայություններ | C27: ՄԱ | D27: դրամ | G27: -5000
A28: 71911100-17 | B28: լաբորատորիական ծառայություններ | C28: ՄԱ | D28: դրամ | G28: -500
A29: 71911100-18 | B29: լաբորատորիական ծառայություններ | C29: ՄԱ | D29: դրամ | G29: -1192
A30: 71911100-16 | B30: լաբորատորիական ծառայություններ | C30: ՄԱ | D30: դրամ | G30: -2308
A31: 1213 11002 | B31: Բնապահպանության ոլորտում վերահսկողության ծառայություններ | G31: =G32+G48 -> -4523.1
B32: ՄԱՍ I. ԱՊՐԱՆՔՆԵՐ | G32: =G33+G34+G35+G36+G37+G38+G39+G40+G41+G42+G43+G44+G45+G46+G47 -> -1523.1
A33: 09211110-501 | B33: շարժիչի յուղեր | C33: ԷԱՃ | D33: կգ | G33: -97.7
A34: 34351200-571 | B34: ավտոմեքենաների անիվներ | C34: ԷԱՃ | D34: հատ | G34: -20
A35: 09132200-7 | B35: բենզին, ռեգուլյար | C35: ԷԱՃ | D35: լիտր | G35: -84.4
A36: 34351200-572 | B36: ավտոմեքենաների անիվներ | C36: ԷԱՃ | D36: հատ | G36: -20
A37: 34351200-18 | B37: ավտոմեքենաների անիվներ | C37: ԷԱՃ | D37: հատ | G37: -4
A38: 31442100-7 | B38: կուտակիչ մարտկոցներ | C38: ԷԱՃ | D38: հատ | G38: -16.7
A39: 31442100-8 | B39: կուտակիչ մարտկոցներ | C39: ԷԱՃ | D39: հատ | G39: -51.3
A40: 34351200-16 | B40: ավտոմեքենաների անիվներ | C40: ԷԱՃ | D40: հատ | G40: -25.6
A41: 09132200-15 | B41: բենզին, ռեգուլյար | C41: ԷԱՃ | D41: լիտր | G41: -650.8
A42: 24951320-501 | B42: հակասառիչ հեղուկ | C42: ԷԱՃ | D42: կգ | G42: -240
A43: 31442100-1 | B43: կուտակիչ մարտկոցներ | C43: ԷԱՃ | D43: հատ | G43: -9.4
...
