Workbook
Name _tab10: #REF!
Name _tab10: #REF!
Name _tab10: #REF!
Name _tab10: #REF!
Name _tab10: #REF!
Name _tab10: #REF!
Name _tab10: #REF!
Name _tab10: #REF!
Name _tab10: #REF!
Name _tab11: #REF!
Name _tab11: #REF!
Name _tab11: #REF!
Name _tab11: #REF!
Name _tab11: #REF!
Name _tab11: #REF!
Name _tab11: #REF!
Name _tab11: #REF!
Name _tab11: #REF!
Name _tab12: #REF!
Name _tab12: #REF!
Name _tab12: #REF!
Name _tab12: #REF!
Name _tab12: #REF!
Name _tab12: #REF!
Name _tab12: #REF!
Name _tab12: #REF!
Name _tab12: #REF!
Name _tab13: #REF!
Name _tab13: #REF!
Name _tab13: #REF!
Name _tab13: #REF!
Name _tab13: #REF!
Name _tab13: #REF!
Name _tab13: #REF!
Name _tab13: #REF!
Name _tab13: #REF!
Name _tab14: #REF!
Name _tab14: #REF!
Name _tab14: #REF!
Name _tab14: #REF!
Name _tab14: #REF!
Name _tab14: #REF!
Name _tab14: #REF!
Name _tab14: #REF!
Name _tab14: #REF!
Name _tab15: #REF!
Name _tab15: #REF!
Name _tab15: #REF!
Name _tab15: #REF!
Name _tab15: #REF!
Name _tab15: #REF!
Name _tab15: #REF!
Name _tab15: #REF!
Name _tab15: #REF!
Name _tab16: #REF!
Name _tab16: #REF!
Name _tab16: #REF!
Name _tab16: #REF!
Name _tab16: #REF!
Name _tab16: #REF!

Sheet 1
B1: Հավելված N 1 ՀՀ կառավարության 2022 թվականի ___________ ___-ի N _______ -Ն որոշման
B3: «ՀԱՅԱՍՏԱՆԻ ՀԱՆՐԱՊԵՏՈՒԹՅԱՆ 2022 ԹՎԱԿԱՆԻ ՊԵՏԱԿԱՆ ԲՅՈՒՋԵԻ ՄԱՍԻՆ» ՀԱՅԱՍՏԱՆԻ ՀԱՆՐԱՊԵՏՈՒԹՅԱՆ ՕՐԵՆՔԻ 2-ՐԴ ՀՈԴՎԱԾԻ ԱՂՅՈՒՍԱԿՈՒՄ ԿԱՏԱՐՎՈՂ ՓՈՓՈԽՈՒԹՅՈՒՆԸ
C4: հազար դրամ
C5: Ցուցանիշների փոփոխությունը (ավելացումները նշված են դրական նշանով)
B6: Եկամուտների գծով | C6: ='2'!C7 -> 2600000
B7: Ծախսերի գծով | C7: 2600000

Sheet 2
B1: Հավելված N 2 ՀՀ կառավարության 2022 թվականի ___________ ___-ի N _______ -Ն որոշման
B3: «ՀԱՅԱՍՏԱՆԻ ՀԱՆՐԱՊԵՏՈՒԹՅԱՆ 2022 ԹՎԱԿԱՆԻ ՊԵՏԱԿԱՆ ԲՅՈՒՋԵԻ ՄԱՍԻՆ» ՀԱՅԱՍՏԱՆԻ ՀԱՆՐԱՊԵՏՈՒԹՅԱՆ ՕՐԵՆՔԻ 6-ՐԴ ՀՈԴՎԱԾԻ ԱՂՅՈՒՍԱԿՈՒՄ ԵՎ ՀԱՅԱՍՏԱՆԻ ՀԱՆՐԱՊԵՏՈՒԹՅԱՆ ԿԱՌԱՎԱՐՈՒԹՅԱՆ 2021 ԹՎԱԿԱՆԻ ԴԵԿՏԵՄԲԵՐԻ 23-Ի N 2121-Ն ՈՐՈՇՄԱՆ N 2 ՀԱՎԵԼՎԱԾՈՒՄ ԿԱՏԱՐՎՈՂ ՓՈՓՈԽՈՒԹՅՈՒՆԸ
C4: հազար դրամ
B5: Պետական բյուջեի եկամուտները | C5: Ցուցանիշների փոփոխությունը (ավելացումները նշված են դրական նշանով)
C6: տարի
B7: Ընդամենը | C7: =C9 -> 2600000
B8: այդ թվում՝
B9: Այլ եկամուտներ | C9: ='3'!E11 -> 2600000

Sheet 3
B1: Հավելված N 3 ՀՀ կառավարության 2022 թվականի ___________ ___-ի N _______ -Ն որոշման
B3: ՀԱՅԱՍՏԱՆԻ ՀԱՆՐԱՊԵՏՈՒԹՅԱՆ ԿԱՌԱՎԱՐՈՒԹՅԱՆ 2021 ԹՎԱԿԱՆԻ ԴԵԿՏԵՄԲԵՐԻ 23-Ի N 2121-Ն ՈՐՈՇՄԱՆ N 6 ՀԱՎԵԼՎԱԾՈՒՄ ԿԱՏԱՐՎՈՂ ՓՈՓՈԽՈՒԹՅՈՒՆԸ
E4: հազար դրամ
C5: Եկամտատեսակը | D5: Գանձման համար պատասխանատու պետական կառավարման մարմինը (մարմինները) | E5: Ցուցանիշների փոփոխությունը (ավելացումները նշված են դրական նշանով)
E6: տարի
B7: Այլ եկամուտներ, ընդամենը | E7: =+E9 -> 2600000
C8: այդ թվում`
B9: 6 | C9: Օրենքով և այլ իրավական ակտերով սահմանված պետական բյուջե մուտքագրվող այլ եկամուտներ | E9: =+E10 -> 2600000
B10: 6.1 | C10: Պետությանը պատճառած վնասի փոխհատուցումից մուտքեր | E10: =+E11 -> 2600000
B11: 6.1.2 | D11: ՀՀ պետական կառավարման մարմիններ | E11: 2600000

Sheet 4
D1: Հավելված N 4
D2: ՀՀ կառավարության 2022 թվականի
D3: ___________ ___-ի N _______ -Ն որոշման
B5: «ՀԱՅԱՍՏԱՆԻ ՀԱՆՐԱՊԵՏՈՒԹՅԱՆ 2022 ԹՎԱԿԱՆԻ ՊԵՏԱԿԱՆ ԲՅՈՒՋԵԻ ՄԱՍԻՆ» ՀԱՅԱՍՏԱՆԻ ՀԱՆՐԱՊԵՏՈՒԹՅԱՆ ՕՐԵՆՔԻ N 1 ՀԱՎԵԼՎԱԾԻ N 2 ԱՂՅՈՒՍԱԿՈՒՄ ԿԱՏԱՐՎՈՂ ՎԵՐԱԲԱՇԽՈՒՄԸ ԵՎ ՀԱՅԱՍՏԱՆԻ ՀԱՆՐԱՊԵՏՈՒԹՅԱՆ ԿԱՌԱՎԱՐՈՒԹՅԱՆ 2021 ԹՎԱԿԱՆԻ ԴԵԿՏԵՄԲԵՐԻ 23-Ի N 2121-Ն ՈՐՈՇՄԱՆ N 5 ՀԱՎԵԼՎԱԾԻ N 1 ԱՂՅՈՒՍԱԿՈՒՄ ԿԱՏԱՐՎՈՂ ՓՈՓՈԽՈՒԹՅՈՒՆՆԵՐԸ
E6: հազար դրամ
B7: Ծրագրային դասիչը | D7: Բյուջետային հատկացումների գլխավոր կարգադրիչների, ծրագրերի և միջոցառումների անվանումները | E7: Ցուցանիշների փոփոխությունը (ավելացումները նշված են դրական նշանով, իսկ նվազեցումները՝ փակագծերում)
B8: ծրագիր | C8: միջոցառում | E8: տարի
D9: Ընդամենը | E9: =E24+E10 -> 2600000
D10: ՀՀ կառավարություն | E10: =+E12 -> -7400000
B11: 1139 | D11: Ծրագրի անվանումը`
D12: ՀՀ կառավարության պահուստային ֆոնդ | E12: =+E18 -> -7400000
D13: Ծրագրի նպատակը`
D14: Պետական բյուջեում չկանխատեսված, ինչպես նաեւ բյուջետային երաշխիքների ապահովման ծախսերի ֆինանսավորման ապահովում
D15: Վերջնական արդյունքի նկարագրությունը`
D16: Պահուստային ֆոնդի կառավարման արդյունավետության և թափանցիկության ապահովում
B17: Ծրագրի միջոցառումներ
C18: 11001 | D18: Միջոցառման անվանումը` | E18: ='6'!H20 -> -7400000
D19: ՀՀ կառավարության պահուստային ֆոնդ
D20: Միջոցառման նկարագրությունը`
D21: ՀՀ պետական բյուջեում նախատեսված ելքերի լրացուցիչ ֆինանսավորման, պետական բյուջեում չկանխատեսված ելքերի, ինչպես նաև բյուջետային երաշխիքների ապահովման ելքերի ֆինանսավորման ապահովում
D22: Միջոցառման տեսակը
D23: Ծառայությունների մատուցում
D24: ՀՀ պաշտպանության նախարարություն | E24: =+E26 -> 10000000
B25: 1169 | D25: Ծրագրի անվանումը՝
D26: ՀՀ պաշտպանության ապահովում | E26: =E32 -> 10000000
D27: Ծրագրի նպատակը՝
D28: ՀՀ ԶՈւ ռազմավարական ծավալումն ապահովող մարտական պատրաստականության պահպանում՝ արտաքին թշնամուց ՀՀ պետական սահմանների պաշտպանության ապահովում
D29: Վերջնական արդյունքի նկարագրությունը՝
D30: ՀՀ ԶՈւ ռազմավարական ծավալումն ապահովող մարտական պատրաստականության պահպանում
B31: Ծրագրի միջոցառումներ
C32: 31001 | D32: Միջոցառման անվանումը՝ | E32: ='6'!H36 -> 10000000
D33: ՀՀ պաշտպանության նախարարության շենքային պայմանների բարելավում
D34: Միջոցառման նկարագրությունը՝
D35: Պաշտպանության կարիքների համար բնակելի, գրասենյակային և այլ նշանակության շենքերի և շինությունների կառուցում
D36: Միջոցառման տեսակը
D37: Պետական մարմինների կողմից օգտագործվող ոչ ֆինանսական ակտիվների հետ գործառնություններ

Sheet 5
F1: Հավելված N 5
F2: ՀՀ կառավարության 2022 թվականի
F3: ___________ ___-ի N _______ -Ն որոշման
B5: «ՀԱՅԱՍՏԱՆԻ ՀԱՆՐԱՊԵՏՈՒԹՅԱՆ 2022 ԹՎԱԿԱՆԻ ՊԵՏԱԿԱՆ ԲՅՈՒՋԵԻ ՄԱՍԻՆ» ՀԱՅԱՍՏԱՆԻ ՀԱՆՐԱՊԵՏՈՒԹՅԱՆ ՕՐԵՆՔԻ N 1 ՀԱՎԵԼՎԱԾԻ N 3 ԱՂՅՈՒՍԱԿՈՒՄ ԿԱՏԱՐՎՈՂ ՓՈՓՈԽՈՒԹՅՈՒՆՆԵՐԸ
H6: հազար դրամ
B7: Ծրագրային դասիչ | D7: Բյուջետային գլխավոր կարգադրիչների, ծրագրերի, միջոցառումների և ուղղությունների անվանումները | E7: Ցուցանիշների փոփոխությունը (ավելացումները նշված են դրական նշանով)
E8: Ընդամենը | F8: այդ թվում՝
B9: ծրագիր | C9: միջոցառում | F9: կառուցման աշխատանքներ | G9: վերակառուցման, վերանորոգման և վերականգնման աշխատանքներ | H9: նախագծահե- տազոտական, գեոդեզիա- քարտեզագրա- կան աշխա- տանքներ | I9: ոչ ֆինանսական այլ ակտիվների ձեռքբերում
D10: ԸՆԴԱՄԵՆԸ | E10: =E12 -> 10000000 | F10: =F12 -> 10000000 | I10: =I12 -> 0
D11: այդ թվում՝
D12: ՀՀ ՊԱՇՏՊԱՆՈՒԹՅԱՆ ՆԱԽԱՐԱՐՈՒԹՅՈՒՆ | E12: =E14 -> 10000000 | F12: =F14 -> 10000000 | I12: =I14 -> 0
D13: այդ թվում`
B14: 1169 | C14: 31001 | D14: ՀՀ պաշտպանության նախարարության շենքային պայմաններ բարելավում | E14: =SUM(F14:I14) -> 10000000 | F14: ='6'!H36 -> 10000000

Sheet 6
E1: Հավելված N 6
E2: ՀՀ կառավարության 2022 թվականի
E3: ___________ ___-ի N _______ -Ն որոշման
B5: ՀԱՅԱՍՏԱՆԻ ՀԱՆՐԱՊԵՏՈՒԹՅԱՆ ԿԱՌԱՎԱՐՈՒԹՅԱՆ 2021 ԹՎԱԿԱՆԻ ԴԵԿՏԵՄԲԵՐԻ 23-Ի N 2121-Ն ՈՐՈՇՄԱՆ N 3 և N 4 ՀԱՎԵԼՎԱԾՆԵՐՈՒՄ ԿԱՏԱՐՎՈՂ ՓՈՓՈԽՈՒԹՅՈՒՆՆԵՐԸ
H6: հազար դրամ
B7: Գործառական դասիչը | E7: Ծրագրային դասիչը | G7: Բյուջետային ծախսերի գործառական դասակարգման բաժինների, խմբերի և դասերի, բյուջետային ծրագրերի միջոցառումների, բյուջետային հատկացումների գլխավոր կարգադրիչների անվանումները | H7: Ցուցանիշների փոփոխությունը (ավելացումները նշված են դրական նշանով, իսկ նվազեցումները՝ փակագծերում)
B8: բաժին | C8: խումբ | D8: դաս | E8: ծրագիր | F8: միջոցառում | H8: տարի
G9: ԸՆԴԱՄԵՆԸ ԾԱԽՍԵՐ այդ թվում՝ | H9: =H28+H10 -> 2600000
B10: 11 | G10: ՀԻՄՆԱԿԱՆ ԲԱԺԻՆՆԵՐԻՆ ՉԴԱՍՎՈՂ ՊԱՀՈՒՍՏԱՅԻՆ ՖՈՆԴԵՐ | H10: =+H12 -> -7400000
G11: այդ թվում`
C12: 01 | G12: ՀՀ կառավարության պահուստային ֆոնդ | H12: =+H14 -> -7400000
G13: այդ թվում`
D14: 01 | G14: ՀՀ կառավարության պահուստային ֆոնդ | H14: =+H16 -> -7400000
G15: այդ թվում`
G16: ՀՀ կառավարություն | H16: =+H18 -> -7400000
G17: այդ թվում`
E18: 1139 | G18: ՀՀ կառավարության պահուստային ֆոնդ | H18: =+H20 -> -7400000
G19: այդ թվում`
F20: 11001 | G20: ՀՀ կառավարության պահուստային ֆոնդ | H20: =+H22 -> -7400000
G21: այդ թվում` ըստ կատարողների
G22: ՀՀ կառավարություն | H22: =+H24 -> -7400000
G23: այդ թվում` բյուջետային ծախսերի տնտեսագիտական դասակարգման հոդվածներ
G24: ԸՆԴԱՄԵՆԸ ԾԱԽՍԵՐ | H24: =+H25 -> -7400000
G25: ԸՆԹԱՑԻԿ ԾԱԽՍԵՐ | H25: =+H26 -> -7400000
G26: ԱՅԼ ԾԱԽՍԵՐ | H26: =+H27 -> -7400000
G27: - Պահուստային միջոցներ | H27: -7400000
B28: 02 | G28: ՊԱՇՏՊԱՆՈՒԹՅՈՒՆ | H28: =H30 -> 10000000
G29: այդ թվում`
C30: 01 | G30: Ռազմական պաշտպանություն | H30: =+H32 -> 10000000
G31: այդ թվում`
D32: 01 | G32: Ռազմական պաշտպանություն | H32: =+H34 -> 10000000
G33: այդ թվում`
G34: ՀՀ պաշտպանության նախարարություն | H34: =+H35 -> 10000000
E35: 1169 | G35: ՀՀ պաշտպանության ապահովում | H35: =H36 -> 10000000
F36: 31001 | G36: ՀՀ պաշտպանության նախարարության շենքային պայմանների բարելավում | H36: =+H38 -> 10000000
G37: այդ թվում` ըստ կատարողների
G38: ՀՀ պաշտպանության նախարարություն | H38: =+H40 -> 10000000
G39: այդ թվում` բյուջետային ծախսերի տնտեսագիտական դասակարգման հոդվածներ
G40: ԸՆԴԱՄԵՆԸ ԾԱԽՍԵՐ | H40: =+H41 -> 10000000
G41: ՈՉ ՖԻՆԱՆՍԱԿԱՆ ԱԿՏԻՎՆԵՐԻ ԳԾՈՎ ԾԱԽՍԵՐ | H41: =+H42 -> 10000000
G42: ՀԻՄՆԱԿԱՆ ՄԻՋՈՑՆԵՐ | H42: =H43 -> 10000000
G43: ՇԵՆՔԵՐ ԵՎ ՇԻՆՈՒԹՅՈՒՆՆԵՐ | H43: =+H44 -> 10000000
G44: - Շենքերի և շինությունների շինարարություն | H44: 10000000

Sheet 7
B1: Հավելված N 7
B2: ՀՀ կառավարության 2022 թվականի
B3: ______________ ի ___Ն որոշման
B5: ՀԱՅԱՍՏԱՆԻ ՀԱՆՐԱՊԵՏՈՒԹՅԱՆ ԿԱՌԱՎԱՐՈՒԹՅԱՆ 2021 ԹՎԱԿԱՆԻ ԴԵԿՏԵՄԲԵՐԻ 23-Ի N 2121-Ն ՈՐՈՇՄԱՆ N 5 ՀԱՎԵԼՎԱԾԻ N 2 ԱՂՅՈՒՍԱԿՈՒՄ ԿԱՏԱՐՎՈՂ ՓՈՓՈԽՈՒԹՅՈՒՆՆԵՐԸ
E6: հազար դրամ
B7: Ծրագրային դասիչ | D7: Բյուջետային գլխավոր կարգադրիչների, ծրագրերի, միջոցառումների և ուղղությունների անվանումները | E7: Ցուցանիշների փոփոխությունը (ավելացումները նշված են դրական նշանով)
B8: ծրագիր | C8: միջոցառում | E8: տարի
D10: ԸՆԴԱՄԵՆԸ | E10: =+E12 -> 10000000
D11: այդ թվում՝
D12: ՀՀ ՊԱՇՏՊԱՆՈՒԹՅԱՆ ՆԱԽԱՐԱՐՈՒԹՅՈՒՆ | E12: =+E14 -> 10000000
D13: այդ թվում`
B14: 1169 | C14: 31001 | D14: ՀՀ պաշտպանության նախարարության շենքային պայմանների բարելավում | E14: =E16 -> 10000000
D15: այդ թվում` ըստ կատարողների
D16: ՀՀ պաշտպանության նախարարություն | E16: ='6'!H36 -> 10000000

Sheet 8
C1: Հավելված N 8
C2: ՀՀ կառավարության 2022 թվականի
C3: ______________ ի ___Ն որոշման
B5: ՀԱՅԱՍՏԱՆԻ ՀԱՆՐԱՊԵՏՈՒԹՅԱՆ ԿԱՌԱՎԱՐՈՒԹՅԱՆ 2021 ԹՎԱԿԱՆԻ ԴԵԿՏԵՄԲԵՐԻ 23-Ի N 2121-Ն ՈՐՈՇՄԱՆ N 9 ՀԱՎԵԼՎԱԾԻ N 9.14 ԵՎ N 9.47 ԱՂՅՈՒՍԱԿՆԵՐՈՒՄ ԿԱՏԱՐՎՈՂ ՓՈՓՈԽՈՒԹՅՈՒՆՆԵՐ
B7: ՀՀ պաշտպանության նախարարություն
B9: ՄԱՍ 2. ՊԵՏԱԿԱՆ ՄԱՐՄՆԻ ԳԾՈՎ ԱՐԴՅՈՒՆՔԱՅԻՆ (ԿԱՏԱՐՈՂԱԿԱՆ) ՑՈՒՑԱՆԻՇՆԵՐԸ
B11: Ծրագրի դասիչը | C11: Ծրագրի անվանումը
B12: 1169 | C12: ՀՀ պաշտպանության ապահովում
B14: Ծրագրի միջոցառումները
B16: Ծրագրի դասիչը` | C16: 1169 | D16: Ցուցանիշների փոփոխությունը (ավելացումները նշված են դրական նշանով)
B17: Միջոցառման դասիչը` | C17: 31001 | D17: տարի
B18: Միջոցառման անվանումը` | C18: ՀՀ պաշտպանության նախարարության շենքային պայմանների բարելավում
B19: Նկարագրությունը` | C19: Պաշտպանության կարիքների համար բնակելի, գրասենյակային և այլ նշանակության շենքերի և շինությունների կառուցում
B20: Միջոցառման տեսակը` | C20: Պետական մարմինների կողմից օգտագործվող ոչ ֆինանսական ակտիվների հետ գործառնություններ
B21: Ակտիվն օգտագործող կազմակերպության(ների) անվանում(ներ)ը՝ | C21: ՀՀ պաշտպանության նախարարություն
B22: Արդյունքի չափորոշիչներ
B23: Միջոցառման վրա կատարվող ծախսը (հազար դրամ) | D23: ='6'!H36 -> 10000000
B25: ՀՀ կառավարություն
B27: ՄԱՍ 2. ՊԵՏԱԿԱՆ ՄԱՐՄՆԻ ԳԾՈՎ ԱՐԴՅՈՒՆՔԱՅԻՆ (ԿԱՏԱՐՈՂԱԿԱՆ) ՑՈՒՑԱՆԻՇՆԵՐԸ
B29: Ծրագրի դասիչը | C29: Ծրագրի անվանումը
B30: 1139 | C30: ՀՀ կառավարության պահուստային ֆոնդ
B32: Ծրագրի միջոցառումները
B34: Ծրագրի դասիչը` | C34: 1139 | D34: Ցուցանիշների փոփոխությունը (նվազեցումները նշված են փակագծերում)
B35: Միջոցառման դասիչը` | C35: 11001 | D35: տարի
B36: Միջոցառման անվանումը` | C36: ՀՀ կառավարության պահուստային ֆոնդ
B37: Նկարագրությունը` | C37: ՀՀ պետական բյուջեում նախատեսված ելքերի լրացուցիչ ֆինանսավորման, պետական բյուջեում չկանխատեսված ելքերի, ինչպես նաև բյուջետային երաշխիքների ապահովման ելքերի ֆինանսավորման ապահովում
B38: Միջոցառման տեսակը` | C38: Ծառայությունների մատուցում
B39: Միջոցառումն իրականացնողի անվանումը | C39: ՀՀ կառավարություն
B40: Արդյունքի չափորոշիչներ
B41: Միջոցառման վրա կատարվող ծախսը (հազար դրամ) | D41: ='6'!H27 -> -7400000

Sheet 9
C1: Հավելված N 9
C2: ՀՀ կառավարության 2022 թվականի
C3: ______________ ի ___Ն որոշման
B5: ՀԱՅԱՍՏԱՆԻ ՀԱՆՐԱՊԵՏՈՒԹՅԱՆ ԿԱՌԱՎԱՐՈՒԹՅԱՆ 2021 ԹՎԱԿԱՆԻ ԴԵԿՏԵՄԲԵՐԻ 23-Ի N 2121-Ն ՈՐՈՇՄԱՆ N 9.1 ՀԱՎԵԼՎԱԾԻ N 9.1.15 ԵՎ N 9.1.59 ԱՂՅՈՒՍԱԿՆԵՐՈՒՄ ԿԱՏԱՐՎՈՂ ՓՈՓՈԽՈՒԹՅՈՒՆՆԵՐ
B7: ՀՀ պաշտպանության նախարարություն
B9: ՄԱՍ 1. ՊԵՏԱԿԱՆ ՄԱՐՄՆԻ ԳԾՈՎ ԱՐԴՅՈՒՆՔԱՅԻՆ (ԿԱՏԱՐՈՂԱԿԱՆ) ՑՈՒՑԱՆԻՇՆԵՐԸ
B11: Ծրագրի դասիչը | C11: Ծրագրի անվանումը
B12: 1169 | C12: ՀՀ պաշտպանության ապահովում
B14: Ծրագրի միջոցառումները
B16: Ծրագրի դասիչը` | C16: 1169 | D16: Ցուցանիշների փոփոխությունը (ավելացումները նշված են դրական նշանով)
B17: Միջոցառման դասիչը` | C17: 31001 | D17: տարի
B18: Միջոցառման անվանումը` | C18: ՀՀ պաշտպանության նախարարության շենքային պայմանների բարելավում
B19: Նկարագրությունը` | C19: Պաշտպանության կարիքների համար բնակելի, գրասենյակային և այլ նշանակության շենքերի և շինությունների կառուցում
B20: Միջոցառման տեսակը` | C20: Պետական մարմինների կողմից օգտագործվող ոչ ֆինանսական ակտիվների հետ գործառնություններ
B21: Ակտիվն օգտագործող կազմակերպության(ների) անվանում(ներ)ը՝ | C21: ՀՀ պաշտպանության նախարարություն
B22: Արդյունքի չափորոշիչներ
B24: Միջոցառման վրա կատարվող ծախսը (հազար դրամ) | D24: ='6'!H36 -> 10000000
B26: ՀՀ կառավարություն
B28: ՄԱՍ 1. ՊԵՏԱԿԱՆ ՄԱՐՄՆԻ ԳԾՈՎ ԱՐԴՅՈՒՆՔԱՅԻՆ (ԿԱՏԱՐՈՂԱԿԱՆ) ՑՈՒՑԱՆԻՇՆԵՐԸ
B30: Ծրագրի դասիչը | C30: Ծրագրի անվանումը
B31: 1139 | C31: ՀՀ կառավարության պահուստային ֆոնդ
B33: Ծրագրի միջոցառումները
B35: Ծրագրի դասիչը` | C35: 1139 | D35: Ցուցանիշների փոփոխությունը (նվազեցումները նշված են փակագծերում)
B36: Միջոցառման դասիչը` | C36: 11001 | D36: տարի
B37: Միջոցառման անվանումը` | C37: ՀՀ կառավարության պահուստային ֆոնդ
B38: Նկարագրությունը` | C38: ՀՀ պետական բյուջեում նախատեսված ելքերի լրացուցիչ ֆինանսավորման, պետական բյուջեում չկանխատեսված ելքերի, ինչպես նաև բյուջետային երաշխիքների ապահովման ելքերի ֆինանսավորման ապահովում
B39: Միջոցառման տեսակը` | C39: Ծառայությունների մատուցում
B40: Միջոցառումն իրականացնողի անվանումը | C40: ՀՀ կառավարություն
B41: Արդյունքի չափորոշիչներ
B42: Միջոցառման վրա կատարվող ծախսը (հազար դրամ) | D42: ='6'!H27 -> -7400000

Sheet Sheet1
A1: 4239 | B1: 20939.6
A2: 4252 | B2: 4001.2
A3: 4261 | B3: 24221.5
A4: 4264 | B4: 658398.2
A5: 4267 | B5: 51113.2
A6: 4269 | B6: 58135.2
A7: 5121 | B7: 34800
A8: 5122 | B8: 30780.6
A9: 5129 | B9: 165718.2
A10: 5132 | B10: 33.2
