Workbook
Name _tab10: #REF!
Name _tab11: #REF!
Name _tab12: #REF!
Name _tab13: #REF!
Name _tab14: #REF!
Name _tab15: #REF!
Name _tab16: #REF!
Name _tab17: #REF!
Name _tab18: #REF!
Name _tab19: #REF!
Name _tab20: #REF!
Name _tab21: #REF!
Name _tab22: #REF!
Name _tab23: #REF!
Name _tab24: #REF!
Name _tab5: #REF!
Name _tab6: #REF!
Name _tab7: #REF!
Name _tab8: #REF!
Name _tab9: #REF!
Name par_count: #REF!,#REF!,#REF!,#REF!,#REF!,#REF!,#REF!,#REF!,#REF!,#REF!,#REF!,#REF!,#REF!,#REF!,#REF!
Name par_qual: #REF!,#REF!,#REF!,#REF!,#REF!
Name par_time: #REF!,#REF!,#REF!,#REF!
Name par2.12s: #REF!
Name par2.4s: #REF!,#REF!,#REF!,#REF!,#REF!,#REF!,#REF!,#REF!,#REF!,#REF!,#REF!,#REF!,#REF!,#REF!,#REF!,#REF!
Name par2.5s: #REF!,#REF!
Name par2.6s: #REF!,#REF!,#REF!,#REF!
Name par2.7s: #REF!,#REF!
Name par2.9s: #REF!,#REF!,#REF!,#REF!,#REF!,#REF!,#REF!,#REF!,#REF!,#REF!,#REF!,#REF!,#REF!,#REF!,#REF!,#REF!
Name par4.10s: #REF!,#REF!
Name par4.11d: #REF!,#REF!,#REF!,#REF!,#REF!
Name par4.12d: #REF!
Name par4.13s: #REF!
Name par4.14: #REF!,#REF!,#REF!,#REF!,#REF!,#REF!
Name par4.15: #REF!,#REF!,#REF!
Name par4.16: #REF!,#REF!,#REF!
Name par4.17: #REF!,#REF!,#REF!,#REF!
Name par4.18d: #REF!,#REF!
Name par4.19s: #REF!
Name par4.20f: #REF!
Name par4.21f: #REF!
Name par4.22: #REF!
Name par4.4: #REF!
Name par4.5: #REF!
Name par4.6s: #REF!
Name par4.7s: #REF!
Name par4.8: #REF!,#REF!,#REF!,#REF!,#REF!
Name par4.9: #REF!,#REF!,#REF!,#REF!,#REF!,#REF!
Name par5.1: #REF!,#REF!
Name par5.3: #REF!,#REF!,#REF!,#REF!,#REF!,#REF!
Name par5.4: #REF!,#REF!,#REF!,#REF!,#REF!
Name par5.5: #REF!
Name par5.6: #REF!,#REF!
Name program: #REF!,#REF!,#REF!,#REF!,#REF!,#REF!,#REF!,#REF!,#REF!,#REF!,#REF!,#REF!,#REF!,#REF!,#REF!,#REF!,#REF!,#REF!,#REF!,#REF!

Sheet 1.
A1: Հավելված № 1
A2: ՀՀ կառավարության 2022 թվականի -----------
A3: № ------------ -Ն որոշման
A4: «ՀԱՅԱՍՏԱՆԻ ՀԱՆՐԱՊԵՏՈՒԹՅԱՆ 2022 ԹՎԱԿԱՆԻ ՊԵՏԱԿԱՆ ԲՅՈՒՋԵԻ ՄԱՍԻՆ» ՀԱՅԱՍՏԱՆԻ ՀԱՆՐԱՊԵՏՈՒԹՅԱՆ ՕՐԵՆՔԻ № 1 ՀԱՎԵԼՎԱԾԻ № 2 ԱՂՅՈՒՍԱԿՈՒՄ ԿԱՏԱՐՎՈՂ ՎԵՐԱԲԱՇԽՈՒՄԸ ԵՎ ՀԱՅԱՍՏԱՆԻ ՀԱՆՐԱՊԵՏՈՒԹՅԱՆ ԿԱՌԱՎԱՐՈՒԹՅԱՆ 2021 ԹՎԱԿԱՆԻ ԴԵԿՏԵՄԲԵՐԻ 23-Ի № 2121-Ն ՈՐՈՇՄԱՆ № 5 ՀԱՎԵԼՎԱԾԻ № 1 ԱՂՅՈՒՍԱԿՈՒՄ ԿԱՏԱՐՎՈՂ ՓՈՓՈԽՈՒԹՅՈՒՆՆԵՐԸ
D5: (հազ. դրամ)
A6: Ծրագրային դասիչը | C6: Բյուջետային հատկացումների գլխավոր կարգադրիչների, ծրագրերի և միջոցառումների անվանումները | D6: Ցուցանիշների փոփոխությունները (ավելացումները նշված են դրական նշանով, իսկ նվազեցումները՝ փակագծերում)
A7: Ծրագիր | B7: Միջոցառում | D7: Տարի
C8: ՀՀ առողջապահության նախարարություն | D8: =+D10+D23+D36+D73+D85+D116+D147 -> 0
A9: 1099 | C9: Ծրագրի անվանումը
C10: Առողջության առաջնային պահպանում | D10: =D17 -> -54000
C11: Ծրագրի նպատակը
C12: Բնակչությանը մատչելի և որակյալ առաջնային բժշկական օգնության և սպասարկման տրամադրում, առողջության վատթարացման ռիսկի գործոնների վերհանում և դրանց հնարավոր անբարենպաստ ազդեցության կանխարգելում
C13: Վերջնական արդյունքի նկարագրությունը
C14: Առողջության առաջնային պահպանման օղակում ցուցաբերվող բժշկական օգնության որակի, հիվանդությունների վաղ հայտնաբերման և կանխարգելման մակարդակի բարելավում, առողջապահական ծառայությունների վերաբերյալ իրազեկվածության և դրանց նկատմամբ պահանջարկի ավելացում
A15: Ծրագրի միջոցառումներ
B16: 11001 | C16: Միջոցառման անվանումը
C17: Ամբուլատոր-պոլիկլինիկական բժշկական օգնության ծառայություններ | D17: -54000
C18: Միջոցառման նկարագրությունը
C19: Ամբուլատոր-պոլիկլինիկական բժշկական օգնության ծառայություններ
C20: Միջոցառման տեսակը
C21: Ծառայությունների մատուցում
A22: 1142 | C22: Ծրագրի անվանումը`
C23: Դատաբժշկական և ախտաբանաանատոմիական ծառայություններ | D23: =D30 -> -25000
C24: Ծրագրի նպատակը`
C25: Պաթանատոմիական կանխորոշումների հիման վրա ախտորոշման և բուժման արդյունավետության բարձրացում
C26: Վերջնական արդյունքի նկարագրությունը`
C27: Մահերի պատճառների բացահայտում
A28: Ծրագրի միջոցառումներ
B29: 11002 | C29: Միջոցառման անվանումը`
C30: Ախտաբանաանատոմիական հետազոտություններ | D30: -25000
C31: Միջոցառման նկարագրությունը`
C32: Մանկական մահերի հիվանդությունների պատճառների բացահայտում` մանկամահացության մակարդակը նվազեցնելու նպատակով
C33: Միջոցառման տեսակը
C34: Ծառայությունների մատուցում
A35: 1200 | C35: Ծրագրի անվանումը`
C36: Մոր և մանկան առողջության պահպանում | D36: =+D43+D48+D54+D60+D66 -> -260000
C37: Ծրագրի նպատակը`
C38: Մոր և մանկան առողջության պահպանում, կանանց և երեխաներին մատուցվող բժշկական ծառայությունների մատչելիության և որակի բարելավում
C39: Վերջնական արդյունքի նկարագրությունը`
C40: Մանկական և մայրական մահացության և հիվանդացության կրճատում, կանանց վերարտադրողական առողջության բարելավում
A41: Ծրագրի միջոցառումներ
B42: 11001 | C42: Միջոցառման անվանումը`
C43: Մանկաբարձական բժշկական օգնության ծառայություններ | D43: -225000
C44: Միջոցառման նկարագրությունը`
C45: Մանկաբարձական բժշկական օգնության համալիր միջոցառումների իրականացում, հղիության ախտաբանական ընթացքի բժշկական օգնություն և ծննդօգնություն
C46: Միջոցառման տեսակը
C47: Ծառայությունների մատուցում
B48: 11003 | C48: Միջոցառման անվանումը` | D48: 100000
C49: Երեխաներին բժշկական օգնության ծառայություններ
C50: Միջոցառման նկարագրությունը`
C51: Երեխաների (0-18 տարեկան երեխաներին) հիվանդանոցային բժշկական օգնության իրականացում (հետազոտում, ախտորոշում, բուժում)
C52: Միջոցառման տեսակը
C53: Ծառայությունների մատուցում
B54: 11004 | C54: Միջոցառման անվանումը` | D54: 14000
C55: Մտավոր, հոգեկան (վարքագծային), լսողական, ֆիզիկական (շարժողական) և զարգացման այլ խանգարումներով երեխաների գնահատման և վերականգնողական բուժման ծառայություններ
C56: Միջոցառման նկարագրությունը`
C57: Մտավոր, հոգեկան (վարքագծային), լսողական, ֆիզիկական (շարժողական) և զարգացման այլ խանգարումներով երեխաների առողջական վիճակի գնահատումը և վերականգնողական ամբուլատոր բուժման կազմակերպումը
C58: Միջոցառման տեսակը
C59: Ծառայությունների մատուցում
B60: 11006 | C60: Միջոցառման անվանումը` | D60: -170000
C61: Անպտուղ զույգերի համար վերարտադրողական օժանդակ տեխնոլոգիաների կիրառմամբ բժշկական օգնության ծառայություններ
C62: Միջոցառման նկարագրությունը`
C63: Բնակչության առանձին և հատուկ խմբերում ընդգրկված անպտուղ զույգերին վերարտադրողական օժանդակ տեխնոլոգիաների կիրառմամբ բժշկական օգնության տրամադրում
C64: Միջոցառման տեսակը
C65: Ծառայությունների մատուցում
B66: 11007 | C66: Միջոցառման անվանումը` | D66: 21000
C67: Բնածին հիպոթիրեոզի, ֆենիլկենտոնուրիայի, լսողության և տեսողության (անհասների ռետինոպաթիա) խանգարումների, կոնքազդրային հոդի խախտման վաղ հայտնաբերման նպատակով նորածնային սքրինգների անցկացում
C68: Միջոցառման նկարագրությունը`
C69: Նորածնային սքրինինգներ իրականացում (բնածին հիպոթիրեոզի, ֆենիլկետոնուրիայի, լսողության, տեսողության և կոնքազդրային հոդի)
C70: Միջոցառման տեսակը
C71: Ծառայությունների մատուցում
A72: 1201 | C72: Ծրագրի անվանումը`
C73: Շտապ բժշկական օգնություն | D73: =D80 -> -180000
C74: Ծրագրի նպատակը`
C75: Մարդու կյանքին և առողջությանը վտանգ սպառնացող վիճակներում որակյալ շտապ բժշկական օգնության ծառայությունների տրամադրում
C76: Վերջնական արդյունքի նկարագրությունը`
C77: Շտապ օգնության համակարգի պատրաստվածության բարելավում, արձագանքման արագության, հասանելիության և բժշկական օգնության ծառայությունների որակի բարելավում
A78: Ծրագրի միջոցառումներ
B79: 11001 | C79: Միջոցառման անվանումը`
C80: Շտապ բժշկական օգնության ծառայություններ | D80: -180000
C81: Միջոցառման նկարագրությունը`
C82: Շտապ բժշկական օգնության իրականացում
C83: Միջոցառման տեսակը
C84: Ծառայությունների մատուցում
A85: 1202 | C85: Ծրագրի անվանումը` | D85: =+D92+D98+D104+D110 -> 47300
C86: Ոչ վարակիչ հիվանդությունների բժշկական օգնության ապահովում
C87: Ծրագրի նպատակը`
C88: Ոչ վարակիչ հիվանդությունների (մասնավորապես՛ սիրտանոթային, շաքարային դիաբետի և չարորակ նորագոյացությունների) բուժման արդյունավետության բարձրացում
C89: Վերջնական արդյունքի նկարագրությունը`
C90: Ոչ վարակիչ հիվանդություններով պայմանավորված հիվանդացության և մահացության նվազեցում
A91: Ծրագրի միջոցառումներ
B92: 11001 | C92: Միջոցառման անվանումը` | D92: 90000
C93: Հեմոդիալիզի և պերիտոնիալ դիալիզի անցկացման ծառայություններ
C94: Միջոցառման նկարագրությունը`
C95: Հեմոդիալիզի կարիք ունեցող հիվանդների բժշկական օգնության համալիր միջոցառումների իրականացում
C96: Միջոցառման տեսակը
C97: Ծառայությունների մատուցում
B98: 11002 | C98: Միջոցառման անվանումը` | D98: -80000
C99: Անհետաձգելի բժշկական օգնության ծառայություններ
C100: Միջոցառման նկարագրությունը`
...

Sheet 2.
A1: Հավելված № 2
A2: ՀՀ կառավարության 2022 թվականի -----------
A3: № ------------ -Ն որոշման
A4: ՀԱՅԱՍՏԱՆԻ ՀԱՆՐԱՊԵՏՈՒԹՅԱՆ ԿԱՌԱՎԱՐՈՒԹՅԱՆ 2021 ԹՎԱԿԱՆԻ ԴԵԿՏԵՄԲԵՐԻ 23-Ի № 2121-Ն ՈՐՈՇՄԱՆ №№ 3 ԵՎ 4 ՀԱՎԵԼՎԱԾՆԵՐՈՒՄ ԿԱՏԱՐՎՈՂ ՓՈՓՈԽՈՒԹՅՈՒՆՆԵՐԸ
G5: (հազ. դրամ)
A6: Գործառական դասիչը | D6: Ծրագրային դասիչը | F6: Բյուջետային հատկացումների գլխավոր կարգադրիչների, ծրագրերի, միջոցառումների և միջոցառումները կատարող պետական մարմինների անվանումները | G6: Ցուցանիշների փոփոխությունները (ավելացումները նշված են դրական նշանով, իսկ նվազեցումները՝ փակագծերում)
A7: բաժին | B7: խումբ | C7: դաս | D7: Ծրագիր | E7: Միջոցառում | G7: Տարի
A8: 07 | F8: ԱՌՈՂՋԱՊԱՀՈՒԹՅՈՒՆ | G8: =G10+G78+G191 -> 0
F9: այդ թվում`
B10: 02 | F10: Արտահիվանդանոցային ծառայություններ | G10: =G12+G24+G66 -> -112600
F11: այդ թվում`
C12: 01 | F12: Ընդհանուր բնույթի բժշկական ծառայություններ | G12: =G14 -> -54000
F13: այդ թվում`
D14: 1099 | F14: Առողջության առաջնային պահպանում | G14: =+G23 -> -54000
E15: 11001 | F15: Ամբուլատոր-պոլիկլինիկական բժշկական օգնության ծառայություններ
F16: այդ թվում` ըստ կատարողների
F17: ՀՀ առողջապահության նախարարություն
F18: այդ թվում` բյուջետային ծախսերի տնտեսագիտական դասակարգման հոդվածներ
F19: ԸՆԴԱՄԵՆԸ ԾԱԽՍԵՐ
F20: ԸՆԹԱՑԻԿ ԾԱԽՍԵՐ
F21: ԾԱՌԱՅՈՒԹՅՈՒՆՆԵՐԻ ԵՎ ԱՊՐԱՆՔՆԵՐԻ ՁԵՌՔԲԵՐՈՒՄ
F22: Պայմանագրային այլ ծառայությունների ձեռքբերում
F23: - Ընդհանուր բնույթի այլ ծառայություններ | G23: -54000
C24: 02 | F24: Մասնագիտացված բժշկական ծառայություններ | G24: =G27+G56+G46 -> 121400
F25: այդ թվում`
F26: ՀՀ առողջապահության նախարարություն
D27: 1200 | F27: =+'1.'!C36 -> Մոր և մանկան առողջության պահպանում | G27: =G28+G37 -> 35000
E28: 11004 | F28: Մտավոր, հոգեկան (վարքագծային), լսողական, ֆիզիկական (շարժողական) և զարգացման այլ խանգարումներով երեխաների գնահատման և վերականգնողական բուժման ծառայություններ | G28: =+G36 -> 14000
F29: այդ թվում` ըստ կատարողների
F30: ՀՀ առողջապահության նախարարություն
F31: այդ թվում` բյուջետային ծախսերի տնտեսագիտական դասակարգման հոդվածներ
F32: ԸՆԴԱՄԵՆԸ ԾԱԽՍԵՐ
F33: ԸՆԹԱՑԻԿ ԾԱԽՍԵՐ
F34: ԾԱՌԱՅՈՒԹՅՈՒՆՆԵՐԻ ԵՎ ԱՊՐԱՆՔՆԵՐԻ ՁԵՌՔԲԵՐՈՒՄ
F35: Պայմանագրային այլ ծառայությունների ձեռքբերում
F36: - Ընդհանուր բնույթի այլ ծառայություններ | G36: 14000
E37: 11007 | F37: Բնածին հիպոթիրեոզի, ֆենիլկենտոնուրիայի, լսողության և տեսողության (անհասների ռետինոպաթիա) խանգարումների, կոնքազդրային հոդի խախտման վաղ հայտնաբերման նպատակով նորածնային սքրինգների անցկացում | G37: =+G45 -> 21000
F38: այդ թվում` ըստ կատարողների
F39: ՀՀ առողջապահության նախարարություն
F40: այդ թվում` բյուջետային ծախսերի տնտեսագիտական դասակարգման հոդվածներ
F41: ԸՆԴԱՄԵՆԸ ԾԱԽՍԵՐ
F42: ԸՆԹԱՑԻԿ ԾԱԽՍԵՐ
F43: ԾԱՌԱՅՈՒԹՅՈՒՆՆԵՐԻ ԵՎ ԱՊՐԱՆՔՆԵՐԻ ՁԵՌՔԲԵՐՈՒՄ
F44: Պայմանագրային այլ ծառայությունների ձեռքբերում
F45: - Ընդհանուր բնույթի այլ ծառայություններ | G45: 21000
D46: 1202 | F46: =+'1.'!C86 -> Ոչ վարակիչ հիվանդությունների բժշկական օգնության ապահովում | G46: =+G47 -> 90000
E47: 11001 | F47: =+'1.'!C93 -> Հեմոդիալիզի և պերիտոնիալ դիալիզի անցկացման ծառայություններ | G47: =+G55 -> 90000
F48: այդ թվում` ըստ կատարողների
F49: ՀՀ առողջապահության նախարարություն
F50: այդ թվում` բյուջետային ծախսերի տնտեսագիտական դասակարգման հոդվածներ
F51: ԸՆԴԱՄԵՆԸ ԾԱԽՍԵՐ
F52: ԸՆԹԱՑԻԿ ԾԱԽՍԵՐ
F53: ՍՈՑԻԱԼԱԿԱՆ ՆՊԱՍՏՆԵՐ ԵՎ ԿԵՆՍԱԹՈՇԱԿՆԵՐ
F54: Սոցիալական օգնության դրամական արտահայտությամբ նպաստներ (բյուջեից)
F55: - Այլ նպաստներ բյուջեից | G55: 90000
D56: 1208 | F56: =+'1.'!C148 -> Վարակիչ հիվանդությունների կանխարգելման ծրագիր | G56: =+G57 -> -3600
E57: 11001 | F57: ՄԻԱՎ/ՁԻԱՀ-ի կանխարգելման և բուժօգնության ծառայություններ | G57: -3600
F58: այդ թվում` ըստ կատարողների
F59: ՀՀ առողջապահության նախարարություն
F60: այդ թվում` բյուջետային ծախսերի տնտեսագիտական դասակարգման հոդվածներ
F61: ԸՆԴԱՄԵՆԸ ԾԱԽՍԵՐ
F62: ԸՆԹԱՑԻԿ ԾԱԽՍԵՐ
F63: ԾԱՌԱՅՈՒԹՅՈՒՆՆԵՐԻ ԵՎ ԱՊՐԱՆՔՆԵՐԻ ՁԵՌՔԲԵՐՈՒՄ
F64: Պայմանագրային այլ ծառայությունների ձեռքբերում
F65: - Ընդհանուր բնույթի այլ ծառայություններ | G65: -3600
C66: 04 | F66: Պարաբժշկական ծառայություններ | G66: =+G68 -> -180000
F67: այդ թվում`
D68: 1201 | F68: Շտապ բժշկական օգնության ծառայություններ | G68: =G69 -> -180000
E69: 11001 | F69: Շտապ բժշկական օգնության ծառայություններ | G69: =+G77 -> -180000
F70: այդ թվում` ըստ կատարողների
F71: ՀՀ առողջապահության նախարարություն
F72: այդ թվում` բյուջետային ծախսերի տնտեսագիտական դասակարգման հոդվածներ
F73: ԸՆԴԱՄԵՆԸ ԾԱԽՍԵՐ
F74: ԸՆԹԱՑԻԿ ԾԱԽՍԵՐ
F75: ԾԱՌԱՅՈՒԹՅՈՒՆՆԵՐԻ ԵՎ ԱՊՐԱՆՔՆԵՐԻ ՁԵՌՔԲԵՐՈՒՄ
F76: Պայմանագրային այլ ծառայությունների ձեռքբերում
F77: - Ընդհանուր բնույթի այլ ծառայություններ | G77: -180000
B78: 03 | F78: Հիվանդանոցային ծառայություններ | G78: =+G80+G129+G161 -> 137600
F79: այդ թվում`
C80: 01 | F80: Ընդհանուր բնույթի հիվանդանոցային ծառայություններ | G80: =+G82+G101 -> 472300
F81: այդ թվում`
D82: 1202 | F82: =+'1.'!C86 -> Ոչ վարակիչ հիվանդությունների բժշկական օգնության ապահովում | G82: =+G83+G92 -> -35000
E83: 11002 | F83: Անհետաձգելի բժշկական օգնության ծառայություններ | G83: =+G91 -> -80000
F84: այդ թվում` ըստ կատարողների
F85: ՀՀ առողջապահության նախարարություն
F86: այդ թվում` բյուջետային ծախսերի տնտեսագիտական դասակարգման հոդվածներ
F87: ԸՆԴԱՄԵՆԸ ԾԱԽՍԵՐ
F88: ԸՆԹԱՑԻԿ ԾԱԽՍԵՐ
F89: ԾԱՌԱՅՈՒԹՅՈՒՆՆԵՐԻ ԵՎ ԱՊՐԱՆՔՆԵՐԻ ՁԵՌՔԲԵՐՈՒՄ
F90: Պայմանագրային այլ ծառայությունների ձեռքբերում
F91: - Ընդհանուր բնույթի այլ ծառայություններ | G91: -80000
E92: 11005 | F92: Սրտի անհետաձգելի վիրահատություններ | G92: =+G100 -> 45000
F93: այդ թվում` ըստ կատարողների
F94: ՀՀ առողջապահության նախարարություն
F95: այդ թվում` բյուջետային ծախսերի տնտեսագիտական դասակարգման հոդվածներ
F96: ԸՆԴԱՄԵՆԸ ԾԱԽՍԵՐ
F97: ԸՆԹԱՑԻԿ ԾԱԽՍԵՐ
F98: ՍՈՑԻԱԼԱԿԱՆ ՆՊԱՍՏՆԵՐ ԵՎ ԿԵՆՍԱԹՈՇԱԿՆԵՐ
F99: Սոցիալական օգնության դրամական արտահայտությամբ նպաստներ (բյուջեից)
F100: - Այլ նպաստներ բյուջեից | G100: 45000
...

Sheet 3.
A1: Հավելված № 3
A2: ՀՀ կառավարության 2022 թվականի -----------
A3: № ------------ -Ն որոշման
A4: ՀԱՅԱՍՏԱՆԻ ՀԱՆՐԱՊԵՏՈՒԹՅԱՆ ԿԱՌԱՎԱՐՈՒԹՅԱՆ 2021 ԹՎԱԿԱՆԻ ԴԵԿՏԵՄԲԵՐԻ 23-Ի № 2121-Ն ՈՐՈՇՄԱՆ № 9 ՀԱՎԵԼՎԱԾԻ № 9.8 ԱՂՅՈՒՍԱԿՈՒՄ ԿԱՏԱՐՎՈՂ ՓՈՓՈԽՈՒԹՅՈՒՆՆԵՐԸ
A5: ՄԱՍ 2. ՊԵՏԱԿԱՆ ՄԱՐՄՆԻ ԳԾՈՎ ԱՐԴՅՈՒՆՔԱՅԻՆ (ԿԱՏԱՐՈՂԱԿԱՆ) ՑՈՒՑԱՆԻՇՆԵՐԸ | C5: =C22+C39+C56+C67+C77+C89+C99+C119+C135+C145+C155+C167+C183+C194+C205+C216+C235+C246 -> 0
A7: Ծրագրի դասիչը | B7: Ծրագրի անվանումը
A8: Ծրագրի դասիչը | B8: Ծրագրի անվանումը
A9: Ծրագրի դասիչը` | B9: 1099 | C9: Ցուցանիշների փոփոխությունները (ավելացումները նշված են դրական նշանով, իսկ նվազեցումները՝ փակագծերում)
A10: Միջոցառման դասիչը` | B10: 11001 | C10: Տարի
A11: Միջոցառման անվանումը` | B11: Ամբուլատոր-պոլիկլինիկական բժշկական օգնության ծառայություններ
A12: Նկարագրությունը` | B12: Ամբուլատոր-պոլիկլինիկական բժշկական օգնության ծառայություններ
A13: Միջոցառման տեսակը` | B13: Ծառայությունների մատուցում
A14: Ծառայությունը մատուցող կազմակերպության(ների) անվանում(ներ)ը | B14: ՀՀ գնումների մասին օրենսդրությանը համապատասխան ընտրված կազմակերպություններ
A15: Արդյունքի չափորոշիչներ
A16: Բնակչության առողջության առաջնային պահպանման գծով կազմակերպություններում գրանցված բնակչության թիվ, մարդ | C16: 171896
A17: Տեղամասային թերապևտի, ընտանեկան բժշկի կողմից կազմակերպություններում գրանցված բնակչության թիվ` 18 և ավելի բարձր տարիքի անձինք, մարդ | C17: 155126
A18: Տեղամասային մանկաբույժի, ընտանեկան բժշկի կողմից կազմակերպություններում գրանցված բնակչության թիվ` մինչև 18տ. երեխաներ, մարդ | C18: 21370
A19: Դպրոցում բժշկական օգնություն և սպասարկում ստացող աշակերտների թիվ, մարդ
A20: Անվճար և արտոնյալ պայմաններով դեղեր ստանալու իրավունք ունեցող անձանց ընդամենը թիվ, մարդ
A21: Հղիների նախածննդյան և հետծննդյան հսկողության ընթացքում իրականացվող լաբորատոր-գործիքային ախտորոշիչ հետազոտությունների թիվ, հատ
A22: Միջոցառման վրա կատարվող ծախսը (հազար դրամ) | C22: -54000
A25: Ծրագրի դասիչը | B25: Ծրագրի անվանումը
A26: 1142 | B26: Դատաբժշկական և ախտաբանաանատոմիական ծառայություններ
A28: Ծրագրի միջոցառումները
A30: Ծրագրի դասիչը` | B30: 1142 | C30: Ցուցանիշների փոփոխությունները (նվազեցումները նշված են փակագծերում)
A31: Միջոցառման դասիչը` | B31: 11002 | C31: Տարի
A32: Միջոցառման անվանումը` | B32: Ախտաբանաանատոմիական հետազոտություններ
A33: Նկարագրությունը` | B33: Մանկական մահերի հիվանդությունների պատճառների բացահայտում` մանկամահացության մակարդակը նվազեցնելու նպատակով
A34: Միջոցառման տեսակը` | B34: Ծառայությունների մատուցում
A35: Ծառայությունը մատուցող կազմակերպության(ների) անվանում(ներ)ը | B35: ՀՀ գնումների մասին օրենսդրությանը համապատասխան ընտրված կազմակերպություններ
A36: Արդյունքի չափորոշիչներ
A37: Ախտաբանաանատոմիական դիահերձումների թիվ, հատ | C37: -204
A38: Վիրահատական և բիոպսիոն նյութերի հետազոտությունների թիվ, հատ | C38: -2223
A39: Միջոցառման վրա կատարվող ծախսը (հազար դրամ) | C39: -25000
A41: Ծրագրի դասիչը | B41: Ծրագրի անվանումը
A42: 1200 | B42: Մոր և մանկան առողջության պահպանում
A44: Ծրագրի միջոցառումները
A46: Ծրագրի դասիչը` | B46: 1200 | C46: Ցուցանիշների փոփոխությունները (նվազեցումները նշված են փակագծերում)
A47: Միջոցառման դասիչը` | B47: 11001 | C47: Տարի
A48: Միջոցառման անվանումը` | B48: Մանկաբարձական բժշկական օգնության ծառայություններ
A49: Նկարագրությունը` | B49: Մանկաբարձական բժշկական օգնության համալիր միջոցառումների իրականացում, հղիության ախտաբանական ընթացքի բժշկական օգնություն և ծննդօգնություն
A50: Միջոցառման տեսակը` | B50: Ծառայությունների մատուցում
A51: Ծառայությունը մատուցող կազմակերպության(ների) անվանում(ներ)ը | B51: ՀՀ գնումների մասին օրենսդրությանը համապատասխան ընտրված կազմակերպություններ
A52: Արդյունքի չափորոշիչներ
A53: Մանկաբարձական բժշկական օգնության ծառայություններից օգտվելու դեպքերի թիվ, հատ | C53: -2974
A54: Ծնունդների թիվ, հատ, որից | C54: -2856
A55: Կեսարյան հատումների թիվ, հատ | C55: -118
A56: Միջոցառման վրա կատարվող ծախսը (հազար դրամ) | C56: -225000
A58: Ծրագրի դասիչը` | B58: 1200 | C58: Ցուցանիշների փոփոխությունները (ավելացումները նշված են դրական նշանով)
A59: Միջոցառման դասիչը` | B59: 11003 | C59: Տարի
A60: Միջոցառման անվանումը` | B60: Երեխաներին բժշկական օգնության ծառայություններ
A61: Նկարագրությունը` | B61: Երեխաների (0-18 տարեկան երեխաներին) հիվանդանոցային բժշկական օգնության իրականացում (հետազոտում, ախտորոշում, բուժում)
A62: Միջոցառման տեսակը` | B62: Ծառայությունների մատուցում
A63: Ծառայությունը մատուցող կազմակերպության(ների) անվանում(ներ)ը | B63: ՀՀ գնումների մասին օրենսդրությանը համապատասխան ընտրված կազմակերպություններ
A64: Արդյունքի չափորոշիչներ
A65: Երեխաների բժշկական օգնության գծով ծառայություններից օգտվելու դեպքերի թիվ, հատ | C65: 1531
A66: ցերակային ստացիոնար և կարճաժամկետ կամ փոքր ծավալի բուժօգնության դեպքերի թիվ, հատ | C66: 154
A67: Միջոցառման վրա կատարվող ծախսը (հազար դրամ) | C67: 100000
A69: Ծրագրի դասիչը` | B69: 1200 | C69: Ցուցանիշների փոփոխությունները (ավելացումները նշված են դրական նշանով)
A70: Միջոցառման դասիչը` | B70: 11004 | C70: Տարի
A71: Միջոցառման անվանումը` | B71: Մտավոր, հոգեկան (վարքագծային), լսողական, ֆիզիկական (շարժողական) և զարգացման այլ խանգարումներով երեխաների գնահատման և վերականգնողական բուժման ծառայություններ
A72: Նկարագրությունը` | B72: Մտավոր, հոգեկան (վարքագծային), լսողական, ֆիզիկական (շարժողական) և զարգացման այլ խանգարումներով երեխաների առողջական վիճակի գնահատումը և վերականգնողական ամբուլատոր բուժման կազմակերպումը
A73: Միջոցառման տեսակը` | B73: Ծառայությունների մատուցում
A74: Ծառայությունը մատուցող կազմակերպության(ների) անվանում(ներ)ը | B74: ՀՀ գնումների մասին օրենսդրությանը համապատասխան ընտրված կազմակերպություններ
A75: Արդյունքի չափորոշիչներ
A76: Մտավոր, հոգեկան (վարքագծային), լսողական, ֆիզիկական (շարժողական) և զարգացման այլ խանգարումներով երեխաների վերականգնողական բուժման գծով ծառայություններից օգտվելու դեպքերի թիվ, հատ | C76: 4220
A77: Միջոցառման վրա կատարվող ծախսը (հազար դրամ) | C77: 14000
A79: Ծրագրի դասիչը` | B79: 1200 | C79: Ցուցանիշների փոփոխությունները (նվազեցումները նշված են փակագծերում)
A80: Միջոցառման դասիչը` | B80: 11006 | C80: Տարի
A81: Միջոցառման անվանումը` | B81: Անպտուղ զույգերի համար վերարտադրողական օժանդակ տեխնոլոգիաների կիրառմամբ բժշկական օգնության ծառայություններ
A82: Նկարագրությունը` | B82: Բնակչության առանձին և հատուկ խմբերում ընդգրկված անպտուղ զույգերին վերարտադրողական օժանդակ տեխնոլոգիաների կիրառմամբ բժշկական օգնության տրամադրում
A83: Միջոցառման տեսակը` | B83: Ծառայությունների մատուցում
A84: Ծառայությունը մատուցող կազմակերպության(ների) անվանում(ներ)ը | B84: ՀՀ գնումների մասին օրենսդրությանը համապատասխան ընտրված կազմակերպություններ
A85: Արդյունքի չափորոշիչներ
A86: Վերարտադրողական օժանդակ տեխնոլոգիաների կիրառմամբ բժշկական օգնության ծառայություններ ստացած զույգերի թիվ, հատ | C86: -678
A87: Հետազոտություններ քանակ (հատ) | C87: 0
A88: Հղիությամբ ավարտված դեպքերի թիվ, հատ | C88: -120
A89: Միջոցառման վրա կատարվող ծախսը (հազար դրամ) | C89: -170000
A91: Ծրագրի դասիչը` | B91: 1200 | C91: Ցուցանիշների փոփոխությունները (ավելացումները նշված են դրական նշանով)
A92: Միջոցառման դասիչը` | B92: 11007 | C92: Տարի
A93: Միջոցառման անվանումը` | B93: Բնածին հիպոթիրեոզի, ֆենիլկենտոնուրիայի, լսողության և տեսողության (անհասների ռետինոպաթիա) խանգարումների, կոնքազդրային հոդի խախտման վաղ հայտնաբերման նպատակով նորածնային սքրինգների անցկացում
A94: Նկարագրությունը` | B94: Նորածնային սքրինինգներ իրականացում (բնածին հիպոթիրեոզի, ֆենիլկետոնուրիայի, լսողության, տեսողության և կոնքազդրային հոդի)
A95: Միջոցառման տեսակը` | B95: Ծառայությունների մատուցում
A96: Ծառայությունը մատուցող կազմակերպության(ների) անվանում(ներ)ը | B96: ՀՀ գնումների մասին օրենսդրությանը համապատասխան ընտրված կազմակերպություններ
A97: Արդյունքի չափորոշիչներ
A98: Հետազոտությունների քանակ, հատ | C98: 0
A99: Միջոցառման վրա կատարվող ծախսը (հազար դրամ) | C99: 21000
A102: Ծրագրի դասիչը | B102: Ծրագրի անվանումը
A103: 1201 | B103: Շտապ բժշկական օգնություն
A105: Ծրագրի միջոցառումները
A107: Ծրագրի դասիչը` | B107: 1201 | C107: Ցուցանիշների փոփոխությունները (նվազեցումները նշված են փակագծերում)
A108: Միջոցառման դասիչը` | B108: 11001 | C108: Տարի
A109: Միջոցառման անվանումը` | B109: Շտապ բժշկական օգնության ծառայություններ
A110: Նկարագրությունը` | B110: Շտապ բժշկական օգնության իրականացում
A111: Միջոցառման տեսակը` | B111: Ծառայությունների մատուցում
A112: Ծառայությունը մատուցող կազմակերպության(ների) անվանում(ներ)ը | B112: ՀՀ գնումների մասին օրենսդրությանը համապատասխան ընտրված կազմակերպություններ
A113: Արդյունքի չափորոշիչներ
A114: Շտապ բժշկական օգնության գծով կանչերի թիվ, հատ | C114: -22000
A115: Շտապ բժշկական օգնության ծառայության մեքենաների ընդհանուր թիվ, հատ
A116: Շտապ բժշկական օգնության ծառայության մարզային մեքենաների ընդհանուր թիվ, հատ
...

Sheet 4.
A1: Հավելված № 4
A2: ՀՀ կառավարության 2022 թվականի -----------
A3: № ------------ -Ն որոշման
A4: ՀԱՅԱՍՏԱՆԻ ՀԱՆՐԱՊԵՏՈՒԹՅԱՆ ԿԱՌԱՎԱՐՈՒԹՅԱՆ 2021 ԹՎԱԿԱՆԻ ԴԵԿՏԵՄԲԵՐԻ 23-Ի № 2121-Ն ՈՐՈՇՄԱՆ № 9.1 ՀԱՎԵԼՎԱԾԻ № 9.1.9 ԱՂՅՈՒՍԱԿՈՒՄ ԿԱՏԱՐՎՈՂ ՓՈՓՈԽՈՒԹՅՈՒՆՆԵՐԸ
A5: ՄԱՍ 1. ՊԵՏԱԿԱՆ ՄԱՐՄՆԻ ԳԾՈՎ ԱՐԴՅՈՒՆՔԱՅԻՆ (ԿԱՏԱՐՈՂԱԿԱՆ) ՑՈՒՑԱՆԻՇՆԵՐԸ
A7: Ծրագրի դասիչը | B7: Ծրագրի անվանումը
A8: Ծրագրի դասիչը | B8: Ծրագրի անվանումը
A9: Ծրագրի դասիչը` | B9: 1099 | C9: Ցուցանիշների փոփոխությունները (ավելացումները նշված են դրական նշանով, իսկ նվազեցումները՝ փակագծերում)
A10: Միջոցառման դասիչը` | B10: 11001 | C10: Տարի
A11: Միջոցառման անվանումը` | B11: Ամբուլատոր-պոլիկլինիկական բժշկական օգնության ծառայություններ
A12: Նկարագրությունը` | B12: Ամբուլատոր-պոլիկլինիկական բժշկական օգնության ծառայություններ
A13: Միջոցառման տեսակը` | B13: Ծառայությունների մատուցում
A14: Ծառայությունը մատուցող կազմակերպության(ների) անվանում(ներ)ը | B14: ՀՀ գնումների մասին օրենսդրությանը համապատասխան ընտրված կազմակերպություններ
A15: Արդյունքի չափորոշիչներ
A16: Բնակչության առողջության առաջնային պահպանման գծով կազմակերպություններում գրանցված բնակչության թիվ, մարդ | C16: 171896
A17: Տեղամասային թերապևտի, ընտանեկան բժշկի կողմից կազմակերպություններում գրանցված բնակչության թիվ` 18 և ավելի բարձր տարիքի անձինք, մարդ | C17: 155126
A18: Տեղամասային մանկաբույժի, ընտանեկան բժշկի կողմից կազմակերպություններում գրանցված բնակչության թիվ` մինչև 18տ. երեխաներ, մարդ | C18: 21370
A19: Դպրոցում բժշկական օգնություն և սպասարկում ստացող աշակերտների թիվ, մարդ
A20: Անվճար և արտոնյալ պայմաններով դեղեր ստանալու իրավունք ունեցող անձանց ընդամենը թիվ, մարդ
A21: Հղիների նախածննդյան և հետծննդյան հսկողության ընթացքում իրականացվող լաբորատոր-գործիքային ախտորոշիչ հետազոտությունների թիվ, հատ
A22: Միջոցառման վրա կատարվող ծախսը (հազար դրամ) | C22: -54000
A25: Ծրագրի դասիչը | B25: Ծրագրի անվանումը
A26: 1142 | B26: Դատաբժշկական և ախտաբանաանատոմիական ծառայություններ
A28: Ծրագրի միջոցառումները
A30: Ծրագրի դասիչը` | B30: 1142 | C30: Ցուցանիշների փոփոխությունները (նվազեցումները նշված են փակագծերում)
A31: Միջոցառման դասիչը` | B31: 11002 | C31: Տարի
A32: Միջոցառման անվանումը` | B32: Ախտաբանաանատոմիական հետազոտություններ
A33: Նկարագրությունը` | B33: Մանկական մահերի հիվանդությունների պատճառների բացահայտում` մանկամահացության մակարդակը նվազեցնելու նպատակով
A34: Միջոցառման տեսակը` | B34: Ծառայությունների մատուցում
A35: Ծառայությունը մատուցող կազմակերպության(ների) անվանում(ներ)ը | B35: ՀՀ գնումների մասին օրենսդրությանը համապատասխան ընտրված կազմակերպություններ
A36: Արդյունքի չափորոշիչներ
A37: Ախտաբանաանատոմիական դիահերձումների թիվ, հատ | C37: -204
A38: Վիրահատական և բիոպսիոն նյութերի հետազոտությունների թիվ, հատ | C38: -2223
A39: Միջոցառման վրա կատարվող ծախսը (հազար դրամ) | C39: -25000
A41: Ծրագրի դասիչը | B41: Ծրագրի անվանումը
A42: 1200 | B42: Մոր և մանկան առողջության պահպանում
A44: Ծրագրի միջոցառումները
A46: Ծրագրի դասիչը` | B46: 1200 | C46: Ցուցանիշների փոփոխությունները (նվազեցումները նշված են փակագծերում)
A47: Միջոցառման դասիչը` | B47: 11001 | C47: Տարի
A48: Միջոցառման անվանումը` | B48: Մանկաբարձական բժշկական օգնության ծառայություններ
A49: Նկարագրությունը` | B49: Մանկաբարձական բժշկական օգնության համալիր միջոցառումների իրականացում, հղիության ախտաբանական ընթացքի բժշկական օգնություն և ծննդօգնություն
A50: Միջոցառման տեսակը` | B50: Ծառայությունների մատուցում
A51: Ծառայությունը մատուցող կազմակերպության(ների) անվանում(ներ)ը | B51: ՀՀ գնումների մասին օրենսդրությանը համապատասխան ընտրված կազմակերպություններ
A52: Արդյունքի չափորոշիչներ
A53: Մանկաբարձական բժշկական օգնության ծառայություններից օգտվելու դեպքերի թիվ, հատ | C53: -2974
A54: Ծնունդների թիվ, հատ, որից | C54: -2856
A55: Կեսարյան հատումների թիվ, հատ | C55: -118
A56: Միջոցառման վրա կատարվող ծախսը (հազար դրամ) | C56: -225000
A58: Ծրագրի դասիչը` | B58: 1200 | C58: Ցուցանիշների փոփոխությունները (ավելացումները նշված են դրական նշանով)
A59: Միջոցառման դասիչը` | B59: 11003 | C59: Տարի
A60: Միջոցառման անվանումը` | B60: Երեխաներին բժշկական օգնության ծառայություններ
A61: Նկարագրությունը` | B61: Երեխաների (0-18 տարեկան երեխաներին) հիվանդանոցային բժշկական օգնության իրականացում (հետազոտում, ախտորոշում, բուժում)
A62: Միջոցառման տեսակը` | B62: Ծառայությունների մատուցում
A63: Ծառայությունը մատուցող կազմակերպության(ների) անվանում(ներ)ը | B63: ՀՀ գնումների մասին օրենսդրությանը համապատասխան ընտրված կազմակերպություններ
A64: Արդյունքի չափորոշիչներ
A65: Երեխաների բժշկական օգնության գծով ծառայություններից օգտվելու դեպքերի թիվ, հատ | C65: 1531
A66: ցերակային ստացիոնար և կարճաժամկետ կամ փոքր ծավալի բուժօգնության դեպքերի թիվ, հատ | C66: 154
A67: Միջոցառման վրա կատարվող ծախսը (հազար դրամ) | C67: 100000
A69: Ծրագրի դասիչը` | B69: 1200 | C69: Ցուցանիշների փոփոխությունները (ավելացումները նշված են դրական նշանով)
A70: Միջոցառման դասիչը` | B70: 11004 | C70: Տարի
A71: Միջոցառման անվանումը` | B71: Մտավոր, հոգեկան (վարքագծային), լսողական, ֆիզիկական (շարժողական) և զարգացման այլ խանգարումներով երեխաների գնահատման և վերականգնողական բուժման ծառայություններ
A72: Նկարագրությունը` | B72: Մտավոր, հոգեկան (վարքագծային), լսողական, ֆիզիկական (շարժողական) և զարգացման այլ խանգարումներով երեխաների առողջական վիճակի գնահատումը և վերականգնողական ամբուլատոր բուժման կազմակերպումը
A73: Միջոցառման տեսակը` | B73: Ծառայությունների մատուցում
A74: Ծառայությունը մատուցող կազմակերպության(ների) անվանում(ներ)ը | B74: ՀՀ գնումների մասին օրենսդրությանը համապատասխան ընտրված կազմակերպություններ
A75: Արդյունքի չափորոշիչներ
A76: Մտավոր, հոգեկան (վարքագծային), լսողական, ֆիզիկական (շարժողական) և զարգացման այլ խանգարումներով երեխաների վերականգնողական բուժման գծով ծառայություններից օգտվելու դեպքերի թիվ, հատ | C76: 4220
A77: Միջոցառման վրա կատարվող ծախսը (հազար դրամ) | C77: 14000
A79: Ծրագրի դասիչը` | B79: 1200 | C79: Ցուցանիշների փոփոխությունները (նվազեցումները նշված են փակագծերում)
A80: Միջոցառման դասիչը` | B80: 11006 | C80: Տարի
A81: Միջոցառման անվանումը` | B81: Անպտուղ զույգերի համար վերարտադրողական օժանդակ տեխնոլոգիաների կիրառմամբ բժշկական օգնության ծառայություններ
A82: Նկարագրությունը` | B82: Բնակչության առանձին և հատուկ խմբերում ընդգրկված անպտուղ զույգերին վերարտադրողական օժանդակ տեխնոլոգիաների կիրառմամբ բժշկական օգնության տրամադրում
A83: Միջոցառման տեսակը` | B83: Ծառայությունների մատուցում
A84: Ծառայությունը մատուցող կազմակերպության(ների) անվանում(ներ)ը | B84: ՀՀ գնումների մասին օրենսդրությանը համապատասխան ընտրված կազմակերպություններ
A85: Արդյունքի չափորոշիչներ
A86: Վերարտադրողական օժանդակ տեխնոլոգիաների կիրառմամբ բժշկական օգնության ծառայություններ ստացած զույգերի թիվ, հատ | C86: -678
A87: Հետազոտություններ քանակ (հատ) | C87: 0
A88: Հղիությամբ ավարտված դեպքերի թիվ, հատ | C88: -120
A89: Միջոցառման վրա կատարվող ծախսը (հազար դրամ) | C89: -170000
A91: Ծրագրի դասիչը` | B91: 1200 | C91: Ցուցանիշների փոփոխությունները (ավելացումները նշված են դրական նշանով)
A92: Միջոցառման դասիչը` | B92: 11007 | C92: Տարի
A93: Միջոցառման անվանումը` | B93: Բնածին հիպոթիրեոզի, ֆենիլկենտոնուրիայի, լսողության և տեսողության (անհասների ռետինոպաթիա) խանգարումների, կոնքազդրային հոդի խախտման վաղ հայտնաբերման նպատակով նորածնային սքրինգների անցկացում
A94: Նկարագրությունը` | B94: Նորածնային սքրինինգներ իրականացում (բնածին հիպոթիրեոզի, ֆենիլկետոնուրիայի, լսողության, տեսողության և կոնքազդրային հոդի)
A95: Միջոցառման տեսակը` | B95: Ծառայությունների մատուցում
A96: Ծառայությունը մատուցող կազմակերպության(ների) անվանում(ներ)ը | B96: ՀՀ գնումների մասին օրենսդրությանը համապատասխան ընտրված կազմակերպություններ
A97: Արդյունքի չափորոշիչներ
A98: Հետազոտությունների քանակ, հատ | C98: 0
A99: Միջոցառման վրա կատարվող ծախսը (հազար դրամ) | C99: 21000
A102: Ծրագրի դասիչը | B102: Ծրագրի անվանումը
A103: 1201 | B103: Շտապ բժշկական օգնություն
A105: Ծրագրի միջոցառումները
A107: Ծրագրի դասիչը` | B107: 1201 | C107: Ցուցանիշների փոփոխությունները (նվազեցումները նշված են փակագծերում)
A108: Միջոցառման դասիչը` | B108: 11001 | C108: Տարի
A109: Միջոցառման անվանումը` | B109: Շտապ բժշկական օգնության ծառայություններ
A110: Նկարագրությունը` | B110: Շտապ բժշկական օգնության իրականացում
A111: Միջոցառման տեսակը` | B111: Ծառայությունների մատուցում
A112: Ծառայությունը մատուցող կազմակերպության(ների) անվանում(ներ)ը | B112: ՀՀ գնումների մասին օրենսդրությանը համապատասխան ընտրված կազմակերպություններ
A113: Արդյունքի չափորոշիչներ
A114: Շտապ բժշկական օգնության գծով կանչերի թիվ, հատ | C114: -22000
A115: Շտապ բժշկական օգնության ծառայության մեքենաների ընդհանուր թիվ, հատ
A116: Շտապ բժշկական օգնության ծառայության մարզային մեքենաների ընդհանուր թիվ, հատ
...

Sheet 5.
A1: Հավելված № 5
A2: ՀՀ կառավարության 2022 թվականի -----------
A3: № ------------ -Ն որոշման
A4: ՀԱՅԱՍՏԱՆԻ ՀԱՆՐԱՊԵՏՈՒԹՅԱՆ ԿԱՌԱՎԱՐՈՒԹՅԱՆ 2021 ԹՎԱԿԱՆԻ ԴԵԿՏԵՄԲԵՐԻ 23-Ի N 2121-Ն ՈՐՈՇՄԱՆ N 10 ՀԱՎԵԼՎԱԾՈՒՄ ԿԱՏԱՐՎՈՂ ՓՈՓՈԽՈՒԹՅՈՒՆՆԵՐԸ
A6: Կոդը | B6: Անվանումը | E6: Գնման ձևը | F6: Չափման միավորը | G6: Միավորի գինը | H6: Քանակը | I6: Գումարը (հազար դրամով)
A7: 1 | B7: 2 | C7: 3 | D7: 4 | E7: 5 | F7: 6 | G7: 7 | H7: 8 | I7: 9
A8: ՀՀ առողջապահության նախարարություն
A9: Բաժին N 07 | B9: Խումբ N 02 | C9: Դաս N 01 | D9: Ընդհանուր բնույթի բժշկական ծառայություններ | I9: =I10 -> -54000
A10: 1099 11001 | B10: Ամբուլատոր-պոլիկլինիկական բժշկական օգնության ծառայություններ | I10: =I11 -> -54000
B11: ՄԱՍ III. ԾԱՌԱՅՈՒԹՅՈՒՆՆԵՐ | I11: =I12 -> -54000
A12: 85121120-1 | B12: ամբուլատոր-բժշկական ծառայություններ | E12: ՄԱ | F12: դրամ | I12: -54000
A13: Բաժին N 07 | B13: Խումբ N 02 | C13: Դաս N 02 | D13: Մասնագիտացված բժշկական ծառայություններ | I13: =I14+I17+I20 -> 31400
A14: 1200 11004 | B14: Մտավոր, հոգեկան (վարքագծային), լսողական, ֆիզիկական (շարժողական) և զարգացման այլ խանգարումներով երեխաների գնահատման և վերականգնողական բուժման ծառայություններ | I14: =I15 -> 14000
B15: ՄԱՍ III. ԾԱՌԱՅՈՒԹՅՈՒՆՆԵՐ | I15: =I16 -> 14000
A16: 85121100-1 | B16: բժշկական ծառայություններ | E16: ՄԱ | F16: դրամ | I16: 14000
A17: 1208 11001 | B17: ՄԻԱՎ/ՁԻԱՀ կանխարգելման և բուժօգնության ծառայություններ | I17: =I18 -> -3600
B18: ՄԱՍ III. ԾԱՌԱՅՈՒԹՅՈՒՆՆԵՐ | I18: =I19 -> -3600
A19: 85121120-1 | B19: ամբուլատոր-բժշկական ծառայություններ | E19: ՄԱ | F19: դրամ | I19: -3600
A20: 1200 11007 | B20: Բնածին հիպոթերիոզի, ֆենիլկետոնուրիայի, լսողության (անհասների ռեթինոպաթիա) խանգարումների, կոնքազդրային հոդի դիսպլազիայի վաղ հայտնաբերման նպատակով նորածնային սքրինինգների անցկացում | I20: =I21 -> 21000
B21: ՄԱՍ III. ԾԱՌԱՅՈՒԹՅՈՒՆՆԵՐ | I21: =I22 -> 21000
A22: 85121100-1 | B22: բժշկական ծառայություններ | E22: ՄԱ | F22: դրամ | I22: 21000
A23: Բաժին N 07 | B23: Խումբ N 02 | C23: Դաս N 04 | D23: Պարաբժշկական ծառայություններ | I23: =I24 -> -180000
A24: 1201 11001 | B24: Շտապ բժշկական օգնության ծառայություններ | I24: =I25 -> -180000
B25: ՄԱՍ III. ԾԱՌԱՅՈՒԹՅՈՒՆՆԵՐ | I25: =I26 -> -180000
A26: 85141210-1 | B26: շտապ օգնության ծառայություններ | E26: ՄԱ | F26: դրամ | I26: -180000
A27: Բաժին N 07 | B27: Խումբ N 03 | C27: Դաս N 01 | D27: Ընդհանուր բնույթի հիվանդանոցային ծառայություններ | I27: =I28+I31+I34 -> 172300
A28: 1202 11002 | B28: Անհետաձգելի բժշկական օգնության ծառայություններ | I28: =I29 -> -80000
B29: ՄԱՍ III. ԾԱՌԱՅՈՒԹՅՈՒՆՆԵՐ | I29: =I30 -> -80000
A30: 85111100-1 | B30: հիվանդանոցային ծառայություններ | E30: ՄԱ | F30: դրամ | I30: -80000
A31: 1207 11001 | B31: Սոցիալապես անապահով և հատուկ խմբերում ընդգրկվածներին բժշկական օգնության ծառայություններ | I31: =I32 -> 268300
B32: ՄԱՍ III. ԾԱՌԱՅՈՒԹՅՈՒՆՆԵՐ | I32: =I33 -> 268300
A33: 85111100-1 | B33: հիվանդանոցային ծառայություններ | E33: ՄԱ | F33: դրամ | I33: 268300
A34: 1207 11007 | B34: Փոխպատվաստման ծառայություններ | I34: =I35 -> -16000
B35: ՄԱՍ III. ԾԱՌԱՅՈՒԹՅՈՒՆՆԵՐ | I35: =I36 -> -16000
A36: 85111120-1 | B36: հիվանդանոցների կողմից մատուցվող բժշկական ծառայություններ | E36: ՄԱ | F36: դրամ | I36: -16000
A37: Բաժին N 07 | B37: Խումբ N 03 | C37: Դաս N 02 | D37: Մասնագիտացված հիվանդանոցային ծառայություններ | I37: =I38+I41+I44 -> -39700
A38: 1208 11003 | B38: Աղիքային և այլ ինֆեկցիոն հիվանդությունների բժշկական օգնության ծառայություններ | I38: =I39 -> -30000
B39: ՄԱՍ III. ԾԱՌԱՅՈՒԹՅՈՒՆՆԵՐ | I39: =I40 -> -30000
A40: 85111120-1 | B40: հիվանդանոցների կողմից մատուցվող բժշկական ծառայություններ | E40: ՄԱ | F40: դրամ | I40: -30000
A41: 1202 11003 | B41: Հոգեկան և նարկոլոգիական հիվանդների բժշկական օգնության ծառայություններ | I41: =I42 -> -7700
B42: ՄԱՍ III. ԾԱՌԱՅՈՒԹՅՈՒՆՆԵՐ | I42: =I43 -> -7700
A43: 85111170-1 | B43: հոգեբուժական հիվանդանոցների կողմից մատուցվող ծառայություններ | E43: ՄԱ | F43: դրամ | I43: -7700
A44: 1207 11005 | B44: Թրաֆիկինգի զոհերին բժշկական օգնության ծառայություններ | I44: =I45 -> -2000
B45: ՄԱՍ III. ԾԱՌԱՅՈՒԹՅՈՒՆՆԵՐ | I45: =I46 -> -2000
A46: 85111120-1 | B46: հիվանդանոցների կողմից մատուցվող բժշկական ծառայություններ | E46: ՄԱ | F46: դրամ | I46: -2000
A47: Բաժին N 07 | B47: Խումբ N 03 | C47: Դաս N 03 | D47: Մոր և մանկան բժշկական ծառայություններ | I47: =I48+I51 -> -70000
A48: 1200 11003 | B48: Երեխաներին բժշկական օգնության ծառայություններ | I48: =I49 -> 100000
B49: ՄԱՍ III. ԾԱՌԱՅՈՒԹՅՈՒՆՆԵՐ | I49: =I50 -> 100000
A50: 85111120-1 | B50: հիվանդանոցների կողմից մատուցվող բժշկական ծառայություններ | E50: ՄԱ | F50: դրամ | I50: 100000
A51: 1200 11006 | B51: Անպտուղ զույգերի համար վերարտադրողական օժանդակ տեխնոլոգիաների կիրառմամբ բժշկական օգնության ծառայություններ | I51: =I52 -> -170000
B52: ՄԱՍ III. ԾԱՌԱՅՈՒԹՅՈՒՆՆԵՐ | I52: =I53 -> -170000
A53: 85121100-1 | B53: բժշկական ծառայություններ | E53: ՄԱ | F53: դրամ | I53: -170000
A54: Բաժին N 07 | B54: Խումբ N 06 | C54: Դաս N 01 | D54: Առողջապահական հարակից ծառայություններ և ծրագրեր | I54: =I55+I58+I61 -> -25000
A55: 1142 11002 | B55: Ախտաբանաանատոմիական ծառայություններ | I55: =I56 -> -25000
B56: ՄԱՍ III. ԾԱՌԱՅՈՒԹՅՈՒՆՆԵՐ | I56: =I57 -> -25000
A57: 85121120-1 | B57: ամբուլատոր-բժշկական ծառայություններ | E57: ՄԱ | F57: դրամ | I57: -25000
