Workbook
Name _tab10: #REF!
Name _tab11: #REF!
Name _tab12: #REF!
Name _tab13: #REF!
Name _tab14: #REF!
Name _tab15: #REF!
Name _tab16: #REF!
Name _tab17: #REF!
Name _tab18: #REF!
Name _tab19: #REF!
Name _tab20: #REF!
Name _tab21: #REF!
Name _tab22: #REF!
Name _tab23: #REF!
Name _tab24: #REF!
Name _tab5: #REF!
Name _tab6: #REF!
Name _tab7: #REF!
Name _tab8: #REF!
Name _tab9: #REF!
Name par_count: #REF!,#REF!,#REF!,#REF!,#REF!,#REF!,#REF!,#REF!,#REF!,#REF!,#REF!,#REF!,#REF!,#REF!,#REF!
Name par_qual: #REF!,#REF!,#REF!,#REF!,#REF!
Name par_time: #REF!,#REF!,#REF!,#REF!
Name par2.12s: #REF!
Name par2.4s: #REF!,#REF!,#REF!,#REF!,#REF!,#REF!,#REF!,#REF!,#REF!,#REF!,#REF!,#REF!,#REF!,#REF!,#REF!,#REF!
Name par2.5s: #REF!,#REF!
Name par2.6s: #REF!,#REF!,#REF!,#REF!
Name par2.7s: #REF!,#REF!
Name par2.9s: #REF!,#REF!,#REF!,#REF!,#REF!,#REF!,#REF!,#REF!,#REF!,#REF!,#REF!,#REF!,#REF!,#REF!,#REF!,#REF!
Name par4.10s: #REF!,#REF!
Name par4.11d: #REF!,#REF!,#REF!,#REF!,#REF!
Name par4.12d: #REF!
Name par4.13s: #REF!
Name par4.14: #REF!,#REF!,#REF!,#REF!,#REF!,#REF!
Name par4.15: #REF!,#REF!,#REF!
Name par4.16: #REF!,#REF!,#REF!
Name par4.17: #REF!,#REF!,#REF!,#REF!
Name par4.18d: #REF!,#REF!
Name par4.19s: #REF!
Name par4.20f: #REF!
Name par4.21f: #REF!
Name par4.22: #REF!
Name par4.4: #REF!
Name par4.5: #REF!
Name par4.6s: #REF!
Name par4.7s: #REF!
Name par4.8: #REF!,#REF!,#REF!,#REF!,#REF!
Name par4.9: #REF!,#REF!,#REF!,#REF!,#REF!,#REF!
Name par5.1: #REF!,#REF!
Name par5.3: #REF!,#REF!,#REF!,#REF!,#REF!,#REF!
Name par5.4: #REF!,#REF!,#REF!,#REF!,#REF!
Name par5.5: #REF!
Name par5.6: #REF!,#REF!
Name program: #REF!,#REF!,#REF!,#REF!,#REF!,#REF!,#REF!,#REF!,#REF!,#REF!,#REF!,#REF!,#REF!,#REF!,#REF!,#REF!,#REF!,#REF!,#REF!,#REF!

Sheet 1.
A1: Հավելված № 1
A2: ՀՀ կառավարության 2022 թվականի -----------
A3: № ------------ -Ն որոշման
A4: «ՀԱՅԱՍՏԱՆԻ ՀԱՆՐԱՊԵՏՈՒԹՅԱՆ 2022 ԹՎԱԿԱՆԻ ՊԵՏԱԿԱՆ ԲՅՈՒՋԵԻ ՄԱՍԻՆ» ՀԱՅԱՍՏԱՆԻ ՀԱՆՐԱՊԵՏՈՒԹՅԱՆ ՕՐԵՆՔԻ № 1 ՀԱՎԵԼՎԱԾԻ № 2 ԱՂՅՈՒՍԱԿՈՒՄ ԿԱՏԱՐՎՈՂ ՎԵՐԱԲԱՇԽՈՒՄԸ ԵՎ ՀԱՅԱՍՏԱՆԻ ՀԱՆՐԱՊԵՏՈՒԹՅԱՆ ԿԱՌԱՎԱՐՈՒԹՅԱՆ 2021 ԹՎԱԿԱՆԻ ԴԵԿՏԵՄԲԵՐԻ 23-Ի № 2121-Ն ՈՐՈՇՄԱՆ № 5 ՀԱՎԵԼՎԱԾԻ № 1 ԱՂՅՈՒՍԱԿՈՒՄ ԿԱՏԱՐՎՈՂ ՓՈՓՈԽՈՒԹՅՈՒՆՆԵՐԸ
D5: (հազ. դրամ)
A6: Ծրագրային դասիչը | C6: Բյուջետային հատկացումների գլխավոր կարգադրիչների, ծրագրերի և միջոցառումների անվանումները | D6: Ցուցանիշների փոփոխությունները (ավելացումները նշված են դրական նշանով, իսկ նվազեցումները՝ փակագծերում)
A7: Ծրագիր | B7: Միջոցառում | D7: Տարի
C8: ՀՀ առողջապահության նախարարություն | D8: =+D10+D23+D36+D73+D85+D116+D147 -> 0
A9: 1099 | C9: Ծրագրի անվանումը
C10: Առողջության առաջնային պահպանում | D10: =D17 -> -54000
C11: Ծրագրի նպատակը
C12: Բնակչությանը մատչելի և որակյալ առաջնային բժշկական օգնության և սպասարկման տրամադրում, առողջության վատթարացման ռիսկի գործոնների վերհանում և դրանց հնարավոր անբարենպաստ ազդեցության կանխարգելում
C13: Վերջնական արդյունքի նկարագրությունը
C14: Առողջության առաջնային պահպանման օղակում ցուցաբերվող բժշկական օգնության որակի, հիվանդությունների վաղ հայտնաբերման և կանխարգելման մակարդակի բարելավում, առողջապահական ծառայությունների վերաբերյալ իրազեկվածության և դրանց նկատմամբ պահանջարկի ավելացում
A15: Ծրագրի միջոցառումներ
B16: 11001 | C16: Միջոցառման անվանումը
C17: Ամբուլատոր-պոլիկլինիկական բժշկական օգնության ծառայություններ | D17: -54000
C18: Միջոցառման նկարագրությունը
C19: Ամբուլատոր-պոլիկլինիկական բժշկական օգնության ծառայություններ
C20: Միջոցառման տեսակը
C21: Ծառայությունների մատուցում
A22: 1142 | C22: Ծրագրի անվանումը`
C23: Դատաբժշկական և ախտաբանաանատոմիական ծառայություններ | D23: =D30 -> -25000
C24: Ծրագրի նպատակը`
C25: Պաթանատոմիական կանխորոշումների հիման վրա ախտորոշման և բուժման արդյունավետության բարձրացում
C26: Վերջնական արդյունքի նկարագրությունը`
C27: Մահերի պատճառների բացահայտում
A28: Ծրագրի միջոցառումներ
B29: 11002 | C29: Միջոցառման անվանումը`
C30: Ախտաբանաանատոմիական հետազոտություններ | D30: -25000
C31: Միջոցառման նկարագրությունը`
C32: Մանկական մահերի հիվանդությունների պատճառների բացահայտում` մանկամահացության մակարդակը նվազեցնելու նպատակով
C33: Միջոցառման տեսակը
C34: Ծառայությունների մատուցում
A35: 1200 | C35: Ծրագրի անվանումը`
C36: Մոր և մանկան առողջության պահպանում | D36: =+D43+D48+D54+D60+D66 -> -260000
C37: Ծրագրի նպատակը`
C38: Մոր և մանկան առողջության պահպանում, կանանց և երեխաներին մատուցվող բժշկական ծառայությունների մատչելիության և որակի բարելավում
C39: Վերջնական արդյունքի նկարագրությունը`
C40: Մանկական և մայրական մահացության և հիվանդացության կրճատում, կանանց վերարտադրողական առողջության բարելավում
...

Sheet 2.
A1: Հավելված № 2
A2: ՀՀ կառավարության 2022 թվականի -----------
A3: № ------------ -Ն որոշման
A4: ՀԱՅԱՍՏԱՆԻ ՀԱՆՐԱՊԵՏՈՒԹՅԱՆ ԿԱՌԱՎԱՐՈՒԹՅԱՆ 2021 ԹՎԱԿԱՆԻ ԴԵԿՏԵՄԲԵՐԻ 23-Ի № 2121-Ն ՈՐՈՇՄԱՆ №№ 3 ԵՎ 4 ՀԱՎԵԼՎԱԾՆԵՐՈՒՄ ԿԱՏԱՐՎՈՂ ՓՈՓՈԽՈՒԹՅՈՒՆՆԵՐԸ
G5: (հազ. դրամ)
A6: Գործառական դասիչը | D6: Ծրագրային դասիչը | F6: Բյուջետային հատկացումների գլխավոր կարգադրիչների, ծրագրերի, միջոցառումների և միջոցառումները կատարող պետական մարմինների անվանումները | G6: Ցուցանիշների փոփոխությունները (ավելացումները նշված են դրական նշանով, իսկ նվազեցումները՝ փակագծերում)
A7: բաժին | B7: խումբ | C7: դաս | D7: Ծրագիր | E7: Միջոցառում | G7: Տարի
A8: 07 | F8: ԱՌՈՂՋԱՊԱՀՈՒԹՅՈՒՆ | G8: =G10+G78+G191 -> 0
F9: այդ թվում`
B10: 02 | F10: Արտահիվանդանոցային ծառայություններ | G10: =G12+G24+G66 -> -112600
F11: այդ թվում`
C12: 01 | F12: Ընդհանուր բնույթի բժշկական ծառայություններ | G12: =G14 -> -54000
F13: այդ թվում`
D14: 1099 | F14: Առողջության առաջնային պահպանում | G14: =+G23 -> -54000
E15: 11001 | F15: Ամբուլատոր-պոլիկլինիկական բժշկական օգնության ծառայություններ
F16: այդ թվում` ըստ կատարողների
F17: ՀՀ առողջապահության նախարարություն
F18: այդ թվում` բյուջետային ծախսերի տնտեսագիտական դասակարգման հոդվածներ
F19: ԸՆԴԱՄԵՆԸ ԾԱԽՍԵՐ
F20: ԸՆԹԱՑԻԿ ԾԱԽՍԵՐ
F21: ԾԱՌԱՅՈՒԹՅՈՒՆՆԵՐԻ ԵՎ ԱՊՐԱՆՔՆԵՐԻ ՁԵՌՔԲԵՐՈՒՄ
F22: Պայմանագրային այլ ծառայությունների ձեռքբերում
F23: - Ընդհանուր բնույթի այլ ծառայություններ | G23: -54000
C24: 02 | F24: Մասնագիտացված բժշկական ծառայություններ | G24: =G27+G56+G46 -> 121400
F25: այդ թվում`
F26: ՀՀ առողջապահության նախարարություն
D27: 1200 | F27: =+'1.'!C36 -> Մոր և մանկան առողջության պահպանում | G27: =G28+G37 -> 35000
E28: 11004 | F28: Մտավոր, հոգեկան (վարքագծային), լսողական, ֆիզիկական (շարժողական) և զարգացման այլ խանգարումներով երեխաների գնահատման և վերականգնողական բուժման ծառայություններ | G28: =+G36 -> 14000
F29: այդ թվում` ըստ կատարողների
F30: ՀՀ առողջապահության նախարարություն
F31: այդ թվում` բյուջետային ծախսերի տնտեսագիտական դասակարգման հոդվածներ
F32: ԸՆԴԱՄԵՆԸ ԾԱԽՍԵՐ
F33: ԸՆԹԱՑԻԿ ԾԱԽՍԵՐ
F34: ԾԱՌԱՅՈՒԹՅՈՒՆՆԵՐԻ ԵՎ ԱՊՐԱՆՔՆԵՐԻ ՁԵՌՔԲԵՐՈՒՄ
F35: Պայմանագրային այլ ծառայությունների ձեռքբերում
F36: - Ընդհանուր բնույթի այլ ծառայություններ | G36: 14000
E37: 11007 | F37: Բնածին հիպոթիրեոզի, ֆենիլկենտոնուրիայի, լսողության և տեսողության (անհասների ռետինոպաթիա) խանգարումների, կոնքազդրային հոդի խախտման վաղ հայտնաբերման նպատակով նորածնային սքրինգների անցկացում | G37: =+G45 -> 21000
F38: այդ թվում` ըստ կատարողների
F39: ՀՀ առողջապահության նախարարություն
F40: այդ թվում` բյուջետային ծախսերի տնտեսագիտական դասակարգման հոդվածներ
...

Sheet 3.
A1: Հավելված № 3
A2: ՀՀ կառավարության 2022 թվականի -----------
A3: № ------------ -Ն որոշման
A4: ՀԱՅԱՍՏԱՆԻ ՀԱՆՐԱՊԵՏՈՒԹՅԱՆ ԿԱՌԱՎԱՐՈՒԹՅԱՆ 2021 ԹՎԱԿԱՆԻ ԴԵԿՏԵՄԲԵՐԻ 23-Ի № 2121-Ն ՈՐՈՇՄԱՆ № 9 ՀԱՎԵԼՎԱԾԻ № 9.8 ԱՂՅՈՒՍԱԿՈՒՄ ԿԱՏԱՐՎՈՂ ՓՈՓՈԽՈՒԹՅՈՒՆՆԵՐԸ
A5: ՄԱՍ 2. ՊԵՏԱԿԱՆ ՄԱՐՄՆԻ ԳԾՈՎ ԱՐԴՅՈՒՆՔԱՅԻՆ (ԿԱՏԱՐՈՂԱԿԱՆ) ՑՈՒՑԱՆԻՇՆԵՐԸ | C5: =C22+C39+C56+C67+C77+C89+C99+C119+C135+C145+C155+C167+C183+C194+C205+C216+C235+C246 -> 0
A7: Ծրագրի դասիչը | B7: Ծրագրի անվանումը
A8: Ծրագրի դասիչը | B8: Ծրագրի անվանումը
A9: Ծրագրի դասիչը` | B9: 1099 | C9: Ցուցանիշների փոփոխությունները (ավելացումները նշված են դրական նշանով, իսկ նվազեցումները՝ փակագծերում)
A10: Միջոցառման դասիչը` | B10: 11001 | C10: Տարի
A11: Միջոցառման անվանումը` | B11: Ամբուլատոր-պոլիկլինիկական բժշկական օգնության ծառայություններ
A12: Նկարագրությունը` | B12: Ամբուլատոր-պոլիկլինիկական բժշկական օգնության ծառայություններ
A13: Միջոցառման տեսակը` | B13: Ծառայությունների մատուցում
A14: Ծառայությունը մատուցող կազմակերպության(ների) անվանում(ներ)ը | B14: ՀՀ գնումների մասին օրենսդրությանը համապատասխան ընտրված կազմակերպություններ
A15: Արդյունքի չափորոշիչներ
A16: Բնակչության առողջության առաջնային պահպանման գծով կազմակերպություններում գրանցված բնակչության թիվ, մարդ | C16: 171896
A17: Տեղամասային թերապևտի, ընտանեկան բժշկի կողմից կազմակերպություններում գրանցված բնակչության թիվ` 18 և ավելի բարձր տարիքի անձինք, մարդ | C17: 155126
A18: Տեղամասային մանկաբույժի, ընտանեկան բժշկի կողմից կազմակերպություններում գրանցված բնակչության թիվ` մինչև 18տ. երեխաներ, մարդ | C18: 21370
A19: Դպրոցում բժշկական օգնություն և սպասարկում ստացող աշակերտների թիվ, մարդ
A20: Անվճար և արտոնյալ պայմաններով դեղեր ստանալու իրավունք ունեցող անձանց ընդամենը թիվ, մարդ
A21: Հղիների նախածննդյան և հետծննդյան հսկողության ընթացքում իրականացվող լաբորատոր-գործիքային ախտորոշիչ հետազոտությունների թիվ, հատ
A22: Միջոցառման վրա կատարվող ծախսը (հազար դրամ) | C22: -54000
A25: Ծրագրի դասիչը | B25: Ծրագրի անվանումը
A26: 1142 | B26: Դատաբժշկական և ախտաբանաանատոմիական ծառայություններ
A28: Ծրագրի միջոցառումները
A30: Ծրագրի դասիչը` | B30: 1142 | C30: Ցուցանիշների փոփոխությունները (նվազեցումները նշված են փակագծերում)
A31: Միջոցառման դասիչը` | B31: 11002 | C31: Տարի
A32: Միջոցառման անվանումը` | B32: Ախտաբանաանատոմիական հետազոտություններ
A33: Նկարագրությունը` | B33: Մանկական մահերի հիվանդությունների պատճառների բացահայտում` մանկամահացության մակարդակը նվազեցնելու նպատակով
A34: Միջոցառման տեսակը` | B34: Ծառայությունների մատուցում
A35: Ծառայությունը մատուցող կազմակերպության(ների) անվանում(ներ)ը | B35: ՀՀ գնումների մասին օրենսդրությանը համապատասխան ընտրված կազմակերպություններ
A36: Արդյունքի չափորոշիչներ
A37: Ախտաբանաանատոմիական դիահերձումների թիվ, հատ | C37: -204
A38: Վիրահատական և բիոպսիոն նյութերի հետազոտությունների թիվ, հատ | C38: -2223
A39: Միջոցառման վրա կատարվող ծախսը (հազար դրամ) | C39: -25000
A41: Ծրագրի դասիչը | B41: Ծրագրի անվանումը
A42: 1200 | B42: Մոր և մանկան առողջության պահպանում
A44: Ծրագրի միջոցառումները
A46: Ծրագրի դասիչը` | B46: 1200 | C46: Ցուցանիշների փոփոխությունները (նվազեցումները նշված են փակագծերում)
A47: Միջոցառման դասիչը` | B47: 11001 | C47: Տարի
A48: Միջոցառման անվանումը` | B48: Մանկաբարձական բժշկական օգնության ծառայություններ
...

Sheet 4.
A1: Հավելված № 4
A2: ՀՀ կառավարության 2022 թվականի -----------
A3: № ------------ -Ն որոշման
A4: ՀԱՅԱՍՏԱՆԻ ՀԱՆՐԱՊԵՏՈՒԹՅԱՆ ԿԱՌԱՎԱՐՈՒԹՅԱՆ 2021 ԹՎԱԿԱՆԻ ԴԵԿՏԵՄԲԵՐԻ 23-Ի № 2121-Ն ՈՐՈՇՄԱՆ № 9.1 ՀԱՎԵԼՎԱԾԻ № 9.1.9 ԱՂՅՈՒՍԱԿՈՒՄ ԿԱՏԱՐՎՈՂ ՓՈՓՈԽՈՒԹՅՈՒՆՆԵՐԸ
A5: ՄԱՍ 1. ՊԵՏԱԿԱՆ ՄԱՐՄՆԻ ԳԾՈՎ ԱՐԴՅՈՒՆՔԱՅԻՆ (ԿԱՏԱՐՈՂԱԿԱՆ) ՑՈՒՑԱՆԻՇՆԵՐԸ
A7: Ծրագրի դասիչը | B7: Ծրագրի անվանումը
A8: Ծրագրի դասիչը | B8: Ծրագրի անվանումը
A9: Ծրագրի դասիչը` | B9: 1099 | C9: Ցուցանիշների փոփոխությունները (ավելացումները նշված են դրական նշանով, իսկ նվազեցումները՝ փակագծերում)
A10: Միջոցառման դասիչը` | B10: 11001 | C10: Տարի
A11: Միջոցառման անվանումը` | B11: Ամբուլատոր-պոլիկլինիկական բժշկական օգնության ծառայություններ
A12: Նկարագրությունը` | B12: Ամբուլատոր-պոլիկլինիկական բժշկական օգնության ծառայություններ
A13: Միջոցառման տեսակը` | B13: Ծառայությունների մատուցում
A14: Ծառայությունը մատուցող կազմակերպության(ների) անվանում(ներ)ը | B14: ՀՀ գնումների մասին օրենսդրությանը համապատասխան ընտրված կազմակերպություններ
A15: Արդյունքի չափորոշիչներ
A16: Բնակչության առողջության առաջնային պահպանման գծով կազմակերպություններում գրանցված բնակչության թիվ, մարդ | C16: 171896
A17: Տեղամասային թերապևտի, ընտանեկան բժշկի կողմից կազմակերպություններում գրանցված բնակչության թիվ` 18 և ավելի բարձր տարիքի անձինք, մարդ | C17: 155126
A18: Տեղամասային մանկաբույժի, ընտանեկան բժշկի կողմից կազմակերպություններում գրանցված բնակչության թիվ` մինչև 18տ. երեխաներ, մարդ | C18: 21370
A19: Դպրոցում բժշկական օգնություն և սպասարկում ստացող աշակերտների թիվ, մարդ
A20: Անվճար և արտոնյալ պայմաններով դեղեր ստանալու իրավունք ունեցող անձանց ընդամենը թիվ, մարդ
A21: Հղիների նախածննդյան և հետծննդյան հսկողության ընթացքում իրականացվող լաբորատոր-գործիքային ախտորոշիչ հետազոտությունների թիվ, հատ
A22: Միջոցառման վրա կատարվող ծախսը (հազար դրամ) | C22: -54000
A25: Ծրագրի դասիչը | B25: Ծրագրի անվանումը
A26: 1142 | B26: Դատաբժշկական և ախտաբանաանատոմիական ծառայություններ
A28: Ծրագրի միջոցառումները
A30: Ծրագրի դասիչը` | B30: 1142 | C30: Ցուցանիշների փոփոխությունները (նվազեցումները նշված են փակագծերում)
A31: Միջոցառման դասիչը` | B31: 11002 | C31: Տարի
A32: Միջոցառման անվանումը` | B32: Ախտաբանաանատոմիական հետազոտություններ
A33: Նկարագրությունը` | B33: Մանկական մահերի հիվանդությունների պատճառների բացահայտում` մանկամահացության մակարդակը նվազեցնելու նպատակով
A34: Միջոցառման տեսակը` | B34: Ծառայությունների մատուցում
A35: Ծառայությունը մատուցող կազմակերպության(ների) անվանում(ներ)ը | B35: ՀՀ գնումների մասին օրենսդրությանը համապատասխան ընտրված կազմակերպություններ
A36: Արդյունքի չափորոշիչներ
A37: Ախտաբանաանատոմիական դիահերձումների թիվ, հատ | C37: -204
A38: Վիրահատական և բիոպսիոն նյութերի հետազոտությունների թիվ, հատ | C38: -2223
A39: Միջոցառման վրա կատարվող ծախսը (հազար դրամ) | C39: -25000
A41: Ծրագրի դասիչը | B41: Ծրագրի անվանումը
A42: 1200 | B42: Մոր և մանկան առողջության պահպանում
A44: Ծրագրի միջոցառումները
A46: Ծրագրի դասիչը` | B46: 1200 | C46: Ցուցանիշների փոփոխությունները (նվազեցումները նշված են փակագծերում)
A47: Միջոցառման դասիչը` | B47: 11001 | C47: Տարի
A48: Միջոցառման անվանումը` | B48: Մանկաբարձական բժշկական օգնության ծառայություններ
...

Sheet 5.
A1: Հավելված № 5
A2: ՀՀ կառավարության 2022 թվականի -----------
A3: № ------------ -Ն որոշման
A4: ՀԱՅԱՍՏԱՆԻ ՀԱՆՐԱՊԵՏՈՒԹՅԱՆ ԿԱՌԱՎԱՐՈՒԹՅԱՆ 2021 ԹՎԱԿԱՆԻ ԴԵԿՏԵՄԲԵՐԻ 23-Ի N 2121-Ն ՈՐՈՇՄԱՆ N 10 ՀԱՎԵԼՎԱԾՈՒՄ ԿԱՏԱՐՎՈՂ ՓՈՓՈԽՈՒԹՅՈՒՆՆԵՐԸ
A6: Կոդը | B6: Անվանումը | E6: Գնման ձևը | F6: Չափման միավորը | G6: Միավորի գինը | H6: Քանակը | I6: Գումարը (հազար դրամով)
A7: 1 | B7: 2 | C7: 3 | D7: 4 | E7: 5 | F7: 6 | G7: 7 | H7: 8 | I7: 9
A8: ՀՀ առողջապահության նախարարություն
A9: Բաժին N 07 | B9: Խումբ N 02 | C9: Դաս N 01 | D9: Ընդհանուր բնույթի բժշկական ծառայություններ | I9: =I10 -> -54000
A10: 1099 11001 | B10: Ամբուլատոր-պոլիկլինիկական բժշկական օգնության ծառայություններ | I10: =I11 -> -54000
B11: ՄԱՍ III. ԾԱՌԱՅՈՒԹՅՈՒՆՆԵՐ | I11: =I12 -> -54000
A12: 85121120-1 | B12: ամբուլատոր-բժշկական ծառայություններ | E12: ՄԱ | F12: դրամ | I12: -54000
A13: Բաժին N 07 | B13: Խումբ N 02 | C13: Դաս N 02 | D13: Մասնագիտացված բժշկական ծառայություններ | I13: =I14+I17+I20 -> 31400
A14: 1200 11004 | B14: Մտավոր, հոգեկան (վարքագծային), լսողական, ֆիզիկական (շարժողական) և զարգացման այլ խանգարումներով երեխաների գնահատման և վերականգնողական բուժման ծառայություններ | I14: =I15 -> 14000
B15: ՄԱՍ III. ԾԱՌԱՅՈՒԹՅՈՒՆՆԵՐ | I15: =I16 -> 14000
A16: 85121100-1 | B16: բժշկական ծառայություններ | E16: ՄԱ | F16: դրամ | I16: 14000
A17: 1208 11001 | B17: ՄԻԱՎ/ՁԻԱՀ կանխարգելման և բուժօգնության ծառայություններ | I17: =I18 -> -3600
B18: ՄԱՍ III. ԾԱՌԱՅՈՒԹՅՈՒՆՆԵՐ | I18: =I19 -> -3600
A19: 85121120-1 | B19: ամբուլատոր-բժշկական ծառայություններ | E19: ՄԱ | F19: դրամ | I19: -3600
A20: 1200 11007 | B20: Բնածին հիպոթերիոզի, ֆենիլկետոնուրիայի, լսողության (անհասների ռեթինոպաթիա) խանգարումների, կոնքազդրային հոդի դիսպլազիայի վաղ հայտնաբերման նպատակով նորածնային սքրինինգների անցկացում | I20: =I21 -> 21000
B21: ՄԱՍ III. ԾԱՌԱՅՈՒԹՅՈՒՆՆԵՐ | I21: =I22 -> 21000
A22: 85121100-1 | B22: բժշկական ծառայություններ | E22: ՄԱ | F22: դրամ | I22: 21000
A23: Բաժին N 07 | B23: Խումբ N 02 | C23: Դաս N 04 | D23: Պարաբժշկական ծառայություններ | I23: =I24 -> -180000
A24: 1201 11001 | B24: Շտապ բժշկական օգնության ծառայություններ | I24: =I25 -> -180000
B25: ՄԱՍ III. ԾԱՌԱՅՈՒԹՅՈՒՆՆԵՐ | I25: =I26 -> -180000
A26: 85141210-1 | B26: շտապ օգնության ծառայություններ | E26: ՄԱ | F26: դրամ | I26: -180000
A27: Բաժին N 07 | B27: Խումբ N 03 | C27: Դաս N 01 | D27: Ընդհանուր բնույթի հիվանդանոցային ծառայություններ | I27: =I28+I31+I34 -> 172300
A28: 1202 11002 | B28: Անհետաձգելի բժշկական օգնության ծառայություններ | I28: =I29 -> -80000
B29: ՄԱՍ III. ԾԱՌԱՅՈՒԹՅՈՒՆՆԵՐ | I29: =I30 -> -80000
A30: 85111100-1 | B30: հիվանդանոցային ծառայություններ | E30: ՄԱ | F30: դրամ | I30: -80000
A31: 1207 11001 | B31: Սոցիալապես անապահով և հատուկ խմբերում ընդգրկվածներին բժշկական օգնության ծառայություններ | I31: =I32 -> 268300
B32: ՄԱՍ III. ԾԱՌԱՅՈՒԹՅՈՒՆՆԵՐ | I32: =I33 -> 268300
A33: 85111100-1 | B33: հիվանդանոցային ծառայություններ | E33: ՄԱ | F33: դրամ | I33: 268300
A34: 1207 11007 | B34: Փոխպատվաստման ծառայություններ | I34: =I35 -> -16000
B35: ՄԱՍ III. ԾԱՌԱՅՈՒԹՅՈՒՆՆԵՐ | I35: =I36 -> -16000
A36: 85111120-1 | B36: հիվանդանոցների կողմից մատուցվող բժշկական ծառայություններ | E36: ՄԱ | F36: դրամ | I36: -16000
A37: Բաժին N 07 | B37: Խումբ N 03 | C37: Դաս N 02 | D37: Մասնագիտացված հիվանդանոցային ծառայություններ | I37: =I38+I41+I44 -> -39700
A38: 1208 11003 | B38: Աղիքային և այլ ինֆեկցիոն հիվանդությունների բժշկական օգնության ծառայություններ | I38: =I39 -> -30000
B39: ՄԱՍ III. ԾԱՌԱՅՈՒԹՅՈՒՆՆԵՐ | I39: =I40 -> -30000
A40: 85111120-1 | B40: հիվանդանոցների կողմից մատուցվող բժշկական ծառայություններ | E40: ՄԱ | F40: դրամ | I40: -30000
A41: 1202 11003 | B41: Հոգեկան և նարկոլոգիական հիվանդների բժշկական օգնության ծառայություններ | I41: =I42 -> -7700
...
