Workbook
Name AgencyCode: #REF!
Name AgencyName: #REF!
Name Functional1: #REF!
Name PANature: #REF!
Name PAType: #REF!
Name Performance2: #REF!
Name PerformanceType: #REF!

Sheet Հավելված 1
D1: Հավելված 1
D2: ՀՀ կառավարության 2022 թվականի
D3: ______________ ի ___Ն որոշման
A5: «ՀԱՅԱUՏԱՆԻ ՀԱՆՐԱՊԵՏՈՒԹՅԱՆ 2022 ԹՎԱԿԱՆԻ ՊԵՏԱԿԱՆ ԲՅՈՒՋԵԻ ՄԱUԻՆ» ՀԱՅԱUՏԱՆԻ ՀԱՆՐԱՊԵՏՈՒԹՅԱՆ OՐԵՆՔԻ N 1 ՀԱՎԵԼՎԱԾԻ N 2 ԱՂՅՈՒՍԱԿՈՒՄ ԿԱՏԱՐՎՈՂ ՎԵՐԱԲԱՇԽՈՒՄԸ ԵՎ ՀԱՅԱՍՏԱՆԻ ՀԱՆՐԱՊԵՏՈՒԹՅԱՆ ԿԱՌԱՎԱՐՈՒԹՅԱՆ 2021 ԹՎԱԿԱՆԻ ԴԵԿՏԵՄԲԵՐԻ 23-Ի ԹԻՎ 2121-Ն ՈՐՈՇՄԱՆ N5 ՀԱՎԵԼՎԱԾԻ N1 ԱՂՅՈՒՍԱԿՈՒՄ ԿԱՏԱՐՎՈՂ ՓՈՓՈԽՈՒԹՅՈՒՆՆԵՐԸ
A8: Ծրագրային դասիչը | C8: Բյուջետային հատկացումների գլխավոր կարգադրիչների, ծրագրերի և միջոցառումների անվանումները | D8: Ցուցանիշների փոփոխությունը (ավելացումները նշված են դրական նշանով, իսկ նվազեցումները՝ փակագծերում)
A9: Ծրագիր | B9: Միջոցառում | D9: Տարի
B10: ԸՆԴԱՄԵՆԸ | D10: =D11+D57 -> 0
B11: ՀՀ արդարադատության նախարարություն | D11: =D12+D25+D44 -> -307729.3
A12: 1057 | C12: Ծրագրի անվանումը | D12: =D19 -> 33000
C13: Արդարադատության ոլորտում քաղաքականության մշակում, ծրագրերի համակարգում, խորհրդատվության և մոնիտորինգի իրականացում
C14: Ծրագրի նպատակը
C15: Արդարադատության ոլորտում քաղաքականության, խորհրդատվության, մոնիտորինգի, գնման և աջակցության իրականացում
C16: Վերջնական արդյունքի նկարագրությունը
C17: Արդարադատության քաղաքականության իրագործմանն ուղղված ծրագրերի արդյունավետության բարելավում
C18: Ծրագրի միջոցառումներ
B19: 11001 | C19: Միջոցառման անվանումը՝ | D19: ='Հավելված 3'!G20 -> 33000
C20: Արդարադատության ոլորտում քաղաքականության, խորհրդատվության, մոնիտորինգի, գնման և աջակցության իրականացում
C21: Միջոցառման նկարագրությունը՝
C22: Ոլորտի քաղաքականության, խորհրդատվության, մոնիտորինգի, արդարադատության ծրագրերի համակարգման ծառայություններ
C23: Միջոցառման տեսակը
C24: Ծառայությունների մատուցում
A25: 1120 | C25: Ծրագրի անվանումը` | D25: =D32+D38 -> -340429.3
C26: Քրեակատարողական ծառայություններ
C27: Ծրագրի նպատակը`
C28: Դատապարտյալների պատժի կատարման և ուղղման համար անհրաժեշտ պայմանների ապահովում
C29: Վերջնական արդյունքի նկարագրությունը`
C30: Դատապարտյալների զբաղվածության և իրավունքների պաշտպանություն
C31: Ծրագրի միջոցառումներ
B32: 11002 | C32: Միջոցառման անվանումը` | D32: ='Հավելված 3'!G42 -> -117000
C33: Պրոբացիայի ծառայություններ
C34: Միջոցառման նկարագրությունը`
C35: Հասարակության անվտանգության ապահովումը՝ կրկնահանցագործության կանխարգելման և կրճատման միջոցով
C36: Միջոցառման տեսակը
C37: Ծառայությունների մատուցում
B38: 31002 | C38: Միջոցառման անվանումը` | D38: ='Հավելված 3'!G58 -> -223429.3
C39: ՀՀ արդարադատության նախարարության քրեակատարողական ծառայության կարողությունների զարգացում և տեխնիկական հագեցվածության ապահովում
C40: Միջոցառման նկարագրությունը`
C41: ՀՀ արդարադատության նախարարության քրեակատարողական ծառայության աշխատանքային պայմանների բարելավման համար վարչական սարքավորումների ձեռք բերում
C42: Միջոցառման տեսակը
C43: Պետական մարմինների կողմից օգտագործվող ոչ ֆինանսական ակտիվների հետ գործառնություններ
A44: 1123 | C44: Ծրագրի անվանումը` | D44: =D51 -> -300
C45: Իրավական իրազեկում և տեղեկատվության ապահովում
C46: Ծրագրի նպատակը`
C47: Հանրության իրազեկվածության ապահովում
C48: Վերջնական արդյունքի նկարագրությունը`
C49: Իրավական տեղեկատվության մատչելիության և հանրության իրազեկվածության մակարդակի աճ
C50: Ծրագրի միջոցառումներ
B51: 11001 | C51: Միջոցառման անվանումը` | D51: ='Հավելված 3'!G78 -> -300
C52: Հրատարակչական, տեղեկատվական և տպագրական ծառայություններ
C53: Միջոցառման նկարագրությունը`
C54: ՀՀ-ում ընդունված և ստորագրված իրավական ակտերի պաշտոնական հրատարակման, պետական վկայականների և ձևաթղթերի տպագրման ծառայություններ
C55: Միջոցառման տեսակը
C56: Ծառայությունների մատուցում
B57: ՀՀ կառավարություն | D57: =+D58 -> 307729.3
A58: 1139 | C58: Ծրագրի անվանումը` | D58: =+D65 -> 307729.3
C59: ՀՀ կառավարության պահուստային ֆոնդ
C60: Ծրագրի նպատակը`
C61: Պետական բյուջեում չկանխատեսված՝ ինչպես նաև բյուջետային երաշխիքների ապահովման ծախսերի ֆինանսավորման ապահովում
C62: Վերջնական արդյունքի նկարագրությունը`
C63: Պահուստային ֆոնդի կառավարման արդյունավետություն և թափանցիկության ապահովում
C64: Ծրագրի միջոցառումներ
B65: 11001 | C65: Միջոցառման անվանումը` | D65: ='Հավելված 3'!G97 -> 307729.3
C66: ՀՀ կառավարության պահուստային ֆոնդ
C67: Միջոցառման նկարագրությունը`
C68: ՀՀ պետական բյուջեում նախատեսված ելքերի լրացուցիչ ֆինանսավորման՝ պետական բյուջեում չկանխատեսված ելքերի՝ ինչպես նաև բյուջետային երաշխիքների ապահովման ելքերի ֆինանսավորման ապահովում
C69: Միջոցառման տեսակը
C70: Ծառայությունների մատուցում

Sheet Հավելված 2
H1: Հավելված 2
H2: ՀՀ կառավարության 2022 թվականի
H3: ______________ ի ___Ն որոշման
A8: «ՀԱՅԱUՏԱՆԻ ՀԱՆՐԱՊԵՏՈՒԹՅԱՆ 2022 ԹՎԱԿԱՆԻ ՊԵՏԱԿԱՆ ԲՅՈՒՋԵԻ ՄԱUԻՆ» ՀԱՅԱUՏԱՆԻ ՀԱՆՐԱՊԵՏՈՒԹՅԱՆ OՐԵՆՔԻ N 1 ՀԱՎԵԼՎԱԾԻ N 3 ԱՂՅՈՒՍԱԿՈՒՄ ԿԱՏԱՐՎՈՂ ԿԱՏԱՐՎՈՂ ՓՈՓՈԽՈՒԹՅՈՒՆՆԵՐԸ
G10: հազ. դրամներով
A11: Ծրագրային դասիչ | C11: Բյուջետային գլխավոր կարգադրիչների, ծրագրերի, միջոցառումների և ուղղությունների անվանումները | D11: Ընդամենը, | E11: Ցուցանիշների փոփոխությունը (նվազեցումները նշված են փակագծերում)
A12: Ծրագիր | B12: Միջոցառում | E12: Կառուցման աշխատանքներ | F12: Վերակառուցման, վերանորոգման և վերականգնման աշխատանքներ | G12: Նախագծահե- տազոտական, գեոդեզիա- քարտեզագրա- կան աշխա- տանքներ | H12: Ոչ ֆինանսական այլ ակտիվների ձեռքբերում
C13: ԸՆԴԱՄԵՆԸ | D13: =+D15 -> -223429.3 | E13: =+E15 -> 0 | F13: =+F15 -> 0 | G13: =+G15 -> 0 | H13: =+H15 -> -223429.3
C14: այդ թվում՝
C15: ՀՀ ԱՐԴԱՐԱԴԱՏՈՒԹՅԱՆ ՆԱԽԱՐԱՐՈՒԹՅՈՒՆ | D15: =+D19 -> -223429.3 | E15: =+E19 -> 0 | F15: =+F19 -> 0 | G15: =+G19 -> 0 | H15: =+H19 -> -223429.3
C16: այդ թվում`
A17: 1120 | B17: 31002 | C17: Քրեակատարողական հիմնարկների շենքային պայմանների բարելավում | D17: =SUM(D18:D18) -> 0 | E17: 0 | F17: =SUM(F18:F18) -> 0 | G17: 0 | H17: 0
C18: «Արմավիրե ՔԿ հիմնարկի կիսաբաց հիմնարկի կապիտալ վերակառուցման շինարարական աշխատանքներ | D18: =F18 -> 0 | E18: 0 | G18: 0 | H18: 0
A19: 1120 | B19: 31002 | C19: ՀՀ արդարադատության նախարարության քրեակատարողական ծառայության կարողությունների զարգացում և տեխնիկական հագեցվածության ապահովում | D19: =E19+F19+G19+H19 -> -223429.3 | E19: 0 | H19: =+'Հավելված 3'!G58 -> -223429.3

Sheet Հավելված 3
G1: Հավելված 3
G2: ՀՀ կառավարության 2022 թվականի
G3: ______________ ի ___Ն որոշման
A4: ՀԱՅԱՍՏԱՆԻ ՀԱՆՐԱՊԵՏՈՒԹՅԱՆ ԿԱՌԱՎԱՐՈՒԹՅԱՆ 2021 ԹՎԱԿԱՆԻ ԴԵԿՏԵՄԲԵՐԻ 23-Ի ԹԻՎ 2121-Ն ՈՐՈՇՄԱՆ N3 և N4 ՀԱՎԵԼՎԱԾՆԵՐՈՒՄ ԿԱՏԱՐՎՈՂ ՓՈՓՈԽՈՒԹՅՈՒՆՆԵՐԸ
A7: Գործառական դասիչը | D7: Ծրագրային դասիչը | F7: Բյուջետային հատկացումների գլխավոր կարգադրիչների, ծրագրերի, միջոցառումների և միջոցառումները կատարող պետական մարմինների անվանումները | G7: Ցուցանիշների փոփոխությունը (ավելացումները նշված են դրական նշանով, իսկ նվազեցումները՝ փակագծերում)
A8: Բաժին | B8: Խումբ | C8: Դաս | D8: Ծրագիր | E8: Միջոցառում | G8: Տարի
F9: ԸՆԴԱՄԵՆԸ | G9: =+G11+G33+G68+G87 -> 0
F10: այդ թվում`
A11: 01 | F11: ԸՆԴՀԱՆՈՒՐ ԲՆՈՒՅԹԻ ՀԱՆՐԱՅԻՆ ԾԱՌԱՅՈՒԹՅՈՒՆՆԵՐ | G11: =G13 -> 33000
F12: այդ թվում`
B13: 01 | F13: Օրենսդիր և գործադիր մարմիններ, պետական կառավարում, ֆինանսական և հարկաբյուջետային հարաբերություններ, արտաքին հարաբերություններ | G13: =G15 -> 33000
F14: այդ թվում`
C15: 01 | F15: Օրենսդիր և գործադիր մարմիններ, պետական կառավարում | G15: =G18 -> 33000
F16: այդ թվում`
F17: ՀՀ արդարադատության նախարարություն | G17: =G18 -> 33000
D18: 1057 | F18: այդ թվում` | G18: =G20 -> 33000
F19: Արդարադատության ոլորտում քաղաքականության մշակում, ծրագրերի համակարգում, խորհրդատվության և մոնիտորինգի իրականացում
E20: 11001 | F20: այդ թվում` | G20: =G22 -> 33000
F21: Արդարադատության ոլորտում քաղաքականության, խորհրդատվության, մոնիտորինգի, գնման և աջակցության իրականացում
F22: այդ թվում` ըստ կատարողների | G22: =G24 -> 33000
F23: ՀՀ արդարադատության նախարարություն
F24: այդ թվում` բյուջետային ծախսերի տնտեսագիտական դասակարգման հոդվածներ | G24: =G25 -> 33000
F25: ԸՆԴԱՄԵՆԸ ԾԱԽՍԵՐ | G25: =G26 -> 33000
F26: ԸՆԹԱՑԻԿ ԾԱԽՍԵՐ | G26: =G28+G30 -> 33000
F27: ԱՇԽԱՏԱՆՔԻ ՎԱՐՁԱՏՐՈՒԹՅՈՒՆ | G27: =G28 -> 35000
F28: Դրամով վճարվող աշխատավարձեր և հավելավճարներ | G28: =G29 -> 35000
F29: - Պարգևատրումներ, դրամական խրախուսումներ և հատուկ վճարներ | G29: 35000
F30: ԾԱՌԱՅՈՒԹՅՈՒՆՆԵՐԻ ԵՎ ԱՊՐԱՆՔՆԵՐԻ ՁԵՌՔԲԵՐՈՒՄ | G30: =G32 -> -2000
F31: Պայմանագրային այլ ծառայությունների ձեռքբերում
F32: - Ներկայացուցչական ծախսեր | G32: -2000
A33: 03 | F33: ՀԱՍԱՐԱԿԱԿԱՆ ԿԱՐԳ, ԱՆՎՏԱՆԳՈՒԹՅՈՒՆ ԵՎ ԴԱՏԱԿԱՆ ԳՈՐԾՈՒՆԵՈՒԹՅՈՒՆ | G33: =G35 -> -340429.3
F34: այդ թվում`
B35: 05 | F35: Կալանավայրեր | G35: =G37 -> -340429.3
F36: այդ թվում`
C37: 01 | F37: Կալանավայրեր | G37: =G40 -> -340429.3
F38: այդ թվում`
F39: ՀՀ արդարադատության նախարարություն | G39: =G40 -> -340429.3
D40: 1120 | F40: Քրեակատարողական ծառայություններ | G40: =G42+G58 -> -340429.3
F41: այդ թվում`
E42: 11002 | F42: Պրոբացիայի ծառայություններ | G42: =G44 -> -117000
F43: այդ թվում` ըստ կատարողների
F44: ՀՀ արդարադատության նախարարություն | G44: =G46 -> -117000
F45: այդ թվում` բյուջետային ծախսերի տնտեսագիտական դասակարգման հոդվածներ
F46: ԸՆԴԱՄԵՆԸ ԾԱԽՍԵՐ | G46: =G47 -> -117000
F47: ԸՆԹԱՑԻԿ ԾԱԽՍԵՐ | G47: =G48+G52 -> -117000
F48: ԱՇԽԱՏԱՆՔԻ ՎԱՐՁԱՏՐՈՒԹՅՈՒՆ | G48: =G49 -> -96000
F49: Դրամով վճարվող աշխատավարձեր և հավելավճարներ | G49: =G51+G50 -> -96000
F50: - Աշխատողների աշխատավարձեր և հավելավճարներ | G50: -81000
F51: - Պարգևատրումներ, դրամական խրախուսումներ և հատուկ վճարներ | G51: -15000
F52: ԾԱՌԱՅՈՒԹՅՈՒՆՆԵՐԻ ԵՎ ԱՊՐԱՆՔՆԵՐԻ ՁԵՌՔԲԵՐՈՒՄ | G52: =G53+G55 -> -21000
F53: Ծառայողական գործուղումների գծով ծախսեր | G53: =G54 -> -17000
F54: - Ներքին գործուղումներ | G54: -17000
F55: Շարունակական ծախսեր | G55: =G56+G57 -> -4000
F56: - Էներգետիկ ծառայություններ | G56: -1000
F57: - Կապի ծառայություններ | G57: -3000
E58: 31002 | F58: ՀՀ արդարադատության նախարարության քրեակատարողական ծառայության կարողությունների զարգացում և տեխնիկական հագեցվածության ապահովում | G58: =G60 -> -223429.3
F59: այդ թվում` ըստ կատարողների
F60: ՀՀ արդարադատության նախարարության քրեակատարողական ծառայություն | G60: =G62 -> -223429.3
F61: այդ թվում` բյուջետային ծախսերի տնտեսագիտական դասակարգման հոդվածներ
F62: ԸՆԴԱՄԵՆԸ ԾԱԽՍԵՐ | G62: =G63 -> -223429.3
F63: ՈՉ ՖԻՆԱՆՍԱԿԱՆ ԱԿՏԻՎՆԵՐԻ ԳԾՈՎ ԾԱԽՍԵՐ | G63: =G64 -> -223429.3
F64: ՀԻՄՆԱԿԱՆ ՄԻՋՈՑՆԵՐ | G64: =G65 -> -223429.3
F65: ՄԵՔԵՆԱՆԵՐ ԵՎ ՍԱՐՔԱՎՈՐՈՒՄՆԵՐ | G65: =G67+G66 -> -223429.3
F66: - Վարչական սարքավորումներ | G66: -72383
F67: - Այլ մեքենաներ և սարքավորումներ | G67: -151046.3
A68: 08 | F68: ՀԱՆԳԻՍՏ, ՄՇԱԿՈՒՅԹ ԵՎ ԿՐՈՆ | G68: =G70 -> -300
F69: այդ թվում`
B70: 03 | F70: Ռադիո և հեռուստահաղորդումների հեռարձակման և հրատարակչական ծառայություններ | G70: =G72 -> -300
F71: այդ թվում`
C72: 02 | F72: Հրատարակչություններ, խմբագրություններ | G72: =G76 -> -300
F73: այդ թվում`
F74: ՀՀ արդարադատության նախարարություն
F75: այդ թվում`
D76: 1123 | F76: Իրավական իրազեկում և տեղեկատվության ապահովում | G76: =G78 -> -300
F77: այդ թվում`
E78: 11001 | F78: Հրատարակչական, տեղեկատվական և տպագրական ծառայություններ | G78: =G80 -> -300
F79: այդ թվում` ըստ կատարողների
F80: ՀՀ արդարադատության նախարարություն | G80: =G82 -> -300
F81: այդ թվում` բյուջետային ծախսերի տնտեսագիտական դասակարգման հոդվածներ
F82: ԸՆԴԱՄԵՆԸ ԾԱԽՍԵՐ | G82: =G83 -> -300
F83: ԸՆԹԱՑԻԿ ԾԱԽՍԵՐ | G83: =G84 -> -300
F84: ԾԱՌԱՅՈՒԹՅՈՒՆՆԵՐԻ ԵՎ ԱՊՐԱՆՔՆԵՐԻ ՁԵՌՔԲԵՐՈՒՄ | G84: =+G85 -> -300
F85: Պայմանագրային այլ ծառայությունների ձեռքբերում | G85: =G86 -> -300
F86: - Տեղեկատվական ծառայություններ | G86: -300
A87: 11 | F87: ՀԻՄՆԱԿԱՆ ԲԱԺԻՆՆԵՐԻՆ ՉԴԱՍՎՈՂ ՊԱՀՈՒՍՏԱՅԻՆ ՖՈՆԴԵՐ | G87: =G89 -> 307729.3
F88: այդ թվում`
B89: 01 | F89: ՀՀ կառավարության և համայնքների պահուստային ֆոնդ | G89: =G91 -> 307729.3
F90: այդ թվում`
C91: 01 | F91: ՀՀ կառավարության պահուստային ֆոնդ | G91: =G93 -> 307729.3
F92: այդ թվում`
F93: ՀՀ կառավարություն | G93: =G95 -> 307729.3
F94: այդ թվում`
D95: 1139 | F95: ՀՀ կառավարության պահուստային ֆոնդ | G95: =G97 -> 307729.3
F96: այդ թվում`
E97: 11001 | F97: ՀՀ կառավարության պահուստային ֆոնդ | G97: =G99 -> 307729.3
F98: այդ թվում` ըստ կատարողների
F99: ՀՀ կառավարություն | G99: =G101 -> 307729.3
F100: այդ թվում` բյուջետային ծախսերի տնտեսագիտական դասակարգման հոդվածներ
F101: ԸՆԴԱՄԵՆԸ ԾԱԽՍԵՐ | G101: =G102 -> 307729.3
F102: ԸՆԹԱՑԻԿ ԾԱԽՍԵՐ | G102: =G103 -> 307729.3
...

Sheet Հավելված 4
F1: Հավելված 4
F2: ՀՀ կառավարության 2022 թվականի
F3: ______________ ի ___Ն որոշման
A5: ՀԱՅԱՍՏԱՆԻ ՀԱՆՐԱՊԵՏՈՒԹՅԱՆ ԿԱՌԱՎԱՐՈՒԹՅԱՆ 2021ԹՎԱԿԱՆԻ ԴԵԿՏԵՄԲԵՐԻ 23-Ի ԹԻՎ 2121-Ն ՈՐՈՇՄԱՆ N5 ՀԱՎԵԼՎԱԾԻ N2 ԱՂՅՈՒՍԱԿՈՒՄ ԿԱՏԱՐՎՈՂ ՓՈՓՈԽՈՒԹՅՈՒՆՆԵՐԸ
F7: հազ. դրամներով
A8: Ծրագրային դասիչ | C8: Բյուջետային գլխավոր կարգադրիչների, ծրագրերի, միջոցառումների, միջոցառումները կատարող պետական մարմինների և ուղղությունների անվանումները | D8: Ցուցանիշների փոփոխությունը (նվազեցումները նշված են փակագծերում)
A9: Ծրագիր | B9: Միջոցառում | D9: ՏԱՐԻ
C10: ԸՆԴԱՄԵՆԸ | D10: =D11 -> -223429.3
C11: ՀՀ ԱՐԴԱՐԱԴԱՏՈՒԹՅԱՆ ՆԱԽԱՐԱՐՈՒԹՅՈՒՆ | D11: =+D13 -> -223429.3
C12: այդ թվում`
A13: 1120 | B13: 31002 | C13: ՀՀ արդարադատության նախարարության քրեակատարողական ծառայության կարողությունների զարգացում և տեխնիկական հագեցվածության ապահովում | D13: =D15 -> -223429.3
C14: այդ թվում` ըստ կատարողների
C15: ՀՀ արդարադատության նախարարության քրեակատարողական ծառայություն | D15: =+'Հավելված 3'!G58 -> -223429.3

Sheet Հավելված 5
D1: Հավելված 5
D2: ՀՀ կառավարության 2022 թվականի
D3: ______________ ի ___Ն որոշման
B4: ՀԱՅԱՍՏԱՆԻ ՀԱՆՐԱՊԵՏՈՒԹՅԱՆ ԿԱՌԱՎԱՐՈՒԹՅԱՆ 2021 ԹՎԱԿԱՆԻ ԴԵԿՏԵՄԲԵՐԻ 23-Ի ԹԻՎ 2121-Ն ՈՐՈՇՄԱՆ N 9 ՀԱՎԵԼՎԱԾԻ 9.9 ԵՎ 9.47 ԱՂՅՈՒՍԱԿՆԵՐՈՒՄ ԿԱՏԱՐՎՈՂ ՓՈՓՈԽՈՒԹՅՈՒՆՆԵՐԸ
B6: ՀՀ արդարադատության նախարարություն
B8: ՄԱՍ 2. ՊԵՏԱԿԱՆ ՄԱՐՄՆԻ ԳԾՈՎ ԱՐԴՅՈՒՆՔԱՅԻՆ (ԿԱՏԱՐՈՂԱԿԱՆ) ՑՈՒՑԱՆԻՇՆԵՐԸ
B11: Ծրագրի դասիչը | C11: Ծրագրի անվանումը
B12: 1057 | C12: Արդարադատության ոլորտում քաղաքականության մշակում, ծրագրերի համակարգում, խորհրդատվության և մոնիտորինգի իրականացում
B14: Ծրագրի միջոցառումները
B16: Ծրագրի դասիչը՝ | C16: 1057 | D16: Ցուցանիշների փոփոխությունները (ավելացումները նշված են դրական նշանով)
B17: Միջոցառման դասիչը՝ | C17: 11001 | D17: Տարի
B18: Միջոցառման անվանումը` | C18: Արդարադատության ոլորտում քաղաքականության, խորհրդատվության, մոնիտորինգի, գնման և աջակցության իրականացում
B19: Նկարագրությունը` | C19: Ոլորտի քաղաքականության, խորհրդատվության, մոնիտորինգի, արդարադատության ծրագրերի համակարգման ծառայություններ
B20: Միջոցառման տեսակը` | C20: Ծառայությունների մատուցում
B21: Ծառայությունը մատուցող կազմակերպության(ների) անվանում(ներ)ը | C21: ՀՀ արդարադատության նախարարություն
C22: Արդյունքի չափորոշիչներ
B23: Միջոցառման վրա կատարվող ծախսը (հազար դրամ) | D23: =+'Հավելված 3'!G20 -> 33000
B25: Ծրագրի դասիչը | C25: Ծրագրի անվանումը
B26: 1120 | C26: Քրեակատարողական ծառայություններ
B28: Ծրագրի միջոցառումները
B30: Ծրագրի դասիչը՝ | C30: 1120 | D30: Ցուցանիշների փոփոխությունը (նվազեցումները նշված են փակագծերում)
B31: Միջոցառման դասիչը՝ | C31: 11002 | D31: Տարի
B32: Միջոցառման անվանումը՝ | C32: Պրոբացիայի ծառայություններ
B33: Նկարագրությունը՝ | C33: Հասարակության անվտանգության ապահովումը՝ կրկնահանցագործության կանխարգելման և կրճատման միջոցով
B34: Միջոցառման տեսակը՝ | C34: Ծառայությունների մատուցում
B35: Միջոցառումն իրականացնողի անվանումը | C35: Պրոբացիայի ծառայություն
C36: Արդյունքի չափորոշիչներ
B37: Միջոցառման վրա կատարվող ծախսը (հազար դրամ) | D37: =+'Հավելված 3'!G42 -> -117000
B39: Ծրագրի դասիչը՝ | C39: 1120 | D39: Ցուցանիշների փոփոխությունը (նվազեցումները նշված են փակագծերում)
B40: Միջոցառման դասիչը՝ | C40: 31002 | D40: Տարի
B41: Միջոցառման անվանումը` | C41: ՀՀ արդարադատության նախարարության քրեակատարողական ծառայության կարողությունների զարգացում և տեխնիկական հագեցվածության ապահովում
B42: Նկարագրությունը` | C42: ՀՀ արդարադատության նախարարության քրեակատարողական ծառայության աշխատանքային պայմանների բարելավման համար վարչական սարքավորումների ձեռք բերում
B43: Միջոցառման տեսակը` | C43: Պետական մարմինների կողմից օգտագործվող ոչ ֆինանսական ակտիվների հետ գործառնություններ
B44: Ակտիվն օգտագործող կազմակերպության(ների) անվանում(ներ)ը | C44: Քրեակատարողական ծառայություն
C45: Արդյունքի չափորոշիչներ
B46: Վարչական սարքավորումներ, հատ | D46: -652
B47: IP տեսակի հեռախոսային ապարատներ, հատ | D47: -214
B48: Պահպանության ինժեներատեխնիկական միջոցներ, կոմպլեկտ | D48: -1
B49: Միջոցառման վրա կատարվող ծախսը (հազար դրամ) | D49: =+'Հավելված 3'!G58 -> -223429.3
B51: Ծրագրի դասիչը | C51: Ծրագրի անվանումը
B52: 1123 | C52: Իրավական իրազեկում և տեղեկատվության ապահովում
B54: Ծրագրի միջոցառումները
B56: Ծրագրի դասիչը` | C56: 1123 | D56: Ցուցանիշների փոփոխությունը (նվազեցումները նշված են փակագծերում)
B57: Միջոցառման դասիչը` | C57: 11001 | D57: Տարի
B58: Միջոցառման անվանումը` | C58: Հրատարակչական, տեղեկատվական և տպագրական ծառայություններ
B59: Նկարագրությունը` | C59: ՀՀ-ում ընդունված և ստորագրված իրավական ակտերի պաշտոնական հրատարակման, պետական վկայականների և ձևաթղթերի տպագրման ծառայություններ
B60: Միջոցառման տեսակը` | C60: Ծառայությունների մատուցում
B61: Միջոցառումն իրականացնողի անվանումը | C61: «Գնումների մասին» ՀՀ օրենքի համաձայն ընտրված կազմակերպություն
C62: Արդյունքի չափորոշիչներ
B63: Միջոցառման վրա կատարվող ծախսը (հազար դրամ) | D63: =+'Հավելված 3'!G76 -> -300
C65: ՀՀ կառավարություն
B66: ՄԱՍ 2. ՊԵՏԱԿԱՆ ՄԱՐՄՆԻ ԳԾՈՎ ԱՐԴՅՈՒՆՔԱՅԻՆ (ԿԱՏԱՐՈՂԱԿԱՆ) ՑՈՒՑԱՆԻՇՆԵՐԸ
B68: Ծրագրի դասիչը | C68: Ծրագրի անվանումը
B69: 1139 | C69: ՀՀ կառավարության պահուստային ֆոնդ
B71: Ծրագրի միջոցառումները
B73: Ծրագրի դասիչը` | C73: 1139 | D73: Ցուցանիշների փոփոխությունները (ավելացումները նշված են դրական նշանով)
B74: Միջոցառման դասիչը` | C74: 11001 | D74: Տարի
B75: Միջոցառման անվանումը` | C75: ՀՀ կառավարության պահուստային ֆոնդ
B76: Նկարագրությունը` | C76: ՀՀ պետական բյուջեում նախատեսված ելքերի լրացուցիչ ֆինանսավորման, պետական բյուջեում չկանխատեսված ելքերի, ինչպես նաև բյուջետային երաշխիքների ապահովման ելքերի ֆինանսավորման ապահովում
B77: Միջոցառման տեսակը` | C77: Ծառայությունների մատուցում
B78: Արդյունքի չափորոշիչներ
B79: Միջոցառման վրա կատարվող ծախսը (հազար դրամ) | D79: =+'Հավելված 3'!G97 -> 307729.3

Sheet Հավելված 6
D1: Հավելված 6
D2: ՀՀ կառավարության 2022 թվականի
D3: ______________ ի ___Ն որոշման
B4: ՀԱՅԱՍՏԱՆԻ ՀԱՆՐԱՊԵՏՈՒԹՅԱՆ ԿԱՌԱՎԱՐՈՒԹՅԱՆ 2021 ԹՎԱԿԱՆԻ ԴԵԿՏԵՄԲԵՐԻ 23-Ի ԹԻՎ 2121-Ն ՈՐՈՇՄԱՆ N9.1 ՀԱՎԵԼՎԱԾԻ 9.1.10, 9․1․43 և 9.1.59 ԱՂՅՈՒՍԱԿՆԵՐՈՒՄ ԿԱՏԱՐՎՈՂ ՓՈՓՈԽՈՒԹՅՈՒՆՆԵՐԸ
E5: Աղյուսակ 9.1.10
A6: ՀՀ արդարադատության նախարարություն
B8: ՄԱՍ 1. ՊԵՏԱԿԱՆ ՄԱՐՄՆԻ ԳԾՈՎ ԱՐԴՅՈՒՆՔԱՅԻՆ (ԿԱՏԱՐՈՂԱԿԱՆ) ՑՈՒՑԱՆԻՇՆԵՐԸ
B12: Ծրագրի դասիչը | C12: Ծրագրի անվանումը
B13: 1057 | C13: Արդարադատության ոլորտում քաղաքականության մշակում, ծրագրերի համակարգում, խորհրդատվության և մոնիտորինգի իրականացում
B15: Ծրագրի միջոցառումները
B17: Ծրագրի դասիչը՝ | C17: 1057 | D17: Ցուցանիշների փոփոխությունները (ավելացումները նշված են դրական նշանով)
B18: Միջոցառման դասիչը՝ | C18: 11001 | D18: Տարի
B19: Միջոցառման անվանումը` | C19: Արդարադատության ոլորտում քաղաքականության, խորհրդատվության, մոնիտորինգի, գնման և աջակցության իրականացում
B20: Նկարագրությունը` | C20: Ոլորտի քաղաքականության, խորհրդատվության, մոնիտորինգի, արդարադատության ծրագրերի համակարգման ծառայություններ
B21: Միջոցառման տեսակը` | C21: Ծառայությունների մատուցում
B22: Ծառայությունը մատուցող կազմակերպության(ների) անվանում(ներ)ը | C22: ՀՀ արդարադատության նախարարություն
C23: Արդյունքի չափորոշիչներ
B24: Միջոցառման վրա կատարվող ծախսը (հազար դրամ) | D24: =+'Հավելված 3'!G20 -> 33000
B26: Ծրագրի դասիչը | C26: Ծրագրի անվանումը
B27: 1120 | C27: Քրեակատարողական ծառայություններ
B29: Ծրագրի միջոցառումները
B31: Ծրագրի դասիչը՝ | C31: 1120 | D31: Ցուցանիշների փոփոխությունը (նվազեցումները նշված են փակագծերում)
B32: Միջոցառման դասիչը՝ | C32: 11002 | D32: Առաջին կիսամյակ
B33: Միջոցառման անվանումը՝ | C33: Պրոբացիայի ծառայություններ
B34: Նկարագրությունը՝ | C34: Հասարակության անվտանգության ապահովումը՛ կրկնահանցագործության կանխարգելման և կրճատման միջոցով
B35: Միջոցառման տեսակը՝ | C35: Ծառայությունների մատուցում
B36: Միջոցառումն իրականացնողի անվանումը | C36: Պրոբացիայի ծառայություն
C37: Արդյունքի չափորոշիչներ
B38: Միջոցառման վրա կատարվող ծախսը (հազար դրամ) | D38: =+'Հավելված 3'!G42 -> -117000
B40: Ծրագրի դասիչը | C40: Ծրագրի անվանումը
B41: 1123 | C41: Իրավական իրազեկում և տեղեկատվության ապահովում
B43: Ծրագրի միջոցառումները
B45: Ծրագրի դասիչը` | C45: 1123 | D45: Ցուցանիշների փոփոխությունը (նվազեցումները նշված են փակագծերում)
B46: Միջոցառման դասիչը` | C46: 11001 | D46: Տարի
B47: Միջոցառման անվանումը` | C47: Հրատարակչական, տեղեկատվական և տպագրական ծառայություններ
B48: Նկարագրությունը` | C48: ՀՀ-ում ընդունված և ստորագրված իրավական ակտերի պաշտոնական հրատարակման, պետական վկայականների և ձևաթղթերի տպագրման ծառայություններ
B49: Միջոցառման տեսակը` | C49: Ծառայությունների մատուցում
B50: Միջոցառումն իրականացնողի անվանումը | C50: «Գնումների մասին» ՀՀ օրենքի համաձայն ընտրված կազմակերպություն
C51: Արդյունքի չափորոշիչներ
B52: Միջոցառման վրա կատարվող ծախսը (հազար դրամ) | D52: =+'Հավելված 3'!G76 -> -300
E54: Աղյուսակ 9.1.43
A55: ՀՀ արդարադատության նախարարության քրեակատարողական ծառայություն
B57: ՄԱՍ 1. ՊԵՏԱԿԱՆ ՄԱՐՄՆԻ ԳԾՈՎ ԱՐԴՅՈՒՆՔԱՅԻՆ (ԿԱՏԱՐՈՂԱԿԱՆ) ՑՈՒՑԱՆԻՇՆԵՐԸ
B60: Ծրագրի դասիչը | C60: Ծրագրի անվանումը
B61: 1120 | C61: Քրեակատարողական ծառայություններ
B63: Ծրագրի միջոցառումները
B64: Ծրագրի դասիչը՝ | C64: 1120 | D64: Ցուցանիշների փոփոխությունը (նվազեցումները նշված են փակագծերում)
B65: Միջոցառման դասիչը՝ | C65: 31002 | D65: Տարի
B66: Միջոցառման անվանումը` | C66: ՀՀ արդարադատության նախարարության քրեակատարողական ծառայության կարողությունների զարգացում և տեխնիկական հագեցվածության ապահովում
B67: Նկարագրությունը` | C67: ՀՀ արդարադատության նախարարության քրեակատարողական ծառայության աշխատանքային պայմանների բարելավման համար վարչական սարքավորումների ձեռք բերում
B68: Միջոցառման տեսակը` | C68: Պետական մարմինների կողմից օգտագործվող ոչ ֆինանսական ակտիվների հետ գործառնություններ
B69: Ակտիվն օգտագործող կազմակերպության(ների) անվանում(ներ)ը | C69: Քրեակատարողական ծառայություն
C70: Արդյունքի չափորոշիչներ
B71: Վարչական սարքավորումներ, հատ | D71: -652
B72: IP տեսակի հեռախոսային ապարատներ, հատ | D72: -214
B73: Պահպանության ինժեներատեխնիկական միջոցներ, կոմպլեկտ | D73: -1
B74: Միջոցառման վրա կատարվող ծախսը (հազար դրամ) | D74: =+'Հավելված 3'!G58 -> -223429.3
E76: Աղյուսակ 9.1.59
C77: ՀՀ կառավարություն
B78: ՄԱՍ 1. ՊԵՏԱԿԱՆ ՄԱՐՄՆԻ ԳԾՈՎ ԱՐԴՅՈՒՆՔԱՅԻՆ (ԿԱՏԱՐՈՂԱԿԱՆ) ՑՈՒՑԱՆԻՇՆԵՐԸ
B80: Ծրագրի դասիչը | C80: Ծրագրի անվանումը
B81: 1139 | C81: ՀՀ կառավարության պահուստային ֆոնդ
B83: Ծրագրի միջոցառումները
B85: Ծրագրի դասիչը` | C85: 1139 | D85: Ցուցանիշների փոփոխությունները (ավելացումները նշված են դրական նշանով)
B86: Միջոցառման դասիչը` | C86: 11001 | D86: Առաջին կիսամյակ
B87: Միջոցառման անվանումը` | C87: ՀՀ կառավարության պահուստային ֆոնդ
B88: Նկարագրությունը` | C88: ՀՀ պետական բյուջեում նախատեսված ելքերի լրացուցիչ ֆինանսավորման, պետական բյուջեում չկանխատեսված ելքերի, ինչպես նաև բյուջետային երաշխիքների ապահովման ելքերի ֆինանսավորման ապահովում
B89: Միջոցառման տեսակը` | C89: Ծառայությունների մատուցում
B90: Արդյունքի չափորոշիչներ
B91: Միջոցառման վրա կատարվող ծախսը (հազար դրամ) | D91: =+'Հավելված 3'!G97 -> 307729.3

Sheet Հավելված 7
G1: Հավելված 7
G2: ՀՀ կառավարության 2022 թվականի
G3: ______________ ի ___Ն որոշման
A6: ՀԱՅԱՍՏԱՆԻ ՀԱՆՐԱՊԵՏՈՒԹՅԱՆ ԿԱՌԱՎԱՐՈՒԹՅԱՆ 2021 ԹՎԱԿԱՆԻ ԴԵԿՏԵՄԲԵՐԻ 23-Ի N 2121-Ն ՈՐՈՇՄԱՆ N 10 ՀԱՎԵԼՎԱԾՈՒՄ ԿԱՏԱՐՎՈՂ ՓՈՓՈԽՈՒԹՅՈՒՆՆԵՐԸ
A8: Կոդը | B8: Անվանումը | C8: Գնման ձևը | D8: Չափի միավորը | E8: միավորի գինը | F8: Ցուցանիշների փոփոխությունը (ավելացումները նշված են դրական նշանով, իսկ նվազեցումները՝ փակագծերում)
F9: քանակը | G9: գումարը (հազար դրամով)
A10: 1 | B10: 2 | C10: 3 | D10: 4 | E10: 5 | F10: 6 | G10: 7
A11: ՀՀ արդարադատության նախարարություն | G11: =+G12+G16+G22+G39 -> -229729.3
A12: Բաժին N 0 1 | B12: Խումբ N 01 | C12: Դաս N 01 | D12: Օրենսդիր և գործադիր մարմիններ, պետական կառավարում | G12: =+G13 -> -2000
A13: 1057 11001 | B13: Արդարադատության ոլորտում քաղաքականության, խորհրդատվության, մոնիտորինգի, գնման և աջակցության իրականացում | G13: =G14 -> -2000
B14: ՄԱՍ III. ԾԱՌԱՅՈՒԹՅՈՒՆՆԵՐ | G14: =SUM(G15:G15) -> -2000
A15: 79111200-1 | B15: ներկայացուցչական ծառայություններ | C15: ՄԱ | D15: դրամ | G15: -2000
A16: Բաժին N 03 | B16: Խումբ N 05 | C16: Դաս N 01 | D16: Կալանավայրեր | G16: =+G17 -> -4000
A17: 1120 11002 | B17: Պրոբացիայի ծառայություններ | G17: =+G18 -> -4000
B18: ՄԱՍ 3. ԾԱՌԱՅՈՒԹՅՈՒՆՆԵՐ | G18: =SUM(G19:G21) -> -4000
A19: 64121400/1 | B19: ներքին փոստային ― սուրհանդակային ծառայություններ | C19: ՄԱ | D19: դրամ | E19: 1999000 | F19: -1 | G19: =E19*F19/1000 -> -1999
A20: 64211120/1 | B20: միջքաղաքային հեռախոսային ծառայություններ | C20: ՄԱ | D20: դրամ | E20: 1001000 | F20: -1 | G20: =E20*F20/1000 -> -1001
A21: 65311100/1 | B21: էլեկտրականության բաշխում | C21: ՄԱ | D21: դրամ | E21: 1000000 | F21: -1 | G21: =E21*F21/1000 -> -1000
A22: Բաժին N 08 | B22: Խումբ N 03 | C22: Դաս N 02 | D22: Հրատարակչություններ, խմբագրություններ | G22: -300
A23: 1123 11001 | B23: Հրատարակչական, տեղեկատվական և տպագրական ծառայություններ | G23: -300
B24: ՄԱՍ 1. ԱՊՐԱՆՔՆԵՐ | G24: -300
A25: 22451180/5 | B25: պատվերով տպագրվող նյութեր | C25: ԷԱՃ | D25: հատ | E25: 210 | F25: -50 | G25: -10.5
A26: 22451180/3 | B26: պատվերով տպագրվող նյութեր | C26: ԷԱՃ | D26: հատ | E26: 110 | F26: -150 | G26: -16.5
A27: 22451180/4 | B27: պատվերով տպագրվող նյութեր | C27: ԷԱՃ | D27: հատ | E27: 160 | F27: -270 | G27: -43.2
A28: 22451180/17 | B28: պատվերով տպագրվող նյութեր | C28: ԷԱՃ | D28: հատ | E28: 350 | F28: -99 | G28: -34.7
A29: 22451180/13 | B29: պատվերով տպագրվող նյութեր | C29: ԷԱՃ | D29: հատ | E29: 4500 | F29: -14 | G29: -63
A30: 22451180/547 | B30: պատվերով տպագրվող նյութեր | C30: ԷԱՃ | D30: հատ | G30: -18.2
A31: 22451180/551 | B31: պատվերով տպագրվող նյութեր | C31: ԷԱՃ | D31: հատ | G31: -12
A32: 22451180/548 | B32: պատվերով տպագրվող նյութեր | C32: ԷԱՃ | D32: հատ | G32: -4
A33: 22451180/15 | B33: պատվերով տպագրվող նյութեր | C33: ԷԱՃ | D33: հատ | G33: -11.5
A34: 22451180/16 | B34: պատվերով տպագրվող նյութեր | C34: ԷԱՃ | D34: հատ | G34: -13
A35: 22451180/553 | B35: պատվերով տպագրվող նյութեր | C35: ԷԱՃ | D35: հատ | G35: -31.5
A36: 22451180/554 | B36: պատվերով տպագրվող նյութեր | C36: ԷԱՃ | D36: հատ | G36: -38
A37: 22451180/20 | B37: պատվերով տպագրվող նյութեր | C37: ԷԱՃ | D37: հատ | E37: 3898 | F37: -1 | G37: -3.9
A38: ՀՀ արդարադատության նախարարության քրեակատարողական ծառայություն
A39: Բաժին N 03 | B39: Խումբ N 05 | C39: Դաս N 01 | D39: Կալանավայրեր | G39: =+G41 -> -223429.3
A41: 1120 | B41: 31002 | C41: ՀՀ արդարադատության նախարարության քրեակատարողական ծառայության կարողությունների զարգացում և տեխնիկական հագեցվածության ապահովում | G41: =+G42 -> -223429.3
B42: ՄԱՍ 1. ԱՊՐԱՆՔՆԵՐ | G42: =SUM(G43:G58) -> -223429.3
A43: 32324900/1 | B43: հեռուստացույցներ | C43: ԷԱՃ | D43: հատ | E43: 150000 | F43: -40 | G43: =SUM(E43*F43)/1000 -> -6000
A44: 35121280/1 | B44: հսկողության համակարգ | C44: ԷԱՃ | D44: հատ | E44: 151046250 | F44: -1 | G44: -151046.3
A45: 39111140/1 | B45: աթոռներ | C45: ԷԱՃ | D45: հատ | E45: 14000 | F45: -190 | G45: =SUM(E45*F45)/1000 -> -2660
A46: 39111230/1 | B46: փոքր բազմոցներ | C46: ԷԱՃ | D46: հատ | E46: 50000 | F46: -40 | G46: =SUM(E46*F46)/1000 -> -2000
A47: 39121100/1 | B47: գրասեղաններ | C47: ԷԱՃ | D47: հատ | E47: 60000 | F47: -60 | G47: =SUM(E47*F47)/1000 -> -3600
A48: 39121200/1 | B48: սեղաններ | C48: ԷԱՃ | D48: հատ | E48: 20000 | F48: -40 | G48: =SUM(E48*F48)/1000 -> -800
A49: 39121500/1 | B49: խոհանոցային պահարաններ | C49: ԷԱՃ | D49: հատ | E49: 180000 | F49: -40 | G49: =SUM(E49*F49)/1000 -> -7200
A50: 39121520/1 | B50: գրապահարաններ | C50: ԷԱՃ | D50: հատ | E50: 80000 | F50: -20 | G50: =SUM(E50*F50)/1000 -> -1600
A51: 39141170/1 | B51: ննջասենյակի կահույք | C51: ԷԱՃ | D51: հատ | E51: 280000 | F51: -40 | G51: =SUM(E51*F51)/1000 -> -11200
A52: 39141260/1 | B52: զգեստապահարաններ | C52: ԷԱՃ | D52: հատ | E52: 80000 | F52: -20 | G52: =SUM(E52*F52)/1000 -> -1600
A53: 39711140/1 | B53: կենցաղային սառնարաններ | C53: ԷԱՃ | D53: հատ | E53: 150000 | F53: -40 | G53: =SUM(E53*F53)/1000 -> -6000
A54: 39714200/1 | B54: օդորակիչ | C54: ԷԱՃ | D54: հատ | E54: 250000 | F54: -40 | G54: =SUM(E54*F54)/1000 -> -10000
A55: 42711170/1 | B55: լվացքի մեքենաներ | C55: ԷԱՃ | D55: հատ | E55: 225000 | F55: -50 | G55: =SUM(E55*F55)/1000 -> -11250
A56: 44421300/1 | B56: չհրկիզվող պահարաններ | C56: ԷԱՃ | D56: հատ | E56: 120000 | F56: -20 | G56: =SUM(E56*F56)/1000 -> -2400
... A58: 64211280/2 | B58: ip հեռախոսներ | C58: ԷԱՃ | D58: հատ | E58: 66000 | F58: -20 | G58: =SUM(E58*F58)/1000 -> -1320
