Workbook
Name _tab10: #REF!
Name _tab10: #REF!
Name _tab10: #REF!
Name _tab11: #REF!
Name _tab11: #REF!
Name _tab11: #REF!
Name _tab12: #REF!
Name _tab12: #REF!
Name _tab12: #REF!
Name _tab13: #REF!
Name _tab13: #REF!
Name _tab13: #REF!
Name _tab14: #REF!
Name _tab14: #REF!
Name _tab14: #REF!
Name _tab15: #REF!
Name _tab15: #REF!
Name _tab15: #REF!
Name _tab16: #REF!
Name _tab16: #REF!
Name _tab16: #REF!
Name _tab17: #REF!
Name _tab17: #REF!
Name _tab17: #REF!
Name _tab18: #REF!
Name _tab18: #REF!
Name _tab18: #REF!
Name _tab19: #REF!
Name _tab19: #REF!
Name _tab19: #REF!
Name _tab20: #REF!
Name _tab20: #REF!
Name _tab20: #REF!
Name _tab21: #REF!
Name _tab21: #REF!
Name _tab21: #REF!
Name _tab22: #REF!
Name _tab22: #REF!
Name _tab22: #REF!
Name _tab23: #REF!
Name _tab23: #REF!
Name _tab23: #REF!
Name _tab24: #REF!
Name _tab24: #REF!
Name _tab24: #REF!
Name _tab5: #REF!
Name _tab5: #REF!
Name _tab5: #REF!
Name _tab6: #REF!
Name _tab6: #REF!
Name _tab6: #REF!
Name _tab7: #REF!
Name _tab7: #REF!
Name _tab7: #REF!
Name _tab8: #REF!
Name _tab8: #REF!
Name _tab8: #REF!
Name _tab9: #REF!
Name _tab9: #REF!
Name _tab9: #REF!

Sheet 1
D1: Հավելված N 1
D2: ՀՀ կառավարության 2022 թվականի
C3: -----------------ի N -----------Ն որոշման
A5: ՀԱՅԱՍՏԱՆԻ ՀԱՆՐԱՊԵՏՈՒԹՅԱՆ 2022 ԹՎԱԿԱՆԻ ՊԵՏԱԿԱՆ ԲՅՈՒՋԵԻ ՄԱՍԻՆ» ՕՐԵՆՔԻ N 1 ՀԱՎԵԼՎԱԾԻ N 2 ԱՂՅՈՒՍԱԿՈՒՄ ԿԱՏԱՐՎՈՂ ՎԵՐԱԲԱՇԽՈՒՄԸ ԵՎ ՀԱՅԱՍՏԱՆԻ ՀԱՆՐԱՊԵՏՈՒԹՅԱՆ ԿԱՌԱՎԱՐՈՒԹՅԱՆ 2021 ԹՎԱԿԱՆԻ ԴԵԿՏԵՄԲԵՐԻ 23-Ի N 2121-Ն ՈՐՈՇՄԱՆ N 5 ՀԱՎԵԼՎԱԾԻ N 1 ԱՂՅՈՒՍԱԿՈՒՄ ԿԱՏԱՐՎՈՂ ՓՈՓՈԽՈՒԹՅՈՒՆՆԵՐԸ
D6: (հազար դրամ)
A7: Ծրագրային դասիչը | C7: Բյուջետային հատկացումների գլխավոր կարգադրիչների, ծրագրերի և միջոցառումների անվանումները | D7: Ցուցանիշների փոփոխությունները ավելացումները նշված են դրական նշանով, իսկ նվազեցումը՝ փակագծերում
A8: Ծրագիր | B8: Միջոցառում | D8: Տարի
C9: ԸՆԴԱՄԵՆԸ | D9: =D10+D30 -> 0
C10: ՀՀ աշխատանքի և սոցիալական հարցերի նախարարություն | D10: =D11+D32 -> 2000000
A11: 1068 | C11: Ծրագրի անվանումը` | D11: =SUM(D18,D24) -> 2000000
C12: Ժողովրդագրական վիճակի բարելավում
C13: Ծրագրի նպատակը`
C14: Խթանել ժողովրդագրական վիճակի բարելավումը
C15: Վերջնական արդյունքի նկարագրությունը`
C16: Ժողովրդագրական վիճակի բարելավում և բազմազավակության աճ
A17: Ծրագրի միջոցառումներ
B18: 12001 | C18: Միջոցառման անվանումը` | D18: 1369940
C19: Մինչև 2 տարեկան երեխայի խնամքի նպաստի տրամադրում
C20: Միջոցառման նկարագրությունը`
C21: Մինչև 2 տարեկան երեխայի խնամքի նպաստի տրամադրում
C22: Միջոցառման տեսակը
C23: Տրանսֆերտների տրամադրում
B24: 12002 | C24: Միջոցառման անվանումը` | D24: 630060
C25: Երեխայի ծննդյան միանվագ նպաստ
C26: Միջոցառման նկարագրությունը`
C27: Երեխայի ծննդյան կապակցությամբ միանվագ նպաստի տրամադրում
C28: Միջոցառման տեսակը
C29: Տրանսֆերտների տրամադրում
C30: ՀՀ կառավարություն | D30: =D31 -> -2000000
C31: Ծրագրի անվանումը` | D31: =D38 -> -2000000
A32: 1139 | C32: ՀՀ կառավարության պահուստային ֆոնդ
C33: Ծրագրի նպատակը`
C34: Պետական բյուջեում չկանխատեսված, ինչպես նաեւ բյուջետային երաշխիքների ապահովման ծախսերի ֆինանսավորման ապահովում
C35: Վերջնական արդյունքի նկարագրությունը`
C36: Պահուստային ֆոնդի կառավարման արդյունավետության և թափանցիկության ապահովում
A37: Ծրագրի միջոցառումներ
B38: 11001 | C38: Միջոցառման անվանումը` | D38: -2000000
C39: ՀՀ կառավարության պահուստային ֆոնդ
C40: Միջոցառման նկարագրությունը`
C41: ՀՀ պետական բյուջեում նախատեսված ելքերի լրացուցիչ ֆինանսավորման, պետական բյուջեում չկանխատեսված ելքերի, ինչպես նաև բյուջետային երաշխիքների ապահովման ելքերի ֆինանսավորման ապահովում
C42: Միջոցառման տեսակը
C43: Ծառայությունների մատուցում

Sheet 2
G1: Հավելված N 2
G2: ՀՀ կառավարության 2022 թվականի
G3: -----------------ի N -----------Ն որոշման
A5: ՀԱՅԱՍՏԱՆԻ ՀԱՆՐԱՊԵՏՈՒԹՅԱՆ ԿԱՌԱՎԱՐՈՒԹՅԱՆ 2021 ԹՎԱԿԱՆԻ ԴԵԿՏԵՄԲԵՐԻ 23-Ի N 2121-Ն ՈՐՈՇՄԱՆ N 3 ԵՎ N 4 ՀԱՎԵԼՎԱԾՆԵՐՈՒՄ ԿԱՏԱՐՎՈՂ ՓՈՓՈԽՈՒԹՅՈՒՆՆԵՐԸ
G6: (հազար դրամ)
A7: Գործառական դասիչը | D7: Ծրագրային դասիչը | F7: Բյուջետային ծախսերի գործառական դասակարգման բաժինների, խմբերի և դասերի, բյուջետային ծրագրերի միջոցառումների, բյուջետային հատկացումների գլխավոր կարգադրիչների անվանումները | G7: ='1'!D7 -> Ցուցանիշների փոփոխությունները ավելացումները նշված են դրական նշանով, իսկ նվազեցումը՝ փակագծերում
A8: Բաժինը | B8: Խումբը | C8: Դասը | D8: Ծրագիր | E8: Միջոցառում | G8: ='1'!D8 -> Տարի
F9: ԸՆԴԱՄԵՆԸ ԾԱԽՍԵՐ | G9: =G11+G37 -> 0
F10: այդ թվում`
A11: 10 | F11: ՍՈՑԻԱԼԱԿԱՆ ՊԱՇՏՊԱՆՈՒԹՅՈՒՆ | G11: =+G13 -> 2000000
F12: այդ թվում`
B13: 04 | F13: Ընտանիքի անդամներ և զավակներ | G13: =+G15 -> 2000000
F14: այդ թվում`
C15: 01 | F15: Ընտանիքի անդամներ և զավակներ | G15: =G17 -> 2000000
F16: այդ թվում`
D17: 1068 | F17: Ժողովրդագրական վիճակի բարելավում | G17: =G19+G28 -> 2000000
F18: այդ թվում`
E19: 12001 | F19: Մինչև 2 տարեկան երեխայի խնամքի նպաստի տրամադրում | G19: =+G20 -> 1369940
F20: այդ թվում` ըստ կատարողների | G20: =+G21 -> 1369940
F21: ՀՀ աշխատանքի և սոցիալական հարցերի նախարարության միասնական սոցիալական ծառայություն | G21: =+G23 -> 1369940
F22: այդ թվում` բյուջետային ծախսերի տնտեսագիտական դասակարգման հոդվածներ
F23: ԸՆԴԱՄԵՆԸ ԾԱԽՍԵՐ | G23: =+G24 -> 1369940
F24: ԸՆԹԱՑԻԿ ԾԱԽՍԵՐ | G24: =+G25 -> 1369940
F25: ՍՈՑԻԱԼԱԿԱՆ ՆՊԱՍՏՆԵՐ ԵՎ ԿԵՆՍԱԹՈՇԱԿՆԵՐ | G25: =+G26 -> 1369940
F26: Սոցիալական օգնության դրամական արտահայտությամբ նպաստներ (բյուջեից) | G26: =+G27 -> 1369940
F27: - Մայրության նպաստներ բյուջեից | G27: ='1'!D18 -> 1369940
E28: 12002 | F28: Երեխայի ծննդյան միանվագ նպաստ | G28: =+G29 -> 630060
F29: այդ թվում` ըստ կատարողների | G29: =+G30 -> 630060
F30: ՀՀ աշխատանքի և սոցիալական հարցերի նախարարության միասնական սոցիալական ծառայություն | G30: =+G32 -> 630060
F31: այդ թվում` բյուջետային ծախսերի տնտեսագիտական դասակարգման հոդվածներ
F32: ԸՆԴԱՄԵՆԸ ԾԱԽՍԵՐ | G32: =+G33 -> 630060
F33: ԸՆԹԱՑԻԿ ԾԱԽՍԵՐ | G33: =+G34 -> 630060
F34: ՍՈՑԻԱԼԱԿԱՆ ՆՊԱՍՏՆԵՐ ԵՎ ԿԵՆՍԱԹՈՇԱԿՆԵՐ | G34: =+G35 -> 630060
F35: Սոցիալական օգնության դրամական արտահայտությամբ նպաստներ (բյուջեից) | G35: =+G36 -> 630060
F36: - Երեխաների կամ ընտանեկան նպաստներ բյուջեից | G36: ='1'!D24 -> 630060
A37: 11 | F37: ՀԻՄՆԱԿԱՆ ԲԱԺԻՆՆԵՐԻՆ ՉԴԱՍՎՈՂ ՊԱՀՈՒՍՏԱՅԻՆ ՖՈՆԴԵՐ | G37: =SUM(G39) -> -2000000
F38: այդ թվում`
B39: 01 | F39: ՀՀ կառավարության և համայնքների պահուստային ֆոնդ | G39: =SUM(G41) -> -2000000
F40: այդ թվում`
C41: 01 | F41: ՀՀ կառավարության պահուստային ֆոնդ | G41: =SUM(G43) -> -2000000
F42: այդ թվում`
D43: 1139 | F43: ՀՀ կառավարության պահուստային ֆոնդ | G43: =SUM(G45) -> -2000000
F44: այդ թվում`
E45: 11001 | F45: ՀՀ կառավարության պահուստային ֆոնդ | G45: =G47 -> -2000000
F46: այդ թվում` ըստ կատարողների
F47: ՀՀ կառավարություն | G47: =G48 -> -2000000
F48: այդ թվում` բյուջետային ծախսերի տնտեսագիտական դասակարգման հոդվածներ | G48: =SUM(G50) -> -2000000
F49: ԸՆԴԱՄԵՆԸ ԾԱԽՍԵՐ | G49: =SUM(G51) -> -2000000
F50: ԸՆԹԱՑԻԿ ԾԱԽՍԵՐ | G50: =SUM(G52) -> -2000000
F51: ԱՅԼ ԾԱԽՍԵՐ | G51: =SUM(G52) -> -2000000
F52: Պահուստային միջոցներ | G52: ='1'!D38 -> -2000000

Sheet 3
C1: Հավելված N 3
C2: ՀՀ կառավարության 2022 թվականի
C3: -----------------ի N -----------Ն որոշման
A4: ՀԱՅԱՍՏԱՆԻ ՀԱՆՐԱՊԵՏՈՒԹՅԱՆ ԿԱՌԱՎԱՐՈՒԹՅԱՆ 2020 ԹՎԱԿԱՆԻ ԴԵԿՏԵՄԲԵՐԻ 30-Ի N 2215-Ն ՈՐՈՇՄԱՆ N 9 ՀԱՎԵԼՎԱԾԻ N 9.1.20 ԱՂՅՈՒՍԱԿՈՒՄ ԿԱՏԱՐՎՈՂ ՓՈՓՈԽՈՒԹՅՈՒՆՆԵՐԸ
A5: ՀԱՅԱՍՏԱՆԻ ՀԱՆՐԱՊԵՏՈՒԹՅԱՆ ԿԱՌԱՎԱՐՈՒԹՅԱՆ 2021 ԹՎԱԿԱՆԻ ԴԵԿՏԵՄԲԵՐԻ 23-Ի N 2121-Ն ՈՐՈՇՄԱՆ N 9 ՀԱՎԵԼՎԱԾԻ N 9.15 ԵՎ N 9.47 ԱՂՅՈՒՍԱԿՆԵՐՈՒՄ ԿԱՏԱՐՎՈՂ ՓՈՓՈԽՈՒԹՅՈՒՆՆԵՐԸ
A6: Հայաստանի Հանրապետության աշխատանքի և սոցիալական հարցերի նախարարություն
A7: ՄԱՍ 2. ՊԵՏԱԿԱՆ ՄԱՐՄՆԻ ԳԾՈՎ ԱՐԴՅՈՒՆՔԱՅԻՆ (ԿԱՏԱՐՈՂԱԿԱՆ) ՑՈՒՑԱՆԻՇՆԵՐԸ
A9: Ծրագրի դասիչը | B9: Ծրագրի անվանումը
A10: 1068 | B10: Ժողովրդագրական վիճակի բարելավում
A12: Ծրագրի դասիչը` | B12: 1068 | C12: Ցուցանիշների փոփոխությունը (ավելացումը նշված է դրական նշանով)
A13: Միջոցառման դասիչը` | B13: 12001 | C13: ='1'!D8 -> Տարի
A14: Միջոցառման անվանումը` | B14: Մինչև 2 տարեկան երեխայի խնամքի նպաստի տրամադրում
A15: Նկարագրությունը` | B15: Մինչև 2 տարեկան երեխայի խնամքի նպաստի տրամադրում
A16: Միջոցառման տեսակը` | B16: Տրանսֆերտների տրամադրում
A17: Շահառուների ընտրության չափանիշները | B17: Մինչև երեք տարեկան երեխայի խնամքի արձակուրդում գտնվող անձը` մինչև երեխայի 2 տարեկանը լրանալը,
A18: Արդյունքի չափորոշիչներ
A19: Մինչև 2 տարեկան երեխայի խնամքի նպաստ ստացող քաղաքացիների թիվ, մարդ | C19: 4355 | D19: 30500
A20: Միջոցառման վրա կատարվող ծախսը (հազար դրամ) | C20: ='1'!D18 -> 1369940
A22: Ծրագրի դասիչը` | B22: 1068 | C22: Ցուցանիշների փոփոխությունը (ավելացումը նշված է դրական նշանով)
A23: Միջոցառման դասիչը` | B23: 12002 | C23: Տարի
A24: Միջոցառման անվանումը` | B24: Երեխայի ծննդյան միանվագ նպաստ
A25: Նկարագրությունը` | B25: Երեխայի ծննդյան կապակցությամբ միանվագ նպաստի տրամադրում
A26: Միջոցառման տեսակը` | B26: Տրանսֆերտների տրամադրում
A27: Շահառուների ընտրության չափանիշները | B27: ՀՀ-ում հաշվառված նոր ծնված երեխայի ծնող (օրինական ներկայացուցիչ)
A28: Միջոցառման վրա կատարվող ծախսը (հազար դրամ) | C28: ='1'!D24 -> 630060
B30: ՀՀ կառավարություն
A32: Ծրագրի դասիչը | B32: Ծրագրի անվանումը
A33: 1139 | B33: ՀՀ կառավարության պահուստային ֆոնդ
A34: Ծրագրի միջոցառումները
A35: Ծրագրի դասիչը` | B35: 1139 | C35: Ցուցանիշների փոփոխությունը (նվազեցումը նշված է փակագծերում)
A36: Միջոցառման դասիչը` | B36: 11001 | C36: Տարի
A37: Միջոցառման անվանումը` | B37: ՀՀ կառավարության պահուստային ֆոնդ
A38: Նկարագրությունը` | B38: ՀՀ պետական բյուջեում նախատեսված ելքերի լրացուցիչ ֆինանսավորման՝ պետական բյուջեում չկանխատեսված ելքերի, ինչպես նաև բյուջետային երաշխիքների ապահովման ելքերի ֆինանսավորման ապահովում
A39: Միջոցառման տեսակը` | B39: Ծառայությունների մատուցում
A40: Արդյունքի չափորոշիչներ
A41: Միջոցառման վրա կատարվող ծախսը (հազար դրամ) | C41: ='1'!D38 -> -2000000

Sheet 4
C1: Հավելված N 4
C2: ՀՀ կառավարության 2022 թվականի
C3: -----------------ի N -----------Ն որոշման
A4: ՀԱՅԱՍՏԱՆԻ ՀԱՆՐԱՊԵՏՈՒԹՅԱՆ ԿԱՌԱՎԱՐՈՒԹՅԱՆ 2020 ԹՎԱԿԱՆԻ ԴԵԿՏԵՄԲԵՐԻ 30-Ի N 2215-Ն ՈՐՈՇՄԱՆ N 9 ՀԱՎԵԼՎԱԾԻ N 9.1.20 ԱՂՅՈՒՍԱԿՈՒՄ ԿԱՏԱՐՎՈՂ ՓՈՓՈԽՈՒԹՅՈՒՆՆԵՐԸ
A5: ՀԱՅԱՍՏԱՆԻ ՀԱՆՐԱՊԵՏՈՒԹՅԱՆ ԿԱՌԱՎԱՐՈՒԹՅԱՆ 2021 ԹՎԱԿԱՆԻ ԴԵԿՏԵՄԲԵՐԻ 23-Ի N 2121-Ն ՈՐՈՇՄԱՆ N 9.1 ՀԱՎԵԼՎԱԾԻ N 9.1.20 ԵՎ 9.1.59 ԱՂՅՈՒՍԱԿՆԵՐՈՒՄ ԿԱՏԱՐՎՈՂ ՓՈՓՈԽՈՒԹՅՈՒՆՆԵՐԸ
A6: ՄԱՍ 1. ՊԵՏԱԿԱՆ ՄԱՐՄՆԻ ԳԾՈՎ ԱՐԴՅՈՒՆՔԱՅԻՆ (ԿԱՏԱՐՈՂԱԿԱՆ) ՑՈՒՑԱՆԻՇՆԵՐԸ
A8: ՀՀ աշխատանքի և սոցիալական հարցերի նախարարության միասնական սոցիալական ծառայություն
A9: Ծրագրի դասիչը | B9: Ծրագրի անվանումը
A10: 1068 | B10: Ժողովրդագրական վիճակի բարելավում
A12: Ծրագրի դասիչը` | B12: 1068 | C12: ='3'!C12 -> Ցուցանիշների փոփոխությունը (ավելացումը նշված է դրական նշանով)
A13: Միջոցառման դասիչը` | B13: 12001 | C13: ='1'!D8 -> Տարի
A14: Միջոցառման անվանումը` | B14: Մինչև 2 տարեկան երեխայի խնամքի նպաստի տրամադրում
A15: Նկարագրությունը` | B15: Մինչև 2 տարեկան երեխայի խնամքի նպաստի տրամադրում
A16: Միջոցառման տեսակը` | B16: Տրանսֆերտների տրամադրում
A17: Շահառուների ընտրության չափանիշները | B17: Մինչև երեք տարեկան երեխայի խնամքի արձակուրդում գտնվող անձը` մինչև երեխայի 2 տարեկանը լրանալը,
A18: Արդյունքի չափորոշիչներ
A19: Մինչև 2 տարեկան երեխայի խնամքի նպաստ ստացող քաղաքացիների թիվ, մարդ | C19: 4355 | D19: 28600 | E19: =SUM(C20/D19/12*1000) -> 3991.6667
A20: Միջոցառման վրա կատարվող ծախսը (հազար դրամ) | C20: ='1'!D18 -> 1369940
A22: Ծրագրի դասիչը` | B22: 1068 | C22: ='3'!C22 -> Ցուցանիշների փոփոխությունը (ավելացումը նշված է դրական նշանով)
A23: Միջոցառման դասիչը` | B23: 12002 | C23: Տարի
A24: Միջոցառման անվանումը` | B24: Երեխայի ծննդյան միանվագ նպաստ
A25: Նկարագրությունը` | B25: Երեխայի ծննդյան կապակցությամբ միանվագ նպաստի տրամադրում
A26: Միջոցառման տեսակը` | B26: Տրանսֆերտների տրամադրում
A27: Շահառուների ընտրության չափանիշները | B27: ՀՀ-ում հաշվառված նոր ծնված երեխայի ծնող (օրինական ներկայացուցիչ)
A28: Միջոցառման վրա կատարվող ծախսը (հազար դրամ) | C28: ='1'!D24 -> 630060
B30: ՀՀ կառավարություն
A32: Ծրագրի դասիչը | B32: Ծրագրի անվանումը
A33: 1139 | B33: ՀՀ կառավարության պահուստային ֆոնդ
A34: Ծրագրի միջոցառումները
A35: Ծրագրի դասիչը` | B35: 1139 | C35: ='3'!C35 -> Ցուցանիշների փոփոխությունը (նվազեցումը նշված է փակագծերում)
A36: Միջոցառման դասիչը` | B36: 11001 | C36: Տարի
A37: Միջոցառման անվանումը` | B37: ՀՀ կառավարության պահուստային ֆոնդ
A38: Նկարագրությունը` | B38: ՀՀ պետական բյուջեում նախատեսված ելքերի լրացուցիչ ֆինանսավորման՝ պետական բյուջեում չկանխատեսված ելքերի, ինչպես նաև բյուջետային երաշխիքների ապահովման ելքերի ֆինանսավորման ապահովում
A39: Միջոցառման տեսակը` | B39: Ծառայությունների մատուցում
A40: Արդյունքի չափորոշիչներ
A41: Միջոցառման վրա կատարվող ծախսը (հազար դրամ) | C41: ='1'!D38 -> -2000000

Sheet 5
G1: Հավելված N 5
G2: ՀՀ կառավարության 2022 թվականի
G3: -----------------ի N -----------Ն որոշման
A5: ՀԱՅԱՍՏԱՆԻ ՀԱՆՐԱՊԵՏՈՒԹՅԱՆ 2022 ԹՎԱԿԱՆԻ ՊԵՏԱԿԱՆ ԲՅՈՒՋԵՈՎ ՆԱԽԱՏԵՍՎԱԾ ՀԱՅԱՍՏԱՆԻ ՀԱՆՐԱՊԵՏՈՒԹՅԱՆԿԱՌԱՎԱՐՈՒԹՅԱՆ ՊԱՀՈՒՍՏԱՅԻՆ ՖՈՆԴԻՑ ՀԱՏԿԱՑՈՒՄՆԵՐ ԿԱՏԱՐԵԼՈՒ ՎԵՐԱԲԵՐՅԱԼ
G6: (հազար դրամ)
A7: Գործառական դասիչը | D7: Ծրագրային դասիչը | F7: Բյուջետային ծախսերի գործառական դասակարգման բաժինների, խմբերի և դասերի, բյուջետային ծրագրերի միջոցառումների, բյուջետային հատկացումների գլխավոր կարգադրիչների անվանումները | G7: Ցուցանիշների փոփոխությունները (նվազեցումը նշված է դրական նշանով)
A8: Բաժինը | B8: Խումբը | C8: Դասը | D8: Ծրագիր | E8: Միջոցառում | G8: ='[1]1'!D8 -> Տարի
F9: ԸՆԴԱՄԵՆԸ ԾԱԽՍԵՐ | G9: =G11 -> -2000000
F10: այդ թվում`
A11: 11 | F11: ՀԻՄՆԱԿԱՆ ԲԱԺԻՆՆԵՐԻՆ ՉԴԱՍՎՈՂ ՊԱՀՈՒՍՏԱՅԻՆ ՖՈՆԴԵՐ | G11: =SUM(G13) -> -2000000
F12: այդ թվում`
B13: 01 | F13: ՀՀ կառավարության և համայնքների պահուստային ֆոնդ | G13: =SUM(G15) -> -2000000
F14: այդ թվում`
C15: 01 | F15: ՀՀ կառավարության պահուստային ֆոնդ | G15: =SUM(G17) -> -2000000
F16: այդ թվում`
D17: 1139 | F17: ՀՀ կառավարության պահուստային ֆոնդ | G17: =SUM(G19) -> -2000000
F18: այդ թվում`
E19: 11001 | F19: ՀՀ կառավարության պահուստային ֆոնդ | G19: =G21 -> -2000000
F20: այդ թվում` ըստ կատարողների
F21: ՀՀ կառավարություն | G21: =G22 -> -2000000
F22: այդ թվում` բյուջետային ծախսերի տնտեսագիտական դասակարգման հոդվածներ | G22: =SUM(G24) -> -2000000
F23: ԸՆԴԱՄԵՆԸ ԾԱԽՍԵՐ | G23: =SUM(G25) -> -2000000
F24: ԸՆԹԱՑԻԿ ԾԱԽՍԵՐ | G24: =SUM(G26) -> -2000000
F25: ԱՅԼ ԾԱԽՍԵՐ | G25: =SUM(G26) -> -2000000
F26: Պահուստային միջոցներ | G26: ='1'!D38 -> -2000000
