Workbook
Name AgencyCode: #REF!
Name AgencyCode: #REF!
Name AgencyCode: #REF!
Name AgencyName: #REF!
Name AgencyName: #REF!
Name AgencyName: #REF!
Name davit: #REF!
Name Functional1: #REF!
Name Functional1: #REF!
Name Functional1: #REF!
Name ggg: #REF!
Name PANature: #REF!
Name PANature: #REF!
Name PANature: #REF!
Name PAType: #REF!
Name PAType: #REF!
Name PAType: #REF!
Name Performance2: #REF!
Name Performance2: #REF!
Name Performance2: #REF!
Name PerformanceType: #REF!
Name PerformanceType: #REF!
Name PerformanceType: #REF!
Name Հավելված: #REF!
Name Մաս: #REF!
Name շախմատիստ: #REF!

Sheet հավելված 1
C1: Հավելված 1
C2: ՀՀ կառավարության 2022 թվականի
C3: ______________ ի ___Ն որոշման
A6: «ՀԱՅԱUՏԱՆԻ ՀԱՆՐԱՊԵՏՈՒԹՅԱՆ 2022 ԹՎԱԿԱՆԻ ՊԵՏԱԿԱՆ ԲՅՈՒՋԵԻ ՄԱUԻՆ» OՐԵՆՔԻ N 1 ՀԱՎԵԼՎԱԾԻ N 2 ԱՂՅՈՒՍԱԿՈՒՄ ԿԱՏԱՐՎՈՂ ՎԵՐԱԲԱՇԽՈՒՄԸ ԵՎ ՀԱՅԱՍՏԱՆԻ ՀԱՆՐԱՊԵՏՈՒԹՅԱՆ ԿԱՌԱՎԱՐՈՒԹՅԱՆ 2021 ԹՎԱԿԱՆԻ ԴԵԿՏԵՄԲԵՐԻ 23-Ի N 2121-Ն ՈՐՈՇՄԱՆ N 5 ՀԱՎԵԼՎԱԾԻ N 1 ԱՂՅՈՒՍԱԿՈՒՄ ԿԱՏԱՐՎՈՂ ՓՈՓՈԽՈՒԹՅՈՒՆՆԵՐԸ
D8: հազ. դրամներով
A9: Ծրագրային դասիչը | C9: Բյուջետային հատկացումների գլխավոր կարգադրիչների, ծրագրերի և միջոցառումների անվանումները | D9: Ցուցանիշների փոփոխությունը (ավելացումները նշված են դրական նշանով, իսկ նվազեցումները` փակագծերում)
A10: Ծրագիր | B10: Միջոցառում | D10: Տարի
A11: 1192 | C11: ԸՆԴԱՄԵՆԸ | D11: =+D12 -> 1.4551915e-11
B12: ՀՀ Կրթության, գիտության, մշակույթի և սպորտի նախարարություն | D12: =D14+D57 -> 1.4551915e-11
A13: 1146 | C13: Ծրագրի անվանումը`
C14: Հանրակրթության ծրագիր | D14: =+D21+D27+D33+D39+D45+D51 -> -1524
C15: Ծրագրի նպատակը`
C16: Ապահովել անվճար և որակյալ հանրակրթություն
C17: Վերջնական արդյունքի նկարագրությունը`
C18: Մտավոր, հոգևոր, ֆիզիկական և սոցիալական ունակությունների համակողմանի ու ներդաշնակ զարգացմամբ, հայրենասիրության, պետականության և մարդասիրության ոգով դաստիարակված, պատշաճ վարքով և վարվելակերպով անձի ձևավորում
C19: Ծրագրի միջոցառումներ
B20: 11001 | C20: Միջոցառման անվանումը`
C21: Տարրական ընդհանուր հանրակրթություն | D21: =+'հավելված 2'!G95 -> -1555.3
C22: Միջոցառման նկարագրությունը`
C23: Պարտադիր կրթության առաջին մակարդակում սովորողների ընդգրկվածության, գրագիտության և համակողմանի զարգացման բարձր մակարդակի ապահովում
C24: Միջոցառման տեսակը
C25: Ծառայությունների մատուցում
B26: 11003 | C26: Միջոցառման անվանումը`
C27: Միջնակարգ ընդհանուր հանրակրթություն | D27: =+'հավելված 2'!G197 -> -8016.6
C28: Միջոցառման նկարագրությունը`
C29: Պարտադիր կրթության երրորդ մակարդակում սովորողների ընդգրկվածության, գրագիտության և համակողմանի զարգացման բարձր մակարդակի ապահովում
C30: Միջոցառման տեսակը
C31: Ծառայությունների մատուցում
B32: 11013 | C32: Միջոցառման անվանումը`
C33: Նախադպրոցական կրթություն | D33: =+'հավելված 2'!G24 -> -6263.9
C34: Միջոցառման նկարագրությունը`
C35: Նախադպրոցական կրթություն մակարդակում սաների ընդգրկվածության, զարգացման բարձր մակարդակի ապահովում, 5-6 տարեկան երեխաների նախապատրաստում տարրական դպրոցին
C36: Միջոցառման տեսակը
C37: Ծառայությունների մատուցում
B38: 12002 | C38: Միջոցառման անվանումը`
C39: Հանրակրթական դպրոցների մանկավարժներին և դպրոցահասակ երեխաներին տրնասպորտային ծախսերի փոխհատուցում | D39: =+'հավելված 2'!G273 -> 22550.3
C40: Միջոցառման նկարագրությունը`
C41: Հանրակրթական դպրոցների մանկավարժներին և դպրոցահասակ երեխաներին տրնասպորտային ծախսերի փոխհատուցման ապահովում
C42: Միջոցառման տեսակը
C43: Տրանսֆերտների տրամադրում
...

Sheet հավելված 2
G1: Հավելված 2
F2: ՀՀ կառավարության 2022 թվականի
F3: ______________ ի ___Ն որոշման
A6: ՀԱՅԱՍՏԱՆԻ ՀԱՆՐԱՊԵՏՈՒԹՅԱՆ ԿԱՌԱՎԱՐՈՒԹՅԱՆ 2021 ԹՎԱԿԱՆԻ ԴԵԿՏԵՄԲԵՐԻ 23-Ի N 2121-Ն ՈՐՈՇՄԱՆ NN 3 ԵՎ 4 ՀԱՎԵԼՎԱԾՆԵՐՈՒՄ ԿԱՏԱՐՎՈՂ ՓՈՓՈԽՈՒԹՅՈՒՆՆԵՐԸ
G8: հազ. դրամներով
A9: Գործառական դասիչը | D9: Ծրագրային դասիչը | F9: Բյուջետային հատկացումների գլխավոր կարգադրիչների, ծրագրերի, միջոցառումների և միջոցառումները կատարող պետական մարմինների անվանումները | G9: Ցուցանիշների փոփոխությունը (ավելացումները նշված են դրական նշանով, իսկ նվազեցումները` փակագծերում)
A10: Բաժին | B10: Խումբ | C10: Դաս | D10: Ծրագիր | E10: Միջոցառում | G10: Տարի
F11: ԸՆԴԱՄԵՆԸ | G11: =+G13 -> 1.4551915e-11
F12: այդ թվում`
F13: ՀՀ ԿՐԹՈՒԹՅԱՆ, ԳԻՏՈՒԹՅԱՆ, ՄՇԱԿՈՒՅԹԻ ԵՎ ՍՊՈՐՏԻ ՆԱԽԱՐԱՐՈՒԹՅՈՒՆ | G13: =+G14 -> 1.4551915e-11
A14: 09 | E14: 11010 | F14: ԿՐԹՈՒԹՅՈՒՆ | G14: =+G16+G118+G265+G248 -> 1.4551915e-11
F15: այդ թվում`
B16: 01 | F16: Նախադպրոցական և տարրական ընդհանուր կրթություն | G16: =+G18+G89 -> -7819.2
F17: այդ թվում`
C18: 01 | F18: Նախադպրոցական կրթություն | G18: =+G20 -> -6263.9
F19: այդ թվում`
F20: ՀՀ կրթության, գիտության, մշակույթի և սպորտի նախարարություն | G20: =+G22 -> -6263.9 | H20: նվազեցում
F21: այդ թվում` | H21: =G26+G33+G40+G54+G61+G75+G97+G135+G142+G156+G163+G170+G184+G213+G220+G227+G234+G241+G282+G296+G312+G335 -> -1527867.4
D22: 1146 | F22: Հանրակրթության ծրագիր | G22: =+G24 -> -6263.9 | H22: ավելացում
F23: այդ թվում՝ | H23: =G47+G68+G82+G104+G111+G128+G149+G177+G199+G206+G258+G275+G289+G303+G321+G328 -> 1527867.4
E24: 11013 | F24: Նախադպրոցական կրթություն | G24: =G26+G33+G40+G47+G54+G61+G68+G75+G82 -> -6263.9
F25: այդ թվում` ըստ կատարողների
F26: ՀՀ տարածքային կառավարման և ենթակառուցվածքների նախարարություն | G26: =G28 -> -3202.4
F27: այդ թվում` բյուջետային ծախսերի տնտեսագիտական դասակարգման հոդվածներ
F28: ԸՆԴԱՄԵՆԸ ԾԱԽՍԵՐ | G28: =G29 -> -3202.4
F29: ԸՆԹԱՑԻԿ ԾԱԽՍԵՐ | G29: =G30 -> -3202.4
F30: ՍՈՒԲՍԻԴԻԱՆԵՐ | G30: =G31 -> -3202.4
F31: Սուբսիդիաներ պետական կազմակերպություններին | G31: =G32 -> -3202.4
F32: - Սուբսիդիաներ ոչ ֆինանսական պետական կազմակերպություններին | G32: ='հավելված 5'!D61 -> -3202.4
F33: ՀՀ կրթության , գիտության, մշակույթի և սպորտի նախարարություն | G33: =+G35 -> -8022.2
F34: այդ թվում` բյուջետային ծախսերի տնտեսագիտական դասակարգման հոդվածներ
F35: ԸՆԴԱՄԵՆԸ ԾԱԽՍԵՐ | G35: =+G36 -> -8022.2
F36: ԸՆԹԱՑԻԿ ԾԱԽՍԵՐ | G36: =+G37 -> -8022.2
F37: ՍՈՒԲՍԻԴԻԱՆԵՐ | G37: =+G38 -> -8022.2
F38: Սուբսիդիաներ պետական կազմակերպություններին | G38: =+G39 -> -8022.2
F39: - Սուբսիդիաներ ոչ ֆինանսական պետական կազմակերպություններին | G39: ='հավելված 5'!D117 -> -8022.2
F40: ՀՀ Արագածոտնի մարզպետարան | G40: =+G42 -> -32.7
F41: այդ թվում` բյուջետային ծախսերի տնտեսագիտական դասակարգման հոդվածներ
F42: ԸՆԴԱՄԵՆԸ ԾԱԽՍԵՐ | G42: =+G43 -> -32.7
F43: ԸՆԹԱՑԻԿ ԾԱԽՍԵՐ | G43: =+G44 -> -32.7
...

Sheet հավելված 3
G1: Հավելված 3
F2: ՀՀ կառավարության 2022 թվականի
F3: _____________-ի ___-Ն որոշում
A6: ՀԱՅԱՍՏԱՆԻ ՀԱՆՐԱՊԵՏՈՒԹՅԱՆ ԿԱՌԱՎԱՐՈՒԹՅԱՆ 2021 ԹՎԱԿԱՆԻ ԴԵԿՏԵՄԲԵՐԻ 23-Ի N 2121-Ն ՈՐՈՇՄԱՆ N 5 ՀԱՎԵԼՎԱԾԻ N 7 ԱՂՅՈՒՍԱԿՈՒՄ ԿԱՏԱՐՎՈՂ ՓՈՓՈԽՈՒԹՅՈՒՆՆԵՐԸ
G7: հազար դրամներով
A8: Ծրագրային դասիչը | C8: Բյուջետային հատկացումների գլխավոր կարգադրիչների, ծրագրերի, միջոցառումների, ծախսային ուղղությունների անվանումները | F8: Միջոցառումները կատարող պետական մարմինների և դրամաշնորհ ստացող տնտեսվարող սուբյեկտների անվանումները | G8: Ցուցանիշների փոփոխությունը (նվազեցումները նշված են փակագծերում, ավելացումները նշված են դրական նշանով)
A9: Ծրագիր | B9: Միջոցառում | G9: Տարի
C10: Հանրակրթության ծրագիր | G10: =G11 -> 22550.3
A11: 1146 | B11: 12002 | C11: Հանրակրթական դպրոցների մանկավարժներին և դպրոցահասակ երեխաներին տրանսպորտային ծախսերի փոխհատուցում | F11: ընդամենը, որից՝ | G11: =G12+G14+G16+G18+G20 -> 22550.3
F12: ՀՀ Արագածոտնի մարզպետարան | G12: =G13 -> 1157.1
F13: Հանրակրթական դպրոցների մանկավարժներ և դպրոցահասակ երեխաներ | G13: ='հավելված 5'!D202 -> 1157.1
F14: ՀՀ Գեղարքունիքի մարզպետարան | G14: =G15 -> -1153.7
F15: Հանրակրթական դպրոցների մանկավարժներ և դպրոցահասակ երեխաներ | G15: ='հավելված 5'!D395 -> -1153.7
F16: ՀՀ Կոտայքի մարզպետարան | G16: =G17 -> 23054.3
F17: Հանրակրթական դպրոցների մանկավարժներ և դպրոցահասակ երեխաներ | G17: ='հավելված 5'!D518 -> 23054.3
F18: ՀՀ Շիրակի մարզպետարան | G18: =G19 -> -2897.6
F19: Հանրակրթական դպրոցների մանկավարժներ և դպրոցահասակ երեխաներ | G19: ='հավելված 5'!D601 -> -2897.6
F20: ՀՀ Սյունիքի մարզպետարան | G20: =G21 -> 2390.2
F21: Հանրակրթական դպրոցների մանկավարժներ և դպրոցահասակ երեխաներ | G21: ='հավելված 5'!D682 -> 2390.2

Sheet հավելված 4
C2: Հավելված 4
C3: ՀՀ կառավարության 2022 թվականի
C4: ______________ ի ___Ն որոշման
B7: ՀԱՅԱՍՏԱՆԻ ՀԱՆՐԱՊԵՏՈՒԹՅԱՆ ԿԱՌԱՎԱՐՈՒԹՅԱՆ 2021 ԹՎԱԿԱՆԻ ԴԵԿՏԵՄԲԵՐԻ 23-Ի N 2121-Ն ՈՐՈՇՄԱՆ N 9 ՀԱՎԵԼՎԱԾԻ N 9.13 ԵՎ 9.47 ԱՂՅՈՒՍԱԿՈՒՄ ԿԱՏԱՐՎՈՂ ՓՈՓՈԽՈՒԹՅՈՒՆՆԵՐԸ
B9: ՀՀ կրթության, գիտության, մշակույթի և սպորտի նախարարություն
B11: ՄԱՍ 2. ՊԵՏԱԿԱՆ ՄԱՐՄՆԻ ԳԾՈՎ ԱՐԴՅՈՒՆՔԱՅԻՆ (ԿԱՏԱՐՈՂԱԿԱՆ) ՑՈՒՑԱՆԻՇՆԵՐԸ
B14: Ծրագրի դասիչը | C14: Ծրագրի անվանումը
B15: 1146 | C15: Հանրակրթության ծրագիր
B17: Ծրագրի միջոցառումները
B18: Ծրագրի դասիչը՝ | C18: 1146 | D18: Ցուցանիշների փոփոխությունը (նվազեցումները նշված են փակագծերում)
B19: Միջոցառման դասիչը՝ | C19: 11001 | D19: Տարի
B20: Միջոցառման անվանումը՝ | C20: Տարրական ընդհանուր հանրակրթություն
B21: Նկարագրությունը՝ | C21: Պարտադիր կրթության առաջին մակարդակում սովորողների ընդգրկվածության, գրագիտության և համակողմանի զարգացման բարձր մակարդակի ապահովում
B22: Միջոցառման տեսակը՝ | C22: Ծառայությունների մատուցում
B23: Շահառուների ընտրության չափորոշիչները՝ | C23: ՀՀ կրթության, գիտության,մշակույթի և սպորտի նախարարության, ՀՀ մարզպետարանների, Երևանի քաղաքապետարանի ենթակայության ուսումնական հաստատություններ
B24: Արդյունքի չափորոշիչներ
B25: Տարրական ընդհանուր կրթության դասարանների սովորողների թիվը, մարդ | D25: ='հավելված 5'!D22+'հավելված 5'!D77+'հավելված 5'!D147+'հավելված 5'!D218+'հավելված 5'!D285+'հավելված 5'!D339+'հավելված 5'!D410+'հավելված 5'!D464+'հավելված 5'!D545+'հավելված 5'!D642+'հավելված 5'!D696+'հավելված 5'!D750 -> -3959
B26: տղա | D26: ='հավելված 5'!D23+'հավելված 5'!D78+'հավելված 5'!D148+'հավելված 5'!D219+'հավելված 5'!D286+'հավելված 5'!D340+'հավելված 5'!D411+'հավելված 5'!D465+'հավելված 5'!D546+'հավելված 5'!D643+'հավելված 5'!D697+'հավելված 5'!D751 -> -2008
B27: աղջիկ | D27: ='հավելված 5'!D24+'հավելված 5'!D79+'հավելված 5'!D149+'հավելված 5'!D220+'հավելված 5'!D287+'հավելված 5'!D341+'հավելված 5'!D412+'հավելված 5'!D466+'հավելված 5'!D547+'հավելված 5'!D644+'հավելված 5'!D698+'հավելված 5'!D752 -> -1950
B28: Միջոցառման վրա կատարվող ծախսը (հազար դրամ) | D28: ='հավելված 5'!D25+'հավելված 5'!D80+'հավելված 5'!D150+'հավելված 5'!D221+'հավելված 5'!D288+'հավելված 5'!D342+'հավելված 5'!D413+'հավելված 5'!D467+'հավելված 5'!D548+'հավելված 5'!D645+'հավելված 5'!D699+'հավելված 5'!D753 -> -1555.3
B30: Ծրագրի դասիչը՝ | C30: 1146 | D30: Ցուցանիշների փոփոխությունը (նվազեցումները նշված են փակագծերում)
B31: Միջոցառման դասիչը՝ | C31: 11002 | D31: Տարի
B32: Միջոցառման անվանումը՝ | C32: Հիմնական ընդհանուր հանրակրթություն
B33: Նկարագրությունը՝ | C33: Պարտադիր կրթության երկրորդ մակարդակում սովորողների ընդգրկվածության, գրագիտության և համակողմանի զարգացման բարձր մակարդակի ապահովում
B34: Միջոցառման տեսակը՝ | C34: Ծառայությունների մատուցում
B35: Շահառուների ընտրության չափորոշիչները՝ | C35: ՀՀ կրթության, գիտության,մշակույթի և սպորտի նախարարության, ՀՀ մարզպետարանների, Երևանի քաղաքապետարանի ենթակայության ուսումնական հաստատություններ
B36: Արդյունքի չափորոշիչներ
B37: Հիմնական ընդհանուր կրթության դասարանների սովորողների միջին տարեկան թիվը, մարդ | D37: ='հավելված 5'!D34+'հավելված 5'!D89+'հավելված 5'!D159+'հավելված 5'!D230+'հավելված 5'!D297+'հավելված 5'!D352+'հավելված 5'!D422+'հավելված 5'!D476+'հավելված 5'!D557+'հավելված 5'!D654+'հավելված 5'!D708+'հավելված 5'!D762 -> -1184
B38: տղա | D38: ='հավելված 5'!D35+'հավելված 5'!D90+'հավելված 5'!D160+'հավելված 5'!D231+'հավելված 5'!D298+'հավելված 5'!D353+'հավելված 5'!D423+'հավելված 5'!D477+'հավելված 5'!D558+'հավելված 5'!D655+'հավելված 5'!D709+'հավելված 5'!D763 -> -1710
B39: աղջիկ | D39: ='հավելված 5'!D36+'հավելված 5'!D91+'հավելված 5'!D161+'հավելված 5'!D232+'հավելված 5'!D299+'հավելված 5'!D354+'հավելված 5'!D424+'հավելված 5'!D478+'հավելված 5'!D559+'հավելված 5'!D656+'հավելված 5'!D710+'հավելված 5'!D764 -> 526
B40: Միջոցառման վրա կատարվող ծախսը (հազար դրամ) | D40: ='հավելված 5'!D37+'հավելված 5'!D92+'հավելված 5'!D162+'հավելված 5'!D233+'հավելված 5'!D300+'հավելված 5'!D355+'հավելված 5'!D425+'հավելված 5'!D479+'հավելված 5'!D560+'հավելված 5'!D657+'հավելված 5'!D711+'հավելված 5'!D765 -> 8.7311491e-11
B42: Ծրագրի դասիչը՝ | C42: 1146 | D42: Ցուցանիշների փոփոխությունը (նվազեցումները նշված են փակագծերում)
B43: Միջոցառման դասիչը՝ | C43: 11003 | D43: Տարի
B44: Միջոցառման անվանումը՝ | C44: Միջնակարգ ընդհանուր հանրակրթություն
B45: Նկարագրությունը՝ | C45: Պարտադիր կրթության երրորդ մակարդակում սովորողների ընդգրկվածության, գրագիտության և համակողմանի զարգացման բարձր մակարդակի ապահովում
B46: Միջոցառման տեսակը՝ | C46: Ծառայությունների մատուցում
B47: Շահառուների ընտրության չափորոշիչները՝ | C47: ՀՀ կրթության, գիտության,մշակույթի և սպորտի նախարարության, ՀՀ մարզպետարանների, Երևանի քաղաքապետարանի ենթակայության ուսումնական հաստատություններ
B48: Արդյունքի չափորոշիչներ
B49: Միջնակարգ ընդհանուր կրթության դասարանների սովորողների միջին տարեկան թիվը, մարդ | D49: ='հավելված 5'!D46+'հավելված 5'!D101+'հավելված 5'!D171+'հավելված 5'!D242+'հավելված 5'!D309+'հավելված 5'!D364+'հավելված 5'!D434+'հավելված 5'!D488+'հավելված 5'!D569+'հավելված 5'!D720+'հավելված 5'!D774 -> -6470
B50: տղա | D50: ='հավելված 5'!D47+'հավելված 5'!D102+'հավելված 5'!D172+'հավելված 5'!D243+'հավելված 5'!D310+'հավելված 5'!D365+'հավելված 5'!D435+'հավելված 5'!D489+'հավելված 5'!D570+'հավելված 5'!D721+'հավելված 5'!D775 -> -2820
...

Sheet հավելված 5
C2: Հավելված 5
C3: ՀՀ կառավարության 2022 թվականի
C4: ______________ ի ___Ն որոշման
B7: ՀԱՅԱՍՏԱՆԻ ՀԱՆՐԱՊԵՏՈՒԹՅԱՆ ԿԱՌԱՎԱՐՈՒԹՅԱՆ 2021 ԹՎԱԿԱՆԻ ԴԵԿՏԵՄԲԵՐԻ 23-Ի N 2121-Ն ՈՐՈՇՄԱՆ N 9.1 ՀԱՎԵԼՎԱԾԻ N 9.1.8, 9.1.14, 9.1.49, 9.1.50, 9.1.51, 9.1.52, 9.1.53, 9.1.54, 9.1.55, 9.1.56, 9.1.57 ԵՎ 9․1․58 ԱՂՅՈՒՍԱԿՆԵՐՈՒՄ ԿԱՏԱՐՎՈՂ ՓՈՓՈԽՈՒԹՅՈՒՆՆԵՐԸ
B9: ՀՀ տարածքային կառավարման և ենթակառուցվածքների նախարարություն
B11: Ծրագրի դասիչը | C11: Ծրագրի անվանումը
B12: 1146 | C12: Հանրակրթության ծրագիր
B14: Ծրագրի միջոցառումները
B15: Ծրագրի դասիչը՝ | C15: 1146 | D15: Ցուցանիշների փոփոխությունը (նվազեցումները նշված են փակագծերում)
B16: Միջոցառման դասիչը՝ | C16: 11001 | D16: Տարի
B17: Միջոցառման անվանումը՝ | C17: Տարրական ընդհանուր հանրակրթություն
B18: Նկարագրությունը՝ | C18: Պարտադիր կրթության առաջին մակարդակում սովորողների ընդգրկվածության, գրագիտության և համակողմանի զարգացման բարձր մակարդակի ապահովում
B19: Միջոցառման տեսակը՝ | C19: Ծառայությունների մատուցում
B20: Շահառուների ընտրության չափորոշիչները՝ | C20: Երևանի քաղաքապետարանի ենթակայության նախադպրոցական կրթություն իրականացնող ուսումնական հաստատություններ
B21: Արդյունքի չափորոշիչներ
B22: Տարրական ընդհանուր կրթության դասարանների սովորողների միջին տարեկան թիվը, մարդ | D22: -330
B23: տղա | D23: 36
B24: աղջիկ | D24: -366
B25: Միջոցառման վրա կատարվող ծախսը (հազար դրամ) | D25: 0
B27: Ծրագրի դասիչը՝ | C27: 1146 | D27: Ցուցանիշների փոփոխությունը (ավելացումները նշված են դրական նշանով, իսկ նվազեցումները` փակագծերում)
B28: Միջոցառման դասիչը՝ | C28: 11002 | D28: Տարի
B29: Միջոցառման անվանումը՝ | C29: Հիմնական ընդհանուր հանրակրթություն
B30: Նկարագրությունը՝ | C30: Պարտադիր կրթության երկրորդ մակարդակում սովորողների ընդգրկվածության, գրագիտության և համակողմանի զարգացման բարձր մակարդակի ապահովում
B31: Միջոցառման տեսակը՝ | C31: Ծառայությունների մատուցում
B32: Շահառուների ընտրության չափորոշիչները՝ | C32: Երևանի քաղաքապետարանի ենթակայության նախադպրոցական կրթություն իրականացնող ուսումնական հաստատություններ
B33: Արդյունքի չափորոշիչներ
B34: Հիմնական ընդհանուր կրթության դասարանների սովորողների միջին տարեկան թիվը, մարդ | D34: 2309
B35: տղա | D35: 571
B36: աղջիկ | D36: 1738
B37: Միջոցառման վրա կատարվող ծախսը (հազար դրամ) | D37: 1223532.6
B39: Ծրագրի դասիչը՝ | C39: 1146 | D39: Ցուցանիշների փոփոխությունը (նվազեցումները նշված են փակագծերում)
B40: Միջոցառման դասիչը՝ | C40: 11003 | D40: Տարի
B41: Միջոցառման անվանումը՝ | C41: Միջնակարգ ընդհանուր հանրակրթություն
B42: Նկարագրությունը՝ | C42: Պարտադիր կրթության երրորդ մակարդակում սովորողների ընդգրկվածության, գրագիտության և համակողմանի զարգացման բարձր մակարդակի ապահովում
B43: Միջոցառման տեսակը՝ | C43: Ծառայությունների մատուցում
B44: Շահառուների ընտրության չափորոշիչները՝ | C44: Երևանի քաղաքապետարանի ենթակայության հանրակրթական դպրոցներ
B45: Արդյունքի չափորոշիչներ
B46: Միջնակարգ ընդհանուր կրթության դասարանների սովորողների միջին տարեկան թիվը, մարդ | D46: -162
B47: տղա | D47: -54
B48: աղջիկ | D48: -108
...
