Workbook
Name AgencyCode: #REF!
Name AgencyCode: #REF!
Name AgencyCode: #REF!
Name AgencyName: #REF!
Name AgencyName: #REF!
Name AgencyName: #REF!
Name davit: #REF!
Name Functional1: #REF!
Name Functional1: #REF!
Name Functional1: #REF!
Name ggg: #REF!
Name PANature: #REF!
Name PANature: #REF!
Name PANature: #REF!
Name PAType: #REF!
Name PAType: #REF!
Name PAType: #REF!
Name Performance2: #REF!
Name Performance2: #REF!
Name Performance2: #REF!
Name PerformanceType: #REF!
Name PerformanceType: #REF!
Name PerformanceType: #REF!
Name Հավելված: #REF!
Name Մաս: #REF!
Name շախմատիստ: #REF!

Sheet հավելված 1
C1: Հավելված 1
C2: ՀՀ կառավարության 2022 թվականի
C3: ______________ ի ___Ն որոշման
A6: «ՀԱՅԱUՏԱՆԻ ՀԱՆՐԱՊԵՏՈՒԹՅԱՆ 2022 ԹՎԱԿԱՆԻ ՊԵՏԱԿԱՆ ԲՅՈՒՋԵԻ ՄԱUԻՆ» OՐԵՆՔԻ N 1 ՀԱՎԵԼՎԱԾԻ N 2 ԱՂՅՈՒՍԱԿՈՒՄ ԿԱՏԱՐՎՈՂ ՎԵՐԱԲԱՇԽՈՒՄԸ ԵՎ ՀԱՅԱՍՏԱՆԻ ՀԱՆՐԱՊԵՏՈՒԹՅԱՆ ԿԱՌԱՎԱՐՈՒԹՅԱՆ 2021 ԹՎԱԿԱՆԻ ԴԵԿՏԵՄԲԵՐԻ 23-Ի N 2121-Ն ՈՐՈՇՄԱՆ N 5 ՀԱՎԵԼՎԱԾԻ N 1 ԱՂՅՈՒՍԱԿՈՒՄ ԿԱՏԱՐՎՈՂ ՓՈՓՈԽՈՒԹՅՈՒՆՆԵՐԸ
D8: հազ. դրամներով
A9: Ծրագրային դասիչը | C9: Բյուջետային հատկացումների գլխավոր կարգադրիչների, ծրագրերի և միջոցառումների անվանումները | D9: Ցուցանիշների փոփոխությունը (ավելացումները նշված են դրական նշանով, իսկ նվազեցումները` փակագծերում)
A10: Ծրագիր | B10: Միջոցառում | D10: Տարի
A11: 1192 | C11: ԸՆԴԱՄԵՆԸ | D11: =+D12 -> 1.4551915e-11
B12: ՀՀ Կրթության, գիտության, մշակույթի և սպորտի նախարարություն | D12: =D14+D57 -> 1.4551915e-11
A13: 1146 | C13: Ծրագրի անվանումը`
C14: Հանրակրթության ծրագիր | D14: =+D21+D27+D33+D39+D45+D51 -> -1524
C15: Ծրագրի նպատակը`
C16: Ապահովել անվճար և որակյալ հանրակրթություն
C17: Վերջնական արդյունքի նկարագրությունը`
C18: Մտավոր, հոգևոր, ֆիզիկական և սոցիալական ունակությունների համակողմանի ու ներդաշնակ զարգացմամբ, հայրենասիրության, պետականության և մարդասիրության ոգով դաստիարակված, պատշաճ վարքով և վարվելակերպով անձի ձևավորում
C19: Ծրագրի միջոցառումներ
B20: 11001 | C20: Միջոցառման անվանումը`
C21: Տարրական ընդհանուր հանրակրթություն | D21: =+'հավելված 2'!G95 -> -1555.3
C22: Միջոցառման նկարագրությունը`
C23: Պարտադիր կրթության առաջին մակարդակում սովորողների ընդգրկվածության, գրագիտության և համակողմանի զարգացման բարձր մակարդակի ապահովում
C24: Միջոցառման տեսակը
C25: Ծառայությունների մատուցում
B26: 11003 | C26: Միջոցառման անվանումը`
C27: Միջնակարգ ընդհանուր հանրակրթություն | D27: =+'հավելված 2'!G197 -> -8016.6
C28: Միջոցառման նկարագրությունը`
C29: Պարտադիր կրթության երրորդ մակարդակում սովորողների ընդգրկվածության, գրագիտության և համակողմանի զարգացման բարձր մակարդակի ապահովում
C30: Միջոցառման տեսակը
C31: Ծառայությունների մատուցում
B32: 11013 | C32: Միջոցառման անվանումը`
C33: Նախադպրոցական կրթություն | D33: =+'հավելված 2'!G24 -> -6263.9
C34: Միջոցառման նկարագրությունը`
C35: Նախադպրոցական կրթություն մակարդակում սաների ընդգրկվածության, զարգացման բարձր մակարդակի ապահովում, 5-6 տարեկան երեխաների նախապատրաստում տարրական դպրոցին
C36: Միջոցառման տեսակը
C37: Ծառայությունների մատուցում
B38: 12002 | C38: Միջոցառման անվանումը`
C39: Հանրակրթական դպրոցների մանկավարժներին և դպրոցահասակ երեխաներին տրնասպորտային ծախսերի փոխհատուցում | D39: =+'հավելված 2'!G273 -> 22550.3
C40: Միջոցառման նկարագրությունը`
C41: Հանրակրթական դպրոցների մանկավարժներին և դպրոցահասակ երեխաներին տրնասպորտային ծախսերի փոխհատուցման ապահովում
C42: Միջոցառման տեսակը
C43: Տրանսֆերտների տրամադրում
B44: 12003 | C44: Միջոցառման անվանումը`
C45: Սոցիալական աջակցություն ստացող ՀՀ սահմանամերձ համայնքների երեխաների դասագրքերի վարձավճարների փոխհատուցում | D45: =+'հավելված 2'!G310 -> -10087.7
C46: Միջոցառման նկարագրությունը`
C47: Հանրակրթական դպրոցի սոցիալական աջակցություն ստացող ՀՀ սահմանամերձ համայնքների դպրոցների երեխաների դասագրքերի վարձավճարների փոխհատուցում
C48: Միջոցառման տեսակը
C49: Տրանսֆերտների տրամադրում
B50: 12004 | C50: Միջոցառման անվանումը`
C51: Ատեստավորման միջոցով որակավորում ստացած ուսուցիչներին հավելավճարների տրամադրում | D51: =+'հավելված 2'!G319 -> 1849.2
C52: Միջոցառման նկարագրությունը`
C53: Ատեստավորման միջոցով տարակարգի որակավորում ստացած ուսուցիչներին համաապատասխան հավելավճարի տրամադրման ապահովում
C54: Միջոցառման տեսակը
C55: Տրանսֆերտների տրամադրում
A56: 1148 | C56: Ծրագրի անվանումը`
C57: Արտադպրոցական դաստիարակության ծրագիր | D57: =D64 -> 1524
C58: Ծրագրի նպատակը`
C59: Նպաստել հանրակրթական ուսուցման համակարգում ընդգրկված երեխաների ֆիզիկական, հոգևոր և գեղագիտական զարգացմանը, բնապահպանական և կիրառական գիտելիքների ձեռքբերմանը
C60: Վերջնական արդյունքի նկարագրությունը`
C61: Ստեղծել պայմաններ սովորողների ազատ ժամանացի կազմակերպան միջոցով նրանց հետաքրքրությունների բացահայտման, ձևավորման և զարգացման համար
C62: Ծրագրի միջոցառումներ
B63: 11001 | C63: Միջոցառման անվանումը`
C64: Արտադպրոցական դաստիարակություն | D64: ='հավելված 2'!G254 -> 1524
C65: Միջոցառման նկարագրությունը`
C66: Արվեստի, երաժշտության, սպորտի դասընթացներ մարզադպրոցներում , ստեղծագործական և արտադպրոցական դաստիարակության այլ կենտրոններում
C67: Միջոցառման տեսակը
C68: Ծառայությունների մատուցում

Sheet հավելված 2
G1: Հավելված 2
F2: ՀՀ կառավարության 2022 թվականի
F3: ______________ ի ___Ն որոշման
A6: ՀԱՅԱՍՏԱՆԻ ՀԱՆՐԱՊԵՏՈՒԹՅԱՆ ԿԱՌԱՎԱՐՈՒԹՅԱՆ 2021 ԹՎԱԿԱՆԻ ԴԵԿՏԵՄԲԵՐԻ 23-Ի N 2121-Ն ՈՐՈՇՄԱՆ NN 3 ԵՎ 4 ՀԱՎԵԼՎԱԾՆԵՐՈՒՄ ԿԱՏԱՐՎՈՂ ՓՈՓՈԽՈՒԹՅՈՒՆՆԵՐԸ
G8: հազ. դրամներով
A9: Գործառական դասիչը | D9: Ծրագրային դասիչը | F9: Բյուջետային հատկացումների գլխավոր կարգադրիչների, ծրագրերի, միջոցառումների և միջոցառումները կատարող պետական մարմինների անվանումները | G9: Ցուցանիշների փոփոխությունը (ավելացումները նշված են դրական նշանով, իսկ նվազեցումները` փակագծերում)
A10: Բաժին | B10: Խումբ | C10: Դաս | D10: Ծրագիր | E10: Միջոցառում | G10: Տարի
F11: ԸՆԴԱՄԵՆԸ | G11: =+G13 -> 1.4551915e-11
F12: այդ թվում`
F13: ՀՀ ԿՐԹՈՒԹՅԱՆ, ԳԻՏՈՒԹՅԱՆ, ՄՇԱԿՈՒՅԹԻ ԵՎ ՍՊՈՐՏԻ ՆԱԽԱՐԱՐՈՒԹՅՈՒՆ | G13: =+G14 -> 1.4551915e-11
A14: 09 | E14: 11010 | F14: ԿՐԹՈՒԹՅՈՒՆ | G14: =+G16+G118+G265+G248 -> 1.4551915e-11
F15: այդ թվում`
B16: 01 | F16: Նախադպրոցական և տարրական ընդհանուր կրթություն | G16: =+G18+G89 -> -7819.2
F17: այդ թվում`
C18: 01 | F18: Նախադպրոցական կրթություն | G18: =+G20 -> -6263.9
F19: այդ թվում`
F20: ՀՀ կրթության, գիտության, մշակույթի և սպորտի նախարարություն | G20: =+G22 -> -6263.9 | H20: նվազեցում
F21: այդ թվում` | H21: =G26+G33+G40+G54+G61+G75+G97+G135+G142+G156+G163+G170+G184+G213+G220+G227+G234+G241+G282+G296+G312+G335 -> -1527867.4
D22: 1146 | F22: Հանրակրթության ծրագիր | G22: =+G24 -> -6263.9 | H22: ավելացում
F23: այդ թվում՝ | H23: =G47+G68+G82+G104+G111+G128+G149+G177+G199+G206+G258+G275+G289+G303+G321+G328 -> 1527867.4
E24: 11013 | F24: Նախադպրոցական կրթություն | G24: =G26+G33+G40+G47+G54+G61+G68+G75+G82 -> -6263.9
F25: այդ թվում` ըստ կատարողների
F26: ՀՀ տարածքային կառավարման և ենթակառուցվածքների նախարարություն | G26: =G28 -> -3202.4
F27: այդ թվում` բյուջետային ծախսերի տնտեսագիտական դասակարգման հոդվածներ
F28: ԸՆԴԱՄԵՆԸ ԾԱԽՍԵՐ | G28: =G29 -> -3202.4
F29: ԸՆԹԱՑԻԿ ԾԱԽՍԵՐ | G29: =G30 -> -3202.4
F30: ՍՈՒԲՍԻԴԻԱՆԵՐ | G30: =G31 -> -3202.4
F31: Սուբսիդիաներ պետական կազմակերպություններին | G31: =G32 -> -3202.4
F32: - Սուբսիդիաներ ոչ ֆինանսական պետական կազմակերպություններին | G32: ='հավելված 5'!D61 -> -3202.4
F33: ՀՀ կրթության , գիտության, մշակույթի և սպորտի նախարարություն | G33: =+G35 -> -8022.2
F34: այդ թվում` բյուջետային ծախսերի տնտեսագիտական դասակարգման հոդվածներ
F35: ԸՆԴԱՄԵՆԸ ԾԱԽՍԵՐ | G35: =+G36 -> -8022.2
F36: ԸՆԹԱՑԻԿ ԾԱԽՍԵՐ | G36: =+G37 -> -8022.2
F37: ՍՈՒԲՍԻԴԻԱՆԵՐ | G37: =+G38 -> -8022.2
F38: Սուբսիդիաներ պետական կազմակերպություններին | G38: =+G39 -> -8022.2
F39: - Սուբսիդիաներ ոչ ֆինանսական պետական կազմակերպություններին | G39: ='հավելված 5'!D117 -> -8022.2
F40: ՀՀ Արագածոտնի մարզպետարան | G40: =+G42 -> -32.7
F41: այդ թվում` բյուջետային ծախսերի տնտեսագիտական դասակարգման հոդվածներ
F42: ԸՆԴԱՄԵՆԸ ԾԱԽՍԵՐ | G42: =+G43 -> -32.7
F43: ԸՆԹԱՑԻԿ ԾԱԽՍԵՐ | G43: =+G44 -> -32.7
F44: ՍՈՒԲՍԻԴԻԱՆԵՐ | G44: =+G45 -> -32.7
F45: Սուբսիդիաներ պետական կազմակերպություններին | G45: =+G46 -> -32.7
F46: - Սուբսիդիաներ ոչ ֆինանսական պետական կազմակերպություններին | G46: ='հավելված 5'!D186 -> -32.7
F47: ՀՀ Արարատի մարզպետարան | G47: =+G49 -> 14146
F48: այդ թվում` բյուջետային ծախսերի տնտեսագիտական դասակարգման հոդվածներ
F49: ԸՆԴԱՄԵՆԸ ԾԱԽՍԵՐ | G49: =+G50 -> 14146
F50: ԸՆԹԱՑԻԿ ԾԱԽՍԵՐ | G50: =+G51 -> 14146
F51: ՍՈՒԲՍԻԴԻԱՆԵՐ | G51: =+G52 -> 14146
F52: Սուբսիդիաներ պետական կազմակերպություններին | G52: =+G53 -> 14146
F53: - Սուբսիդիաներ ոչ ֆինանսական պետական կազմակերպություններին | G53: ='հավելված 5'!D257 -> 14146
F54: ՀՀ Արմավիրի մարզպետարան | G54: =G56 -> -1280.2
F55: այդ թվում` բյուջետային ծախսերի տնտեսագիտական դասակարգման հոդվածներ
F56: ԸՆԴԱՄԵՆԸ ԾԱԽՍԵՐ | G56: =G57 -> -1280.2
F57: ԸՆԹԱՑԻԿ ԾԱԽՍԵՐ | G57: =G58 -> -1280.2
F58: ՍՈՒԲՍԻԴԻԱՆԵՐ | G58: =G59 -> -1280.2
F59: Սուբսիդիաներ պետական կազմակերպություններին | G59: =G60 -> -1280.2
F60: - Սուբսիդիաներ ոչ ֆինանսական պետական կազմակերպություններին | G60: ='հավելված 5'!D324 -> -1280.2
F61: ՀՀ Կոտայքի մարզպետարան | G61: =+G63 -> -9165.3
F62: այդ թվում` բյուջետային ծախսերի տնտեսագիտական դասակարգման հոդվածներ
F63: ԸՆԴԱՄԵՆԸ ԾԱԽՍԵՐ | G63: =+G64 -> -9165.3
F64: ԸՆԹԱՑԻԿ ԾԱԽՍԵՐ | G64: =+G65 -> -9165.3
F65: ՍՈՒԲՍԻԴԻԱՆԵՐ | G65: =+G66 -> -9165.3
F66: Սուբսիդիաներ պետական կազմակերպություններին | G66: =+G67 -> -9165.3
F67: - Սուբսիդիաներ ոչ ֆինանսական պետական կազմակերպություններին | G67: ='հավելված 5'!D503 -> -9165.3
F68: ՀՀ Սյունիքի մարզպետարան | G68: =+G70 -> 1324.5
F69: այդ թվում` բյուջետային ծախսերի տնտեսագիտական դասակարգման հոդվածներ
F70: ԸՆԴԱՄԵՆԸ ԾԱԽՍԵՐ | G70: =+G71 -> 1324.5
F71: ԸՆԹԱՑԻԿ ԾԱԽՍԵՐ | G71: =+G72 -> 1324.5
F72: ՍՈՒԲՍԻԴԻԱՆԵՐ | G72: =+G73 -> 1324.5
F73: Սուբսիդիաներ պետական կազմակերպություններին | G73: =+G74 -> 1324.5
F74: - Սուբսիդիաներ ոչ ֆինանսական պետական կազմակերպություններին | G74: ='հավելված 5'!D670 -> 1324.5
F75: ՀՀ Վայոց ձորի մարզպետարան | G75: =G77 -> -3580.9
F76: այդ թվում` բյուջետային ծախսերի տնտեսագիտական դասակարգման հոդվածներ
F77: ԸՆԴԱՄԵՆԸ ԾԱԽՍԵՐ | G77: =G78 -> -3580.9
F78: ԸՆԹԱՑԻԿ ԾԱԽՍԵՐ | G78: =G79 -> -3580.9
F79: ՍՈՒԲՍԻԴԻԱՆԵՐ | G79: =G80 -> -3580.9
F80: Սուբսիդիաներ պետական կազմակերպություններին | G80: =G81 -> -3580.9
F81: - Սուբսիդիաներ ոչ ֆինանսական պետական կազմակերպություններին | G81: ='հավելված 5'!D735 -> -3580.9
F82: ՀՀ Տավուշի մարզպետարան | G82: =G84 -> 3549.3
F83: այդ թվում` բյուջետային ծախսերի տնտեսագիտական դասակարգման հոդվածներ
F84: ԸՆԴԱՄԵՆԸ ԾԱԽՍԵՐ | G84: =G85 -> 3549.3
F85: ԸՆԹԱՑԻԿ ԾԱԽՍԵՐ | G85: =G86 -> 3549.3
F86: ՍՈՒԲՍԻԴԻԱՆԵՐ | G86: =G87 -> 3549.3
F87: Սուբսիդիաներ պետական կազմակերպություններին | G87: =G88 -> 3549.3
F88: - Սուբսիդիաներ ոչ ֆինանսական պետական կազմակերպություններին | G88: ='հավելված 5'!D789 -> 3549.3
C89: 02 | F89: Տարրական ընդհանուր կրթություն | G89: =+G91 -> -1555.3
F90: այդ թվում`
F91: ՀՀ կրթության, գիտության, մշակույթի և սպորտի նախարարություն | G91: =+G93 -> -1555.3
F92: այդ թվում`
D93: 1146 | F93: Հանրակրթության ծրագիր | G93: =+G95 -> -1555.3
F94: այդ թվում՝
E95: 11001 | F95: Տարրական ընդհանուր հանրակրթություն | G95: =G97+G104+G111 -> -1555.3
F96: այդ թվում` ըստ կատարողների
F97: ՀՀ կրթության , գիտության, մշակույթի և սպորտի նախարարություն | G97: =+G99 -> -75516.2
F98: այդ թվում` բյուջետային ծախսերի տնտեսագիտական դասակարգման հոդվածներ
F99: ԸՆԴԱՄԵՆԸ ԾԱԽՍԵՐ | G99: =+G100 -> -75516.2
F100: ԸՆԹԱՑԻԿ ԾԱԽՍԵՐ | G100: =+G101 -> -75516.2
F101: ՍՈՒԲՍԻԴԻԱՆԵՐ | G101: =+G102 -> -75516.2
F102: Սուբսիդիաներ պետական կազմակերպություններին | G102: =+G103 -> -75516.2
F103: - Սուբսիդիաներ ոչ ֆինանսական պետական կազմակերպություններին | G103: ='հավելված 5'!D80 -> -75516.2
...

Sheet հավելված 3
G1: Հավելված 3
F2: ՀՀ կառավարության 2022 թվականի
F3: _____________-ի ___-Ն որոշում
A6: ՀԱՅԱՍՏԱՆԻ ՀԱՆՐԱՊԵՏՈՒԹՅԱՆ ԿԱՌԱՎԱՐՈՒԹՅԱՆ 2021 ԹՎԱԿԱՆԻ ԴԵԿՏԵՄԲԵՐԻ 23-Ի N 2121-Ն ՈՐՈՇՄԱՆ N 5 ՀԱՎԵԼՎԱԾԻ N 7 ԱՂՅՈՒՍԱԿՈՒՄ ԿԱՏԱՐՎՈՂ ՓՈՓՈԽՈՒԹՅՈՒՆՆԵՐԸ
G7: հազար դրամներով
A8: Ծրագրային դասիչը | C8: Բյուջետային հատկացումների գլխավոր կարգադրիչների, ծրագրերի, միջոցառումների, ծախսային ուղղությունների անվանումները | F8: Միջոցառումները կատարող պետական մարմինների և դրամաշնորհ ստացող տնտեսվարող սուբյեկտների անվանումները | G8: Ցուցանիշների փոփոխությունը (նվազեցումները նշված են փակագծերում, ավելացումները նշված են դրական նշանով)
A9: Ծրագիր | B9: Միջոցառում | G9: Տարի
C10: Հանրակրթության ծրագիր | G10: =G11 -> 22550.3
A11: 1146 | B11: 12002 | C11: Հանրակրթական դպրոցների մանկավարժներին և դպրոցահասակ երեխաներին տրանսպորտային ծախսերի փոխհատուցում | F11: ընդամենը, որից՝ | G11: =G12+G14+G16+G18+G20 -> 22550.3
F12: ՀՀ Արագածոտնի մարզպետարան | G12: =G13 -> 1157.1
F13: Հանրակրթական դպրոցների մանկավարժներ և դպրոցահասակ երեխաներ | G13: ='հավելված 5'!D202 -> 1157.1
F14: ՀՀ Գեղարքունիքի մարզպետարան | G14: =G15 -> -1153.7
F15: Հանրակրթական դպրոցների մանկավարժներ և դպրոցահասակ երեխաներ | G15: ='հավելված 5'!D395 -> -1153.7
F16: ՀՀ Կոտայքի մարզպետարան | G16: =G17 -> 23054.3
F17: Հանրակրթական դպրոցների մանկավարժներ և դպրոցահասակ երեխաներ | G17: ='հավելված 5'!D518 -> 23054.3
F18: ՀՀ Շիրակի մարզպետարան | G18: =G19 -> -2897.6
F19: Հանրակրթական դպրոցների մանկավարժներ և դպրոցահասակ երեխաներ | G19: ='հավելված 5'!D601 -> -2897.6
F20: ՀՀ Սյունիքի մարզպետարան | G20: =G21 -> 2390.2
F21: Հանրակրթական դպրոցների մանկավարժներ և դպրոցահասակ երեխաներ | G21: ='հավելված 5'!D682 -> 2390.2

Sheet հավելված 4
C2: Հավելված 4
C3: ՀՀ կառավարության 2022 թվականի
C4: ______________ ի ___Ն որոշման
B7: ՀԱՅԱՍՏԱՆԻ ՀԱՆՐԱՊԵՏՈՒԹՅԱՆ ԿԱՌԱՎԱՐՈՒԹՅԱՆ 2021 ԹՎԱԿԱՆԻ ԴԵԿՏԵՄԲԵՐԻ 23-Ի N 2121-Ն ՈՐՈՇՄԱՆ N 9 ՀԱՎԵԼՎԱԾԻ N 9.13 ԵՎ 9.47 ԱՂՅՈՒՍԱԿՈՒՄ ԿԱՏԱՐՎՈՂ ՓՈՓՈԽՈՒԹՅՈՒՆՆԵՐԸ
B9: ՀՀ կրթության, գիտության, մշակույթի և սպորտի նախարարություն
B11: ՄԱՍ 2. ՊԵՏԱԿԱՆ ՄԱՐՄՆԻ ԳԾՈՎ ԱՐԴՅՈՒՆՔԱՅԻՆ (ԿԱՏԱՐՈՂԱԿԱՆ) ՑՈՒՑԱՆԻՇՆԵՐԸ
B14: Ծրագրի դասիչը | C14: Ծրագրի անվանումը
B15: 1146 | C15: Հանրակրթության ծրագիր
B17: Ծրագրի միջոցառումները
B18: Ծրագրի դասիչը՝ | C18: 1146 | D18: Ցուցանիշների փոփոխությունը (նվազեցումները նշված են փակագծերում)
B19: Միջոցառման դասիչը՝ | C19: 11001 | D19: Տարի
B20: Միջոցառման անվանումը՝ | C20: Տարրական ընդհանուր հանրակրթություն
B21: Նկարագրությունը՝ | C21: Պարտադիր կրթության առաջին մակարդակում սովորողների ընդգրկվածության, գրագիտության և համակողմանի զարգացման բարձր մակարդակի ապահովում
B22: Միջոցառման տեսակը՝ | C22: Ծառայությունների մատուցում
B23: Շահառուների ընտրության չափորոշիչները՝ | C23: ՀՀ կրթության, գիտության,մշակույթի և սպորտի նախարարության, ՀՀ մարզպետարանների, Երևանի քաղաքապետարանի ենթակայության ուսումնական հաստատություններ
B24: Արդյունքի չափորոշիչներ
B25: Տարրական ընդհանուր կրթության դասարանների սովորողների թիվը, մարդ | D25: ='հավելված 5'!D22+'հավելված 5'!D77+'հավելված 5'!D147+'հավելված 5'!D218+'հավելված 5'!D285+'հավելված 5'!D339+'հավելված 5'!D410+'հավելված 5'!D464+'հավելված 5'!D545+'հավելված 5'!D642+'հավելված 5'!D696+'հավելված 5'!D750 -> -3959
B26: տղա | D26: ='հավելված 5'!D23+'հավելված 5'!D78+'հավելված 5'!D148+'հավելված 5'!D219+'հավելված 5'!D286+'հավելված 5'!D340+'հավելված 5'!D411+'հավելված 5'!D465+'հավելված 5'!D546+'հավելված 5'!D643+'հավելված 5'!D697+'հավելված 5'!D751 -> -2008
B27: աղջիկ | D27: ='հավելված 5'!D24+'հավելված 5'!D79+'հավելված 5'!D149+'հավելված 5'!D220+'հավելված 5'!D287+'հավելված 5'!D341+'հավելված 5'!D412+'հավելված 5'!D466+'հավելված 5'!D547+'հավելված 5'!D644+'հավելված 5'!D698+'հավելված 5'!D752 -> -1950
B28: Միջոցառման վրա կատարվող ծախսը (հազար դրամ) | D28: ='հավելված 5'!D25+'հավելված 5'!D80+'հավելված 5'!D150+'հավելված 5'!D221+'հավելված 5'!D288+'հավելված 5'!D342+'հավելված 5'!D413+'հավելված 5'!D467+'հավելված 5'!D548+'հավելված 5'!D645+'հավելված 5'!D699+'հավելված 5'!D753 -> -1555.3
B30: Ծրագրի դասիչը՝ | C30: 1146 | D30: Ցուցանիշների փոփոխությունը (նվազեցումները նշված են փակագծերում)
B31: Միջոցառման դասիչը՝ | C31: 11002 | D31: Տարի
B32: Միջոցառման անվանումը՝ | C32: Հիմնական ընդհանուր հանրակրթություն
B33: Նկարագրությունը՝ | C33: Պարտադիր կրթության երկրորդ մակարդակում սովորողների ընդգրկվածության, գրագիտության և համակողմանի զարգացման բարձր մակարդակի ապահովում
B34: Միջոցառման տեսակը՝ | C34: Ծառայությունների մատուցում
B35: Շահառուների ընտրության չափորոշիչները՝ | C35: ՀՀ կրթության, գիտության,մշակույթի և սպորտի նախարարության, ՀՀ մարզպետարանների, Երևանի քաղաքապետարանի ենթակայության ուսումնական հաստատություններ
B36: Արդյունքի չափորոշիչներ
B37: Հիմնական ընդհանուր կրթության դասարանների սովորողների միջին տարեկան թիվը, մարդ | D37: ='հավելված 5'!D34+'հավելված 5'!D89+'հավելված 5'!D159+'հավելված 5'!D230+'հավելված 5'!D297+'հավելված 5'!D352+'հավելված 5'!D422+'հավելված 5'!D476+'հավելված 5'!D557+'հավելված 5'!D654+'հավելված 5'!D708+'հավելված 5'!D762 -> -1184
B38: տղա | D38: ='հավելված 5'!D35+'հավելված 5'!D90+'հավելված 5'!D160+'հավելված 5'!D231+'հավելված 5'!D298+'հավելված 5'!D353+'հավելված 5'!D423+'հավելված 5'!D477+'հավելված 5'!D558+'հավելված 5'!D655+'հավելված 5'!D709+'հավելված 5'!D763 -> -1710
B39: աղջիկ | D39: ='հավելված 5'!D36+'հավելված 5'!D91+'հավելված 5'!D161+'հավելված 5'!D232+'հավելված 5'!D299+'հավելված 5'!D354+'հավելված 5'!D424+'հավելված 5'!D478+'հավելված 5'!D559+'հավելված 5'!D656+'հավելված 5'!D710+'հավելված 5'!D764 -> 526
B40: Միջոցառման վրա կատարվող ծախսը (հազար դրամ) | D40: ='հավելված 5'!D37+'հավելված 5'!D92+'հավելված 5'!D162+'հավելված 5'!D233+'հավելված 5'!D300+'հավելված 5'!D355+'հավելված 5'!D425+'հավելված 5'!D479+'հավելված 5'!D560+'հավելված 5'!D657+'հավելված 5'!D711+'հավելված 5'!D765 -> 8.7311491e-11
B42: Ծրագրի դասիչը՝ | C42: 1146 | D42: Ցուցանիշների փոփոխությունը (նվազեցումները նշված են փակագծերում)
B43: Միջոցառման դասիչը՝ | C43: 11003 | D43: Տարի
B44: Միջոցառման անվանումը՝ | C44: Միջնակարգ ընդհանուր հանրակրթություն
B45: Նկարագրությունը՝ | C45: Պարտադիր կրթության երրորդ մակարդակում սովորողների ընդգրկվածության, գրագիտության և համակողմանի զարգացման բարձր մակարդակի ապահովում
B46: Միջոցառման տեսակը՝ | C46: Ծառայությունների մատուցում
B47: Շահառուների ընտրության չափորոշիչները՝ | C47: ՀՀ կրթության, գիտության,մշակույթի և սպորտի նախարարության, ՀՀ մարզպետարանների, Երևանի քաղաքապետարանի ենթակայության ուսումնական հաստատություններ
B48: Արդյունքի չափորոշիչներ
B49: Միջնակարգ ընդհանուր կրթության դասարանների սովորողների միջին տարեկան թիվը, մարդ | D49: ='հավելված 5'!D46+'հավելված 5'!D101+'հավելված 5'!D171+'հավելված 5'!D242+'հավելված 5'!D309+'հավելված 5'!D364+'հավելված 5'!D434+'հավելված 5'!D488+'հավելված 5'!D569+'հավելված 5'!D720+'հավելված 5'!D774 -> -6470
B50: տղա | D50: ='հավելված 5'!D47+'հավելված 5'!D102+'հավելված 5'!D172+'հավելված 5'!D243+'հավելված 5'!D310+'հավելված 5'!D365+'հավելված 5'!D435+'հավելված 5'!D489+'հավելված 5'!D570+'հավելված 5'!D721+'հավելված 5'!D775 -> -2820
B51: աղջիկ | D51: ='հավելված 5'!D48+'հավելված 5'!D103+'հավելված 5'!D173+'հավելված 5'!D244+'հավելված 5'!D311+'հավելված 5'!D366+'հավելված 5'!D436+'հավելված 5'!D490+'հավելված 5'!D571+'հավելված 5'!D722+'հավելված 5'!D776 -> -3650
B52: Միջոցառման վրա կատարվող ծախսը (հազար դրամ) | D52: ='հավելված 5'!D49+'հավելված 5'!D104+'հավելված 5'!D174+'հավելված 5'!D245+'հավելված 5'!D312+'հավելված 5'!D367+'հավելված 5'!D437+'հավելված 5'!D491+'հավելված 5'!D572+'հավելված 5'!D723+'հավելված 5'!D777 -> -8016.6
B55: Ծրագրի դասիչը՝ | C55: 1146 | D55: Ցուցանիշների փոփոխությունը (նվազեցումները նշված են փակագծերում)
B56: Միջոցառման դասիչը՝ | C56: 11013 | D56: Տարի
B57: Միջոցառման անվանումը՝ | C57: Նախադպրոցական կրթություն
B58: Նկարագրությունը՝ | C58: Նախադպրոցական կրթություն մակարդակում սաների ընդգրկվածության, զարգացման բարձր մակարդակի ապահովում, 5-6 տարեկան երեխաների նախապատրաստում տարրական դպրոցին
B59: Միջոցառման տեսակը՝ | C59: Ծառայությունների մատուցում
B60: Շահառուների ընտրության չափորոշիչները՝ | C60: ՀՀ կրթության, գիտության, մշակույթի և սպորտի նախարարության, Երևանի քաղաքապետարանի, ՀՀ մարզպետարանների ենթակայության նախադպրոցական կրթություն իրականացնող ուսումնական հաստատություններ
B61: Արդյունքի չափորոշիչներ
B62: Ծառայությունը ստացող երեխաների միջին տարեկան թիվը, մարդ | D62: ='հավելված 5'!D58+'հավելված 5'!D114+'հավելված 5'!D183+'հավելված 5'!D254+'հավելված 5'!D321+'հավելված 5'!D376+'հավելված 5'!D446+'հավելված 5'!D500+'հավելված 5'!D581+'հավելված 5'!D667+'հավելված 5'!D732+'հավելված 5'!D786 -> -1435
B63: տղա | D63: ='հավելված 5'!D59+'հավելված 5'!D115+'հավելված 5'!D184+'հավելված 5'!D255+'հավելված 5'!D322+'հավելված 5'!D377+'հավելված 5'!D447+'հավելված 5'!D501+'հավելված 5'!D582+'հավելված 5'!D668+'հավելված 5'!D733+'հավելված 5'!D787 -> -743
B64: աղջիկ | D64: ='հավելված 5'!D60+'հավելված 5'!D116+'հավելված 5'!D185+'հավելված 5'!D256+'հավելված 5'!D323+'հավելված 5'!D378+'հավելված 5'!D448+'հավելված 5'!D502+'հավելված 5'!D583+'հավելված 5'!D669+'հավելված 5'!D734+'հավելված 5'!D788 -> -692
B65: Միջոցառման վրա կատարվող ծախսը (հազար դրամ) | D65: ='հավելված 5'!D61+'հավելված 5'!D117+'հավելված 5'!D186+'հավելված 5'!D257+'հավելված 5'!D324+'հավելված 5'!D379+'հավելված 5'!D449+'հավելված 5'!D503+'հավելված 5'!D584+'հավելված 5'!D670+'հավելված 5'!D735+'հավելված 5'!D789 -> -6263.9
B68: Ծրագրի դասիչը՝ | C68: 1146 | D68: Ցուցանիշների փոփոխությունը (ավելացումները նշված են դրական նշանով, իսկ նվազեցումները` փակագծերում)
B69: Միջոցառման դասիչը՝ | C69: 12002 | D69: Տարի
B70: Միջոցառման անվանումը՝ | C70: Հանրակրթական դպրոցների մանկավարժներին և դպրոցահասակ երեխաներին տրնասպորտային ծախսերի փոխհատուցում
B71: Նկարագրությունը՝ | C71: Հանրակրթական դպրոցների մանկավարժներին և դպրոցահասակ երեխաներին տրնասպորտային ծախսերի փոխհատուցման ապահովում
B72: Միջոցառման տեսակը՝ | C72: Տրանսֆերտների տրամադրում
B73: Շահառուների ընտրության չափորոշիչները՝ | C73: Շահառուների ընտրության չափորոշիչները սահմանված են ԿԳՄՍ նախարարի հրամանով
B74: Արդյունքի չափորոշիչներ
B75: Հանրակրթական դպրոցների թիվը, հատ | D75: ='հավելված 5'!D195+'հավելված 5'!D388+'հավելված 5'!D511+'հավելված 5'!D594+'հավելված 5'!D675+'հավելված 5'!D798 -> 39
B76: Տրանսպորտային ծախսերի փոխհատուցում ստացող դպրոցահասակ երեխաների թիվը /մարդ/, որից՛ | D76: ='հավելված 5'!D196+'հավելված 5'!D389+'հավելված 5'!D512+'հավելված 5'!D595+'հավելված 5'!D676+'հավելված 5'!D799 -> 162
B77: տղա | D77: ='հավելված 5'!D197+'հավելված 5'!D390+'հավելված 5'!D513+'հավելված 5'!D596+'հավելված 5'!D677+'հավելված 5'!D800 -> 105
B78: աղջիկ | D78: ='հավելված 5'!D198+'հավելված 5'!D391+'հավելված 5'!D514+'հավելված 5'!D597+'հավելված 5'!D678+'հավելված 5'!D801 -> 57
B79: Տրանսպորտային ծախսերի փոխհատուցում ստացող մանկավարժների թիվը /մարդ/, որից՛ | D79: ='հավելված 5'!D199+'հավելված 5'!D392+'հավելված 5'!D515+'հավելված 5'!D598+'հավելված 5'!D679+'հավելված 5'!D802 -> 493
B80: տղամարդ | D80: ='հավելված 5'!D200+'հավելված 5'!D393+'հավելված 5'!D516+'հավելված 5'!D599+'հավելված 5'!D680+'հավելված 5'!D803 -> 64
B81: կին | D81: ='հավելված 5'!D201+'հավելված 5'!D394+'հավելված 5'!D517+'հավելված 5'!D600+'հավելված 5'!D681+'հավելված 5'!D804 -> 429
B82: Միջոցառման վրա կատարվող ծախսը (հազար դրամ) | D82: ='հավելված 5'!D202+'հավելված 5'!D395+'հավելված 5'!D518+'հավելված 5'!D601+'հավելված 5'!D682+'հավելված 5'!D805 -> 22550.3
B84: Ծրագրի դասիչը՝ | C84: 1146 | D84: Ցուցանիշների փոփոխությունը (նվազեցումները նշված են փակագծերում)
B85: Միջոցառման դասիչը՝ | C85: 12003 | D85: Տարի
B86: Միջոցառման անվանումը՝ | C86: Սոցիալական աջակցություն ստացող ՀՀ սահմանամերձ համայնքների երեխաների դասագրքերի վարձավճարների փոխհատուցում
B87: Նկարագրությունը՝ | C87: Հանրակրթական դպրոցի սոցիալական աջակցություն ստացող ՀՀ սահմանամերձ համայնքների դպրոցների երեխաների դասագրքերի վարձավճարների փոխհատուցում
B88: Միջոցառման տեսակը՝ | C88: Տրանսֆերտների տրամադրում
B89: Շահառուների ընտրության չափորոշիչները՝ | C89: Սոցիալական աջակցություն ստացող սահմանամերձ համայնքներ
B90: Արդյունքի չափորոշիչներ
B91: Սահմանամերձ համայնքների դպրոցների 5-12-րդ դասարանների սովորողների թիվը, մարդ | D91: ='հավելված 5'!D127 -> -69
B92: Սահմանամերձ համայնքների դպրոցների թիվը, հատ | D92: ='հավելված 5'!D128 -> -11
B93: Սոցիալական աջակցություն ստացող սահմանամերձ համայնքների թիվը, հատ | D93: ='հավելված 5'!D129 -> -3
B94: Միջոցառման վրա կատարվող ծախսը (հազար դրամ) | D94: ='հավելված 5'!D130 -> -10087.7
B96: Ծրագրի դասիչը՝ | C96: 1146 | D96: Ցուցանիշների փոփոխությունը (ավելացումները նշված են դրական նշանով, իսկ նվազեցումները` փակագծերում)
B97: Միջոցառման դասիչը՝ | C97: 12004 | D97: Տարի
B98: Միջոցառման անվանումը՝ | C98: Ատեստավորման միջոցով որակավորում ստացած ուսուցիչներին հավելավճարների տրամադրում
B99: Նկարագրությունը՝ | C99: Ատեստավորման միջոցով տարակարգի որակավորում ստացած ուսուցիչներին համաապատասխան հավելավճարի տրամադրման ապահովում
B100: Միջոցառման տեսակը՝ | C100: Տրանսֆերտների տրամադրում
B101: Շահառուների ընտրության չափորոշիչները՝ | C101: Ատեստավորման արդյունքում որակավորում ստացած ուսուցիչներ
B102: Արդյունքի չափորոշիչներ
B103: Որակավորման տարակարգ ստացած ուսուցիչների թիվը, մարդ | D103: ='հավելված 5'!D267+'հավելված 5'!D527+'հավելված 5'!D610 -> 66
B104: տղամարդ | D104: ='հավելված 5'!D268+'հավելված 5'!D528+'հավելված 5'!D611 -> -3
B105: կին | D105: ='հավելված 5'!D269+'հավելված 5'!D529+'հավելված 5'!D612 -> 69
B106: Միջոցառման վրա կատարվող ծախսը (հազար դրամ) | D106: ='հավելված 5'!D270+'հավելված 5'!D530+'հավելված 5'!D613 -> 1849.2
B108: Ծրագրի դասիչը | C108: Ծրագրի անվանումը
B109: 1148 | C109: Արտադպրոցական դաստիարակոթյան ծրագիր
B111: Ծրագրի միջոցառումները
B112: Ծրագրի դասիչը՝ | C112: 1148 | D112: Ցուցանիշների փոփոխությունը (ավելացումները նշված են դրական նշանով)
B113: Միջոցառման դասիչը՝ | C113: 11001 | D113: Տարի
B114: Միջոցառման անվանումը՝ | C114: Արտադպրոցական դաստիարակություն
B115: Նկարագրությունը՝ | C115: Արվեստի, երաժշտության, սպորտի դասընթացներ մարզադպրոցներում , ստեղծագործական և արտադպրոցական դաստիարակության այլ կենտրոններում
B116: Միջոցառման տեսակը՝ | C116: Ծառայությունների մատուցում
B117: Շահառուների ընտրության չափորոշիչները՝ | C117: Մասնագիտացված կազմակերպություններ
B118: Արդյունքի չափորոշիչներ
...

Sheet հավելված 5
C2: Հավելված 5
C3: ՀՀ կառավարության 2022 թվականի
C4: ______________ ի ___Ն որոշման
B7: ՀԱՅԱՍՏԱՆԻ ՀԱՆՐԱՊԵՏՈՒԹՅԱՆ ԿԱՌԱՎԱՐՈՒԹՅԱՆ 2021 ԹՎԱԿԱՆԻ ԴԵԿՏԵՄԲԵՐԻ 23-Ի N 2121-Ն ՈՐՈՇՄԱՆ N 9.1 ՀԱՎԵԼՎԱԾԻ N 9.1.8, 9.1.14, 9.1.49, 9.1.50, 9.1.51, 9.1.52, 9.1.53, 9.1.54, 9.1.55, 9.1.56, 9.1.57 ԵՎ 9․1․58 ԱՂՅՈՒՍԱԿՆԵՐՈՒՄ ԿԱՏԱՐՎՈՂ ՓՈՓՈԽՈՒԹՅՈՒՆՆԵՐԸ
B9: ՀՀ տարածքային կառավարման և ենթակառուցվածքների նախարարություն
B11: Ծրագրի դասիչը | C11: Ծրագրի անվանումը
B12: 1146 | C12: Հանրակրթության ծրագիր
B14: Ծրագրի միջոցառումները
B15: Ծրագրի դասիչը՝ | C15: 1146 | D15: Ցուցանիշների փոփոխությունը (նվազեցումները նշված են փակագծերում)
B16: Միջոցառման դասիչը՝ | C16: 11001 | D16: Տարի
B17: Միջոցառման անվանումը՝ | C17: Տարրական ընդհանուր հանրակրթություն
B18: Նկարագրությունը՝ | C18: Պարտադիր կրթության առաջին մակարդակում սովորողների ընդգրկվածության, գրագիտության և համակողմանի զարգացման բարձր մակարդակի ապահովում
B19: Միջոցառման տեսակը՝ | C19: Ծառայությունների մատուցում
B20: Շահառուների ընտրության չափորոշիչները՝ | C20: Երևանի քաղաքապետարանի ենթակայության նախադպրոցական կրթություն իրականացնող ուսումնական հաստատություններ
B21: Արդյունքի չափորոշիչներ
B22: Տարրական ընդհանուր կրթության դասարանների սովորողների միջին տարեկան թիվը, մարդ | D22: -330
B23: տղա | D23: 36
B24: աղջիկ | D24: -366
B25: Միջոցառման վրա կատարվող ծախսը (հազար դրամ) | D25: 0
B27: Ծրագրի դասիչը՝ | C27: 1146 | D27: Ցուցանիշների փոփոխությունը (ավելացումները նշված են դրական նշանով, իսկ նվազեցումները` փակագծերում)
B28: Միջոցառման դասիչը՝ | C28: 11002 | D28: Տարի
B29: Միջոցառման անվանումը՝ | C29: Հիմնական ընդհանուր հանրակրթություն
B30: Նկարագրությունը՝ | C30: Պարտադիր կրթության երկրորդ մակարդակում սովորողների ընդգրկվածության, գրագիտության և համակողմանի զարգացման բարձր մակարդակի ապահովում
B31: Միջոցառման տեսակը՝ | C31: Ծառայությունների մատուցում
B32: Շահառուների ընտրության չափորոշիչները՝ | C32: Երևանի քաղաքապետարանի ենթակայության նախադպրոցական կրթություն իրականացնող ուսումնական հաստատություններ
B33: Արդյունքի չափորոշիչներ
B34: Հիմնական ընդհանուր կրթության դասարանների սովորողների միջին տարեկան թիվը, մարդ | D34: 2309
B35: տղա | D35: 571
B36: աղջիկ | D36: 1738
B37: Միջոցառման վրա կատարվող ծախսը (հազար դրամ) | D37: 1223532.6
B39: Ծրագրի դասիչը՝ | C39: 1146 | D39: Ցուցանիշների փոփոխությունը (նվազեցումները նշված են փակագծերում)
B40: Միջոցառման դասիչը՝ | C40: 11003 | D40: Տարի
B41: Միջոցառման անվանումը՝ | C41: Միջնակարգ ընդհանուր հանրակրթություն
B42: Նկարագրությունը՝ | C42: Պարտադիր կրթության երրորդ մակարդակում սովորողների ընդգրկվածության, գրագիտության և համակողմանի զարգացման բարձր մակարդակի ապահովում
B43: Միջոցառման տեսակը՝ | C43: Ծառայությունների մատուցում
B44: Շահառուների ընտրության չափորոշիչները՝ | C44: Երևանի քաղաքապետարանի ենթակայության հանրակրթական դպրոցներ
B45: Արդյունքի չափորոշիչներ
B46: Միջնակարգ ընդհանուր կրթության դասարանների սովորողների միջին տարեկան թիվը, մարդ | D46: -162
B47: տղա | D47: -54
B48: աղջիկ | D48: -108
B49: Միջոցառման վրա կատարվող ծախսը (հազար դրամ) | D49: 43223.2
B51: Ծրագրի դասիչը՝ | C51: 1146 | D51: Ցուցանիշների փոփոխությունը (նվազեցումները նշված են փակագծերում)
B52: Միջոցառման դասիչը՝ | C52: 11013 | D52: Տարի
B53: Միջոցառման անվանումը՝ | C53: Նախադպրոցական կրթություն
B54: Նկարագրությունը՝ | C54: Նախադպրոցական կրթություն մակարդակում սաների ընդգրկվածության, զարգացման բարձր մակարդակի ապահովում, 5-6 տարեկան երեխաների նախապատրաստում տարրական դպրոցին
B55: Միջոցառման տեսակը՝ | C55: Ծառայությունների մատուցում
B56: Շահառուների ընտրության չափորոշիչները՝ | C56: Երևանի քաղաքապետարանի ենթակայության նախադպրոցական կրթություն իրականացնող ուսումնական հաստատություններ
B57: Արդյունքի չափորոշիչներ
B58: Ծառայությունը ստացող երեխաների միջին տարեկան թիվը, մարդ | D58: -109
B59: տղա | D59: -51
B60: աղջիկ | D60: -58
B61: Միջոցառման վրա կատարվող ծախսը (հազար դրամ) | D61: -3202.4
B64: ՀՀ կրթության, գիտության, մշակույթի և սպորտի նախարարություն
B66: Ծրագրի դասիչը | C66: Ծրագրի անվանումը
B67: 1146 | C67: Հանրակրթության ծրագիր
B69: Ծրագրի միջոցառումները
B70: Ծրագրի դասիչը՝ | C70: 1146 | D70: Ցուցանիշների փոփոխությունը (նվազեցումները նշված են փակագծերում)
B71: Միջոցառման դասիչը՝ | C71: 11001 | D71: Տարի
B72: Միջոցառման անվանումը՝ | C72: Տարրական ընդհանուր հանրակրթություն
B73: Նկարագրությունը՝ | C73: Պարտադիր կրթության առաջին մակարդակում սովորողների ընդգրկվածության, գրագիտության և համակողմանի զարգացման բարձր մակարդակի ապահովում
B74: Միջոցառման տեսակը՝ | C74: Ծառայությունների մատուցում
B75: Շահառուների ընտրության չափորոշիչները՝ | C75: ՀՀ ԿԳՄՍՆ ենթակայության հանրակրթական դպրոցներ
B76: Արդյունքի չափորոշիչներ
B77: Տարրական ընդհանուր կրթության դասարանների սովորողների միջին տարեկան թիվը, մարդ | D77: -500
B78: տղա | D78: -263
B79: աղջիկ | D79: -237
B80: Միջոցառման վրա կատարվող ծախսը (հազար դրամ) | D80: -75516.2
B82: Ծրագրի դասիչը՝ | C82: 1146 | D82: Ցուցանիշների փոփոխությունը (ավելացումները նշված են դրական նշանով, իսկ նվազեցումները` փակագծերում)
B83: Միջոցառման դասիչը՝ | C83: 11002 | D83: Տարի
B84: Միջոցառման անվանումը՝ | C84: Հիմնական ընդհանուր հանրակրթություն
B85: Նկարագրությունը՝ | C85: Պարտադիր կրթության երկրորդ մակարդակում սովորողների ընդգրկվածության, գրագիտության և համակողմանի զարգացման բարձր մակարդակի ապահովում
B86: Միջոցառման տեսակը՝ | C86: Ծառայությունների մատուցում
B87: Շահառուների ընտրության չափորոշիչները՝ | C87: ՀՀ ԿԳՄՍՆ ենթակայության հանրակրթական դպրոցներ
B88: Արդյունքի չափորոշիչներ
B89: Հիմնական ընդհանուր կրթության դասարանների սովորողների միջին տարեկան թիվը, մարդ | D89: 252
B90: տղա | D90: 133
B91: աղջիկ | D91: 119
B92: Միջոցառման վրա կատարվող ծախսը (հազար դրամ) | D92: -19950.8
B94: Ծրագրի դասիչը՝ | C94: 1146 | D94: Ցուցանիշների փոփոխությունը (նվազեցումները նշված են փակագծերում)
B95: Միջոցառման դասիչը՝ | C95: 11003 | D95: Տարի
B96: Միջոցառման անվանումը՝ | C96: Միջնակարգ ընդհանուր հանրակրթություն
B97: Նկարագրությունը՝ | C97: Պարտադիր կրթության երրորդ մակարդակում սովորողների ընդգրկվածության, գրագիտության և համակողմանի զարգացման բարձր մակարդակի ապահովում
B98: Միջոցառման տեսակը՝ | C98: Ծառայությունների մատուցում
B99: Շահառուների ընտրության չափորոշիչները՝ | C99: ՀՀ ԿԳՄՍՆ ենթակայության հանրակրթական դպրոցներ
B100: Արդյունքի չափորոշիչներ
B101: Միջնակարգ ընդհանուր կրթության դասարանների սովորողների միջին տարեկան թիվը, մարդ | D101: -1207
B102: տղա | D102: -588
B103: աղջիկ | D103: -619
B104: Միջոցառման վրա կատարվող ծախսը (հազար դրամ) | D104: 0
B107: Ծրագրի դասիչը՝ | C107: 1146 | D107: Ցուցանիշների փոփոխությունը (նվազեցումները նշված են փակագծերում)
B108: Միջոցառման դասիչը՝ | C108: 11013 | D108: Տարի
B109: Միջոցառման անվանումը՝ | C109: Նախադպրոցական կրթություն
B110: Նկարագրությունը՝ | C110: Նախադպրոցական կրթություն մակարդակում սաների ընդգրկվածության, զարգացման բարձր մակարդակի ապահովում, 5-6 տարեկան երեխաների նախապատրաստում տարրական դպրոցին
B111: Միջոցառման տեսակը՝ | C111: Ծառայությունների մատուցում
B112: Շահառուների ընտրության չափորոշիչները՝ | C112: ՀՀ կրթության, գիտության, մշակույթի և սպորտի նախարարության ենթակայության նախադպրոցական կրթություն իրականացնող ուսումնական հաստատություններ
B113: Արդյունքի չափորոշիչներ
B114: Ծառայությունը ստացող երեխաների միջին տարեկան թիվը, մարդ | D114: -152
B115: տղա | D115: -85
B116: աղջիկ | D116: -67
B117: Միջոցառման վրա կատարվող ծախսը (հազար դրամ) | D117: -8022.2
...
