Workbook
Name AgencyCode: #REF!
Name AgencyCode: #REF!
Name AgencyCode: #REF!
Name AgencyCode: #REF!
Name AgencyName: #REF!
Name AgencyName: #REF!
Name AgencyName: #REF!
Name davit: #REF!
Name davit: #REF!
Name Functional1: #REF!
Name Functional1: #REF!
Name Functional1: #REF!
Name ggg: #REF!
Name ggg: #REF!
Name PANature: #REF!
Name PANature: #REF!
Name PANature: #REF!
Name PAType: #REF!
Name PAType: #REF!
Name PAType: #REF!
Name Performance2: #REF!
Name Performance2: #REF!
Name Performance2: #REF!
Name PerformanceType: #REF!
Name PerformanceType: #REF!
Name PerformanceType: #REF!
Name Հավելված: #REF!
Name Հավելված: #REF!
Name Մաս: #REF!
Name Մաս: #REF!
Name շախմատիստ: #REF!
Name շախմատիստ: #REF!

Sheet Havelvats 1
C1: Հավելված N 1
C2: ՀՀ կառավարության 2022 թվականի
C3: ______________ ի ___Ն որոշման
A5: «ՀԱՅԱUՏԱՆԻ ՀԱՆՐԱՊԵՏՈՒԹՅԱՆ 2022 ԹՎԱԿԱՆԻ ՊԵՏԱԿԱՆ ԲՅՈՒՋԵԻ ՄԱUԻՆ» ՀԱՅԱUՏԱՆԻ ՀԱՆՐԱՊԵՏՈՒԹՅԱՆ OՐԵՆՔԻ N 1 ՀԱՎԵԼՎԱԾԻ N 2 ԱՂՅՈՒՍԱԿՈՒՄ ԿԱՏԱՐՎՈՂ ՎԵՐԱԲԱՇԽՈՒՄԸ ԵՎ ՀԱՅԱՍՏԱՆԻ ՀԱՆՐԱՊԵՏՈՒԹՅԱՆ ԿԱՌԱՎԱՐՈՒԹՅԱՆ 2021 ԹՎԱԿԱՆԻ ԴԵԿՏԵՄԲԵՐԻ 23-Ի N 2121-Ն ՈՐՈՇՄԱՆ N 5 ՀԱՎԵԼՎԱԾԻ N 1 ԱՂՅՈՒՍԱԿՈՒՄ ԿԱՏԱՐՎՈՂ ՓՈՓՈԽՈՒԹՅՈՒՆՆԵՐԸ
D8: հազ. դրամներով
A9: Ծրագրային դասիչը | C9: Բյուջետային հատկացումների գլխավոր կարգադրիչների, ծրագրերի և միջոցառումների անվանումները | D9: Ցուցանիշների փոփոխությունը (ավելացումները նշված են դրական նշանով, իսկ նվազեցումները՝ փակագծերում)
A10: Ծրագիր | B10: Միջոցառում | D10: Տարի
C11: ԸՆԴԱՄԵՆԸ | D11: =+D13 -> 0
C12: այդ թվում
C13: ՀՀ ԿՐԹՈՒԹՅԱՆ, ԳԻՏՈՒԹՅԱՆ, ՄՇԱԿՈՒՅԹԻ ԵՎ ՍՊՈՐՏԻ ՆԱԽԱՐԱՐՈՒԹՅՈՒՆ | D13: =D14 -> 0
A14: 1041 | C14: Ծրագրի անվանումը` | D14: =D21+D27 -> 0
C15: Մեծ նվաճումների սպորտ
C16: Ծրագրի նպատակը`
C17: Նպաստել Հայաստանում մեծ սպորտի շարունակական զարգացմանը և միջազգային հարթակներում ՀՀ դիրքի բարելավմանը
C18: Վերջնական արդյունքի նկարագրությունը`
C19: ՀՀ առաջնությունների ընդլայնում, միջազգային սպորտային միջոցառումներին մասնակցության և նվաճումների ապահովում
C20: Ծրագրի միջոցառումներ
B21: 11001 | C21: Միջոցառման անվանումը` | D21: 8625
C22: ՀՀ առաջնություններին և միջազգային միջոցառումներին մասնակցության ապահովման համար մարզիկների նախապատրաստում և առաջնությունների անցկացում
C23: Միջոցառման նկարագրությունը`
C24: Մարզաձևերի ազգային ֆեդերացիաների կողմից մարզիկների պատրաստում և տարբեր մարզաձևերի ՀՀ առաջնությունների և միջազգային մրցաշարերի անցկացում, ուսումնամարզական հավաքների կազմակերպում և միջազգային միջոցառումներին մասնակցություն
C25: Միջոցառման տեսակը
C26: Ծառայությունների մատուցում
B27: 12003 | C27: Միջոցառման անվանումը` | D27: -8625
C28: Օլիմպիական խաղերում, աշխարհի և Եվրոպայի առաջնություններում բարձր արդյունքների հասած ՀՀ հավաքական թիմերի մարզիկներին և նրանց մարզիչներին անվանական թոշակի հատկացում
C29: Միջոցառման նկարագրությունը`
C30: Օլիմպիական խաղերում, աշխարհի և Եվրոպայի առաջնություններում բարձր արդյունքների հասած ՀՀ հավաքական թիմերի մարզիկներին և նրանց մարզիչներին անվանական թոշակի հատկացում
C31: Միջոցառման տեսակը
C32: Ծառայությունների մատուցում

Sheet Havelvats 2 
F1: Հավելված N 2
F2: ՀՀ կառավարության 2022 թվականի
F3: ______________ ի ___Ն որոշման
A5: ՀԱՅԱՍՏԱՆԻ ՀԱՆՐԱՊԵՏՈՒԹՅԱՆ ԿԱՌԱՎԱՐՈՒԹՅԱՆ 2021 ԹՎԱԿԱՆԻ ԴԵԿՏԵՄԲԵՐԻ 23-Ի N 2121-Ն ՈՐՈՇՄԱՆ N 3 ԵՎ N 4 ՀԱՎԵԼՎԱԾՆԵՐՈՒՄ ԿԱՏԱՐՎՈՂ ՓՈՓՈԽՈՒԹՅՈՒՆՆԵՐԸ
G8: հազ. դրամներով
A9: Գործառական դասիչը | D9: Ծրագրային դասիչը | F9: Բյուջետային հատկացումների գլխավոր կարգադրիչների, ծրագրերի, միջոցառումների և միջոցառումները կատարող պետական մարմինների անվանումները | G9: Ցուցանիշների փոփոխությունը (ավելացումները նշված են դրական նշանով, իսկ նվազեցումները՝ փակագծերում)
A10: Բաժին | B10: Խումբ | C10: Դաս | D10: Ծրագիր | E10: Միջոցառում | G10: Տարի
F11: ԸՆԴԱՄԵՆԸ | G11: =+G13 -> 0
F12: այդ թվում
F13: ՀՀ ԿՐԹՈՒԹՅԱՆ, ԳԻՏՈՒԹՅԱՆ, ՄՇԱԿՈՒՅԹԻ ԵՎ ՍՊՈՐՏԻ ՆԱԽԱՐԱՐՈՒԹՅՈՒՆ | G13: =+G14 -> 0
A14: 08 | F14: ՀԱՆԳԻՍՏ, ՄՇԱԿՈՒՅԹ ԵՎ ԿՐՈՆ | G14: =+G16 -> 0
F15: այդ թվում`
B16: 01 | F16: Հանգստի և սպորտի ծառայություններ | G16: =+G18 -> 0
F17: այդ թվում`
C18: 01 | F18: Հանգստի և սպորտի ծառայություններ | G18: =+G20 -> 0
F19: այդ թվում`
F20: ՀՀ կրթության, գիտության, մշակույթի և սպորտի նախարարություն | G20: =+G22 -> 0
F21: այդ թվում`
D22: 1041 | E22: Մեծ նվաճումների սպորտ | G22: =+G24+G33 -> 0
F23: այդ թվում`
E24: 11001 | F24: ՀՀ առաջնություններին և միջազգային միջոցառումներին մասնակցության ապահովման համար մարզիկների նախապատրաստում և առաջնությունների անցկացում | G24: =G26 -> 8625
F25: այդ թվում` ըստ կատարողների
F26: ՀՀ կրթության, գիտության, մշակույթի և սպորտի նախարարություն | G26: =G28 -> 8625
F27: այդ թվում՝ բյուջետային ծախսերի տնտեսագիտական դասակարգման հոդվածներ
F28: ԸՆԴԱՄԵՆԸ ԾԱԽՍԵՐ | G28: =G30 -> 8625
F29: ԸՆԹԱՑԻԿ ԾԱԽՍԵՐ | G29: =G30 -> 8625
F30: ԴՐԱՄԱՇՆՈՐՀՆԵՐ | G30: =+G31 -> 8625
F31: Ընթացիկ դրամաշնորհներ պետական հատվածի այլ մակարդակներին | G31: =+G32 -> 8625
F32: - Այլ ընթացիկ դրամաշնորհներ | G32: ='Havelvats 1'!D21 -> 8625
E33: 12003 | F33: Օլիմպիական խաղերում, աշխարհի և Եվրոպայի առաջնություններում բարձր արդյունքների հասած ՀՀ հավաքական թիմերի մարզիկներին և նրանց մարզիչներին անվանական թոշակի հատկացում | G33: =G35 -> -8625
F34: այդ թվում` ըստ կատարողների
F35: ՀՀ կրթության, գիտության, մշակույթի և սպորտի նախարարություն | G35: =G37 -> -8625
F36: այդ թվում՝ բյուջետային ծախսերի տնտեսագիտական դասակարգման հոդվածներ
F37: ԸՆԴԱՄԵՆԸ ԾԱԽՍԵՐ | G37: =G38 -> -8625
F38: ԸՆԹԱՑԻԿ ԾԱԽՍԵՐ | G38: =+G39 -> -8625
F39: ՍՈՑԻԱԼԱԿԱՆ ՆՊԱՍՏՆԵՐ ԵՎ ԿԵՆՍԱԹՈՇԱԿՆԵՐ | G39: =G40 -> -8625
F40: Սոցիալական օգնության դրամական արտահայտությամբ նպաստներ (բյուջեից) | G40: =+G41 -> -8625
F41: - Կրթական, մշակութային և սպորտային նպաստներ բյուջեից | G41: ='Havelvats 1'!D27 -> -8625

Sheet Havelvats 3
F1: Հավելված 3
F2: ՀՀ կառավարության 2022 թվականի
F3: ______________ ի ___Ն որոշման
A6: ՀԱՅԱՍՏԱՆԻ ՀԱՆՐԱՊԵՏՈՒԹՅԱՆ ԿԱՌԱՎԱՐՈՒԹՅԱՆ 2021 ԹՎԱԿԱՆԻ ԴԵԿՏԵՄԲԵՐԻ 23-Ի N 2121-Ն ՈՐՈՇՄԱՆ N 5 ՀԱՎԵԼՎԱԾԻ N 7 ԱՂՅՈՒՍԱԿՈՒՄ ԿԱՏԱՐՎՈՂ ՓՈՓՈԽՈՒԹՅՈՒՆԸ
G7: հազար դրամ
A8: Ծրագրային դասիչը | C8: Բյուջետային հատկացումների գլխավոր կարգադրիչների, ծրագրերի, միջոցառումների, ծախսային ուղղությունների անվանումները | F8: Միջոցառումները կատարող պետական մարմինների և դրամաշնորհ ստացող տնտեսվարող սուբյեկտների անվանումները | G8: Ցուցանիշների փոփոխությունը (ավելացումները նշված են դրական նշանով)
A9: Ծրագիր | B9: Միջոցառում | G9: Տարի
A10: ՀՀ կրթության, գիտության, մշակույթի և սպորտի նախարարություն | G10: =+G11 -> 8625
A11: 1041 | B11: Մեծ նվաճումների սպորտ | G11: =+G12 -> 8625
B12: 11001 | C12: ՀՀ առաջնություններին և միջազգային միջոցառումներին մասնակցության ապահովման համար մարզիկների նախապատրաստում և առաջնությունների անցկացում | F12: ՀՀ կրթության, գիտության, մշակույթի և սպորտի նախարարություն | G12: =+G13 -> 8625
F13: «Հայաստանի մարմնամարզության ֆեդերացիա» ՀԿ | G13: 8625

Sheet Havelvats 4
D1: Հավելված N 4
D2: ՀՀ կառավարության 2022 թվականի
D3: ______________ ի ___Ն որոշման
B5: ՀԱՅԱՍՏԱՆԻ ՀԱՆՐԱՊԵՏՈՒԹՅԱՆ ԿԱՌԱՎԱՐՈՒԹՅԱՆ 2021 ԹՎԱԿԱՆԻ ԴԵԿՏԵՄԲԵՐԻ 23-Ի N 2121-Ն ՈՐՈՇՄԱՆ N 9 ՀԱՎԵԼՎԱԾԻ N 9.13 ԱՂՅՈՒՍԱԿՈՒՄ ԿԱՏԱՐՎՈՂ ՓՈՓՈԽՈՒԹՅՈՒՆՆԵՐԸ
A7: Աղյուսակ 9․13
C8: ՀՀ կրթության, գիտության, մշակույթի և սպորտի նախարարություն
B9: ՄԱՍ 2. ՊԵՏԱԿԱՆ ՄԱՐՄՆԻ ԳԾՈՎ ԱՐԴՅՈՒՆՔԱՅԻՆ (ԿԱՏԱՐՈՂԱԿԱՆ) ՑՈՒՑԱՆԻՇՆԵՐԸ
B12: Ծրագրի դասիչը | C12: Ծրագրի անվանումը
B13: 1041 | C13: Մեծ նվաճումների սպորտ
B15: Ծրագրի միջոցառումները
B16: Ծրագրի դասիչը՝ | C16: 1041 | D16: Ցուցանիշների փոփոխությունը (ավելացումները նշված են դրական նշանով)
B17: Միջոցառման դասիչը՝ | C17: 11001 | D17: Տարի
B18: Միջոցառման անվանումը՝ | C18: ՀՀ առաջնություններին և միջազգային միջոցառումներին մասնակցության ապահովման համար մարզիկների նախապատրաստում և առաջնությունների անցկացում
B19: Նկարագրությունը՝ | C19: Մարզաձևերի ազգային ֆեդերացիաների կողմից մարզիկների պատրաստում և տարբեր մարզաձևերի ՀՀ առաջնությունների և միջազգային մրցաշարերի անցկացում, ուսումնամարզական հավաքների կազմակերպում և միջազգային միջոցառումներին մասնակցություն
B20: Միջոցառման տեսակը՝ | C20: Ծառայությունների մատուցում
B21: Ծառայությունը մատուցող կազմակերպությունների անվանումը | C21: Մասնագիտացված կազմակերպություններ
B22: Արդյունքի չափորոշիչներ
B23: Միջազգային միջոցառումների քանակ, հատ
B24: Միջազգային միջոցառումների մասնակիցների թիվ, մարդ, այդ թվում՛
B25: իգական սեռի
B26: արական սեռի
B27: Միջոցառման վրա կատարվող ծախսը (հազար դրամ) | D27: ='Havelvats 1'!D21 -> 8625
B30: Ծրագրի միջոցառումները
B31: Ծրագրի դասիչը՝ | C31: 1041 | D31: Ցուցանիշների փոփոխությունը (նվազեցումները նշված են փակագծերում)
B32: Միջոցառման դասիչը՝ | C32: 12003 | D32: Տարի
B33: Միջոցառման անվանումը՝ | C33: Օլիմպիական խաղերում, աշխարհի և Եվրոպայի առաջնություններում բարձր արդյունքների հասած ՀՀ հավաքական թիմերի մարզիկներին և նրանց մարզիչներին անվանական թոշակի հատկացում
B34: Նկարագրությունը՝ | C34: Օլիմպիական խաղերում, աշխարհի և Եվրոպայի առաջնություններում բարձր արդյունքների հասած ՀՀ հավաքական թիմերի մարզիկներին և նրանց մարզիչներին անվանական թոշակի հատկացում
B35: Միջոցառման տեսակը՝ | C35: Տրանսֆերտների տրամադրում
B36: Շահառուների ընտրության չափանիշները | C36: ՀՀ կառավարության 2020 թվականի N 1096-Ն որոշմամբ սահմանված ՀՀ հավաքական թիմերի կազմում բարձր արդյունքներ ցուցաբերած մարզիկներ և նրանց մարզիչներ
B37: Արդյունքի չափորոշիչներ
D38: 1
D39: 10
B40: Միջոցառման վրա կատարվող ծախսը (հազար դրամ) | D40: ='Havelvats 1'!D27 -> -8625

Sheet Havelvats 5
D1: Հավելված N 5
D2: ՀՀ կառավարության 2022 թվականի
D3: ______________ ի ___Ն որոշման
B5: ՀԱՅԱՍՏԱՆԻ ՀԱՆՐԱՊԵՏՈՒԹՅԱՆ ԿԱՌԱՎԱՐՈՒԹՅԱՆ 2021 ԹՎԱԿԱՆԻ ԴԵԿՏԵՄԲԵՐԻ 23-Ի N 2121-Ն ՈՐՈՇՄԱՆ N 9․1 ՀԱՎԵԼՎԱԾԻ N 9.1․14 ԱՂՅՈՒՍԱԿՈՒՄ ԿԱՏԱՐՎՈՂ ՓՈՓՈԽՈՒԹՅՈՒՆՆԵՐԸ
A7: Աղյուսակ 9․1․14
C8: ՀՀ կրթության, գիտության, մշակույթի և սպորտի նախարարություն
B9: ՄԱՍ 2. ՊԵՏԱԿԱՆ ՄԱՐՄՆԻ ԳԾՈՎ ԱՐԴՅՈՒՆՔԱՅԻՆ (ԿԱՏԱՐՈՂԱԿԱՆ) ՑՈՒՑԱՆԻՇՆԵՐԸ
B12: Ծրագրի դասիչը | C12: Ծրագրի անվանումը
B13: 1041 | C13: Մեծ նվաճումների սպորտ
B15: Ծրագրի միջոցառումները
B16: Ծրագրի դասիչը՝ | C16: 1041 | D16: Ցուցանիշների փոփոխությունը (ավելացումները նշված են դրական նշանով)
B17: Միջոցառման դասիչը՝ | C17: 11001 | D17: Տարի
B18: Միջոցառման անվանումը՝ | C18: ՀՀ առաջնություններին և միջազգային միջոցառումներին մասնակցության ապահովման համար մարզիկների նախապատրաստում և առաջնությունների անցկացում
B19: Նկարագրությունը՝ | C19: Մարզաձևերի ազգային ֆեդերացիաների կողմից մարզիկների պատրաստում և տարբեր մարզաձևերի ՀՀ առաջնությունների և միջազգային մրցաշարերի անցկացում, ուսումնամարզական հավաքների կազմակերպում և միջազգային միջոցառումներին մասնակցություն
B20: Միջոցառման տեսակը՝ | C20: Ծառայությունների մատուցում
B21: Ծառայությունը մատուցող կազմակերպությունների անվանումը | C21: Մասնագիտացված կազմակերպություններ
B22: Արդյունքի չափորոշիչներ
B23: Միջազգային միջոցառումների քանակ, հատ
B24: Միջազգային միջոցառումների մասնակիցների թիվ, մարդ, այդ թվում՛
B25: իգական սեռի
B26: արական սեռի
B27: Միջոցառման վրա կատարվող ծախսը (հազար դրամ) | D27: ='Havelvats 1'!D21 -> 8625
B30: Ծրագրի միջոցառումները
B31: Ծրագրի դասիչը՝ | C31: 1041 | D31: Ցուցանիշների փոփոխությունը (նվազեցումները նշված են փակագծերում)
B32: Միջոցառման դասիչը՝ | C32: 12003 | D32: Տարի
B33: Միջոցառման անվանումը՝ | C33: Օլիմպիական խաղերում, աշխարհի և Եվրոպայի առաջնություններում բարձր արդյունքների հասած ՀՀ հավաքական թիմերի մարզիկներին և նրանց մարզիչներին անվանական թոշակի հատկացում
B34: Նկարագրությունը՝ | C34: Օլիմպիական խաղերում, աշխարհի և Եվրոպայի առաջնություններում բարձր արդյունքների հասած ՀՀ հավաքական թիմերի մարզիկներին և նրանց մարզիչներին անվանական թոշակի հատկացում
B35: Միջոցառման տեսակը՝ | C35: Տրանսֆերտների տրամադրում
B36: Շահառուների ընտրության չափանիշները | C36: ՀՀ կառավարության 2020 թվականի N 1096-Ն որոշմամբ սահմանված ՀՀ հավաքական թիմերի կազմում բարձր արդյունքներ ցուցաբերած մարզիկներ և նրանց մարզիչներ
B37: Արդյունքի չափորոշիչներ
D38: 1
D39: 10
B40: Միջոցառման վրա կատարվող ծախսը (հազար դրամ) | D40: ='Havelvats 1'!D27 -> -8625
