Workbook
Name AgencyCode: #REF!
Name AgencyCode: #REF!
Name AgencyName: #REF!
Name AgencyName: #REF!
Name åû: #REF!
Name åû: #REF!
Name davit: #REF!
Name davit: #REF!
Name Functional1: #REF!
Name Functional1: #REF!
Name ggg: #REF!
Name ggg: #REF!
Name hav: #REF!
Name hav: #REF!
Name havelvac: #REF!
Name havelvac: #REF!
Name mas: #REF!
Name mas: #REF!
Name mass: #REF!
Name mass: #REF!
Name PANature: #REF!
Name PANature: #REF!
Name PAType: #REF!
Name PAType: #REF!
Name Performance2: #REF!
Name Performance2: #REF!
Name PerformanceType: #REF!
Name PerformanceType: #REF!
Name x: #REF!
Name x: #REF!
Name Հավելված: #REF!
Name Հավելված: #REF!
Name Մաս: #REF!
Name Մաս: #REF!
Name շախմատիստ: #REF!
Name շախմատիստ: #REF!

Sheet 1
D1: Հավելված N 1
D2: ՀՀ կառավարության 2022 թվականի
C3: -----------------ի N -----------Ն որոշման
A6: «ՀԱՅԱՍՏԱՆԻ ՀԱՆՐԱՊԵՏՈՒԹՅԱՆ 2022 ԹՎԱԿԱՆԻ ՊԵՏԱԿԱՆ ԲՅՈՒՋԵԻ ՄԱՍԻՆ» ՀԱՅԱՍՏԱՆԻ ՀԱՆՐԱՊԵՏՈՒԹՅԱՆ ՕՐԵՆՔԻ N 1 ՀԱՎԵԼՎԱԾԻ N 2 ԱՂՅՈՒՍԱԿՈՒՄ ԿԱՏԱՐՎՈՂ ՎԵՐԱԲԱՇԽՈՒՄԸ ԵՎ ՀԱՅԱՍՏԱՆԻ ՀԱՆՐԱՊԵՏՈՒԹՅԱՆ ԿԱՌԱՎԱՐՈՒԹՅԱՆ 2021 ԹՎԱԿԱՆԻ ԴԵԿՏԵՄԲԵՐԻ 23-Ի N 2121-Ն ՈՐՈՇՄԱՆ N 5 ՀԱՎԵԼՎԱԾԻ N 1 ԱՂՅՈՒՍԱԿՈՒՄ ԿԱՏԱՐՎՈՂ ՓՈՓՈԽՈՒԹՅՈՒՆՆԵՐԸ ԵՎ ԼՐԱՑՈՒՄՆԵՐԸ
D8: հազար դրամ
A9: Ծրագրային դասիչը | C9: Բյուջետային հատկացումների գլխավոր կարգադրիչների, ծրագրերի և միջոցառումների անվանումները | D9: Ցուցանիշների փոփոխությունները ավելացումները նշված են դրական նշանով, իսկ նվազեցումները՝ փակագծերում
A10: Ծրագիր | B10: Միջոցառում | D10: Տարի
C11: ԸՆԴԱՄԵՆԸ | D11: =D12 -> 0
C12: ՀՀ աշխատանքի և սոցիալական հարցերի նախարարություն | D12: =D13+D26+D39+D52 -> 0
A13: 1068 | C13: Ծրագրի անվանումը` | D13: 300000
C14: Ժողովրդագրական վիճակի բարելավում
C15: Ծրագրի նպատակը`
C16: Խթանել ժողովրդագրական վիճակի բարելավումը
C17: Վերջնական արդյունքի նկարագրությունը`
C18: Ժողովրդագրական վիճակի բարելավում և բազմազավակության աճ
A19: Ծրագրի միջոցառումներ
B20: 12003 | C20: Միջոցառման անվանումը` | D20: 300000
C21: Երեխա ունեցող ընտանիքների բնակարանային ապահովման աջակցություն
C22: Միջոցառման նկարագրությունը`
C23: Երեխա ունեցող ընտանիքների բնակարանային ապահովման աջակցության տրամադրում
C24: Միջոցառման տեսակը
C25: Տրանսֆերտների տրամադրում
A26: 1032 | C26: Ծրագրի անվանումը` | D26: =D33 -> 23945
C27: Խնամքի ծառայություններ 18 տարեկանից բարձր տարիքի անձանց
C28: Ծրագրի նպատակը`
C29: Խնամքի կարիք ունեցող 18 տարեկանից բարձր տարիքի անձանց բնականոն կենսագործունեության ապահովում
C30: Վերջնական արդյունքի նկարագրությունը`
C31: Խնամքի ծառայություններ ստացած առավել կարիքավոր անձանց ընդգրկվածության աճ
A32: Ծրագրի մրջոցառումներ
B33: 32006 | C33: Միջոցառման անվանումը` | D33: 23945
C34: Տարեց և (կամ) հաշմանդամություն ունեցող անձանց շուրջօրյա խնամք մատուցող պետական ոչ առևտրային կազմակերպությունների շենքային պայմանների բարելավում
C35: Միջոցառման նկարագրությունը`
C36: Տարեց և (կամ) հաշմանդամություն ունեցող անձանց շուրջօրյա խնամք մատուցող ՊՈԱԿ-ների հիմնանորոգման և շինարարական աշխատանքների իրականացում
C37: Միջոցառման տեսակը`
C38: Այլ պետական կազմակերպությունների կողմից օգտագործվող ոչ ֆինանսական ակտիվների հետ գործառնություններ
A39: 1098 | C39: Ծրագրի անվանումը` | D39: =D46 -> 1765
C40: Բնակարանային ապահովում
C41: Ծրագրի նպատակը`
C42: Հանրապետությունում մշտական բնակության վայր չունեցող անօթևան անձանց բնակարանային ապահովմանն աջակցություն
C43: Վերջնական արդյունքի նկարագրությունը`
C44: Հանրապետությունում մշտական բնակության վայր չունեցող անօթևան անձանց բնակարանային ապահովվածության բարելավում
A45: Ծրագրի միջոցառումներ
B46: 12006 | C46: Միջոցառման անվանումը` | D46: =10818-9053 -> 1765
C47: Արցախի Հանրապետության առանձին շրջաններից տեղահանված ընտանիքների համար բնակարանային մատչելիության ապահովման պետական աջակցության տրամադրում
C48: Միջոցառման նկարագրությունը`
C49: Արցախի Հանրապետության առանձին շրջաններից տեղահանված ընտանիքների համար բնակարանային մատչելիության ապահովման պետական աջակցության տրամադրում
C50: Միջոցառման տեսակը
C51: Տրանսֆերտների տրամադրում
A52: 1088 | C52: Ծրագրի անվանումը` | D52: =D59+D65 -> -325710
C53: Զբաղվածության ծրագիր
C54: Ծրագրի նպատակը`
C55: Բնակչության կայուն և ժամանակավոր զբաղվածության ապահովմանը միտված պայմանների ստեղծում
C56: Վերջնական արդյունքի նկարագրությունը`
C57: Կայուն և ժամանակավոր զբաղվածների թվաքանակի աճ
A58: Ծրագրի միջոցառումներ
B59: 12009 | C59: Միջոցառման անվանումը` | D59: =-93980 -> -93980
C60: Մինչև երեք տարեկան երեխայի խնամքի արձակուրդում գտնվող անձանց, երեխայի մինչև երկու տարին լրանալը աշխատանքի վերադառնալու դեպքում, երեխայի խնամքն աշխատանքին զուգահեռ կազմակերպելու համար աջակցության տրամադրում
C61: Միջոցառման նկարագրությունը`
C62: Մինչև երեք տարեկան երեխայի խնամքի արձակ. գտնվող անձանց մինչև երեխայի երկու տարին լրանալը աշխ. վերադառնալու նպատակով երեխայի խնամքի կազմակերպում դայակի կամ վճարովի հիմունքներով գործող նախադպ. հաստատութ. միջոցով՛ ապահովելով կանանց աշխ. ներուժի օգտագործ.
C63: Միջոցառման տեսակը
C64: Տրանսֆերտների տրամադրում
B65: 12013 | C65: Միջոցառման անվանումը` | D65: =-334763-D59+9053 -> -231730
C66: Աշխատաշուկայում անմրցունակ անձանց անասնապահությամբ զբաղվելու համար աջակցության տրամադրում
C67: Միջոցառման նկարագրությունը`
C68: Աշխատաշուկայում անմրցունակ անձանց անասնապահությամբ զբաղվելու միջոցով ինքնազբաղվածության խթանման ապահովում
C69: Միջոցառման տեսակը
C70: Տրանսֆերտների տրամադրում

Sheet 2
G1: Հավելված N 2
F2: ՀՀ կառավարության 2022 թվականի
F3: -----------------ի N -----------Ն որոշման
A5: ՀԱՅԱՍՏԱՆԻ ՀԱՆՐԱՊԵՏՈՒԹՅԱՆ ԿԱՌԱՎԱՐՈՒԹՅԱՆ 2021 ԹՎԱԿԱՆԻ ԴԵԿՏԵՄԲԵՐԻ 23-Ի N 2121-Ն ՈՐՈՇՄԱՆ N 3 և N 4 ՀԱՎԵԼՎԱԾՆԵՐՈՒՄ ԿԱՏԱՐՎՈՂ ՓՈՓՈԽՈՒԹՅՈՒՆՆԵՐԸ ԵՎ ԼՐԱՑՈՒՄՆԵՐԸ
G7: հազար դրամ
A8: Գործառական դասիչը | D8: Ծրագրային դասիչը | F8: Բյուջետային ծախսերի գործառական դասակարգման բաժինների, խմբերի և դասերի, բյուջետային ծրագրերի միջոցառումների, բյուջետային հատկացումների գլխավոր կարգադրիչների անվանումները | G8: Ցուցանիշների փոփոխությունները (ավելացումները նշված են դրական, իսկ նվազեցումները՝ փակագծերում)
A9: Բաժինը | B9: Խումբը | C9: Դասը | D9: Ծրագիր | E9: Միջոցառում | G9: Տարի
F10: ԸՆԴԱՄԵՆԸ ԾԱԽՍԵՐ | G10: =G12 -> 0
F11: այդ թվում`
F12: ='1'!C12 -> ՀՀ աշխատանքի և սոցիալական հարցերի նախարարություն | G12: =G13 -> 0
A13: 10 | F13: ՍՈՑԻԱԼԱԿԱՆ ՊԱՇՏՊԱՆՈՒԹՅՈՒՆ | G13: =G15+G30+G45+G60 -> 0
F14: այդ թվում`
B15: 04 | F15: Ընտանիքի անդամներ և զավակներ | G15: =G17 -> 300000
F16: այդ թվում`
C17: 01 | F17: Ընտանիքի անդամներ և զավակներ | G17: =G19 -> 300000
F18: այդ թվում`
D19: 1068 | F19: Ժողովրդագրական վիճակի բարելավում | G19: =G21 -> 300000
F20: այդ թվում`
E21: 12003 | F21: ='1'!C21 -> Երեխա ունեցող ընտանիքների բնակարանային ապահովման աջակցություն | G21: =G23 -> 300000
F22: այդ թվում` ըստ կատարողների
F23: ՀՀ աշխատանքի և սոցիալական հարցերի նախարարություն | G23: =G25 -> 300000
F24: այդ թվում` բյուջետային ծախսերի տնտեսագիտական դասակարգման հոդվածներ
F25: ԸՆԴԱՄԵՆԸ ԾԱԽՍԵՐ | G25: =G26 -> 300000
F26: ԸՆԹԱՑԻԿ ԾԱԽՍԵՐ | G26: =G27 -> 300000
F27: ՍՈՑԻԱԼԱԿԱՆ ՆՊԱՍՏՆԵՐ ԵՎ ԿԵՆՍԱԹՈՇԱԿՆԵՐ | G27: =G28 -> 300000
F28: Սոցիալական օգնության դրամական արտահայտությամբ նպաստներ (բյուջեից) | G28: =G29 -> 300000
F29: - Այլ նպաստներ բյուջեից | G29: ='1'!D20 -> 300000
B30: 02 | F30: Ծերություն | G30: =G32 -> 23945
F31: այդ թվում`
C32: 01 | F32: Ծերություն | G32: =G34 -> 23945
F33: այդ թվում`
D34: 1032 | F34: ='1'!C27 -> Խնամքի ծառայություններ 18 տարեկանից բարձր տարիքի անձանց | G34: =G36 -> 23945
F35: այդ թվում`
E36: ='1'!B33 -> 32006 | F36: ='1'!C34 -> Տարեց և (կամ) հաշմանդամություն ունեցող անձանց շուրջօրյա խնամք մատուցող պետական ոչ առևտրային կազմակերպությունների շենքային պայմանների բարելավում | G36: =G38 -> 23945
F37: այդ թվում` ըստ կատարողների
F38: ՀՀ աշխատանքի և սոցիալական հարցերի նախարարություն | G38: =G40 -> 23945
F39: այդ թվում` բյուջետային ծախսերի տնտեսագիտական դասակարգման հոդվածներ
F40: ԸՆԴԱՄԵՆԸ ԾԱԽՍԵՐ | G40: =G41 -> 23945
F41: ԸՆԹԱՑԻԿ ԾԱԽՍԵՐ | G41: =G42 -> 23945
F42: ԴՐԱՄԱՇՆՈՐՀՆԵՐ | G42: =G43 -> 23945
F43: - Կապիտալ դրամաշնորհներ պետական հատվածի այլ մակարդակներին | G43: =G44 -> 23945
F44: - Կապիտալ դրամաշնորհներ պետական և համայնքային ոչ առևտրային կազմակերպություններին | G44: ='1'!D33 -> 23945
B45: 06 | F45: Բնակարանային ապահովում | G45: =G47 -> 1765
F46: այդ թվում`
C47: 01 | F47: Բնակարանային ապահովում | G47: =G49 -> 1765
F48: այդ թվում`
D49: 1098 | F49: Բնակարանային ապահովում | G49: =G51 -> 1765
F50: այդ թվում`
E51: ='1'!B46 -> 12006 | F51: ='1'!C47 -> Արցախի Հանրապետության առանձին շրջաններից տեղահանված ընտանիքների համար բնակարանային մատչելիության ապահովման պետական աջակցության տրամադրում | G51: =G53 -> 1765
F52: այդ թվում` ըստ կատարողների
F53: ՀՀ աշխատանքի և սոցիալական հարցեր նախարարության միասնական սոցիալական ծառայություն | G53: =G55 -> 1765
F54: այդ թվում` բյուջետային ծախսերի տնտեսագիտական դասակարգման հոդվածներ
F55: ԸՆԴԱՄԵՆԸ ԾԱԽՍԵՐ | G55: =G56 -> 1765
F56: ԸՆԹԱՑԻԿ ԾԱԽՍԵՐ | G56: =G57 -> 1765
F57: ԴՐԱՄԱՇՆՈՐՀՆԵՐ | G57: =G58 -> 1765
F58: Ընթացիկ դրամաշնորհներ պետական հատվածի այլ մակարդակներին | G58: =G59 -> 1765
F59: - Այլ ընթացիկ դրամաշնորհներ | G59: ='1'!D46 -> 1765
B60: ՛05 | F60: Գործազրկություն | G60: =G62 -> -325710
F61: այդ թվում`
C62: ՛01 | F62: Գործազրկություն | G62: =G64 -> -325710
F63: այդ թվում`
D64: 1088 | F64: Զբաղվածության ծրագիր | G64: =+G67+G76 -> -325710
F65: այդ թվում`
D66: Ծրագրի միջոցառումներ
E67: 12009 | F67: Մինչև երեք տարեկան երեխայի խնամքի արձակուրդում գտնվող անձանց, երեխայի մինչև երկու տարին լրանալը աշխատանքի վերադառնալու դեպքում, երեխայի խնամքն աշխատանքին զուգահեռ կազմակերպելու համար աջակցության տրամադրում | G67: =G69 -> -93980
F68: այդ թվում` ըստ կատարողների
F69: ՀՀ աշխատանքի և սոցիալական հարցերի նախարարության միասնական սոցիալական ծառայություն | G69: =G71 -> -93980
F70: այդ թվում` բյուջետային ծախսերի տնտեսագիտական դասակարգման հոդվածներ
F71: ԸՆԴԱՄԵՆԸ ԾԱԽՍԵՐ | G71: =G72 -> -93980
F72: ԸՆԹԱՑԻԿ ԾԱԽՍԵՐ | G72: =G73 -> -93980
F73: ՍՈՑԻԱԼԱԿԱՆ ՆՊԱՍՏՆԵՐ ԵՎ ԿԵՆՍԱԹՈՇԱԿՆԵՐ | G73: =G74 -> -93980
F74: Սոցիալական օգնության դրամական արտահայտությամբ նպաստներ (բյուջեից) | G74: =G75 -> -93980
F75: - Այլ նպաստներ բյուջեից | G75: ='1'!D59 -> -93980
E76: 12013 | F76: ='1'!C66 -> Աշխատաշուկայում անմրցունակ անձանց անասնապահությամբ զբաղվելու համար աջակցության տրամադրում | G76: =G78 -> -231730
F77: այդ թվում` ըստ կատարողների
F78: ՀՀ աշխատանքի և սոցիալական հարցերի նախարարության միասնական սոցիալական ծառայություն | G78: =G80 -> -231730
F79: այդ թվում` բյուջետային ծախսերի տնտեսագիտական դասակարգման հոդվածներ
F80: ԸՆԴԱՄԵՆԸ ԾԱԽՍԵՐ | G80: =G81 -> -231730
F81: ԸՆԹԱՑԻԿ ԾԱԽՍԵՐ | G81: =G82 -> -231730
F82: ՍՈՑԻԱԼԱԿԱՆ ՆՊԱՍՏՆԵՐ ԵՎ ԿԵՆՍԱԹՈՇԱԿՆԵՐ | G82: =G83 -> -231730
F83: Սոցիալական օգնության դրամական արտահայտությամբ նպաստներ (բյուջեից) | G83: =G84 -> -231730
F84: - Այլ նպաստներ բյուջեից | G84: ='1'!D65 -> -231730

Sheet 3
E2: Հավելված N 3
D3: ՀՀ կառավարության 2022 թվականի
D4: -----------------ի N -----------Ն որոշման
A6: ՀԱՅԱՍՏԱՆԻ ՀԱՆՐԱՊԵՏՈՒԹՅԱՆ ԿԱՌԱՎԱՐՈՒԹՅԱՆ 2021 ԹՎԱԿԱՆԻ ԴԵԿՏԵՄԲԵՐԻ 23-Ի N 2121-Ն ՈՐՈՇՄԱՆ N 5 ՀԱՎԵԼՎԱԾԻ N 7 ԱՂՅՈՒՍԱԿՈՒՄ ԿԱՏԱՐՎՈՂ ՓՈՓՈԽՈՒԹՅՈՒՆԸ ԵՎ ԼՐԱՑՈՒՄՆԵՐԸ
E7: հազար դրամ
A8: Ծրագրային դասիչ | C8: Բյուջետային հատկացումների գլխավոր կարգադրիչների, ծրագրերի, միջոցառումների և միջոցառումները կատարող պետական մարմինների անվանումները | D8: Միջոցառումները կատարող պետական մարմինների և դրամաշնորհ ստացող տնտեսավարող սուբյեկտների անվանումները | E8: Ցուցանիշների փոփոխությունները (ավելացումները նշված են դրական նշանով)
A9: Ծրագիր | B9: Միջոցառում | E9: Տարի
C10: ՀՀ աշխատանքի և սոցիալական հարցերի նախարարություն | E10: =E13 -> 23945
C11: այդ թվում`
A12: ='1'!A26 -> 1032 | B12: ='1'!C27 -> Խնամքի ծառայություններ 18 տարեկանից բարձր տարիքի անձանց
B13: ='1'!B33 -> 32006 | C13: ='1'!C34 -> Տարեց և (կամ) հաշմանդամություն ունեցող անձանց շուրջօրյա խնամք մատուցող պետական ոչ առևտրային կազմակերպությունների շենքային պայմանների բարելավում | D13: ՀՀ աշխատանքի և սոցիալական հարցերի նախարարություն | E13: =E14 -> 23945
D14: «Ձորակ» հոգեկան առողջության խնդիրներ ունեցող անձանց շուրջօրյա խնամքի կենտրոն» ՊՈԱԿ | E14: ='1'!D33 -> 23945

Sheet 4
C2: Հավելված N 4
C3: ՀՀ կառավարության 2022 թվականի
C4: -----------------ի N -----------Ն որոշման
A6: ՀԱՅԱՍՏԱՆԻ ՀԱՆՐԱՊԵՏՈՒԹՅԱՆ ԿԱՌԱՎԱՐՈՒԹՅԱՆ 2021 ԹՎԱԿԱՆԻ ԴԵԿՏԵՄԲԵՐԻ 23-Ի N 2121-Ն ՈՐՈՇՄԱՆ N 9 ՀԱՎԵԼՎԱԾԻ 9․15 ԱՂՅՈՒՍԱԿՈՒՄ ԿԱՏԱՐՎՈՂ ՓՈՓՈԽՈՒԹՅՈՒՆՆԵՐԸ ԵՎ ԼՐԱՑՈՒՄՆԵՐԸ
A7: Հայաստանի Հանրապետության աշխատանքի և սոցիալական հարցերի նախարարություն
A8: ՄԱՍ 2. ՊԵՏԱԿԱՆ ՄԱՐՄՆԻ ԳԾՈՎ ԱՐԴՅՈՒՆՔԱՅԻՆ (ԿԱՏԱՐՈՂԱԿԱՆ) ՑՈՒՑԱՆԻՇՆԵՐԸ
A11: Ծրագրի դասիչը | B11: Ծրագրի անվանումը
A12: 1068 | B12: Ժողովրդագրական վիճակի բարելավում
A14: Ծրագրի միջոցառումները
A15: Ծրագրի դասիչը` | B15: 1068 | C15: Ցուցանիշների փոփոխությունը (ավելացումը նշված է դրական նշանով)
A16: Միջոցառման դասիչը` | B16: 12003 | C16: Տարի
A17: Միջոցառման անվանումը` | B17: Երեխա ունեցող ընտանիքների բնակարանային ապահովման աջակցություն
A18: Նկարագրությունը` | B18: Երեխա ունեցող ընտանիքների բնակարանային ապահովման աջակցության տրամադրում
A19: Միջոցառման տեսակը` | B19: Տրանսֆերտների տրամադրում
A20: Շահառուների ընտրության չափանիշները | B20: Երեխա ունեցող ընտանիքներ, ովքեր ցանկանում են ձեռք բերել բնակարան, կանխավճարի ապահովագրության ձեռք բերում երիտասարդ ընտանիքների համար, երեխայի ծննդով պայմանավորված հիփոթեքային վարկ մարող ընտանիքներ
A21: Արդյունքի չափորոշիչներ | G21: \
A22: Շահառուների թվաքանակ (մարզային բնակավայրերում բնակարան ձեռք բերելու համար միանվագ դրամական աջակցության բաղադրիչ) | C22: 65
A23: Շահառուների թվաքանակ (Երիտասարդ ընտանիքների համար կանխավճարի ապահովագրության բաղադրիչ) | C23: 95
A24: Շահառուների թվաքանակ (երեխայի ծննդով պայմանավորված` հիփոթեքային վարկ մարող ընտանիքներին դրամական աջակցության բաղադրիչ) | C24: 260
A25: Միջոցառման վրա կատարվող ծախսը (հազար դրամ) | C25: ='1'!D20 -> 300000
A27: Ծրագրի դասիչը | B27: Ծրագրի անվանումը
A28: 1032 | B28: Խնամքի ծառայություններ 18 տարեկանից բարձր տարիքի անձանց
A30: Ծրագրի դասիչը` | B30: 1032 | C30: Ցուցանիշների փոփոխությունները (ավելացումները նշված են դրական նշանով)
A31: Միջոցառման դասիչը` | B31: 32006 | C31: Տարի
A32: Միջոցառման անվանումը` | B32: ='1'!C34 -> Տարեց և (կամ) հաշմանդամություն ունեցող անձանց շուրջօրյա խնամք մատուցող պետական ոչ առևտրային կազմակերպությունների շենքային պայմանների բարելավում
A33: Նկարագրությունը` | B33: ='1'!C36 -> Տարեց և (կամ) հաշմանդամություն ունեցող անձանց շուրջօրյա խնամք մատուցող ՊՈԱԿ-ների հիմնանորոգման և շինարարական աշխատանքների իրականացում
A34: Միջոցառման տեսակը` | B34: ='1'!C38 -> Այլ պետական կազմակերպությունների կողմից օգտագործվող ոչ ֆինանսական ակտիվների հետ գործառնություններ
A35: Ակտիվն օգտագործող կազմակերպության անվանումը՛
A36: Արդյունքի չափորոշիչներ
A37: Հինանորոգվող հաստատությունների քանակ, հատ | C37: 1
A38: Միջոցառման վրա կատարվող ծախսը (հազար դրամ) | C38: ='1'!D33 -> 23945
A40: Ծրագրի դասիչը | B40: Ծրագրի անվանումը
A41: 1098 | B41: Բնակարանային ապահովում
A43: Ծրագրի միջոցառումները
A44: Ծրագրի դասիչը` | B44: 1098 | C44: Ցուցանիշների փոփոխությունը (ավելացումը նշված է դրական նշանով)
A45: Միջոցառման դասիչը` | B45: ='2'!E51 -> 12006 | C45: Տարի
A46: Միջոցառման անվանումը` | B46: Արցախի Հանրապետության առանձին շրջաններից տեղահանված ընտանիքների համար բնակարանային մատչելիության ապահովման պետական աջակցության տրամադրում
A47: Նկարագրությունը` | B47: Արցախի Հանրապետության առանձին շրջաններից տեղահանված ընտանիքների համար բնակարանային մատչելիության ապահովման պետական աջակցության տրամադրում
A48: Միջոցառման տեսակը` | B48: Տրանսֆերտների տրամադրում
A49: Շահառուների ընտրության չափանիշները
A50: Արդյունքի չափորոշիչներ
A51: Շահառու ընտանիքների թվաքանակ | C51: 8
A52: Միջոցառման վրա կատարվող ծախսը (հազար դրամ) | C52: ='1'!D46 -> 1765
A54: Ծրագրի դասիչը | B54: Ծրագրի անվանումը
A55: 1088 | B55: Զբաղվածության ծրագիր
A57: Ծրագրի միջոցառումները
A59: Ծրագրի դասիչը` | B59: 1088 | C59: Ցուցանիշների փոփոխությունը (նվազեցումը նշված է փակագծերում)
A60: Միջոցառման դասիչը` | B60: 12009 | C60: Տարի
A61: Միջոցառման անվանումը` | B61: Մինչև երեք տարեկան երեխայի խնամքի արձակուրդում գտնվող անձանց, երեխայի մինչև երկու տարին լրանալը աշխատանքի վերադառնալու դեպքում, երեխայի խնամքն աշխատանքին զուգահեռ կազմակերպելու համար աջակցության տրամադրում
A62: Նկարագրությունը` | B62: Մինչև երեք տարեկան երեխայի խնամքի արձակ. գտնվող անձանց մինչև երեխայի երկու տարին լրանալը աշխ. վերադառնալու նպատակով երեխայի խնամքի կազմակերպում դայակի կամ վճարովի հիմունքներով գործող նախադպ. հաստատութ. միջոցով՛ ապահովելով կանանց աշխ. ներուժի օգտագործ.
A63: Միջոցառման տեսակը` | B63: Տրանսֆերտների տրամադրում
A64: Շահառուների ընտրության չափանիշները | B64: Զբաղվածության տարածքային կենտրոններում հաշվառված, մինչև երեք տարեկան երեխայի խնամքի արձակուրդում գտնվող` աշխատանք փնտրող անձինք, ովքեր մինչև երեխայի երկու տարին լրանալը վերադառնում են աշխատանքի
A65: Արդյունքի չափորոշիչներ
A66: Միջոցառման վրա կատարվող ծախսը (հազար դրամ) | C66: ='1'!D59 -> -93980
A68: Ծրագրի դասիչը` | B68: 1088 | C68: Ցուցանիշների փոփոխությունը (նվազեցումը նշված է փակագծերում)
A69: Միջոցառման դասիչը` | B69: 12013 | C69: Տարի
A70: Միջոցառման անվանումը` | B70: ='1'!C66 -> Աշխատաշուկայում անմրցունակ անձանց անասնապահությամբ զբաղվելու համար աջակցության տրամադրում
A71: Նկարագրությունը` | B71: Աշխատաշուկայում անմրցունակ անձանց անասնապահությամբ զբաղվելու միջոցով ինքնազբաղվածության խթանման ապահովում
A72: Միջոցառման տեսակը` | B72: Տրանսֆերտների տրամադրում
A73: Շահառուների ընտրության չափանիշները | B73: Զբաղվածության տարածքային կենտրոններում հաշվառված աշխատաշուկայում անմրցունակ և առնվազն երեք ամիս գործազուրկի կարգավիճակում գտնվող անձինք
A74: Արդյունքի չափորոշիչներ
A75: Միջոցառման վրա կատարվող ծախսը (հազար դրամ) | C75: ='1'!D65 -> -231730

Sheet 5
C2: Հավելված N 5
C3: ՀՀ կառավարության 2022 թվականի
C4: -----------------ի N -----------Ն որոշման
A6: ՀԱՅԱՍՏԱՆԻ ՀԱՆՐԱՊԵՏՈՒԹՅԱՆ ԿԱՌԱՎԱՐՈՒԹՅԱՆ 2021 ԹՎԱԿԱՆԻ ԴԵԿՏԵՄԲԵՐԻ 23-Ի N 2121-Ն N 9.1 ՀԱՎԵԼՎԱԾԻ N 9.1.16 ԵՎ N 9.1.20 ԱՂՅՈՒՍԱԿՆԵՐՈՒՄ ԿԱՏԱՐՎՈՂ ՓՈՓՈԽՈՒԹՅՈՒՆՆԵՐԸ ԵՎ ԼՐԱՑՈՒՄՆԵՐԸ
A7: ՀՀ աշխատանքի և սոցիալական հարցերի նախարարություն
A8: ՄԱՍ 1. ՊԵՏԱԿԱՆ ՄԱՐՄՆԻ ԳԾՈՎ ԱՐԴՅՈՒՆՔԱՅԻՆ (ԿԱՏԱՐՈՂԱԿԱՆ) ՑՈՒՑԱՆԻՇՆԵՐԸ
A12: Ծրագրի դասիչը | B12: Ծրագրի անվանումը
A13: 1068 | B13: Ժողովրդագրական վիճակի բարելավում
A15: Ծրագրի միջոցառումները
A16: Ծրագրի դասիչը` | B16: 1068 | C16: Ցուցանիշների փոփոխությունը (ավելացումը նշված է դրական նշանով)
A17: Միջոցառման դասիչը` | B17: 12003 | C17: ='1'!D10 -> Տարի
A18: Միջոցառման անվանումը` | B18: Երեխա ունեցող ընտանիքների բնակարանային ապահովման աջակցություն
A19: Նկարագրությունը` | B19: Երեխա ունեցող ընտանիքների բնակարանային ապահովման աջակցության տրամադրում
A20: Միջոցառման տեսակը` | B20: Տրանսֆերտների տրամադրում
A21: Շահառուների ընտրության չափանիշները | B21: Երեխա ունեցող ընտանիքներ, ովքեր ցանկանում են ձեռք բերել բնակարան, կանխավճարի ապահովագրության ձեռք բերում երիտասարդ ընտանիքների համար, երեխայի ծննդով պայմանավորված հիփոթեքային վարկ մարող ընտանիքներ
A22: Արդյունքի չափորոշիչներ
A23: Շահառուների թվաքանակ (մարզային բնակավայրերում բնակարան ձեռք բերելու համար միանվագ դրամական աջակցության բաղադրիչ) | C23: ='4'!C22 -> 65
A24: Շահառուների թվաքանակ (Երիտասարդ ընտանիքների համար կանխավճարի ապահովագրության բաղադրիչ) | C24: ='4'!C23 -> 95
A25: Շահառուների թվաքանակ (երեխայի ծննդով պայմանավորված` հիփոթեքային վարկ մարող ընտանիքներին դրամական աջակցության բաղադրիչ) | C25: ='4'!C24 -> 260
A26: Միջոցառման վրա կատարվող ծախսը (հազար դրամ) | C26: ='4'!C25 -> 300000
A28: Ծրագրի դասիչը | B28: Ծրագրի անվանումը
A29: 1032 | B29: Խնամքի ծառայություններ 18 տարեկանից բարձր տարիքի անձանց
A31: Ծրագրի դասիչը` | B31: 1032 | C31: Ցուցանիշների փոփոխությունները (ավելացումները նշված են դրական նշանով)
A32: Միջոցառման դասիչը` | B32: 32006 | C32: Տարի
A33: Միջոցառման անվանումը` | B33: ='4'!B32 -> Տարեց և (կամ) հաշմանդամություն ունեցող անձանց շուրջօրյա խնամք մատուցող պետական ոչ առևտրային կազմակերպությունների շենքային պայմանների բարելավում
A34: Նկարագրությունը` | B34: ='4'!B33 -> Տարեց և (կամ) հաշմանդամություն ունեցող անձանց շուրջօրյա խնամք մատուցող ՊՈԱԿ-ների հիմնանորոգման և շինարարական աշխատանքների իրականացում
A35: Միջոցառման տեսակը` | B35: ='4'!B34 -> Այլ պետական կազմակերպությունների կողմից օգտագործվող ոչ ֆինանսական ակտիվների հետ գործառնություններ
A36: Ակտիվն օգտագործող կազմակերպության անվանումը՛ | B36: ='4'!B35 -> 0
A37: Արդյունքի չափորոշիչներ
A38: Վերանորոգման ենթակա օբյեկտների թիվ, հատ | C38: 1
A39: Միջոցառման վրա կատարվող ծախսը (հազար դրամ) | C39: ='4'!C38 -> 23945
A41: ՀՀ աշխատանքի և սոցիալական հարցերի նախարարության միասնական սոցիալական ծառայություն
A42: ՄԱՍ 1. ՊԵՏԱԿԱՆ ՄԱՐՄՆԻ ԳԾՈՎ ԱՐԴՅՈՒՆՔԱՅԻՆ (ԿԱՏԱՐՈՂԱԿԱՆ) ՑՈՒՑԱՆԻՇՆԵՐԸ
A45: Ծրագրի դասիչը | B45: Ծրագրի անվանումը
A46: 1098 | B46: Բնակարանային ապահովում
A48: Ծրագրի միջոցառումները
A49: Ծրագրի դասիչը` | B49: 1098 | C49: Ցուցանիշների փոփոխությունը (ավելացումը նշված է դրական նշանով)
A50: Միջոցառման դասիչը` | B50: ='4'!B45 -> 12006 | C50: Տարի
A51: Միջոցառման անվանումը` | B51: Արցախի Հանրապետության առանձին շրջաններից տեղահանված ընտանիքների համար բնակարանային մատչելիության ապահովման պետական աջակցության տրամադրում
A52: Նկարագրությունը` | B52: Արցախի Հանրապետության առանձին շրջաններից տեղահանված ընտանիքների համար բնակարանային մատչելիության ապահովման պետական աջակցության տրամադրում
A53: Միջոցառման տեսակը` | B53: Տրանսֆերտների տրամադրում
A54: Շահառուների ընտրության չափանիշները
A55: Արդյունքի չափորոշիչներ
A56: Շահառու ընտանիքների թվաքանակ | C56: 8
A57: Միջոցառման վրա կատարվող ծախսը (հազար դրամ) | C57: ='4'!C52 -> 1765
A59: Ծրագրի դասիչը | B59: Ծրագրի անվանումը
A60: 1088 | B60: Զբաղվածության ծրագիր
A62: Ծրագրի միջոցառումները
A64: Ծրագրի դասիչը` | B64: 1088 | C64: Ցուցանիշների փոփոխությունը (նվազեցումը նշված է փակագծերում)
A65: Միջոցառման դասիչը` | B65: 12009 | C65: Տարի
A66: Միջոցառման անվանումը` | B66: Մինչև երեք տարեկան երեխայի խնամքի արձակուրդում գտնվող անձանց, երեխայի մինչև երկու տարին լրանալը աշխատանքի վերադառնալու դեպքում, երեխայի խնամքն աշխատանքին զուգահեռ կազմակերպելու համար աջակցության տրամադրում
A67: Նկարագրությունը` | B67: Մինչև երեք տարեկան երեխայի խնամքի արձակ. գտնվող անձանց մինչև երեխայի երկու տարին լրանալը աշխ. վերադառնալու նպատակով երեխայի խնամքի կազմակերպում դայակի կամ վճարովի հիմունքներով գործող նախադպ. հաստատութ. միջոցով՛ ապահովելով կանանց աշխ. ներուժի օգտագործ.
A68: Միջոցառման տեսակը` | B68: Տրանսֆերտների տրամադրում
A69: Շահառուների ընտրության չափանիշները | B69: Զբաղվածության տարածքային կենտրոններում հաշվառված, մինչև երեք տարեկան երեխայի խնամքի արձակուրդում գտնվող` աշխատանք փնտրող անձինք, ովքեր մինչև երեխայի երկու տարին լրանալը վերադառնում են աշխատանքի
A70: Արդյունքի չափորոշիչներ
A71: Միջոցառման վրա կատարվող ծախսը (հազար դրամ) | C71: ='1'!D59 -> -93980
A73: Ծրագրի դասիչը` | B73: 1088 | C73: Ցուցանիշների փոփոխությունը (նվազեցումը նշված է փակագծերում)
A74: Միջոցառման դասիչը` | B74: 12013 | C74: Տարի
A75: Միջոցառման անվանումը` | B75: ='4'!B70 -> Աշխատաշուկայում անմրցունակ անձանց անասնապահությամբ զբաղվելու համար աջակցության տրամադրում
A76: Նկարագրությունը` | B76: Աշխատաշուկայում անմրցունակ անձանց անասնապահությամբ զբաղվելու միջոցով ինքնազբաղվածության խթանման ապահովում
A77: Միջոցառման տեսակը` | B77: Տրանսֆերտների տրամադրում
A78: Շահառուների ընտրության չափանիշները | B78: Զբաղվածության տարածքային կենտրոններում հաշվառված աշխատաշուկայում անմրցունակ և առնվազն երեք ամիս գործազուրկի կարգավիճակում գտնվող անձինք
A79: Արդյունքի չափորոշիչներ
A80: Միջոցառման վրա կատարվող ծախսը (հազար դրամ) | C80: ='1'!D65 -> -231730
