Workbook
Name AgencyCode: #REF!
Name AgencyCode: #REF!
Name AgencyName: #REF!
Name AgencyName: #REF!
Name åû: #REF!
Name åû: #REF!
Name davit: #REF!
Name davit: #REF!
Name Functional1: #REF!
Name Functional1: #REF!
Name ggg: #REF!
Name ggg: #REF!
Name hav: #REF!
Name hav: #REF!
Name havelvac: #REF!
Name havelvac: #REF!
Name mas: #REF!
Name mas: #REF!
Name mass: #REF!
Name mass: #REF!
Name PANature: #REF!
Name PANature: #REF!
Name PAType: #REF!
Name PAType: #REF!
Name Performance2: #REF!
Name Performance2: #REF!
Name PerformanceType: #REF!
Name PerformanceType: #REF!
Name x: #REF!
Name x: #REF!
Name Հավելված: #REF!
Name Հավելված: #REF!
Name Մաս: #REF!
Name Մաս: #REF!
Name շախմատիստ: #REF!
Name շախմատիստ: #REF!

Sheet 1
D1: Հավելված N 1
D2: ՀՀ կառավարության 2022 թվականի
C3: -----------------ի N -----------Ն որոշման
A6: «ՀԱՅԱՍՏԱՆԻ ՀԱՆՐԱՊԵՏՈՒԹՅԱՆ 2022 ԹՎԱԿԱՆԻ ՊԵՏԱԿԱՆ ԲՅՈՒՋԵԻ ՄԱՍԻՆ» ՀԱՅԱՍՏԱՆԻ ՀԱՆՐԱՊԵՏՈՒԹՅԱՆ ՕՐԵՆՔԻ N 1 ՀԱՎԵԼՎԱԾԻ N 2 ԱՂՅՈՒՍԱԿՈՒՄ ԿԱՏԱՐՎՈՂ ՎԵՐԱԲԱՇԽՈՒՄԸ ԵՎ ՀԱՅԱՍՏԱՆԻ ՀԱՆՐԱՊԵՏՈՒԹՅԱՆ ԿԱՌԱՎԱՐՈՒԹՅԱՆ 2021 ԹՎԱԿԱՆԻ ԴԵԿՏԵՄԲԵՐԻ 23-Ի N 2121-Ն ՈՐՈՇՄԱՆ N 5 ՀԱՎԵԼՎԱԾԻ N 1 ԱՂՅՈՒՍԱԿՈՒՄ ԿԱՏԱՐՎՈՂ ՓՈՓՈԽՈՒԹՅՈՒՆՆԵՐԸ ԵՎ ԼՐԱՑՈՒՄՆԵՐԸ
D8: հազար դրամ
A9: Ծրագրային դասիչը | C9: Բյուջետային հատկացումների գլխավոր կարգադրիչների, ծրագրերի և միջոցառումների անվանումները | D9: Ցուցանիշների փոփոխությունները ավելացումները նշված են դրական նշանով, իսկ նվազեցումները՝ փակագծերում
A10: Ծրագիր | B10: Միջոցառում | D10: Տարի
C11: ԸՆԴԱՄԵՆԸ | D11: =D12 -> 0
C12: ՀՀ աշխատանքի և սոցիալական հարցերի նախարարություն | D12: =D13+D26+D39+D52 -> 0
A13: 1068 | C13: Ծրագրի անվանումը` | D13: 300000
C14: Ժողովրդագրական վիճակի բարելավում
C15: Ծրագրի նպատակը`
C16: Խթանել ժողովրդագրական վիճակի բարելավումը
C17: Վերջնական արդյունքի նկարագրությունը`
C18: Ժողովրդագրական վիճակի բարելավում և բազմազավակության աճ
A19: Ծրագրի միջոցառումներ
B20: 12003 | C20: Միջոցառման անվանումը` | D20: 300000
C21: Երեխա ունեցող ընտանիքների բնակարանային ապահովման աջակցություն
C22: Միջոցառման նկարագրությունը`
C23: Երեխա ունեցող ընտանիքների բնակարանային ապահովման աջակցության տրամադրում
C24: Միջոցառման տեսակը
C25: Տրանսֆերտների տրամադրում
A26: 1032 | C26: Ծրագրի անվանումը` | D26: =D33 -> 23945
C27: Խնամքի ծառայություններ 18 տարեկանից բարձր տարիքի անձանց
C28: Ծրագրի նպատակը`
C29: Խնամքի կարիք ունեցող 18 տարեկանից բարձր տարիքի անձանց բնականոն կենսագործունեության ապահովում
C30: Վերջնական արդյունքի նկարագրությունը`
C31: Խնամքի ծառայություններ ստացած առավել կարիքավոր անձանց ընդգրկվածության աճ
A32: Ծրագրի մրջոցառումներ
B33: 32006 | C33: Միջոցառման անվանումը` | D33: 23945
C34: Տարեց և (կամ) հաշմանդամություն ունեցող անձանց շուրջօրյա խնամք մատուցող պետական ոչ առևտրային կազմակերպությունների շենքային պայմանների բարելավում
C35: Միջոցառման նկարագրությունը`
C36: Տարեց և (կամ) հաշմանդամություն ունեցող անձանց շուրջօրյա խնամք մատուցող ՊՈԱԿ-ների հիմնանորոգման և շինարարական աշխատանքների իրականացում
C37: Միջոցառման տեսակը`
C38: Այլ պետական կազմակերպությունների կողմից օգտագործվող ոչ ֆինանսական ակտիվների հետ գործառնություններ
A39: 1098 | C39: Ծրագրի անվանումը` | D39: =D46 -> 1765
C40: Բնակարանային ապահովում
C41: Ծրագրի նպատակը`
C42: Հանրապետությունում մշտական բնակության վայր չունեցող անօթևան անձանց բնակարանային ապահովմանն աջակցություն
C43: Վերջնական արդյունքի նկարագրությունը`
...

Sheet 2
G1: Հավելված N 2
F2: ՀՀ կառավարության 2022 թվականի
F3: -----------------ի N -----------Ն որոշման
A5: ՀԱՅԱՍՏԱՆԻ ՀԱՆՐԱՊԵՏՈՒԹՅԱՆ ԿԱՌԱՎԱՐՈՒԹՅԱՆ 2021 ԹՎԱԿԱՆԻ ԴԵԿՏԵՄԲԵՐԻ 23-Ի N 2121-Ն ՈՐՈՇՄԱՆ N 3 և N 4 ՀԱՎԵԼՎԱԾՆԵՐՈՒՄ ԿԱՏԱՐՎՈՂ ՓՈՓՈԽՈՒԹՅՈՒՆՆԵՐԸ ԵՎ ԼՐԱՑՈՒՄՆԵՐԸ
G7: հազար դրամ
A8: Գործառական դասիչը | D8: Ծրագրային դասիչը | F8: Բյուջետային ծախսերի գործառական դասակարգման բաժինների, խմբերի և դասերի, բյուջետային ծրագրերի միջոցառումների, բյուջետային հատկացումների գլխավոր կարգադրիչների անվանումները | G8: Ցուցանիշների փոփոխությունները (ավելացումները նշված են դրական, իսկ նվազեցումները՝ փակագծերում)
A9: Բաժինը | B9: Խումբը | C9: Դասը | D9: Ծրագիր | E9: Միջոցառում | G9: Տարի
F10: ԸՆԴԱՄԵՆԸ ԾԱԽՍԵՐ | G10: =G12 -> 0
F11: այդ թվում`
F12: ='1'!C12 -> ՀՀ աշխատանքի և սոցիալական հարցերի նախարարություն | G12: =G13 -> 0
A13: 10 | F13: ՍՈՑԻԱԼԱԿԱՆ ՊԱՇՏՊԱՆՈՒԹՅՈՒՆ | G13: =G15+G30+G45+G60 -> 0
F14: այդ թվում`
B15: 04 | F15: Ընտանիքի անդամներ և զավակներ | G15: =G17 -> 300000
F16: այդ թվում`
C17: 01 | F17: Ընտանիքի անդամներ և զավակներ | G17: =G19 -> 300000
F18: այդ թվում`
D19: 1068 | F19: Ժողովրդագրական վիճակի բարելավում | G19: =G21 -> 300000
F20: այդ թվում`
E21: 12003 | F21: ='1'!C21 -> Երեխա ունեցող ընտանիքների բնակարանային ապահովման աջակցություն | G21: =G23 -> 300000
F22: այդ թվում` ըստ կատարողների
F23: ՀՀ աշխատանքի և սոցիալական հարցերի նախարարություն | G23: =G25 -> 300000
F24: այդ թվում` բյուջետային ծախսերի տնտեսագիտական դասակարգման հոդվածներ
F25: ԸՆԴԱՄԵՆԸ ԾԱԽՍԵՐ | G25: =G26 -> 300000
F26: ԸՆԹԱՑԻԿ ԾԱԽՍԵՐ | G26: =G27 -> 300000
F27: ՍՈՑԻԱԼԱԿԱՆ ՆՊԱՍՏՆԵՐ ԵՎ ԿԵՆՍԱԹՈՇԱԿՆԵՐ | G27: =G28 -> 300000
F28: Սոցիալական օգնության դրամական արտահայտությամբ նպաստներ (բյուջեից) | G28: =G29 -> 300000
F29: - Այլ նպաստներ բյուջեից | G29: ='1'!D20 -> 300000
B30: 02 | F30: Ծերություն | G30: =G32 -> 23945
F31: այդ թվում`
C32: 01 | F32: Ծերություն | G32: =G34 -> 23945
F33: այդ թվում`
D34: 1032 | F34: ='1'!C27 -> Խնամքի ծառայություններ 18 տարեկանից բարձր տարիքի անձանց | G34: =G36 -> 23945
F35: այդ թվում`
E36: ='1'!B33 -> 32006 | F36: ='1'!C34 -> Տարեց և (կամ) հաշմանդամություն ունեցող անձանց շուրջօրյա խնամք մատուցող պետական ոչ առևտրային կազմակերպությունների շենքային պայմանների բարելավում | G36: =G38 -> 23945
F37: այդ թվում` ըստ կատարողների
F38: ՀՀ աշխատանքի և սոցիալական հարցերի նախարարություն | G38: =G40 -> 23945
F39: այդ թվում` բյուջետային ծախսերի տնտեսագիտական դասակարգման հոդվածներ
F40: ԸՆԴԱՄԵՆԸ ԾԱԽՍԵՐ | G40: =G41 -> 23945
F41: ԸՆԹԱՑԻԿ ԾԱԽՍԵՐ | G41: =G42 -> 23945
F42: ԴՐԱՄԱՇՆՈՐՀՆԵՐ | G42: =G43 -> 23945
...

Sheet 3
E2: Հավելված N 3
D3: ՀՀ կառավարության 2022 թվականի
D4: -----------------ի N -----------Ն որոշման
A6: ՀԱՅԱՍՏԱՆԻ ՀԱՆՐԱՊԵՏՈՒԹՅԱՆ ԿԱՌԱՎԱՐՈՒԹՅԱՆ 2021 ԹՎԱԿԱՆԻ ԴԵԿՏԵՄԲԵՐԻ 23-Ի N 2121-Ն ՈՐՈՇՄԱՆ N 5 ՀԱՎԵԼՎԱԾԻ N 7 ԱՂՅՈՒՍԱԿՈՒՄ ԿԱՏԱՐՎՈՂ ՓՈՓՈԽՈՒԹՅՈՒՆԸ ԵՎ ԼՐԱՑՈՒՄՆԵՐԸ
E7: հազար դրամ
A8: Ծրագրային դասիչ | C8: Բյուջետային հատկացումների գլխավոր կարգադրիչների, ծրագրերի, միջոցառումների և միջոցառումները կատարող պետական մարմինների անվանումները | D8: Միջոցառումները կատարող պետական մարմինների և դրամաշնորհ ստացող տնտեսավարող սուբյեկտների անվանումները | E8: Ցուցանիշների փոփոխությունները (ավելացումները նշված են դրական նշանով)
A9: Ծրագիր | B9: Միջոցառում | E9: Տարի
C10: ՀՀ աշխատանքի և սոցիալական հարցերի նախարարություն | E10: =E13 -> 23945
C11: այդ թվում`
A12: ='1'!A26 -> 1032 | B12: ='1'!C27 -> Խնամքի ծառայություններ 18 տարեկանից բարձր տարիքի անձանց
B13: ='1'!B33 -> 32006 | C13: ='1'!C34 -> Տարեց և (կամ) հաշմանդամություն ունեցող անձանց շուրջօրյա խնամք մատուցող պետական ոչ առևտրային կազմակերպությունների շենքային պայմանների բարելավում | D13: ՀՀ աշխատանքի և սոցիալական հարցերի նախարարություն | E13: =E14 -> 23945
D14: «Ձորակ» հոգեկան առողջության խնդիրներ ունեցող անձանց շուրջօրյա խնամքի կենտրոն» ՊՈԱԿ | E14: ='1'!D33 -> 23945

Sheet 4
C2: Հավելված N 4
C3: ՀՀ կառավարության 2022 թվականի
C4: -----------------ի N -----------Ն որոշման
A6: ՀԱՅԱՍՏԱՆԻ ՀԱՆՐԱՊԵՏՈՒԹՅԱՆ ԿԱՌԱՎԱՐՈՒԹՅԱՆ 2021 ԹՎԱԿԱՆԻ ԴԵԿՏԵՄԲԵՐԻ 23-Ի N 2121-Ն ՈՐՈՇՄԱՆ N 9 ՀԱՎԵԼՎԱԾԻ 9․15 ԱՂՅՈՒՍԱԿՈՒՄ ԿԱՏԱՐՎՈՂ ՓՈՓՈԽՈՒԹՅՈՒՆՆԵՐԸ ԵՎ ԼՐԱՑՈՒՄՆԵՐԸ
A7: Հայաստանի Հանրապետության աշխատանքի և սոցիալական հարցերի նախարարություն
A8: ՄԱՍ 2. ՊԵՏԱԿԱՆ ՄԱՐՄՆԻ ԳԾՈՎ ԱՐԴՅՈՒՆՔԱՅԻՆ (ԿԱՏԱՐՈՂԱԿԱՆ) ՑՈՒՑԱՆԻՇՆԵՐԸ
A11: Ծրագրի դասիչը | B11: Ծրագրի անվանումը
A12: 1068 | B12: Ժողովրդագրական վիճակի բարելավում
A14: Ծրագրի միջոցառումները
A15: Ծրագրի դասիչը` | B15: 1068 | C15: Ցուցանիշների փոփոխությունը (ավելացումը նշված է դրական նշանով)
A16: Միջոցառման դասիչը` | B16: 12003 | C16: Տարի
A17: Միջոցառման անվանումը` | B17: Երեխա ունեցող ընտանիքների բնակարանային ապահովման աջակցություն
A18: Նկարագրությունը` | B18: Երեխա ունեցող ընտանիքների բնակարանային ապահովման աջակցության տրամադրում
A19: Միջոցառման տեսակը` | B19: Տրանսֆերտների տրամադրում
A20: Շահառուների ընտրության չափանիշները | B20: Երեխա ունեցող ընտանիքներ, ովքեր ցանկանում են ձեռք բերել բնակարան, կանխավճարի ապահովագրության ձեռք բերում երիտասարդ ընտանիքների համար, երեխայի ծննդով պայմանավորված հիփոթեքային վարկ մարող ընտանիքներ
A21: Արդյունքի չափորոշիչներ | G21: \
A22: Շահառուների թվաքանակ (մարզային բնակավայրերում բնակարան ձեռք բերելու համար միանվագ դրամական աջակցության բաղադրիչ) | C22: 65
A23: Շահառուների թվաքանակ (Երիտասարդ ընտանիքների համար կանխավճարի ապահովագրության բաղադրիչ) | C23: 95
A24: Շահառուների թվաքանակ (երեխայի ծննդով պայմանավորված` հիփոթեքային վարկ մարող ընտանիքներին դրամական աջակցության բաղադրիչ) | C24: 260
A25: Միջոցառման վրա կատարվող ծախսը (հազար դրամ) | C25: ='1'!D20 -> 300000
A27: Ծրագրի դասիչը | B27: Ծրագրի անվանումը
A28: 1032 | B28: Խնամքի ծառայություններ 18 տարեկանից բարձր տարիքի անձանց
A30: Ծրագրի դասիչը` | B30: 1032 | C30: Ցուցանիշների փոփոխությունները (ավելացումները նշված են դրական նշանով)
A31: Միջոցառման դասիչը` | B31: 32006 | C31: Տարի
A32: Միջոցառման անվանումը` | B32: ='1'!C34 -> Տարեց և (կամ) հաշմանդամություն ունեցող անձանց շուրջօրյա խնամք մատուցող պետական ոչ առևտրային կազմակերպությունների շենքային պայմանների բարելավում
A33: Նկարագրությունը` | B33: ='1'!C36 -> Տարեց և (կամ) հաշմանդամություն ունեցող անձանց շուրջօրյա խնամք մատուցող ՊՈԱԿ-ների հիմնանորոգման և շինարարական աշխատանքների իրականացում
A34: Միջոցառման տեսակը` | B34: ='1'!C38 -> Այլ պետական կազմակերպությունների կողմից օգտագործվող ոչ ֆինանսական ակտիվների հետ գործառնություններ
A35: Ակտիվն օգտագործող կազմակերպության անվանումը՛
A36: Արդյունքի չափորոշիչներ
A37: Հինանորոգվող հաստատությունների քանակ, հատ | C37: 1
A38: Միջոցառման վրա կատարվող ծախսը (հազար դրամ) | C38: ='1'!D33 -> 23945
A40: Ծրագրի դասիչը | B40: Ծրագրի անվանումը
A41: 1098 | B41: Բնակարանային ապահովում
A43: Ծրագրի միջոցառումները
A44: Ծրագրի դասիչը` | B44: 1098 | C44: Ցուցանիշների փոփոխությունը (ավելացումը նշված է դրական նշանով)
A45: Միջոցառման դասիչը` | B45: ='2'!E51 -> 12006 | C45: Տարի
A46: Միջոցառման անվանումը` | B46: Արցախի Հանրապետության առանձին շրջաններից տեղահանված ընտանիքների համար բնակարանային մատչելիության ապահովման պետական աջակցության տրամադրում
A47: Նկարագրությունը` | B47: Արցախի Հանրապետության առանձին շրջաններից տեղահանված ընտանիքների համար բնակարանային մատչելիության ապահովման պետական աջակցության տրամադրում
A48: Միջոցառման տեսակը` | B48: Տրանսֆերտների տրամադրում
A49: Շահառուների ընտրության չափանիշները
...

Sheet 5
C2: Հավելված N 5
C3: ՀՀ կառավարության 2022 թվականի
C4: -----------------ի N -----------Ն որոշման
A6: ՀԱՅԱՍՏԱՆԻ ՀԱՆՐԱՊԵՏՈՒԹՅԱՆ ԿԱՌԱՎԱՐՈՒԹՅԱՆ 2021 ԹՎԱԿԱՆԻ ԴԵԿՏԵՄԲԵՐԻ 23-Ի N 2121-Ն N 9.1 ՀԱՎԵԼՎԱԾԻ N 9.1.16 ԵՎ N 9.1.20 ԱՂՅՈՒՍԱԿՆԵՐՈՒՄ ԿԱՏԱՐՎՈՂ ՓՈՓՈԽՈՒԹՅՈՒՆՆԵՐԸ ԵՎ ԼՐԱՑՈՒՄՆԵՐԸ
A7: ՀՀ աշխատանքի և սոցիալական հարցերի նախարարություն
A8: ՄԱՍ 1. ՊԵՏԱԿԱՆ ՄԱՐՄՆԻ ԳԾՈՎ ԱՐԴՅՈՒՆՔԱՅԻՆ (ԿԱՏԱՐՈՂԱԿԱՆ) ՑՈՒՑԱՆԻՇՆԵՐԸ
A12: Ծրագրի դասիչը | B12: Ծրագրի անվանումը
A13: 1068 | B13: Ժողովրդագրական վիճակի բարելավում
A15: Ծրագրի միջոցառումները
A16: Ծրագրի դասիչը` | B16: 1068 | C16: Ցուցանիշների փոփոխությունը (ավելացումը նշված է դրական նշանով)
A17: Միջոցառման դասիչը` | B17: 12003 | C17: ='1'!D10 -> Տարի
A18: Միջոցառման անվանումը` | B18: Երեխա ունեցող ընտանիքների բնակարանային ապահովման աջակցություն
A19: Նկարագրությունը` | B19: Երեխա ունեցող ընտանիքների բնակարանային ապահովման աջակցության տրամադրում
A20: Միջոցառման տեսակը` | B20: Տրանսֆերտների տրամադրում
A21: Շահառուների ընտրության չափանիշները | B21: Երեխա ունեցող ընտանիքներ, ովքեր ցանկանում են ձեռք բերել բնակարան, կանխավճարի ապահովագրության ձեռք բերում երիտասարդ ընտանիքների համար, երեխայի ծննդով պայմանավորված հիփոթեքային վարկ մարող ընտանիքներ
A22: Արդյունքի չափորոշիչներ
A23: Շահառուների թվաքանակ (մարզային բնակավայրերում բնակարան ձեռք բերելու համար միանվագ դրամական աջակցության բաղադրիչ) | C23: ='4'!C22 -> 65
A24: Շահառուների թվաքանակ (Երիտասարդ ընտանիքների համար կանխավճարի ապահովագրության բաղադրիչ) | C24: ='4'!C23 -> 95
A25: Շահառուների թվաքանակ (երեխայի ծննդով պայմանավորված` հիփոթեքային վարկ մարող ընտանիքներին դրամական աջակցության բաղադրիչ) | C25: ='4'!C24 -> 260
A26: Միջոցառման վրա կատարվող ծախսը (հազար դրամ) | C26: ='4'!C25 -> 300000
A28: Ծրագրի դասիչը | B28: Ծրագրի անվանումը
A29: 1032 | B29: Խնամքի ծառայություններ 18 տարեկանից բարձր տարիքի անձանց
A31: Ծրագրի դասիչը` | B31: 1032 | C31: Ցուցանիշների փոփոխությունները (ավելացումները նշված են դրական նշանով)
A32: Միջոցառման դասիչը` | B32: 32006 | C32: Տարի
A33: Միջոցառման անվանումը` | B33: ='4'!B32 -> Տարեց և (կամ) հաշմանդամություն ունեցող անձանց շուրջօրյա խնամք մատուցող պետական ոչ առևտրային կազմակերպությունների շենքային պայմանների բարելավում
A34: Նկարագրությունը` | B34: ='4'!B33 -> Տարեց և (կամ) հաշմանդամություն ունեցող անձանց շուրջօրյա խնամք մատուցող ՊՈԱԿ-ների հիմնանորոգման և շինարարական աշխատանքների իրականացում
A35: Միջոցառման տեսակը` | B35: ='4'!B34 -> Այլ պետական կազմակերպությունների կողմից օգտագործվող ոչ ֆինանսական ակտիվների հետ գործառնություններ
A36: Ակտիվն օգտագործող կազմակերպության անվանումը՛ | B36: ='4'!B35 -> 0
A37: Արդյունքի չափորոշիչներ
A38: Վերանորոգման ենթակա օբյեկտների թիվ, հատ | C38: 1
A39: Միջոցառման վրա կատարվող ծախսը (հազար դրամ) | C39: ='4'!C38 -> 23945
A41: ՀՀ աշխատանքի և սոցիալական հարցերի նախարարության միասնական սոցիալական ծառայություն
A42: ՄԱՍ 1. ՊԵՏԱԿԱՆ ՄԱՐՄՆԻ ԳԾՈՎ ԱՐԴՅՈՒՆՔԱՅԻՆ (ԿԱՏԱՐՈՂԱԿԱՆ) ՑՈՒՑԱՆԻՇՆԵՐԸ
A45: Ծրագրի դասիչը | B45: Ծրագրի անվանումը
A46: 1098 | B46: Բնակարանային ապահովում
A48: Ծրագրի միջոցառումները
A49: Ծրագրի դասիչը` | B49: 1098 | C49: Ցուցանիշների փոփոխությունը (ավելացումը նշված է դրական նշանով)
A50: Միջոցառման դասիչը` | B50: ='4'!B45 -> 12006 | C50: Տարի
A51: Միջոցառման անվանումը` | B51: Արցախի Հանրապետության առանձին շրջաններից տեղահանված ընտանիքների համար բնակարանային մատչելիության ապահովման պետական աջակցության տրամադրում
A52: Նկարագրությունը` | B52: Արցախի Հանրապետության առանձին շրջաններից տեղահանված ընտանիքների համար բնակարանային մատչելիության ապահովման պետական աջակցության տրամադրում
...
