Workbook

Sheet Հավելված 1
D2: ՀավելվածN 1
D3: ՀՀ կառավարության 2022 թվականի
D4: ______________ ի ___Ն որոշման
A6: «ՀԱՅԱUՏԱՆԻ ՀԱՆՐԱՊԵՏՈՒԹՅԱՆ 2022 ԹՎԱԿԱՆԻ ՊԵՏԱԿԱՆ ԲՅՈՒՋԵԻ ՄԱUԻՆ» OՐԵՆՔԻ N 1 ՀԱՎԵԼՎԱԾԻ N 2 ԱՂՅՈՒՍԱԿՈՒՄ ԿԱՏԱՐՎՈՂ ՎԵՐԱԲԱՇԽՈՒՄԸ ԵՎ ՀԱՅԱՍՏԱՆԻ ՀԱՆՐԱՊԵՏՈՒԹՅԱՆ ԿԱՌԱՎԱՐՈՒԹՅԱՆ 2021 ԹՎԱԿԱՆԻ ԴԵԿՏԵՄԲԵՐԻ 23-Ի N 2121-Ն ՈՐՈՇՄԱՆ N 5 ՀԱՎԵԼՎԱԾԻ N 1 ԱՂՅՈՒՍԱԿՈՒՄ ԿԱՏԱՐՎՈՂ ՓՈՓՈԽՈՒԹՅՈՒՆՆԵՐԸ
A8: Ծրագրային դասիչը | C8: Բյուջետային հատկացումների գլխավոր կարգադրիչների, ծրագրերի և միջոցառումների անվանումները | D8: Ցուցանիշների փոփոխությունը (ավելացումները նշված են դրական նշանով, իսկ նվազեցումները` փակագծերում)
A9: Ծրագիր | B9: Միջոցառում
D10: Տարի
C11: ԸՆԴԱՄԵՆԸ | D11: =D12++D32 -> 0
C12: ՀՀ վարչապետի աշխատակազմ | D12: =D13 -> -6400
A13: 1018 | C13: Ծրագրի անվանումը` | D13: =+D20+D26 -> -6400
C14: Պետական հատվածի արդիականացման ծրագիր
C15: Ծրագրի նպատակը`
C16: Ընտրված էլեկտրոնային կառավարման կատարելագործված ծառայությունների հասանելիության բարելավում
C17: Վերջնական արդյունքի նկարագրությունը՝
C18: Ծառայությունների մատուցման էլեկտրոնային կառավարման լուծումների իրագործում, հանրային հատվածի արդիականացման և կառավարման բարեփոխումների ընդգրկուն ընթացքի ապահովում:
A19: Ծրագրի միջոցառումներ
B20: 11001 | C20: Միջոցառման անվանումը` | D20: =+'Հավելված 3'!D19 -> -30273
C21: Համաշխարհային բանկի աջակցությամբ իրականացվող Պետական հատվածի արդիականացման երրորդ ծրագիր
C22: Միջոցառման նկարագրությունը`
C23: ՀՀ հանրային հատվածի ֆինանսական կառավարման բարեփոխումների մշակման և իրականացման խորհրդատվական ծառայությունների ձեռքբերում
C24: Միջոցառման տեսակը`
C25: Ծառայությունների մատուցում
B26: 32001 | C26: Միջոցառման անվանումը` | D26: =+'Հավելված 3'!D25 -> 23873
C27: Համաշխարհային բանկի աջակցությամբ իրականացվող Պետական հատվածի արդիականացման երրորդ ծրագրի շրջանակներում էլեկտրոնային կառավարման համակարգերի և սարքավորումների ձեռքբերում
C28: Միջոցառման նկարագրությունը`
C29: ՀԲ-ի աջակցությամբ իրականացվող Պետական հատվածի արդիականացման երրորդ ծրագրի շրջանակներում էլեկտրոնային կառավարման համակարգերի և սարքավորումների ձեռքբերում
C30: Միջոցառման տեսակը`
C31: Այլ պետական կազմակերպությունների կողմից օգտագործվող ոչ ֆինանսական ակտիվների հետ գործառնություններ
C32: ՀՀ կառավարություն | D32: =D33 -> 6400
A33: 1139 | C33: Ծրագրի անվանումը` | D33: =+D40 -> 6400
C34: ՀՀ կառավարության պահուստային ֆոնդ
C35: Ծրագրի նպատակը`
C36: Պետական բյուջեում չկանխատեսված, ինչպես նաև բյուջետային երաշխիքների ապահովման ծախսերի ֆինանսավորման ապահովում
C37: Վերջնական արդյունքի նկարագրությունը`
C38: Պահուստային ֆոնդի կառավարման արդյունավետություն և թափանցիկություն
A39: Ծրագրի միջոցառումներ
B40: 11001 | C40: Միջոցառման անվանումը` | D40: ='Հավելված 2'!G57 -> 6400
C41: ՀՀ կառավարության պահուստային ֆոնդ
C42: Միջոցառման նկարագրությունը`
C43: ՀՀ պետական բյուջեում նախատեսված ելքերի լրացուցիչ ֆինանսավորման՝ պետական բյուջեում չկանխատեսված ելքերի, ինչպես նաև բյուջետային երաշխիքների ապահովման ելքերի ֆինանսավորման ապահովում
C44: Միջոցառման տեսակը
C45: Ծառայությունների մատուցում

Sheet Հավելված 2
G2: Հավելված N 2
G3: ՀՀ կառավարության 2022 թվականի
G4: ______________ ի ___Ն որոշման
A6: ՀԱՅԱՍՏԱՆԻ ՀԱՆՐԱՊԵՏՈՒԹՅԱՆ ԿԱՌԱՎԱՐՈՒԹՅԱՆ 2021 ԹՎԱԿԱՆԻ ԴԵԿՏԵՄԲԵՐԻ 23-Ի N 2121-Ն ՈՐՈՇՄԱՆ NN 3 ԵՎ 4 ՀԱՎԵԼՎԱԾՆԵՐՈՒՄ ԿԱՏԱՐՎՈՂ ՓՈՓՈԽՈՒԹՅՈՒՆՆԵՐԸ
A8: Գործառնական դասիչը | D8: Ծրագրային դասիչը | F8: Բյուջետային ծախսերի գործառական դասակարգման բաժինների, խմբերի և դասերի, բյուջետային ծրագերի միջոցառումների, բյուջետային հատկացումների գլխավոր կարգադրիչների և բյուջետային տնտեսագիտական դասակարգման հոդվածների անվանումները | G8: Ցուցանիշների փոփոխությունը (ավելացումները նշված են դրական նշանով, իսկ նվազեցումները` փակագծերում)
A9: Բաժին | B9: Խումբ | C9: Դաս | D9: Ծրագիր | E9: Միջոցառում
G10: Տարի
F11: ԸՆԴԱՄԵՆԸ՝ ԾԱԽՍԵՐ | G11: =G13+G40 -> 0
F12: այդ թվում`
A13: 01 | F13: ԸՆԴՀԱՆՈՒՐ ԲՆՈՒՅԹԻ ՀԱՆՐԱՅԻՆ ԾԱՌԱՅՈՒԹՅՈՒՆՆԵՐ | G13: =+G15 -> -6400
F14: այդ թվում՝
B15: 06 | F15: Ընդհանուր բնույթի հանրային ծառայություններ (այլ դասերին չպատկանող) | G15: =+G17 -> -6400
F16: այդ թվում՝
C17: 01 | F17: Ընդհանուր բնույթի հանրային ծառայություններ (այլ դասերին չպատկանող) | G17: =G19 -> -6400
F18: այդ թվում`
F19: ՀՀ վարչապետի աշխատակազմ | G19: =G21 -> -6400
F20: այդ թվում՝
D21: 1018 | F21: Պետական հատվածի արդիականացման ծրագիր | G21: =G23+G31 -> -6400
F22: այդ թվում՝
E23: 11001 | F23: Համաշխարհային բանկի աջակցությամբ իրականացվող Պետական հատվածի արդիականացման երրորդ ծրագիր | G23: =+G25 -> -30273
F24: այդ թվում` ըստ կատարողների
F25: ՀՀ վարչապետի աշխատակազմ | G25: =G29 -> -30273
F26: այդ թվում` բյուջետային ծախսերի տնտեսագիտական դասակարգման հոդվածներ
F27: ԸՆԴԱՄԵՆԸ ԾԱԽՍԵՐ | G27: =G28 -> -30273
F28: ԸՆԹԱՑԻԿ ԾԱԽՍԵՐ | G28: =G29 -> -30273
F29: ԱՅԼ ԾԱԽՍԵՐ | G29: =SUM(G30:G30) -> -30273
F30: - Այլ ծախսեր | G30: ='Հավելված 3'!D24 -> -30273
E31: 32001 | F31: Համաշխարհային բանկի աջակցությամբ իրականացվող Պետական հատվածի արդիականացման երրորդ ծրագրի շրջանակներում էլեկտրոնային կառավարման համակարգերի և սարքավորումների ձեռքբերում | G31: =+G33 -> 23873
F32: այդ թվում` ըստ կատարողների
F33: ՀՀ վարչապետի աշխատակազմ | G33: =G35 -> 23873
F34: այդ թվում` բյուջետային ծախսերի տնտեսագիտական դասակարգման հոդվածներ
F35: ԸՆԴԱՄԵՆԸ ԾԱԽՍԵՐ | G35: =G36 -> 23873
F36: ՈՉ ՖԻՆԱՆՍԱԿԱՆ ԱԿՏԻՎՆԵՐԻ ԳԾՈՎ ԾԱԽՍԵՐ | G36: =G37 -> 23873
F37: ՀԻՄՆԱԿԱՆ ՄԻՋՈՑՆԵՐ | G37: =G38 -> 23873
F38: ՄԵՔԵՆԱՆԵՐ ԵՎ ՍԱՐՔԱՎՈՐՈՒՄՆԵՐ | G38: =SUM(G39:G39) -> 23873
F39: - Այլ մեքենաներ և սարքավորումներ | G39: ='Հավելված 3'!D32 -> 23873
A40: 11 | F40: ՀԻՄՆԱԿԱՆ ԲԱԺԻՆՆԵՐԻՆ ՉԴԱՍՎՈՂ ՊԱՀՈՒՍՏԱՅԻՆ ՖՈՆԴԵՐ | G40: =G42+G84 -> 6400
F41: այդ թվում`
B42: 01 | F42: ՀՀ կառավարության և համայնքների պահուստային ֆոնդ | G42: =G44+G71+G58 -> 6400
F43: այդ թվում`
C44: 01 | F44: ՀՀ կառավարության պահուստային ֆոնդ | G44: =G48 -> 6400
F45: այդ թվում`
F46: ՀՀ կառավարություն | G46: =G48 -> 6400
F47: այդ թվում`
D48: 1139 | F48: ՀՀ կառավարության պահուստային ֆոնդ | G48: =G50 -> 6400
F49: այդ թվում`
E50: 11001 | F50: ՀՀ կառավարության պահուստային ֆոնդ | G50: =G52 -> 6400
F51: այդ թվում` ըստ կատարողների
F52: ՀՀ կառավարություն | G52: =G54 -> 6400
F53: այդ թվում` բյուջետային ծախսերի տնտեսագիտական դասակարգման հոդվածներ
F54: ԸՆԴԱՄԵՆԸ ԾԱԽՍԵՐ | G54: =G55 -> 6400
F55: ԸՆԹԱՑԻԿ ԾԱԽՍԵՐ | G55: =G56 -> 6400
F56: ԱՅԼ ԾԱԽՍԵՐ | G56: =G57 -> 6400
F57: Պահուստային միջոցներ | G57: =6400 -> 6400

Sheet Հավելված 3
F1: Հավելված N3
F2: ՀՀ կառավարության 2022 թվականի
F3: ______________ ի ___Ն որոշման
A5: «ՀԱՅԱՍՏԱՆԻ ՀԱՆՐԱՊԵՏՈՒԹՅԱՆ 2022 ԹՎԱԿԱՆԻ ՊԵՏԱԿԱՆ ԲՅՈՒՋԵԻ ՄԱՍԻՆ» ՀԱՅԱՍՏԱՆԻ ՀԱՆՐԱՊԵՏՈՒԹՅԱՆ ՕՐԵՆՔԻ N 1 ՀԱՎԵԼՎԱԾԻ N 4 ԱՂՅՈՒՍԱԿՈՒՄ ԵՎ ՀԱՅԱՍՏԱՆԻ ՀԱՆՐԱՊԵՏՈՒԹՅԱՆ ԿԱՌԱՎԱՐՈՒԹՅԱՆ 2021 ԹՎԱԿԱՆԻ ԴԵԿՏԵՄԲԵՐԻ 23-Ի N 2121-Ն ՈՐՈՇՄԱՆ N 5 ՀԱՎԵԼՎԱԾԻ N 3 ԱՂՅՈՒՍԱԿՈՒՄ ԿԱՏԱՐՎՈՂ ՓՈՓՈԽՈՒԹՅՈՒՆՆԵՐԸ
F7: հազ. դրամ
A8: Ծրագրային դասիչը | C8: Բյուջետային հատկացումների գլխավոր կարգադրիչների, ծրագրերի, միջոցառումների և միջոցառումները կատարող պետական մարմինների անվանումները | D8: Ցուցանիշների փոփոխությունը (ավելացումները նշված են դրական նշանով, իսկ նվազեցումները` փակագծերում)
D10: Տարի
A11: ծրագիրը | B11: միջոցառումը | D11: ընդամենը | E11: այդ թվում՝
E12: վարկային միջոցներ | F12: համաֆինան_x000D_ սավորում
C13: ԸՆԴԱՄԵՆԸ այդ թվում` | D13: =E13+F13 -> -6400 | E13: =E17 -> 0 | F13: =F17 -> -6400
C14: - ԸՆԹԱՑԻԿ ԾԱԽՍԵՐ | D14: =+E14+F14 -> -30273 | E14: =E23 -> -23873 | F14: =F23 -> -6400
C15: - ՈՉ ՖԻՆԱՆՍԱԿԱՆ ԱԿՏԻՎՆԵՐԻ ԳԾՈՎ ԾԱԽՍԵՐ | D15: =E15+F15 -> 23873 | E15: =E25 -> 23873 | F15: =F25 -> 0
C16: ՀՀ ՎԱՐՉԱՊԵՏԻ ԱՇԽԱՏԱԿԱԶՄ այդ թվում` | D16: =D17 -> -6400 | E16: =E17 -> 0 | F16: =F17 -> -6400
A17: 1018 | C17: Պետական հատվածի արդիականացման ծրագիր | D17: =+E17+F17 -> -6400 | E17: =+E19+E25 -> 0 | F17: =+F19+F25 -> -6400
C18: այդ թվում՝
B19: 11001 | C19: Համաշխարհային բանկի աջակցությամբ իրականացվող Պետական հատվածի արդիականացման երրորդ ծրագիր | D19: =+E19+F19 -> -30273 | E19: =+E23 -> -23873 | F19: =+F23 -> -6400
C20: այդ թվում` ըստ կատարողների
C21: ՀՀ վարչապետի աշխատակազմ | D21: =E21+F21 -> -30273 | E21: =E19 -> -23873 | F21: =F19 -> -6400
C22: այդ թվում` բյուջետային ծախսերի տնտեսագիտական դասակարգման հոդվածներ
C23: ԸՆԹԱՑԻԿ ԾԱԽՍԵՐ | D23: =E23+F23 -> -30273 | E23: =E24 -> -23873 | F23: =F24 -> -6400
C24: Այլ ծախսեր | D24: =E24+F24 -> -30273 | E24: =ROUND((-50000*477.45/1000),0) -> -23873 | F24: -6400
B25: 32001 | C25: Համաշխարհային բանկի աջակցությամբ իրականացվող Պետական հատվածի արդիականացման երրորդ ծրագրի շրջանակներում էլեկտրոնային կառավարման համակարգերի և սարքավորումների ձեռքբերում | D25: =+E25+F25 -> 23873 | E25: =+E29 -> 23873 | F25: =+F29 -> 0
C26: այդ թվում` ըստ կատարողների
C27: ՀՀ վարչապետի աշխատակազմ | D27: =E27+F27 -> 23873 | E27: =E25 -> 23873 | F27: =F25 -> 0
C28: այդ թվում` բյուջետային ծախսերի տնտեսագիտական դասակարգման հոդվածներ
C29: ՈՉ ՖԻՆԱՆՍԱԿԱՆ ԱԿՏԻՎՆԵՐԻ ԳԾՈՎ ԾԱԽՍԵՐ | D29: =E29+F29 -> 23873 | E29: =E32 -> 23873 | F29: =F32 -> 0
C30: ՀԻՄՆԱԿԱՆ ՄԻՋՈՑՆԵՐ
C31: ՄԵՔԵՆԱՆԵՐ ԵՎ ՍԱՐՔԱՎՈՐՈՒՄՆԵՐ
C32: Այլ մեքենաներ և սարքավորումներ | D32: =E32+F32 -> 23873 | E32: =ROUND((50000*477.45/1000),0) -> 23873 | F32: 0

Sheet Հավելված 4
C1: Հավելված N 4
B2: ՀՀ կառավարության 2022 թվականի
B3: ______________ ի ___Ն որոշման
A7: ՀԱՅԱՍՏԱՆԻ ՀԱՆՐԱՊԵՏՈՒԹՅԱՆ ԿԱՌԱՎԱՐՈՒԹՅԱՆ 2021 ԹՎԱԿԱՆԻ ԴԵԿՏԵՄԲԵՐԻ 23-Ի ԹԻՎ 2121-Ն ՈՐՈՇՄԱՆ N 9 ՀԱՎԵԼՎԱԾԻ N 9.3 ԱՂՅՈՒՍԱԿՈՒՄ ԿԱՏԱՐՎՈՂ ՓՈՓՈԽՈՒԹՅՈՒՆՆԵՐԸ ԵՎ ԼՐԱՑՈՒՄՆԵՐԸ
A9: ՀՀ վարչապետի աշխատակազմ
A10: ՄԱՍ 2. ՊԵՏԱԿԱՆ ՄԱՐՄՆԻ ԳԾՈՎ ԱՐԴՅՈՒՆՔԱՅԻՆ (ԿԱՏԱՐՈՂԱԿԱՆ) ՑՈՒՑԱՆԻՇՆԵՐԸ
A12: Ծրագրի դասիչը | B12: Ծրագրի անվանումը
A13: 1018 | B13: Պետական հատվածի արդիականացման ծրագիր
A15: Ծրագրի միջոցառումները
A16: Ծրագրի դասիչը` | B16: 1018 | D16: Ցուցանիշների փոփոխությունը (ավելացումները նշված են դրական նշանով, իսկ նվազեցումները` փակագծերում)
A18: Միջոցառման դասիչը` | B18: 11001 | C18: Ինն ամիս | D18: Տարի
A19: Միջոցառման անվանումը` | B19: Համաշխարհային բանկի աջակցությամբ իրականացվող Պետական հատվածի արդիականացման երրորդ ծրագիր
A20: Նկարագրությունը` | B20: ՀՀ հանրային հատվածի ֆինանսական կառավարման բարեփոխումների մշակման և իրականացման խորհրդատվական ծառայությունների ձեռքբերում
A21: Միջոցառման տեսակը` | B21: Ծառայությունների մատուցում
A22: Ծառայությունը մատուցող կազմակերպություն(ների) անվանում(ներ)ը՛ | B22: Մասնագիտացված միավորում
A23: Արդյունքի չափորոշիչներ
A24: Հարկադիր կատարումն ապահովող ծառայության էլեկտրոնային համակարգի ներդրում, հատ | C24: -1 | D24: -1
A25: Հարկադիր կատարումն ապահովող ծառայության ծրագրային ապահովման մշակում, հատ | C25: 1 | D25: 1
A26: Միջոցառման վրա կատարվող ծախսը (հազար դրամ) | C26: #REF! | D26: ='Հավելված 1'!D20 -> -30273
A27: Ծրագրի դասիչը` | B27: 1018 | C27: Ցուցանիշների փոփոխությունը (ավելացումները նշված են դրական նշանով)
A29: Միջոցառման դասիչը` | B29: 32001 | C29: Ինն ամիս | D29: Տարի
A30: Միջոցառման անվանումը` | B30: Համաշխարհային բանկի աջակցությամբ իրականացվող Պետական հատվածի արդիականացման երրորդ ծրագրի շրջանակներում էլեկտրոնային կառավարման համակարգերի և սարքավորումների ձեռքբերում
A31: Նկարագրությունը` | B31: ՀԲ-ի աջակցությամբ իրականացվող Պետական հատվածի արդիականացման երրորդ ծրագրի շրջանակներում էլեկտրոնային կառավարման համակարգերի և սարքավորումների ձեռքբերում
A32: Միջոցառման տեսակը` | B32: Այլ պետական կազմակերպությունների կողմից օգտագործվող ոչ ֆինանսական ակտիվների հետ գործառնություններ
A33: Ակտիվն օգտագործող կազմակերպության (ների) անվանում(ները)՛ | B33: ՀՀ հանրային հատվածի կազմակերպություններ
A34: Արդյունքի չափորոշիչներ
A35: Միջոցառման վրա կատարվող ծախսը (հազար դրամ) | C35: #REF! | D35: ='Հավելված 1'!D26 -> 23873
A37: ՀԱՅԱՍՏԱՆԻ ՀԱՆՐԱՊԵՏՈՒԹՅԱՆ ԿԱՌԱՎԱՐՈՒԹՅԱՆ 2021 ԹՎԱԿԱՆԻ ԴԵԿՏԵՄԲԵՐԻ 23-Ի N 2121-Ն ՈՐՈՇՄԱՆ N 9 ՀԱՎԵԼՎԱԾԻ N 9.47 ԱՂՅՈՒՍԱԿՈՒՄ ԿԱՏԱՐՎՈՂ ՓՈՓՈԽՈՒԹՅՈՒՆՆԵՐԸ
A39: ՀՀ կառավարություն
A40: ՄԱՍ 2. ՊԵՏԱԿԱՆ ՄԱՐՄՆԻ ԳԾՈՎ ԱՐԴՅՈՒՆՔԱՅԻՆ (ԿԱՏԱՐՈՂԱԿԱՆ) ՑՈՒՑԱՆԻՇՆԵՐԸ
A42: Ծրագրի դասիչը | B42: Ծրագրի անվանումը
A43: 1139 | B43: ՀՀ կառավարության պահուստային ֆոնդ
A45: Ծրագրի միջոցառումները
A46: Ծրագրի դասիչը` | B46: 1139 | C46: Ցուցանիշների փոփոխությունը (ավելացումները նշված են դրական նշանով)
A47: Միջոցառման դասիչը` | B47: 11001 | C47: Ինն ամիս | D47: Տարի
A48: Միջոցառման անվանումը` | B48: ՀՀ կառավարության պահուստային ֆոնդ
A49: Նկարագրությունը` | B49: ՀՀ պետական բյուջեում նախատեսված ելքերի լրացուցիչ ֆինանսավորման՝ պետական բյուջեում չկանխատեսված ելքերի, ինչպես նաև բյուջետային երաշխիքների ապահովման ելքերի ֆինանսավորման ապահովում
A50: Միջոցառման տեսակը` | B50: Ծառայությունների մատուցում
A51: Միջոցառումն իրականացնողի անվանումը | B51: ՀՀ կառավարություն
A52: Արդյունքի չափորոշիչներ
A53: Միջոցառման վրա կատարված ծախսը (հազար դրամ) | C53: #REF! | D53: ='Հավելված 1'!D40 -> 6400

Sheet Հավելված 5
C1: Հավելված N5
B2: ՀՀ կառավարության 2022 թվականի
B3: ______________ ի ___Ն որոշման
A7: ՀԱՅԱՍՏԱՆԻ ՀԱՆՐԱՊԵՏՈՒԹՅԱՆ ԿԱՌԱՎԱՐՈՒԹՅԱՆ 2021 ԹՎԱԿԱՆԻ ԴԵԿՏԵՄԲԵՐԻ 23-Ի ԹԻՎ 2121-Ն ՈՐՈՇՄԱՆ N 9.1 ՀԱՎԵԼՎԱԾԻ N 9.1.3 ԱՂՅՈՒՍԱԿՈՒՄ ԿԱՏԱՐՎՈՂ ՓՈՓՈԽՈՒԹՅՈՒՆՆԵՐԸ ԵՎ ԼՐԱՑՈՒՄՆԵՐԸ
A9: ՀՀ վարչապետի աշխատակազմ
A10: ՄԱՍ 1. ՊԵՏԱԿԱՆ ՄԱՐՄՆԻ ԳԾՈՎ ԱՐԴՅՈՒՆՔԱՅԻՆ (ԿԱՏԱՐՈՂԱԿԱՆ) ՑՈՒՑԱՆԻՇՆԵՐԸ
A12: Ծրագրի դասիչը | B12: Ծրագրի անվանումը
A13: 1018 | B13: Պետական հատվածի արդիականացման ծրագիր
A15: Ծրագրի միջոցառումները
A16: Ծրագրի դասիչը` | B16: 1018 | C16: Ցուցանիշների փոփոխությունը (ավելացումները նշված են դրական նշանով, իսկ նվազեցումները` փակագծերում)
A18: Միջոցառման դասիչը` | B18: 11001 | C18: Տարի
A19: Միջոցառման անվանումը` | B19: Համաշխարհային բանկի աջակցությամբ իրականացվող Պետական հատվածի արդիականացման երրորդ ծրագիր
A20: Նկարագրությունը` | B20: ՀՀ հանրային հատվածի ֆինանսական կառավարման բարեփոխումների մշակման և իրականացման խորհրդատվական ծառայությունների ձեռքբերում
A21: Միջոցառման տեսակը` | B21: Ծառայությունների մատուցում
A22: Ծառայությունը մատուցող կազմակերպություն(ների) անվանում(ներ)ը՛ | B22: Մասնագիտացված միավորում
A23: Արդյունքի չափորոշիչներ
A24: Հարկադիր կատարումն ապահովող ծառայության էլեկտրոնային համակարգի ներդրում, հատ | C24: -1
A25: Հարկադիր կատարումն ապահովող ծառայության ծրագրային ապահովման մշակում, հատ | C25: 1
A26: Միջոցառման վրա կատարվող ծախսը (հազար դրամ) | C26: ='Հավելված 1'!D20 -> -30273
A28: Ծրագրի դասիչը` | B28: 1018 | C28: Ցուցանիշների փոփոխությունը (ավելացումները նշված են դրական նշանով)
A30: Միջոցառման դասիչը` | B30: 32001 | C30: Տարի
A31: Միջոցառման անվանումը` | B31: Համաշխարհային բանկի աջակցությամբ իրականացվող Պետական հատվածի արդիականացման երրորդ ծրագրի շրջանակներում էլեկտրոնային կառավարման համակարգերի և սարքավորումների ձեռքբերում
A32: Նկարագրությունը` | B32: ՀԲ-ի աջակցությամբ իրականացվող Պետական հատվածի արդիականացման երրորդ ծրագրի շրջանակներում էլեկտրոնային կառավարման համակարգերի և սարքավորումների ձեռքբերում
A33: Միջոցառման տեսակը` | B33: Այլ պետական կազմակերպությունների կողմից օգտագործվող ոչ ֆինանսական ակտիվների հետ գործառնություններ
A34: Ակտիվն օգտագործող կազմակերպության (ների) անվանում(ները)՛ | B34: ՀՀ հանրային հատվածի կազմակերպություններ
A35: Արդյունքի չափորոշիչներ
A36: Միջոցառման վրա կատարվող ծախսը (հազար դրամ) | C36: ='Հավելված 1'!D26 -> 23873
A38: ՀԱՅԱՍՏԱՆԻ ՀԱՆՐԱՊԵՏՈՒԹՅԱՆ ԿԱՌԱՎԱՐՈՒԹՅԱՆ 2021 ԹՎԱԿԱՆԻ ԴԵԿՏԵՄԲԵՐԻ 23-Ի N 2121-Ն ՈՐՈՇՄԱՆ N 9.1 ՀԱՎԵԼՎԱԾԻ N 9.1.59 ԱՂՅՈՒՍԱԿՈՒՄ ԿԱՏԱՐՎՈՂ ՓՈՓՈԽՈՒԹՅՈՒՆՆԵՐԸ
A41: ՀՀ կառավարություն
A42: ՄԱՍ 1. ՊԵՏԱԿԱՆ ՄԱՐՄՆԻ ԳԾՈՎ ԱՐԴՅՈՒՆՔԱՅԻՆ (ԿԱՏԱՐՈՂԱԿԱՆ) ՑՈՒՑԱՆԻՇՆԵՐԸ
A44: Ծրագրի դասիչը | B44: Ծրագրի անվանումը
A45: 1139 | B45: ՀՀ կառավարության պահուստային ֆոնդ
A47: Ծրագրի միջոցառումները
A48: Ծրագրի դասիչը` | B48: 1139 | C48: Ցուցանիշների փոփոխությունը (ավելացումները նշված են դրական նշանով)
A49: Միջոցառման դասիչը` | B49: 11001 | C49: Տարի
A50: Միջոցառման անվանումը` | B50: ՀՀ կառավարության պահուստային ֆոնդ
A51: Նկարագրությունը` | B51: ՀՀ պետական բյուջեում նախատեսված ելքերի լրացուցիչ ֆինանսավորման՝ պետական բյուջեում չկանխատեսված ելքերի, ինչպես նաև բյուջետային երաշխիքների ապահովման ելքերի ֆինանսավորման ապահովում
A52: Միջոցառման տեսակը` | B52: Ծառայությունների մատուցում
A53: Միջոցառումն իրականացնողի անվանումը | B53: ՀՀ կառավարություն
A54: Արդյունքի չափորոշիչներ
A55: Միջոցառման վրա կատարված ծախսը (հազար դրամ) | C55: ='Հավելված 1'!D40 -> 6400
