Workbook
Name a: #REF!
Name a: #REF!
Name a: #REF!
Name AgencyCode: #REF!
Name AgencyCode: #REF!
Name AgencyCode: #REF!
Name AgencyCode: #REF!
Name AgencyCode: #REF!
Name AgencyCode: #REF!
Name AgencyCode: #REF!
Name AgencyName: #REF!
Name AgencyName: #REF!
Name AgencyName: #REF!
Name AgencyName: #REF!
Name davit: #REF!
Name davit: #REF!
Name davit: #REF!
Name davit: #REF!
Name Functional1: #REF!
Name Functional1: #REF!
Name Functional1: #REF!
Name Functional1: #REF!
Name ggg: #REF!
Name ggg: #REF!
Name ggg: #REF!
Name ggg: #REF!
Name PANature: #REF!
Name PANature: #REF!
Name PANature: #REF!
Name PANature: #REF!
Name PAType: #REF!
Name PAType: #REF!
Name PAType: #REF!
Name PAType: #REF!
Name Performance2: #REF!
Name Performance2: #REF!
Name Performance2: #REF!
Name Performance2: #REF!
Name PerformanceType: #REF!
Name PerformanceType: #REF!
Name PerformanceType: #REF!
Name PerformanceType: #REF!
Name Հավելված: #REF!
Name Հավելված: #REF!
Name Հավելված: #REF!
Name Հավելված: #REF!
Name Հավելված: #REF!
Name Մաս: #REF!
Name Մաս: #REF!
Name Մաս: #REF!
Name Մաս: #REF!
Name շախմատիստ: #REF!
Name շախմատիստ: #REF!
Name շախմատիստ: #REF!
Name շախմատիստ: #REF!

Sheet Հավելված N 1
C1: Հավելված N 1
C2: ՀՀ կառավարության 2022 թվականի
C3: ______________ ի ___Ն որոշման
A6: «ՀԱՅԱUՏԱՆԻ ՀԱՆՐԱՊԵՏՈՒԹՅԱՆ 2022 ԹՎԱԿԱՆԻ ՊԵՏԱԿԱՆ ԲՅՈՒՋԵԻ ՄԱUԻՆ» ՀԱՅԱUՏԱՆԻ ՀԱՆՐԱՊԵՏՈՒԹՅԱՆ OՐԵՆՔԻ N 1 ՀԱՎԵԼՎԱԾԻ N 2 ԱՂՅՈՒՍԱԿՈՒՄ ԿԱՏԱՐՎՈՂ ՎԵՐԱԲԱՇԽՈՒՄԸ ԵՎ ՀԱՅԱՍՏԱՆԻ ՀԱՆՐԱՊԵՏՈՒԹՅԱՆ ԿԱՌԱՎԱՐՈՒԹՅԱՆ 2021 ԹՎԱԿԱՆԻ ԴԵԿՏԵՄԲԵՐԻ 23-Ի N 2121-Ն ՈՐՈՇՄԱՆ N 5 ՀԱՎԵԼՎԱԾԻ N 1 ԱՂՅՈՒՍԱԿՈՒՄ ԿԱՏԱՐՎՈՂ ՓՈՓՈԽՈՒԹՅՈՒՆՆԵՐԸ ԵՎ ԼՐԱՑՈՒՄՆԵՐԸ
D9: հազ. դրամներով
A10: Ծրագրային դասիչը | C10: Բյուջետային հատկացումների գլխավոր կարգադրիչների, ծրագրերի և միջոցառումների անվանումները | D10: Ցուցանիշների փոփոխությունը (ավելացումները նշված են դրական նշանով, իսկ նվազեցումները՝ փակագծերում)
A11: Ծրագիր | B11: Միջոցառում | D11: Տարի
A12: 1192 | C12: ԸՆԴԱՄԵՆԸ | D12: =+D14 -> 0
C13: այդ թվում
C14: ՀՀ ԿՐԹՈՒԹՅԱՆ, ԳԻՏՈՒԹՅԱՆ, ՄՇԱԿՈՒՅԹԻ ԵՎ ՍՊՈՐՏԻ ՆԱԽԱՐԱՐՈՒԹՅՈՒՆ | D14: =+D16+D29 -> 0
A15: 1146 | C15: Ծրագրի անվանումը`
C16: Հանրակրթության ծրագիր | D16: =+D23 -> 11898
C17: Ծրագրի նպատակը`
C18: Ապահովել անվճար և որակյալ հանրակրթություն
C19: Վերջնական արդյունքի նկարագրությունը`
C20: Մտավոր, հոգևոր, ֆիզիկական և սոցիալական ունակությունների համակողմանի ու ներդաշնակ զարգացմամբ, հայրենասիրության, պետականության և մարդասիրության ոգով դաստիրակված, պատշաճ վարքով և վարվելակերպով անձի ձևավորում
C21: Ծրագրի միջոցառումներ
B22: 12018 | C22: Միջոցառման անվանումը`
C23: Մանկապարտեզների գույքով ապահովում | D23: =+'Հավելված N 2'!G23 -> 11898
C24: Միջոցառման նկարագրությունը`
C25: Համայնքներում մանկապարտեզների համար ժամանակակից նորմերին համապատասխանող գույքի ձեռքբերում
C26: Միջոցառման տեսակը
C27: Տրանսֆերտների տրամադրում
A28: 1183 | C28: Ծրագրի անվանումը`
C29: Ապահով դպրոց | D29: =+D36 -> -11898
C30: Ծրագրի նպատակը`
C31: Դպրոցներին սպառնացող աղետների ռիսկի կառավարման կարողությունների հզորացում, դպրոցի անձնակազմի և աշակերտների անվտանգության ապահովման մակարդակի բարձրացում՛ կիրառելով ներառական և երեխայակենտրոն մոտեցում
C32: Վերջնական արդյունքի նկարագրությունը`
C33: Դպրոցական միջավայրի բարելավում
C34: Ծրագրի միջոցառումներ
B35: 32012 | C35: Միջոցառման անվանումը`
C36: Հանրակրթական դպրոցների գույքով և տեխնիկայով ապահովում | D36: =+'Հավելված N 2'!G40 -> -11898
C37: Միջոցառման նկարագրությունը`
C38: Կրթական ժամանակակից նորմերին համապատասխանող գույքի ձեռքբերում
C39: Միջոցառման տեսակը
C40: Այլ պետական կազմակերպությունների կողմից օգտագործվող ոչ ֆինանսական ակտիվների հետ գործառնություններ

Sheet Հավելված N 2
F1: Հավելված N 2
F2: ՀՀ կառավարության 2022 թվականի
F3: ______________ ի ___Ն որոշման
A6: ՀԱՅԱՍՏԱՆԻ ՀԱՆՐԱՊԵՏՈՒԹՅԱՆ ԿԱՌԱՎԱՐՈՒԹՅԱՆ 2021 ԹՎԱԿԱՆԻ ԴԵԿՏԵՄԲԵՐԻ 23-Ի N 2121-Ն ՈՐՈՇՄԱՆ N 3 ԵՎ N 4 ՀԱՎԵԼՎԱԾՆԵՐՈՒՄ ԿԱՏԱՐՎՈՂ ՓՈՓՈԽՈՒԹՅՈՒՆԸ ԵՎ ԼՐԱՑՈՒՄԸ
G7: հազ. դրամներով
A8: Գործառական դասիչը | D8: Ծրագրային դասիչը | F8: Բյուջետային հատկացումների գլխավոր կարգադրիչների, ծրագրերի, միջոցառումների և միջոցառումները կատարող պետական մարմինների անվանումները | G8: Ցուցանիշների փոփոխությունը (ավելացումները նշված են դրական նշանով, իսկ նվազեցումները՝ փակագծերում)
A9: Բաժին | B9: Խումբ | C9: Դաս | D9: Ծրագիր | E9: Միջոցառում | G9: Տարի
F10: ԸՆԴԱՄԵՆԸ | G10: =+G12 -> 0
F11: այդ թվում
F12: ՀՀ ԿՐԹՈՒԹՅԱՆ, ԳԻՏՈՒԹՅԱՆ, ՄՇԱԿՈՒՅԹԻ ԵՎ ՍՊՈՐՏԻ ՆԱԽԱՐԱՐՈՒԹՅՈՒՆ | G12: =+G13 -> 0
A13: 09 | F13: ԿՐԹՈՒԹՅՈՒՆ | G13: =+G15+G32 -> 0
F14: այդ թվում`
B15: 01 | F15: Նախադպրոցական և տարրական ընդհանուր կրթություն | G15: =+G17 -> 11898
F16: այդ թվում`
C17: 01 | F17: Նախադպրոցական կրթություն | G17: =+G19 -> 11898
F18: այդ թվում`
F19: ՀՀ կրթության, գիտության, մշակույթի և սպորտի նախարարություն | G19: =+G21 -> 11898
F20: այդ թվում`
D21: 1146 | E21: Հանրակրթության ծրագիր | G21: =+G23 -> 11898
F22: այդ թվում`
E23: 12018 | F23: Մանկապարտեզների գույքով ապահովում | G23: =+G25 -> 11898
F24: այդ թվում` ըստ կատարողների
F25: ՀՀ տարածքային կառավարման և ենթակառուցվածքների նախարարություն | G25: =+G27 -> 11898
F26: այդ թվում՝ բյուջետային ծախսերի տնտեսագիտական դասակարգման հոդվածներ
F27: ԸՆԴԱՄԵՆԸ ԾԱԽՍԵՐ | G27: =+G28 -> 11898
F28: ԸՆԹԱՑԻԿ ԾԱԽՍԵՐ | G28: =+G29 -> 11898
F29: ԴՐԱՄԱՇՆՈՐՀՆԵՐ | G29: =+G30 -> 11898
F30: ԿԱՊԻՏԱԼ ԴՐԱՄԱՇՆՈՐՀՆԵՐ ՊԵՏԱԿԱՆ ՀԱՏՎԱԾԻ ԱՅԼ ՄԱԿԱՐԴԱԿՆԵՐԻՆ | G30: =+G31 -> 11898
F31: - Այլ կապիտալ դրամաշնորհներ | G31: =+'Հավելված N 5'!G12 -> 11898
B32: 06 | F32: Կրթությանը տրամադրվող օժանդակ ծառայություններ | G32: =+G34 -> -11898
F33: այդ թվում`
C34: 01 | F34: Կրթությանը տրամադրվող օժանդակ ծառայություններ | G34: =+G36 -> -11898
F35: այդ թվում`
F36: ՀՀ կրթության, գիտության, մշակույթի և սպորտի նախարարություն | G36: =+G38 -> -11898
F37: այդ թվում`
D38: 1183 | E38: Ապահով դպրոց | G38: =+G40 -> -11898
F39: այդ թվում`
E40: 32012 | F40: Հանրակրթական դպրոցների գույքով և տեխնիկայով ապահովում | G40: =+G42 -> -11898
F41: այդ թվում` ըստ կատարողների
F42: ՀՀ կրթության, գիտության, մշակույթի և սպորտի նախարարություն | G42: =+G44 -> -11898
F43: այդ թվում՝ բյուջետային ծախսերի տնտեսագիտական դասակարգման հոդվածներ
F44: ԸՆԴԱՄԵՆԸ ԾԱԽՍԵՐ | G44: =+G45 -> -11898
F45: ՈՉ ՖԻՆԱՆՍԱԿԱՆ ԱԿՏԻՎՆԵՐԻ ԳԾՈՎ ԾԱԽՍԵՐ | G45: =+G46 -> -11898
F46: ՀԻՄՆԱԿԱՆ ՄԻՋՈՑՆԵՐ | G46: =+G47 -> -11898
F47: ՄԵՔԵՆԱՆԵՐ ԵՎ ՍԱՐՔԱՎՈՐՈՒՄՆԵՐ | G47: =+G48 -> -11898
F48: - Վարչական սարքավորումներ | G48: =+'Հավելված N 4'!E15 -> -11898

Sheet Հավելված N 3
F1: Հավելված N 3
F2: ՀՀ կառավարության 2022 թվականի
F3: ______________ ի ___Ն որոշման
A5: «ՀԱՅԱUՏԱՆԻ ՀԱՆՐԱՊԵՏՈՒԹՅԱՆ 2022 ԹՎԱԿԱՆԻ ՊԵՏԱԿԱՆ ԲՅՈՒՋԵԻ ՄԱUԻՆ» ՀԱՅԱUՏԱՆԻ ՀԱՆՐԱՊԵՏՈՒԹՅԱՆ OՐԵՆՔԻ N 1 ՀԱՎԵԼՎԱԾԻ N 3 ԱՂՅՈՒՍԱԿՈՒՄ ԿԱՏԱՐՎՈՂ ՓՈՓՈԽՈՒԹՅՈՒՆԸ
G8: հազ. դրամներով
A9: Ծրագրային դասիչ | C9: Բյուջետային գլխավոր կարգադրիչների, ծրագրերի, միջոցառումների, միջոցառումները կատարող պետական մարմինների և ուղղությունների անվանումները | D9: Ընդամենը | E9: Ցուցանիշների փոփոխությունը (նվազեցումները նշված են փակագծերում)
A10: Ծրագիր | B10: Միջոցառում | E10: Կառուցման աշխատանքներ | F10: Վերակառուցման, վերանորոգման և վերականգնման աշխատանքներ | G10: Նախագծահե- տազոտական, գեոդեզիա- քարտեզագրա- կան աշխա- տանքներ | H10: Ոչ ֆինանսական այլ ակտիվների ձեռքբերում
C11: ԸՆԴԱՄԵՆԸ | D11: =SUM(E11:H11) -> -11898 | E11: =+E13 -> 0 | F11: =+F13 -> 0 | G11: =+G13 -> 0 | H11: =+H13 -> -11898
C12: այդ թվում՝
C13: ՀՀ ԿՐԹՈՒԹՅԱՆ, ԳԻՏՈՒԹՅԱՆ, ՄՇԱԿՈՒՅԹԻ ԵՎ ՍՊՈՐՏԻ ՆԱԽԱՐԱՐՈՒԹՅՈՒՆ | D13: =SUM(E13:H13) -> -11898 | E13: =+E15 -> 0 | F13: =+F15 -> 0 | G13: =+G15 -> 0 | H13: =+H15 -> -11898
C14: այդ թվում`
A15: 1183 | B15: 32012 | C15: Հանրակրթական դպրոցների գույքով և տեխնիկայով ապահովում | D15: =SUM(E15:H15) -> -11898 | E15: =+E17 -> 0 | F15: =+F17 -> 0 | G15: =+G17 -> 0 | H15: =+H17 -> -11898
C16: այդ թվում`
C17: ՀՀ Վայոց Ձորի մարզ | D17: =SUM(E17:H17) -> -11898 | E17: =+E18 -> 0 | F17: =+F18 -> 0 | G17: =+G18 -> 0 | H17: =+H18 -> -11898
C18: «Գոմքի միջնակարգ դպրոց» ՊՈԱԿ | D18: =SUM(E18:H18) -> -11898 | H18: -11898

Sheet Հավելված N 4
D1: Հավելված N 4
D2: ՀՀ կառավարության 2022 թվականի
D3: ______________ ի ___Ն որոշման
B6: ՀԱՅԱՍՏԱՆԻ ՀԱՆՐԱՊԵՏՈՒԹՅԱՆ ԿԱՌԱՎԱՐՈՒԹՅԱՆ 2021 ԹՎԱԿԱՆԻ ԴԵԿՏԵՄԲԵՐԻ 23-Ի N 2121-Ն ՈՐՈՇՄԱՆ N 5 ՀԱՎԵԼՎԱԾԻ N 2 ԱՂՅՈՒՍԱԿՈՒՄ ԿԱՏԱՐՎՈՂ ՓՈՓՈԽՈՒԹՅՈՒՆԸ
E8: հազ. դրամներով
B9: Ծրագրային դասիչ | D9: Բյուջետային գլխավոր կարգադրիչների, ծրագրերի, միջոցառումների, միջոցառումները կատարող պետական մարմինների և ուղղությունների անվանումները | E9: Ցուցանիշների փոփոխությունը (նվազեցումները նշված են փակագծերում)
B10: Ծրագիր | C10: Միջոցառում | E10: Տարի
D11: ՀՀ ԿՐԹՈՒԹՅԱՆ, ԳԻՏՈՒԹՅԱՆ, ՄՇԱԿՈՒՅԹԻ ԵՎ ՍՊՈՐՏԻ ՆԱԽԱՐԱՐՈՒԹՅՈՒՆ | E11: =+E13 -> -11898
D12: այդ թվում՝
B13: 1183 | C13: 32012 | D13: Հանրակրթական դպրոցների գույքով և տեխնիկայով ապահովում | E13: =+E15 -> -11898
D14: այդ թվում` ըստ կատարողների
D15: ՀՀ կրթության, գիտության, մշակույթի և սպորտի նախարարություն | E15: =+E17 -> -11898
D16: այդ թվում`ըստ ուղղությունների
D17: ՀՀ Վայոց Ձորի մարզ | E17: =+E18 -> -11898
D18: «Գոմքի միջնակարգ դպրոց» ՊՈԱԿ | E18: =+'Հավելված N 3'!D18 -> -11898

Sheet Հավելված N 5
F1: Հավելված N 5
F2: ՀՀ կառավարության 2022 թվականի
F3: ______________ ի ___Ն որոշման
A6: ՀԱՅԱՍՏԱՆԻ ՀԱՆՐԱՊԵՏՈՒԹՅԱՆ ԿԱՌԱՎԱՐՈՒԹՅԱՆ 2021 ԹՎԱԿԱՆԻ ԴԵԿՏԵՄԲԵՐԻ 23-Ի N2121-Ն ՈՐՈՇՄԱՆ N 5 ՀԱՎԵԼՎԱԾԻ N 7 ԱՂՅՈՒՍԱԿՈՒՄ ԿԱՏԱՐՎՈՂ ԼՐԱՑՈՒՄԸ
G7: հազ. դրամներով
A8: Ծրագրային դասիչը | C8: Բյուջետային հատկացումների գլխավոր կարգադրիչների, ծրագրերի, միջոցառումների և միջոցառումները կատարող պետական մարմինների անվանումները | F8: Միջոցառումները կատարող պետական մարմինների և դրամաշնորհ ստացող տնտեսվարող սուբյեկտների անվանումները | G8: Ցուցանիշների փոփոխությունը (ավելացումները նշված են դրական նշանով)
A9: Ծրագիր | B9: Միջոցառում | G9: Տարի
A10: ՀՀ կրթության, գիտության, մշակույթի և սպորտի նախարարություն | G10: =+G11 -> 11898
A11: 1146 | B11: Հանրակրթության ծրագիր | G11: =+G12 -> 11898
B12: 12018 | C12: Մանկապարտեզների գույքով ապահովում | F12: ՀՀ տարածքային կառավարման և ենթակառուցվածքների նախարարություն | G12: =+G13 -> 11898
F13: Հայաստանի տարածքային զարգացման հիմնադրամ | G13: 11898

Sheet Հավելված N 6
C1: Հավելված N 6
C2: ՀՀ կառավարության 2022 թվականի
C3: ______________ ի ___Ն որոշման
B5: ՀԱՅԱՍՏԱՆԻ ՀԱՆՐԱՊԵՏՈՒԹՅԱՆ ԿԱՌԱՎԱՐՈՒԹՅԱՆ 2021 ԹՎԱԿԱՆԻ ԴԵԿՏԵՄԲԵՐԻ 23-Ի N 2121-Ն ՈՐՈՇՄԱՆ N 9 ՀԱՎԵԼՎԱԾԻ N 9.13 ԱՂՅՈՒՍԱԿՈՒՄ ԿԱՏԱՐՎՈՂ ՓՈՓՈԽՈՒԹՅՈՒՆԸ ԵՎ ԼՐԱՑՈՒՄՆԵՐԸ
A7: Աղյուսակ 9․13
C8: ՀՀ կրթության, գիտության, մշակույթի և սպորտի նախարարություն
B9: ՄԱՍ 2. ՊԵՏԱԿԱՆ ՄԱՐՄՆԻ ԳԾՈՎ ԱՐԴՅՈՒՆՔԱՅԻՆ (ԿԱՏԱՐՈՂԱԿԱՆ) ՑՈՒՑԱՆԻՇՆԵՐԸ
B12: Ծրագրի դասիչը | C12: Ծրագրի անվանումը
B13: 1146 | C13: Հանրակրթության ծրագիր
B15: Ծրագրի միջոցառումները
B16: Ծրագրի դասիչը` | C16: 1146 | D16: Ցուցանիշների փոփոխությունը (ավելացումները նշված են դրական նշանով)
B17: Միջոցառման դասիչը` | C17: 12018 | D17: Տարի
B18: Միջոցառման անվանումը` | C18: Մանկապարտեզների գույքով ապահովում
B19: Նկարագրությունը` | C19: Համայնքներում մանկապարտեզների համար ժամանակակից նորմերին համապատասխանող գույքի ձեռքբերում
B20: Միջոցառման տեսակը` | C20: Տրանսֆերտների տրամադրում
B21: Շահառուների ընտրության չափանիշները | C21: Նախադպրոցական կրթությույն իրականացնող ուսումնական հաստատություններ
B22: Արդյունքի չափորոշիչներ
B23: Մանկապարտեզների թիվը, որոնք ապահովվում են գույքով, հատ | D23: 1
B24: Միջոցառման վրա կատարվող ծախսը (հազար դրամ) | D24: =+'Հավելված N 1'!D23 -> 11898
B26: Ծրագրի դասիչը | C26: Ծրագրի անվանումը
B27: 1183 | C27: Ապահով դպրոց
B29: Ծրագրի միջոցառումները
B30: Ծրագրի դասիչը` | C30: 1183 | D30: Ցուցանիշների փոփոխությունը (նվազեցումները նշված են փակագծերում)
B31: Միջոցառման դասիչը` | C31: 32012 | D31: Տարի
B32: Միջոցառման անվանումը` | C32: Հանրակրթական դպրոցների գույքով և տեխնիկայով ապահովում
B33: Նկարագրությունը` | C33: Կրթական ժամանակակից նորմերին համապատասխանող գույքի ձեռքբերում
B34: Միջոցառման տեսակը` | C34: Այլ պետական կազմակերպությունների կողմից օգտագործվող ոչ ֆինանսական ակտիվների հետ գործառնություններ
B35: Ակտիվն օգտագործող կազմակերպությունների անվանումները | C35: Հանրակրթական դպրոցներ
B36: Արդյունքի չափորոշիչներ
B37: Միջոցառման վրա կատարվող ծախսը (հազար դրամ) | D37: =+'Հավելված N 1'!D36 -> -11898

Sheet Հավելված N 7
C1: Հավելված N 7
C2: ՀՀ կառավարության 2022 թվականի
C3: ______________ ի ___Ն որոշման
B5: ՀԱՅԱՍՏԱՆԻ ՀԱՆՐԱՊԵՏՈՒԹՅԱՆ ԿԱՌԱՎԱՐՈՒԹՅԱՆ 2021 ԹՎԱԿԱՆԻ ԴԵԿՏԵՄԲԵՐԻ 23-Ի N 2121-Ն ՈՐՈՇՄԱՆ N 9.1 ՀԱՎԵԼՎԱԾԻ N 9.1.8 ԱՂՅՈՒՍԱԿՈՒՄ ԿԱՏԱՐՎՈՂ ԼՐԱՑՈՒՄՆԵՐԸ ԵՎ N 9.1.14 ԱՂՅՈՒՍԱԿՈՒՄ ԿԱՏԱՐՎՈՂ ՓՈՓՈԽՈՒԹՅՈՒՆԸ
A7: Աղյուսակ 9․1.8
C8: ՀՀ տարածքային կառավարման և ենթակառուցվածքների նախարարություն
B9: ՄԱՍ 1. ՊԵՏԱԿԱՆ ՄԱՐՄՆԻ ԳԾՈՎ ԱՐԴՅՈՒՆՔԱՅԻՆ (ԿԱՏԱՐՈՂԱԿԱՆ) ՑՈՒՑԱՆԻՇՆԵՐԸ
B12: Ծրագրի դասիչը | C12: Ծրագրի անվանումը
B13: 1146 | C13: Հանրակրթության ծրագիր
B15: Ծրագրի միջոցառումները
B16: Ծրագրի դասիչը` | C16: 1146 | D16: Ցուցանիշների փոփոխությունը (ավելացումները նշված են դրական նշանով)
B17: Միջոցառման դասիչը` | C17: 12018 | D17: Տարի
B18: Միջոցառման անվանումը` | C18: Մանկապարտեզների գույքով ապահովում
B19: Նկարագրությունը` | C19: Համայնքներում մանկապարտեզների համար ժամանակակից նորմերին համապատասխանող գույքի ձեռքբերում
B20: Միջոցառման տեսակը` | C20: Տրանսֆերտների տրամադրում
B21: Շահառուների ընտրության չափանիշները | C21: Նախադպրոցական կրթությույն իրականացնող ուսումնական հաստատություններ
B22: Արդյունքի չափորոշիչներ
B23: Մանկապարտեզների թիվը, որոնք ապահովվում են գույքով, հատ | D23: 1
B24: Միջոցառման վրա կատարվող ծախսը (հազար դրամ) | D24: =+'Հավելված N 2'!G25 -> 11898
A29: Աղյուսակ 9․1.14
C30: ՀՀ կրթության, գիտության, մշակույթի և սպորտի նախարարություն
B31: ՄԱՍ 1. ՊԵՏԱԿԱՆ ՄԱՐՄՆԻ ԳԾՈՎ ԱՐԴՅՈՒՆՔԱՅԻՆ (ԿԱՏԱՐՈՂԱԿԱՆ) ՑՈՒՑԱՆԻՇՆԵՐԸ
B34: Ծրագրի դասիչը | C34: Ծրագրի անվանումը
B35: 1183 | C35: Ապահով դպրոց
B37: Ծրագրի միջոցառումները
B38: Ծրագրի դասիչը` | C38: 1183 | D38: Ցուցանիշների փոփոխությունը (նվազեցումները նշված են փակագծերում)
B39: Միջոցառման դասիչը` | C39: 32012 | D39: Տարի
B40: Միջոցառման անվանումը` | C40: Հանրակրթական դպրոցների գույքով և տեխնիկայով ապահովում
B41: Նկարագրությունը` | C41: Կրթական ժամանակակից նորմերին համապատասխանող գույքի ձեռքբերում
B42: Միջոցառման տեսակը` | C42: Այլ պետական կազմակերպությունների կողմից օգտագործվող ոչ ֆինանսական ակտիվների հետ գործառնություններ
B43: Ակտիվն օգտագործող կազմակերպությունների անվանումները | C43: Հանրակրթական դպրոցներ
B44: Արդյունքի չափորոշիչներ
B45: Միջոցառման վրա կատարվող ծախսը (հազար դրամ) | D45: =+'Հավելված N 2'!G42 -> -11898

Sheet Հավելված N 8
H1: Հավելված N 8
H2: ՀՀ կառավարության 2022 թվականի
H3: ______________ ի ___Ն որոշման
A6: ՀԱՅԱՍՏԱՆԻ ՀԱՆՐԱՊԵՏՈՒԹՅԱՆ ԿԱՌԱՎԱՐՈՒԹՅԱՆ 2021 ԹՎԱԿԱՆԻ ԴԵԿՏԵՄԲԵՐԻ 23-Ի N 2121-Ն N 2215-Ն ՈՐՈՇՄԱՆ N 10 ՀԱՎԵԼՎԱԾՈՒՄ ԿԱՏԱՐՎՈՂ ՓՈՓՈԽՈՒԹՅՈՒՆԸ
A8: Կոդը | B8: Անվանումը | E8: Գնման ձևը | F8: Չափման միավորը | G8: Միավորի գինը | H8: Ցուցանիշների փոփոխությունը (նվազեցումները նշված են փակագծերում)
H9: Քանակը | I9: Գումարը (հազար դրամ)
A11: 1 | B11: 2 | E11: 3 | F11: 4 | G11: 5 | H11: 6 | I11: 7
A12: ՀՀ կրթության, գիտության, մշակույթի և սպորտի նախարարություն | I12: =+I13 -> -11898
A13: Բաժին N 09 | B13: Խումբ N 06 | C13: Դաս N 01 | D13: Կրթությանը տրամադրվող օժանդակ ծառայություններ | I13: =+I14 -> -11898
A14: 1183-32012 | B14: Հանրակրթական դպրոցների գույքով և տեխնիկայով ապահովում | I14: =+I15 -> -11898
B15: ՄԱՍ I. ԱՊՐԱՆՔՆԵՐ | I15: =+I16 -> -11898
A16: 30211280-16 | B16: համակարգիչ ամբողջը մեկում | C16: համակարգիչ ամբողջը մեկում | D16: համակարգիչ ամբողջը մեկում | E16: ԷԱՃ | F16: հատ | G16: 1189800 | H16: -10 | I16: =ROUND((H16*G16/1000),1) -> -11898
