Workbook
Name AgencyCode: #REF!
Name AgencyCode: #REF!
Name AgencyCode: #REF!
Name AgencyCode: #REF!
Name AgencyName: #REF!
Name AgencyName: #REF!
Name AgencyName: #REF!
Name åû: #REF!
Name davit: #REF!
Name Functional1: #REF!
Name Functional1: #REF!
Name Functional1: #REF!
Name ggg: #REF!
Name mas: #REF!
Name mass: #REF!
Name PANature: #REF!
Name PANature: #REF!
Name PANature: #REF!
Name PAType: #REF!
Name PAType: #REF!
Name PAType: #REF!
Name Performance2: #REF!
Name Performance2: #REF!
Name Performance2: #REF!
Name PerformanceType: #REF!
Name PerformanceType: #REF!
Name PerformanceType: #REF!
Name x: #REF!
Name Հավելված: #REF!
Name Հավելված: #REF!
Name Մաս: #REF!
Name շախմատիստ: #REF!

Sheet Հ 1
D1: Հավելված N 1
D2: ՀՀ կառավարության 2022 թվականի
D3: ______________ ի ___Ն որոշման
A5: «ՀԱՅԱUՏԱՆԻ ՀԱՆՐԱՊԵՏՈՒԹՅԱՆ 2022 ԹՎԱԿԱՆԻ ՊԵՏԱԿԱՆ ԲՅՈՒՋԵԻ ՄԱUԻՆ» OՐԵՆՔԻ N 1 ՀԱՎԵԼՎԱԾԻ N 2 ԱՂՅՈՒՍԱԿՈՒՄ ԿԱՏԱՐՎՈՂ ՎԵՐԱԲԱՇԽՈՒՄԸ ԵՎ ՀԱՅԱՍՏԱՆԻ ՀԱՆՐԱՊԵՏՈՒԹՅԱՆ ԿԱՌԱՎԱՐՈՒԹՅԱՆ 2021 ԹՎԱԿԱՆԻ ԴԵԿՏԵՄԲԵՐԻ 23-Ի N 2121-Ն ՈՐՈՇՄԱՆ N 5 ՀԱՎԵԼՎԱԾԻ N 1 ԱՂՅՈՒՍԱԿՈՒՄ ԿԱՏԱՐՎՈՂ ՓՈՓՈԽՈՒԹՅՈՒՆՆԵՐԸ ԵՎ ԼՐԱՑՈՒՄՆԵՐԸ
D7: հազար դրամներով
A8: Ծրագրային դասիչը | C8: Բյուջետային հատկացումների գլխավոր կարգադրիչների, ծրագրերի և միջոցառումների անվանումները | D8: Ցուցանիշների փոփոխությունը (ավելացումները նշված են դրական նշանով, իսկ նվազեցումները` փակագծերում)
A9: Ծրագիր | B9: Միջոցառում | D9: Տարի
C10: ԸՆԴԱՄԵՆԸ | D10: =+D12 -> 0
C11: այդ թվում
B12: ՀՀ տարածքային կառավարման և ենթակառուցվածքների նախարարություն | D12: =+D14+D27+D46 -> 0
A13: 1212 | C13: Ծրագրի անվանումը`
C14: Տարածքային զարգացում | D14: =+D21 -> 8990
C15: Ծրագրի նպատակը`
C16: Տարածքային համաչափ զարգացման խթանում
C17: Վերջնական արդյունքի նկարագրությունը`
C18: ՀՀ համայնքների կառավարման արդյունավետության բարձրացում և տնտեսական գործունեության խթանում
C19: Ծրագրի միջոցառումներ
B20: 12017 | C20: Միջոցառման անվանումը`
C21: Պատերազմի արդյունքում ժամանակավորապես Հայաստանի Հանրապետությունում գտնվող քաղաքացիներին մշտական բնակության վայր տեղափոխում | D21: =+'Հ 4'!D60 -> 8990
C22: Միջոցառման նկարագրությունը`
C23: Ադրբեջանի կողմից սանձազերծված պատերազմի արդյունքում Լեռնային Ղարաբաղից Հայաստանի Հանրապետություն ժամանակավորապես ժամանած քաղաքացիների վերադարձը Լեռնային Ղարաբաղ կազմակերպելու նպատակով` Երևանի քաղաքապետարանի և ՀՀ մարզպետարանների կողմից իրականացված ուղևորափոխադրումների փոխհատուցում
C24: Միջոցառման տեսակը
C25: Տրանսֆերտների տրամադրում
A26: 1070 | C26: Ծրագրի անվանումը`
C27: Աջակցություն փախստականների ինտեգրմանը | D27: =D34+D40 -> -7932.4
C28: Ծրագրի նպատակը`
C29: Փախստականների ինտեգրում հասարակություն
C30: Վերջնական արդյունքի նկարագրությունը`
C31: Փախստականներին մատուցվող ծառայությունների ընդգրկման և ծառայությունների շրջանակի ընդլայնում
B32: Ծրագրի միջոցառումներ
B33: 12002 | C33: Միջոցառման անվանումը`
C34: ՀՀ-ում փախստական ճանաչված և ապաստան ստացած անձանց վարձակալությամբ բնակարանների ձեռքբերման ծախսերի փոխհատուցման տրամադրում | D34: =-D21-D40-D53 -> -4932.4
C35: Միջոցառման նկարագրությունը`
C36: ՀՀ-ում փախստական ճանաչված և ապաստան ստացած անձանց մինչև 9 ամիս տևողությամբ բնակարաններ վարձակալելու նպատակով փոխհատուցման տրամադրում
C37: Միջոցառման տեսակը
C38: Տրանսֆերտների տրամադրում
B39: 12004 | C39: Միջոցառման անվանումը`
C40: Հայաստանի Հանրապետություն վերադարձող քաղաքացիների վերաինտեգրմանն ուղղված առաջնային աջակցության պետական ծրագիր | D40: -3000
C41: Միջոցառման նկարագրությունը`
C42: Առաջնային օժանդակություն ցուցաբերել Հայաստան հարկադիր վերադարձող ՀՀ քաղաքացիներին՛ հետագայում նրանց լիարժեք և կայուն վերաինտեգրումն ապահովելու նպատակով, ուղղորդելն ու խորհրդատվությունը:
...

Sheet Հ 2
G1: Հավելված N 2
G2: ՀՀ կառավարության 2022 թվականի
G3: ______________ ի ___Ն որոշման
A5: ՀԱՅԱՍՏԱՆԻ ՀԱՆՐԱՊԵՏՈՒԹՅԱՆ ԿԱՌԱՎԱՐՈՒԹՅԱՆ 2021 ԹՎԱԿԱՆԻ ԴԵԿՏԵՄԲԵՐԻ 23-Ի N 2121-Ն ՈՐՈՇՄԱՆ N 3 ԵՎ N 4 ՀԱՎԵԼՎԱԾՆԵՐՈՒՄ ԿԱՏԱՐՎՈՂ ՓՈՓՈԽՈՒԹՅՈՒՆՆԵՐԸ ԵՎ ԼՐԱՑՈՒՄՆԵՐԸ
G7: հազար դրամներով
A8: Գործառական դասիչը | D8: Ծրագրային դասիչը | F8: Բյուջետային հատկացումների գլխավոր կարգադրիչների, ծրագրերի, միջոցառումների և միջոցառումները կատարող պետական մարմինների անվանումները | G8: Ցուցանիշների փոփոխությունը (ավելացումները նշված են դրական նշանով, իսկ նվազեցումները` փակագծերում)
A9: Բաժին | B9: Խումբ | C9: Դաս | D9: Ծրագիր | E9: Միջոցառում | G9: Տարի
F10: ԸՆԴԱՄԵՆԸ | G10: 0
F11: այդ թվում
F12: ՀՀ տարածքային կառավարման և ենթակառուցվածքների նախարարություն | G12: =+G32+G13 -> 0
A13: 01 | F13: ԸՆԴՀԱՆՈՒՐ ԲՆՈՒՅԹԻ ՀԱՆՐԱՅԻՆ ԾԱՌԱՅՈՒԹՅՈՒՆՆԵՐ | G13: =+G15 -> 8990
F14: այդ թվում`
B15: 08 | F15: Կառավարության տարբեր մակարդակների միջև իրականացվող ընդհանուր բնույթի տրանսֆերտներ | G15: =+G17 -> 8990
F16: այդ թվում`
C17: 01 | F17: Կառավարության տարբեր մակարդակների միջև իրականացվող ընդհանուր բնույթի տրանսֆերտներ | G17: =+G19 -> 8990
F18: այդ թվում`
F19: ՀՀ տարածքային կառավարման և ենթակառուցվածքների նախարարություն | G19: =+G21 -> 8990
F20: այդ թվում`
D21: 1212 | F21: Տարածքային զարգացում | G21: =+G23 -> 8990
F22: այդ թվում`
E23: 12017 | F23: =+'Հ 1'!C21 -> Պատերազմի արդյունքում ժամանակավորապես Հայաստանի Հանրապետությունում գտնվող քաղաքացիներին մշտական բնակության վայր տեղափոխում | G23: =+G25 -> 8990
F24: այդ թվում` ըստ կատարողների
F25: ՀՀ տարածքային կառավարման և ենթակառուցվածքների նախարարություն | G25: =+G27 -> 8990
F26: այդ թվում` բյուջետային ծախսերի տնտեսագիտական դասակարգման հոդվածներ
F27: ԸՆԴԱՄԵՆԸ ԾԱԽՍԵՐ | G27: =+G28 -> 8990
F28: ԸՆԹԱՑԻԿ ԾԱԽՍԵՐ | G28: =+G29 -> 8990
F29: ԴՐԱՄԱՇՆՈՐՀՆԵՐ | G29: =+G30 -> 8990
F30: Ընթացիկ դրամաշնորհներ պետական հատվածի այլ մակարդակներին | G30: =+G31 -> 8990
F31: - Ընթացիկ սուբվենցիաներ համայնքներին | G31: =-G32 -> 8990
A32: 10 | F32: ՍՈՑԻԱԼԱԿԱՆ ՊԱՇՏՊԱՆՈՒԹՅՈՒՆ | G32: =G34 -> -8990
F33: այդ թվում`
B34: 09 | F34: Սոցիալական պաշտպանություն (այլ դասերին չպատկանող) | G34: =G36+G51 -> -8990
F35: այդ թվում`
C36: 01 | F36: Սոցիալական պաշտպանություն (այլ դասերին չպատկանող) | G36: =G38 -> -1057.6
F37: այդ թվում`
F38: ՀՀ տարածքային կառավարման և ենթակառուցվածքների նախարարություն | G38: =G40 -> -1057.6
F39: այդ թվում`
D40: 1106 | F40: Միգրացիոն բնագավառում պետական քաղաքականության մշակում և իրականացում | G40: =G42+G52 -> -1057.6
F41: այդ թվում`
E42: 11001 | F42: Միգրացիոն բնագավառում պետական քաղաքականության մշակում և իրականացում | G42: =G44 -> -1057.6
...

Sheet Հ 3
E1: Հավելված N 3
E2: ՀՀ կառավարության 2022 թվականի
E3: ______________ ի ___Ն որոշման
A5: «ՀԱՅԱՍՏԱՆԻ ՀԱՆՐԱՊԵՏՈՒԹՅԱՆ 2022 ԹՎԱԿԱՆԻ ՊԵՏԱԿԱՆ ԲՅՈՒՋԵԻ ՄԱՍԻՆ» ՕՐԵՆՔԻ N 1 ՀԱՎԵԼՎԱԾԻ N 7 ԱՂՅՈՒՍԱԿՈՒՄ ԵՎ ՀԱՅԱՍՏԱՆԻ ՀԱՆՐԱՊԵՏՈՒԹՅԱՆ ԿԱՌԱՎԱՐՈՒԹՅԱՆ 2021 ԹՎԱԿԱՆԻ ԴԵԿՏԵՄԲԵՐԻ 23-Ի N 2121-Ն ՈՐՈՇՄԱՆ N 5 ՀԱՎԵԼՎԱԾԻ N 6 ԱՂՅՈՒՍԱԿՈՒՄ ԿԱՏԱՐՎՈՂ ԼՐԱՑՈՒՄՆԵՐԸ
E7: հազար դրամներով
B8: Ծրագրային դասիչը | D8: Հատկացումների տրամադրման նպատակները և բյուջետային գլխավոր կարգադրիչների, ծրագրերի, միջոցառումների և կատարող պետական մարմնի անվանումները | E8: Ցուցանիշների փոփոխությունը (ավելացումները նշված են դրական նշանով)
B9: Ծրագիր | C9: Միջոցառում | E9: Տարի
D10: Ընդամենը | E10: =+E12 -> 8990
B11: այդ թվում`
B12: ՀՀ տարածքային կառավարման և ենթակառուցվածքների նախարարություն | E12: =+E14 -> 8990
B13: այդ թվում`
B14: =+'Հ 2'!D21 -> 1212 | C14: =+'Հ 2'!F21 -> Տարածքային զարգացում | E14: =E15 -> 8990
C15: =+'Հ 2'!E23 -> 12017 | D15: ='Հ 2'!F23 -> Պատերազմի արդյունքում ժամանակավորապես Հայաստանի Հանրապետությունում գտնվող քաղաքացիներին մշտական բնակության վայր տեղափոխում | E15: =+E16 -> 8990
D16: ՀՀ տարածքային կառավարման և ենթակառուցվածքների նախարարություն | E16: =+'Հ 2'!G31 -> 8990

Sheet Հ 4
D1: Հավելված N 4
D2: ՀՀ կառավարության 2022 թվականի
D3: ______________ ի ___Ն որոշման
B5: ՀԱՅԱՍՏԱՆԻ ՀԱՆՐԱՊԵՏՈՒԹՅԱՆ ԿԱՌԱՎԱՐՈՒԹՅԱՆ 2021 ԹՎԱԿԱՆԻ ԴԵԿՏԵՄԲԵՐԻ 23-Ի N 2121-Ն ՈՐՈՇՄԱՆ N 9 ՀԱՎԵԼՎԱԾԻ N 9.7 ԱՂՅՈՒՍԱԿՈՒՄ ԿԱՏԱՐՎՈՂ ՓՈՓՈԽՈՒԹՅՈՒՆՆԵՐԸ ԵՎ ԼՐԱՑՈՒՄՆԵՐԸ
B7: ՀՀ տարածքային կառավարման և ենթակառուցվածքների նախարարություն
B9: ՄԱՍ 2. ՊԵՏԱԿԱՆ ՄԱՐՄՆԻ ԳԾՈՎ ԱՐԴՅՈՒՆՔԱՅԻՆ (ԿԱՏԱՐՈՂԱԿԱՆ) ՑՈՒՑԱՆԻՇՆԵՐԸ
B11: Ծրագրի դասիչը | C11: Ծրագրի անվանումը
B12: 1070 | C12: Աջակցություն փախստականների ինտեգրմանը
B14: Ծրագրի միջոցառումները
B16: Ծրագրի դասիչը` | C16: 1070 | D16: Ցուցանիշների փոփոխությունը (նվազեցումները նշված են փակագծերում)
B17: Միջոցառման դասիչը` | C17: 12002 | D17: Տարի
B18: Միջոցառման անվանումը` | C18: ՀՀ-ում փախստական ճանաչված և ապաստան ստացած անձանց վարձակալությամբ բնակարանների ձեռքբերման ծախսերի փոխհատուցման տրամադրում
B19: Նկարագրությունը` | C19: ՀՀ-ում փախստական ճանաչված և ապաստան ստացած անձանց մինչև 9 ամիս տևողությամբ բնակարաններ վարձակալելու նպատակով փոխհատուցման տրամադրում
B20: Միջոցառման տեսակը` | C20: Տրանսֆերտների տրամադրում
B21: Շահառուների ընտրության չափանիշները | C21: Ժամանակավոր կացարանով ապահովման խնդիր ունեցող ՀՀ-ում փախստական ճանաչված անձինք
C22: Արդյունքի չափորոշիչներ
B23: Միջոցառման վրա կատարվող ծախսը (հազար դրամ) | D23: =+'Հ 5'!D42 -> -4932.4
B25: Ծրագրի դասիչը` | C25: 1070 | D25: Ցուցանիշների փոփոխությունը (նվազեցումները նշված են փակագծերում)
B26: Միջոցառման դասիչը` | C26: 12004 | D26: Տարի
B27: Միջոցառման անվանումը` | C27: Հայաստանի Հանրապետություն վերադարձող քաղաքացիների վերաինտեգրմանն ուղղված առաջնային աջակցության պետական ծրագիր
B28: Նկարագրությունը` | C28: Առաջնային օժանդակություն ցուցաբերել Հայաստան հարկադիր վերադարձող ՀՀ քաղաքացիներին՛ հետագայում նրանց լիարժեք և կայուն վերաինտեգրումն ապահովելու նպատակով, ուղղորդելն ու խորհրդատվությունը:
B29: Միջոցառման տեսակը` | C29: Տրանսֆերտների տրամադրում
B30: Շահառուների ընտրության չափանիշները | C30: Հարկադիր վերադարձող ՀՀ քաղաքացիներ
C31: Արդյունքի չափորոշիչներ
B32: Միջոցառման վրա կատարվող ծախսը (հազար դրամ) | D32: =+'Հ 5'!D52 -> -3000
B34: Ծրագրի դասիչը | C34: Ծրագրի անվանումը
B35: 1106 | C35: Միգրացիոն բնագավառում պետական քաղաքականության մշակում և իրականացում
B37: Ծրագրի միջոցառումները
B38: Ծրագրի դասիչը` | C38: 1106 | D38: Ցուցանիշների փոփոխությունը (նվազեցումները նշված են փակագծերում)
B39: Միջոցառման դասիչը` | C39: 11001 | D39: Տարի
B40: Միջոցառման անվանումը` | C40: Միգրացիոն բնագավառում պետական քաղաքականության մշակում և իրականացում
B41: Նկարագրությունը` | C41: Միգրացիոն գործընթացների քաղաքականության մշակում, իրականացում,օտարերկրյա քաղաքացիներին, քաղաքացիություն չունեցող անձանց ապաստանի տրամադրում, բռնագաղթած փախստականներին, տեղաշարժված այլ անձանց հասարակության մեջ ինտեգրում,ռեադմիսիոն գործառույթների իրականացում
B42: Միջոցառման տեսակը` | C42: Ծառայությունների մատուցում
B43: Միջոցառումն իրականացնողի անվանումը | C43: ՀՀ տարածքային կառավարման և ենթակառուցվածքների նախարարության միգրացիոն ծառայություն
B44: Արդյունքի չափորոշիչներ
B45: Միջոցառման վրա կատարվող ծախսը (հազար դրամ) | D45: =+'Հ 5'!D66 -> -1057.6
B47: Ծրագրի դասիչը | C47: Ծրագրի անվանումը
B48: =+'Հ 3'!B14 -> 1212 | C48: =+'Հ 3'!C14:D14 -> Տարածքային զարգացում
B50: Ծրագրի միջոցառումները
B51: Ծրագրի դասիչը` | C51: =+'Հ 3'!B14 -> 1212 | D51: Ցուցանիշների փոփոխությունը (ավելացումները նշված են դրական նշանով)
...

Sheet Հ 5
D1: Հավելված N 5
D2: ՀՀ կառավարության 2022 թվականի
D3: ______________ ի ___Ն որոշման
B5: ՀԱՅԱՍՏԱՆԻ ՀԱՆՐԱՊԵՏՈՒԹՅԱՆ ԿԱՌԱՎԱՐՈՒԹՅԱՆ 2021 ԹՎԱԿԱՆԻ ԴԵԿՏԵՄԲԵՐԻ 23-Ի N 2121-Ն ՈՐՈՇՄԱՆ N 9.1 ՀԱՎԵԼՎԱԾԻ NN 9.1.8 ԵՎ 9.1.35 ԱՂՅՈՒՍԱԿՆԵՐՈՒՄ ԿԱՏԱՐՎՈՂ ՓՈՓՈԽՈՒԹՅՈՒՆՆԵՐԸ ԵՎ ԼՐԱՑՈՒՄՆԵՐԸ
D7: Աղյուսակ 9.1.8
B8: ՀՀ տարածքային կառավարման և ենթակառուցվածքների նախարարություն
B9: ՄԱՍ 1. ՊԵՏԱԿԱՆ ՄԱՐՄՆԻ ԳԾՈՎ ԱՐԴՅՈՒՆՔԱՅԻՆ (ԿԱՏԱՐՈՂԱԿԱՆ) ՑՈՒՑԱՆԻՇՆԵՐԸ
B11: Ծրագրի դասիչը | C11: Ծրագրի անվանումը
B12: =+'Հ 4'!B48 -> 1212 | C12: =+'Հ 4'!C48 -> Տարածքային զարգացում
B14: Ծրագրի միջոցառումները
B15: Ծրագրի դասիչը` | C15: =+'Հ 4'!C51 -> 1212 | D15: Ցուցանիշների փոփոխությունը (ավելացումները նշված են դրական նշանով)
B16: Միջոցառման դասիչը` | C16: =+'Հ 4'!C52 -> 12017 | D16: Տարի
B17: Միջոցառման անվանումը` | C17: =+'Հ 4'!C53 -> Պատերազմի արդյունքում ժամանակավորապես Հայաստանի Հանրապետությունում գտնվող քաղաքացիներին մշտական բնակության վայր տեղափոխում
B18: Նկարագրությունը` | C18: =+'Հ 4'!C54 -> Ադրբեջանի կողմից սանձազերծված պատերազմի արդյունքում Լեռնային Ղարաբաղից Հայաստանի Հանրապետություն ժամանակավորապես ժամանած քաղաքացիների վերադարձը Լեռնային Ղարաբաղ կազմակերպելու նպատակով` Երևանի քաղաքապետարանի և ՀՀ մարզպետարանների կողմից իրականացված ուղևորափոխադրումների փոխհատուցում
B19: Միջոցառման տեսակը` | C19: Տրանսֆերտների տրամադրում
B20: Շահառուների ընտրության չափանիշները` | C20: Մասնագիտացված միավոր
B21: Արդյունքի չափորոշիչներ
B22: Տեղափոխված ուղևորների քանակ, մարդ | D22: =+'Հ 4'!D58 -> 1177
B23: Երթերի քանակ, հատ | D23: =+'Հ 4'!D59 -> 31
B24: Միջոցառման վրա կատարվող ծախսը (հազար դրամ) | D24: =+'Հ 4'!D60 -> 8990
D27: Աղյուսակ 9.1.35
B28: ՀՀ տարածքային կառավարման և ենթակառուցվածքների նախարարության միգրացիոն ծառայություն
B29: ՄԱՍ 1. ՊԵՏԱԿԱՆ ՄԱՐՄՆԻ ԳԾՈՎ ԱՐԴՅՈՒՆՔԱՅԻՆ (ԿԱՏԱՐՈՂԱԿԱՆ) ՑՈՒՑԱՆԻՇՆԵՐԸ
B31: Ծրագրի դասիչը | C31: Ծրագրի անվանումը
B32: 1070 | C32: Աջակցություն փախստականների ինտեգրմանը
B34: Ծրագրի միջոցառումները
B35: Ծրագրի դասիչը` | C35: 1070 | D35: Ցուցանիշների փոփոխությունը (նվազեցումները նշված են փակագծերում)
B36: Միջոցառման դասիչը` | C36: 12002 | D36: Տարի
B37: Միջոցառման անվանումը` | C37: ՀՀ-ում փախստական ճանաչված և ապաստան ստացած անձանց վարձակալությամբ բնակարանների ձեռքբերման ծախսերի փոխհատուցման տրամադրում
B38: Նկարագրությունը` | C38: ՀՀ-ում փախստական ճանաչված և ապաստան ստացած անձանց մինչև 9 ամիս տևողությամբ բնակարաններ վարձակալելու նպատակով փոխհատուցման տրամադրում
B39: Միջոցառման տեսակը` | C39: Տրանսֆերտների տրամադրում
B40: Շահառուների ընտրության չափանիշներ | C40: Ժամանակավոր կացարանով ապահովման խնդիր ունեցող ՀՀ-ում փախստական ճանաչված անձինք
B41: Արդյունքի չափորոշիչներ
B42: Միջոցառման վրա կատարվող ծախսը (հազար դրամ) | D42: =+'Հ 2'!G64 -> -4932.4
B44: Ծրագրի միջոցառումները
B45: Ծրագրի դասիչը` | C45: 1070 | D45: Ցուցանիշների փոփոխությունը (նվազեցումները նշված են փակագծերում)
B46: Միջոցառման դասիչը` | C46: 12004 | D46: Տարի
B47: Միջոցառման անվանումը` | C47: Հայաստանի Հանրապետություն վերադարձող քաղաքացիների վերաինտեգրմանն ուղղված առաջնային աջակցության պետական ծրագիր
B48: Նկարագրությունը` | C48: Առաջնային օժանդակություն ցուցաբերել Հայաստան հարկադիր վերադարձող ՀՀ քաղաքացիներին՛ հետագայում նրանց լիարժեք և կայուն վերաինտեգրումն ապահովելու նպատակով, ուղղորդելն ու խորհրդատվությունը:
B49: Միջոցառման տեսակը` | C49: Տրանսֆերտների տրամադրում
...

Sheet Հ 6
H1: Հավելված N 6 ՀՀ կառավարության 2022 թվականի ___________ ___-ի N _______ -Ն որոշման
B2: ՀԱՅԱՍՏԱՆԻ ՀԱՆՐԱՊԵՏՈՒԹՅԱՆ ԿԱՌԱՎԱՐՈՒԹՅԱՆ 2021 ԹՎԱԿԱՆԻ ԴԵԿՏԵՄԲԵՐԻ 23-Ի N 2121-Ն ՈՐՈՇՄԱՆ N 10 ՀԱՎԵԼՎԱԾՈՒՄ ԿԱՏԱՐՎՈՂ ՓՈՓՈԽՈՒԹՅՈՒՆՆԵՐԸ
B3: Կոդը | C3: Անվանումը | D3: Գնման ձևը | E3: Չափման միավորը | F3: Միավորի գինը | G3: Քանակը | H3: Ցուցանիշների փոփոխությունը (նվազեցումները նշված են փակագծերում)
H4: Գումարը (հազար դրամ)
B5: 1 | C5: 2 | D5: 3 | E5: 4 | F5: 5 | G5: 6 | H5: 7
B6: ՀՀ տարածքային կառավարման և ենթակառուցվածքների նախարարության միգրացիոն ծառայություն | H6: =H7 -> -1057.6
B7: Բաժին N 10, խումբ N 09, դաս N 01,Սոցիալական պաշտպանություն (այլ դասերին չպատկանող) | H7: =+H8 -> -1057.6
B8: 1106 Միգրացիոն բնագավառում պետական քաղաքականության մշակում և իրականացում | H8: =H9 -> -1057.6
B9: 11001 Միգրացիոն բնագավառում պետական քաղաքականության մշակում և իրականացում | H9: =H10 -> -1057.6
B10: ՄԱՍ I. Ա Պ Ր Ա Ն Ք Ն Ե Ր | H10: =H11+H12+H13+H14 -> -1057.6
B11: 35121250/1 | C11: նույնականացման անվանաքարտեր | D11: ԷԱՃ | E11: հատ | H11: -150
B12: 35121250/2 | C12: նույնականացման անվանաքարտեր | D12: ԷԱՃ | E12: հատ | H12: -150
B13: 35121250/3 | C13: նույնականացման անվանաքարտեր | D13: ԷԱՃ | E13: հատ | H13: -259
B14: 35121250/4 | C14: նույնականացման անվանաքարտեր | D14: ԷԱՃ | E14: հատ | H14: -498.6
