Workbook
Name a: #REF!
Name a: #REF!
Name AgencyCode: #REF!
Name AgencyCode: #REF!
Name AgencyCode: #REF!
Name AgencyName: #REF!
Name AgencyName: #REF!
Name AgencyName: #REF!
Name davit: #REF!
Name davit: #REF!
Name Functional1: #REF!
Name Functional1: #REF!
Name Functional1: #REF!
Name ggg: #REF!
Name ggg: #REF!
Name PANature: #REF!
Name PANature: #REF!
Name PANature: #REF!
Name PAType: #REF!
Name PAType: #REF!
Name PAType: #REF!
Name Performance2: #REF!
Name Performance2: #REF!
Name Performance2: #REF!
Name PerformanceType: #REF!
Name PerformanceType: #REF!
Name PerformanceType: #REF!
Name Հավելված: #REF!
Name Հավելված: #REF!
Name Մաս: #REF!
Name Մաս: #REF!
Name շախմատիստ: #REF!
Name շախմատիստ: #REF!

Sheet Հավելված N 1
C1: Հավելված N 1
C2: ՀՀ կառավարության 2022 թվականի
C3: ______________ ի ___Ն որոշման
A5: «ՀԱՅԱUՏԱՆԻ ՀԱՆՐԱՊԵՏՈՒԹՅԱՆ 2022 ԹՎԱԿԱՆԻ ՊԵՏԱԿԱՆ ԲՅՈՒՋԵԻ ՄԱUԻՆ» ՀԱՅԱUՏԱՆԻ ՀԱՆՐԱՊԵՏՈՒԹՅԱՆ OՐԵՆՔԻ N 1 ՀԱՎԵԼՎԱԾԻ N 2 ԱՂՅՈՒՍԱԿՈՒՄ ԿԱՏԱՐՎՈՂ ՎԵՐԱԲԱՇԽՈՒՄԸ ԵՎ ՀԱՅԱՍՏԱՆԻ ՀԱՆՐԱՊԵՏՈՒԹՅԱՆ ԿԱՌԱՎԱՐՈՒԹՅԱՆ 2021 ԹՎԱԿԱՆԻ ԴԵԿՏԵՄԲԵՐԻ 23-Ի N 2121-Ն ՈՐՈՇՄԱՆ N 5 ՀԱՎԵԼՎԱԾԻ N 1 ԱՂՅՈՒՍԱԿՈՒՄ ԿԱՏԱՐՎՈՂ ՓՈՓՈԽՈՒԹՅՈՒՆԸ ԵՎ ԼՐԱՑՈՒՄԸ
D7: հազ. դրամներով
A8: Ծրագրային դասիչը | C8: Բյուջետային հատկացումների գլխավոր կարգադրիչների, ծրագրերի և միջոցառումների անվանումները | D8: Ցուցանիշների փոփոխությունը (ավելացումները նշված են դրական նշանով, իսկ նվազեցումները փակագծերում)
A9: Ծրագիր | B9: Միջոցառում | D9: Տարի
C10: ԸՆԴԱՄԵՆԸ | D10: =+D12+D27 -> 0
C11: այդ թվում
C12: ՀՀ ԿՐԹՈՒԹՅԱՆ, ԳԻՏՈՒԹՅԱՆ, ՄՇԱԿՈՒՅԹԻ ԵՎ ՍՊՈՐՏԻ ՆԱԽԱՐԱՐՈՒԹՅՈՒՆ | D12: =+D14 -> -5615.8
A13: 1075 | C13: Ծրագրի անվանումը`
C14: Մշակութային ժառանգության ծրագիր | D14: =+D21 -> -5615.8
C15: Ծրագրի նպատակը`
C16: Մշակութային ժառանգության պահպանում, օգտագործում, համալրում և հանրահռչակում
C17: Վերջնական արդյունքի նկարագրությունը`
C18: Մշակութային ժառանգության շարունակական պահպանում, մշակութային զբոսաշրջության զարգացում և խթանում
C19: Ծրագրի միջոցառումներ
B20: 21001 | C20: Միջոցառման անվանումը`
C21: Հուշարձանների ամրակայում, նորոգում և վերականգնում | D21: =+'Հավելված N 2'!G23 -> -5615.8
C22: Միջոցառման նկարագրությունը`
C23: Հուշարձանների գիտանախագծային փաստաթղթերի կազմում, հրատապ ուսումնասիրում, վավերագրման և ուսումնասիրման աշխատանքներ, հետախուզում և հնագիտական պեղում, ամրակայում, նորոգում և վերականգնում
C24: Միջոցառման տեսակը
C25: Հանրության կողմից անմիջականորեն օգտագործվող ակտիվների հետ կապված միջոցառումներ
C27: ՀՀ ԿԱՌԱՎԱՐՈՒԹՅՈՒՆ | D27: =+D29 -> 5615.8
A28: 1139 | C28: Ծրագրի անվանումը`
C29: ՀՀ կառավարության պահուստային ֆոնդ | D29: =+D35 -> 5615.8
C30: Ծրագրի նպատակը`
C31: Պետական բյուջեում չկանխատեսված, ինչպես նաև բյուջետային երաշխիքների ապահովման ծախսերի ֆինանսավորման ապահովում
C32: Վերջնական արդյունքի նկարագրությունը`
C33: Պահուստային ֆոնդի կառավարման արդյունավետության և թափանցիկության ապահովում
B34: 11001 | C34: Միջոցառման անվանումը`
C35: ՀՀ կառավարության պահուստային ֆոնդ | D35: =+'Հավելված N 2'!G44 -> 5615.8
C36: Միջոցառման նկարագրությունը`
C37: ՀՀ պետական բյուջեում նախատեսված ելքերի լրացուցիչ ֆինանսավորման՝ պետական բյուջեում չկանխատեսված ելքերի, ինչպես նաև բյուջետային երաշխիքների ապահովման ելքերի ֆինանսավորման ապահովում
C38: Միջոցառման տեսակը
C39: Ծառայությունների մատուցում

Sheet Հավելված N 2
F1: Հավելված N 2
F2: ՀՀ կառավարության 2022 թվականի
F3: ______________ ի ___Ն որոշման
A5: ՀԱՅԱՍՏԱՆԻ ՀԱՆՐԱՊԵՏՈՒԹՅԱՆ ԿԱՌԱՎԱՐՈՒԹՅԱՆ 2021 ԹՎԱԿԱՆԻ ԴԵԿՏԵՄԲԵՐԻ 23-Ի N2121-Ն ՈՐՈՇՄԱՆ N 3 ԵՎ N 4 ՀԱՎԵԼՎԱԾՆԵՐՈՒՄ ԿԱՏԱՐՎՈՂ ՓՈՓՈԽՈՒԹՅՈՒՆԸ ԵՎ ԼՐԱՑՈՒՄԸ
G7: հազ. դրամներով
A8: Գործառական դասիչը | D8: Ծրագրային դասիչը | F8: Բյուջետային հատկացումների գլխավոր կարգադրիչների, ծրագրերի, միջոցառումների և միջոցառումները կատարող պետական մարմինների անվանումները | G8: Ցուցանիշների փոփոխությունը (ավելացումները նշված են դրական նշանով, իսկ նվազեցումները փակագծերում)
A9: Բաժին | B9: Խումբ | C9: Դաս | D9: Ծրագիր | E9: Միջոցառում | G9: Տարի
F10: ԸՆԴԱՄԵՆԸ | G10: =+G12+G33 -> 0
F11: այդ թվում
F12: ՀՀ ԿՐԹՈՒԹՅԱՆ, ԳԻՏՈՒԹՅԱՆ, ՄՇԱԿՈՒՅԹԻ ԵՎ ՍՊՈՐՏԻ ՆԱԽԱՐԱՐՈՒԹՅՈՒՆ | G12: =+G13 -> -5615.8
A13: 08 | F13: ՀԱՆԳԻՍՏ, ՄՇԱԿՈՒՅԹ ԵՎ ԿՐՈՆ | G13: =+G15 -> -5615.8
F14: այդ թվում`
B15: 02 | F15: Մշակութային ծառայություններ | G15: =+G17 -> -5615.8
F16: այդ թվում`
C17: 07 | F17: Հուշարձանների և մշակութային արժեքների վերականգնում և պահպանում | G17: =+G19 -> -5615.8
F18: այդ թվում`
F19: ՀՀ կրթության, գիտության, մշակույթի և սպորտի նախարարություն | G19: =+G21 -> -5615.8
F20: այդ թվում`
D21: 1075 | E21: Մշակութային ժառանգության ծրագիր | G21: =+G23 -> -5615.8
F22: այդ թվում`
E23: 21001 | F23: Հուշարձանների ամրակայում, նորոգում և վերականգնում | G23: =+G25 -> -5615.8
F24: այդ թվում` ըստ կատարողների
F25: ՀՀ կրթության, գիտության, մշակույթի և սպորտի նախարարություն | G25: =+G27 -> -5615.8
F26: այդ թվում՝ բյուջետային ծախսերի տնտեսագիտական դասակարգման հոդվածներ
F27: ԸՆԴԱՄԵՆԸ ԾԱԽՍԵՐ | G27: =+G28 -> -5615.8
F28: ՈՉ ՖԻՆԱՆՍԱԿԱՆ ԱԿՏԻՎՆԵՐԻ ԳԾՈՎ ԾԱԽՍԵՐ | G28: =+G29 -> -5615.8
F29: ՀԻՄՆԱԿԱՆ ՄԻՋՈՑՆԵՐ | G29: =+G30 -> -5615.8
F30: ՇԵՆՔԵՐ ԵՎ ՇԻՆՈՒԹՅՈՒՆՆԵՐ | G30: =+G31 -> -5615.8
F31: - Շենքերի և շինությունների կապիտալ վերանորոգում | G31: =+'Հավելված N 4'!E18 -> -5615.8
F33: ՀՀ ԿԱՌԱՎԱՐՈՒԹՅՈՒՆ | G33: =+G34 -> 5615.8
A34: 11 | F34: ՀԻՄՆԱԿԱՆ ԲԱԺԻՆՆԵՐԻՆ ՉԴԱՍՎՈՂ ՊԱՀՈՒՍՏԱՅԻՆ ՖՈՆԴԵՐ | G34: =+G36 -> 5615.8
F35: այդ թվում`
B36: 01 | F36: ՀՀ կառավարության և համայնքների պահուստային ֆոնդ | G36: =+G38 -> 5615.8
F37: այդ թվում`
C38: 01 | F38: ՀՀ կառավարության պահուստային ֆոնդ | G38: =+G40 -> 5615.8
F39: այդ թվում`
F40: ՀՀ կառավարություն | G40: =+G42 -> 5615.8
F41: այդ թվում`
D42: 1139 | E42: ՀՀ կառավարության պահուստային ֆոնդ | F42: ՀՀ կառավարության պահուստային ֆոնդ | G42: =+G44 -> 5615.8
F43: այդ թվում`
E44: 11001 | F44: ՀՀ կառավարության պահուստային ֆոնդ | G44: =+G46 -> 5615.8
F45: այդ թվում` ըստ կատարողների
F46: ՀՀ կառավարություն | G46: =+G48 -> 5615.8
F47: այդ թվում` բյուջետային ծախսերի տնտեսագիտական դասակարգման հոդվածներ
F48: ԸՆԴԱՄԵՆԸ ԾԱԽՍԵՐ | G48: =+G49 -> 5615.8
F49: ԸՆԹԱՑԻԿ ԾԱԽՍԵՐ | G49: =+G50 -> 5615.8
F50: ԱՅԼ ԾԱԽՍԵՐ | G50: =+G51 -> 5615.8
F51: Պահուստային միջոցներ | G51: =-G12 -> 5615.8

Sheet Հավելված N 3
F1: Հավելված N 3
F2: ՀՀ կառավարության 2022 թվականի
F3: ______________ ի ___Ն որոշման
A5: «ՀԱՅԱUՏԱՆԻ ՀԱՆՐԱՊԵՏՈՒԹՅԱՆ 2022 ԹՎԱԿԱՆԻ ՊԵՏԱԿԱՆ ԲՅՈՒՋԵԻ ՄԱUԻՆ» ՀԱՅԱUՏԱՆԻ ՀԱՆՐԱՊԵՏՈՒԹՅԱՆ OՐԵՆՔԻ N 1 ՀԱՎԵԼՎԱԾԻ N 3 ԱՂՅՈՒՍԱԿՈՒՄ ԿԱՏԱՐՎՈՂ ՓՈՓՈԽՈՒԹՅՈՒՆԸ ԵՎ ԼՐԱՑՈՒՄԸ
H8: հազ. դրամներով
A9: Ծրագրային դասիչ | C9: Բյուջետային գլխավոր կարգադրիչների, ծրագրերի, միջոցառումների և ուղղությունների անվանումները | D9: Ընդամենը, | E9: Ցուցանիշների փոփոխությունը (ավելացումները նշված են դրական նշանով)
A10: Ծրագիր | B10: Միջոցառում | E10: Կառուցման աշխատանքներ | F10: Վերակառուցման, վերանորոգման և վերականգնման աշխատանքներ | G10: Նախագծահե- տազոտական, գեոդեզիա- քարտեզագրա- կան աշխա- տանքներ | H10: Ոչ ֆինանսական այլ ակտիվների ձեռքբերում
C11: ԸՆԴԱՄԵՆԸ | D11: =SUM(E11:H11) -> -5615.8 | E11: =+E13 -> 0 | F11: =+F13 -> -5615.8 | G11: =+G13 -> 0 | H11: =+H13 -> 0
C12: այդ թվում՝
C13: ՀՀ ԿՐԹՈՒԹՅԱՆ, ԳԻՏՈՒԹՅԱՆ, ՄՇԱԿՈՒՅԹԻ ԵՎ ՍՊՈՐՏԻ ՆԱԽԱՐԱՐՈՒԹՅՈՒՆ | D13: =SUM(E13:H13) -> -5615.8 | E13: =+E15 -> 0 | F13: =+F15 -> -5615.8 | G13: =+G15 -> 0 | H13: =+H15 -> 0
C14: այդ թվում`
A15: 1075 | B15: 21001 | C15: Հուշարձանների ամրակայում, նորոգում և վերականգնում | D15: =+E15+F15+G15+H15 -> -5615.8 | E15: =+E17 -> 0 | F15: =+F17 -> -5615.8 | G15: =+G17 -> 0 | H15: =+H17 -> 0
C16: այդ թվում`
C17: 1. Վերականգնողական աշխատանքներ | D17: =SUM(E17:H17) -> -5615.8 | E17: =+E19+E21 -> 0 | F17: =+F19+F21 -> -5615.8 | G17: =+G19+G21 -> 0 | H17: =+H19+H21 -> 0
C18: որից`
C19: ՀՀ Կոտայքի մարզ | D19: =SUM(E19:H19) -> -8285.7 | E19: =+E20 -> 0 | F19: =+F20 -> -8285.7 | G19: =+G20 -> 0 | H19: =+H20 -> 0
C20: Բջնի գյուղի Սբ. Աստվածածին եկեղեցու հյուսիսային ավանդատան արտաքին պատի վերականգնում | D20: =+E20+F20+G20+H20 -> -8285.7 | F20: =+'Հավելված N 7'!I14+'Հավելված N 7'!I16+'Հավելված N 7'!I17 -> -8285.7 | G20: 0
C21: ՀՀ Տավուշի մարզ | D21: =SUM(E21:H21) -> 2669.9 | E21: =+E22 -> 0 | F21: =+F22 -> 2669.9 | G21: =+G22 -> 0 | H21: =+H22 -> 0
C22: Դիլիջան համայնքի Հ.Շարամբեյանի անվան ժողովրդական արհեստների թանգարանի նորոգում, ամրակայում | D22: =+E22+F22+G22+H22 -> 2669.9 | F22: =+'Հավելված N 7'!I13 -> 2669.9 | G22: 0

Sheet Հավելված N 4
D1: Հավելված N 4
D2: ՀՀ կառավարության 2022 թվականի
D3: ______________ ի ___Ն որոշման
B5: ՀԱՅԱՍՏԱՆԻ ՀԱՆՐԱՊԵՏՈՒԹՅԱՆ ԿԱՌԱՎԱՐՈՒԹՅԱՆ 2021 ԹՎԱԿԱՆԻ ԴԵԿՏԵՄԲԵՐԻ 23-Ի N 2121-Ն ՈՐՈՇՄԱՆ N 5 ՀԱՎԵԼՎԱԾԻ N 2 ԱՂՅՈՒՍԱԿՈՒՄ ԿԱՏԱՐՎՈՂ ՓՈՓՈԽՈՒԹՅՈՒՆԸ ԵՎ ԼՐԱՑՈՒՄԸ
E8: հազ. դրամներով
B9: Ծրագրային դասիչ | D9: Բյուջետային գլխավոր կարգադրիչների, ծրագրերի, միջոցառումների, միջոցառումները կատարող պետական մարմինների և ուղղությունների անվանումները | E9: Ցուցանիշների փոփոխությունը (ավելացումները նշված են դրական նշանով)
B10: Ծրագիր | C10: Միջոցառում | E10: Տարի
D12: ՀՀ ԿՐԹՈՒԹՅԱՆ, ԳԻՏՈՒԹՅԱՆ, ՄՇԱԿՈՒՅԹԻ ԵՎ ՍՊՈՐՏԻ ՆԱԽԱՐԱՐՈՒԹՅՈՒՆ | E12: =+E14 -> -5615.8
D13: այդ թվում՝
B14: 1075 | C14: 21001 | D14: Հուշարձանների ամրակայում, նորոգում և վերականգնում | E14: =+E16 -> -5615.8
D15: այդ թվում` ըստ կատարողների
D16: ՀՀ կրթության, գիտության, մշակույթի և սպորտի նախարարություն | E16: =+E18 -> -5615.8
D17: այդ թվում` ըստ ուղղությունների
D18: 1. Վերականգնողական աշխատանքներ | E18: =+E20+E22 -> -5615.8
D19: որից`
D20: ՀՀ Կոտայքի մարզ | E20: =+E21 -> -8285.7
D21: Բջնի գյուղի Սբ. Աստվածածին եկեղեցու հյուսիսային ավանդատան արտաքին պատի վերականգնում | E21: =+'Հավելված N 3'!D20 -> -8285.7
D22: ՀՀ Տավուշի մարզ | E22: =+E23 -> 2669.9
D23: Դիլիջան համայնքի Հ.Շարամբեյանի անվան ժողովրդական արհեստների թանգարանի նորոգում, ամրակայում | E23: =+'Հավելված N 3'!D22 -> 2669.9

Sheet Հավելված N 5
C1: Հավելված N 5
C2: ՀՀ կառավարության 2022 թվականի
C3: ______________ ի ___Ն որոշման
B5: ՀԱՅԱՍՏԱՆԻ ՀԱՆՐԱՊԵՏՈՒԹՅԱՆ ԿԱՌԱՎԱՐՈՒԹՅԱՆ 2021 ԹՎԱԿԱՆԻ ԴԵԿՏԵՄԲԵՐԻ 23-Ի N 2121-Ն ՈՐՈՇՄԱՆ N 9 ՀԱՎԵԼՎԱԾԻ N 9.13 ԱՂՅՈՒՍԱԿՈՒՄ ԿԱՏԱՐՎՈՂ ՓՈՓՈԽՈՒԹՅՈՒՆԸ ԵՎ N 9.47 ԱՂՅՈՒՍԱԿՈՒՄ ԿԱՏԱՐՎՈՂ ԼՐԱՑՈՒՄԸ
A7: Աղյուսակ 9․13
C8: ՀՀ կրթության, գիտության, մշակույթի և սպորտի նախարարություն
B9: ՄԱՍ 2. ՊԵՏԱԿԱՆ ՄԱՐՄՆԻ ԳԾՈՎ ԱՐԴՅՈՒՆՔԱՅԻՆ (ԿԱՏԱՐՈՂԱԿԱՆ) ՑՈՒՑԱՆԻՇՆԵՐԸ
B12: Ծրագրի միջոցառումները
B13: Ծրագրի դասիչը՝ | C13: 1075 | D13: Ցուցանիշների փոփոխությունը (նվազեցումները նշված են փակագծերում)
B14: Միջոցառման դասիչը՝ | C14: 21001 | D14: Տարի
B15: Միջոցառման անվանումը՝ | C15: Հուշարձանների ամրակայում, նորոգում և վերականգնում
B16: Նկարագրությունը՝ | C16: Հուշարձանների գիտանախագծային փաստաթղթերի կազմում, հրատապ ուսումնասիրում, վավերագրման և ուսումնասիրման աշխատանքներ, հետախուզում և հնագիտական պեղում, ամրակայում, նորոգում և վերականգնում
B17: Միջոցառման տեսակը՝ | C17: Հանրության կողմից անմիջականորեն օգտագործվող ակտիվների հետ կապված միջոցառումներ
B18: Միջոցառումն իրականացնողի անվանումը | C18: Մասնագիտացված կազմակերպություն
B19: Արդյունքի չափորոշիչներ
B20: Միջոցառման վրա կատարվող ծախսը (հազար դրամ) | D20: =+'Հավելված N 1'!D21 -> -5615.8
A24: Աղյուսակ 9․47
C25: ՀՀ կառավարություն
B26: ՄԱՍ 2. ՊԵՏԱԿԱՆ ՄԱՐՄՆԻ ԳԾՈՎ ԱՐԴՅՈՒՆՔԱՅԻՆ (ԿԱՏԱՐՈՂԱԿԱՆ) ՑՈՒՑԱՆԻՇՆԵՐԸ
B29: Ծրագրի դասիչը | C29: Ծրագրի անվանումը
B30: 1139 | C30: ՀՀ կառավարության պահուստային ֆոնդ
B32: Ծրագրի միջոցառումները
B33: Ծրագրի դասիչը՝ | C33: 1139 | D33: Ցուցանիշների փոփոխությունը (ավելացումները նշված են դրական նշանով)
B34: Միջոցառման դասիչը՝ | C34: 11001 | D34: Տարի
B35: Միջոցառման անվանումը՝ | C35: ՀՀ կառավարության պահուստային ֆոնդ
B36: Նկարագրությունը՝ | C36: ՀՀ պետական բյուջեում նախատեսված ելքերի լրացուցիչ ֆինանսավորման՝ պետական բյուջեում չկանխատեսված ելքերի, ինչպես նաև բյուջետային երաշխիքների ապահովման ելքերի ֆինանսավորման ապահովում
B37: Միջոցառման տեսակը՝ | C37: Ծառայությունների մատուցում
B38: Միջոցառումն իրականացնողի անվանումը | C38: ՀՀ կառավարություն
C39: Արդյունքի չափորոշիչներ
B40: Միջոցառման վրա կատարվող ծախսը (հազար դրամ) | D40: =+'Հավելված N 1'!D35 -> 5615.8

Sheet Հավելված N 6
C1: Հավելված N 6
C2: ՀՀ կառավարության 2022 թվականի
C3: ______________ ի ___Ն որոշման
B5: ՀԱՅԱՍՏԱՆԻ ՀԱՆՐԱՊԵՏՈՒԹՅԱՆ ԿԱՌԱՎԱՐՈՒԹՅԱՆ 2021 ԹՎԱԿԱՆԻ ԴԵԿՏԵՄԲԵՐԻ 23-Ի N 2121-Ն ՈՐՈՇՄԱՆ N 9.1 ՀԱՎԵԼՎԱԾԻ N 9.1.14 ԱՂՅՈՒՍԱԿՈՒՄ ԿԱՏԱՐՎՈՂ ՓՈՓՈԽՈՒԹՅՈՒՆԸ ԵՎ N 9.1.58 ԱՂՅՈՒՍԱԿՈՒՄ ԿԱՏԱՐՎՈՂ ԼՐԱՑՈՒՄԸ
A7: Աղյուսակ 9․1.14
C8: ՀՀ կրթության, գիտության, մշակույթի և սպորտի նախարարություն
B9: ՄԱՍ 1. ՊԵՏԱԿԱՆ ՄԱՐՄՆԻ ԳԾՈՎ ԱՐԴՅՈՒՆՔԱՅԻՆ (ԿԱՏԱՐՈՂԱԿԱՆ) ՑՈՒՑԱՆԻՇՆԵՐԸ
B12: Ծրագրի միջոցառումները
B13: Ծրագրի դասիչը՝ | C13: 1075 | D13: Ցուցանիշների փոփոխությունը (նվազեցումները նշված են փակագծերում)
B14: Միջոցառման դասիչը՝ | C14: 21001 | D14: Տարի
B15: Միջոցառման անվանումը՝ | C15: Հուշարձանների ամրակայում, նորոգում և վերականգնում
B16: Նկարագրությունը՝ | C16: Հուշարձանների գիտանախագծային փաստաթղթերի կազմում, հրատապ ուսումնասիրում, վավերագրման և ուսումնասիրման աշխատանքներ, հետախուզում և հնագիտական պեղում, ամրակայում, նորոգում և վերականգնում
B17: Միջոցառման տեսակը՝ | C17: Հանրության կողմից անմիջականորեն օգտագործվող ակտիվների հետ կապված միջոցառումներ
B18: Միջոցառումն իրականացնողի անվանումը | C18: Մասնագիտացված կազմակերպություն
B19: Արդյունքի չափորոշիչներ
B20: Միջոցառման վրա կատարվող ծախսը (հազար դրամ) | D20: =+'Հավելված N 2'!G25 -> -5615.8
A24: Աղյուսակ 9․1.58
C25: ՀՀ կառավարություն
B26: ՄԱՍ 1. ՊԵՏԱԿԱՆ ՄԱՐՄՆԻ ԳԾՈՎ ԱՐԴՅՈՒՆՔԱՅԻՆ (ԿԱՏԱՐՈՂԱԿԱՆ) ՑՈՒՑԱՆԻՇՆԵՐԸ
B29: Ծրագրի դասիչը | C29: Ծրագրի անվանումը
B30: 1139 | C30: ՀՀ կառավարության պահուստային ֆոնդ
B32: Ծրագրի միջոցառումները
B33: Ծրագրի դասիչը՝ | C33: 1139 | D33: Ցուցանիշների փոփոխությունը (ավելացումները նշված են դրական նշանով)
B34: Միջոցառման դասիչը՝ | C34: 11001 | D34: Տարի
B35: Միջոցառման անվանումը՝ | C35: ՀՀ կառավարության պահուստային ֆոնդ
B36: Նկարագրությունը՝ | C36: ՀՀ պետական բյուջեում նախատեսված ելքերի լրացուցիչ ֆինանսավորման՝ պետական բյուջեում չկանխատեսված ելքերի, ինչպես նաև բյուջետային երաշխիքների ապահովման ելքերի ֆինանսավորման ապահովում
B37: Միջոցառման տեսակը՝ | C37: Ծառայությունների մատուցում
B38: Միջոցառումն իրականացնողի անվանումը | C38: ՀՀ կառավարություն
C39: Արդյունքի չափորոշիչներ
B40: Միջոցառման վրա կատարվող ծախսը (հազար դրամ) | D40: =+'Հավելված N 1'!D48 -> 0

Sheet Հավելված N 7
H1: Հավելված N 7
H2: ՀՀ կառավարության 2022 թվականի
H3: ______________ ի ___Ն որոշման
A5: ՀԱՅԱՍՏԱՆԻ ՀԱՆՐԱՊԵՏՈՒԹՅԱՆ ԿԱՌԱՎԱՐՈՒԹՅԱՆ 2021 ԹՎԱԿԱՆԻ ԴԵԿՏԵՄԲԵՐԻ 23-Ի N 2121-Ն ՈՐՈՇՄԱՆ N 10 ՀԱՎԵԼՎԱԾՈՒՄ ԿԱՏԱՐՎՈՂ ՓՈՓՈԽՈՒԹՅՈՒՆՆԵՐԸ ԵՎ ԼՐԱՑՈՒՄԸ
A7: Կոդը | B7: Անվանումը | E7: Գնման ձևը | F7: Չափման միավորը | G7: Միավորի գինը | H7: Ցուցանիշների փոփոխությունը (ավելացումները նշված են դրական նշանով, իսկ նվազեցումները փակագծերում)
H8: Քանակը | I8: Գումարը (հազար դրամ)
A9: 1 | B9: 2 | E9: 3 | F9: 4 | G9: 5 | H9: 6 | I9: 7
A10: ՀՀ կրթության, գիտության, մշակույթի և սպորտի նախարարություն | I10: =+I11 -> -5615.8
A11: 1075-21001 | B11: Հուշարձանների ամրակայում, նորոգում և վերականգնում | I11: =+I12+I15 -> -5615.8
B12: ՄԱՍ II. ԱՇԽԱՏԱՆՔՆԵՐ | I12: =SUM(I13:I14) -> -5140.1
A13: 45451600-502 | B13: վերականգնողական աշխատանքներ | E13: ԳՀ | F13: դրամ | I13: 2669.9
A14: 45451600-512 | B14: վերականգնողական աշխատանքներ | E14: ԳՀ | F14: դրամ | G14: 7810000 | H14: -1 | I14: -7810
B15: ՄԱՍ III. ԾԱՌԱՅՈՒԹՅՈՒՆՆԵՐ | I15: =SUM(I16:I17) -> -475.7
A16: 71351540-535 | B16: տեխնիկական հսկողության ծառայություններ | E16: ԳՀ | F16: դրամ | G16: 317000 | H16: -1 | I16: -317
A17: 98111140-44 | B17: հեղինակային հսկողության ծառայություններ | E17: ՄԱ | F17: դրամ | G17: 158730 | H17: -1 | I17: -158.7
