Workbook
Name _tab10: #REF!
Name _tab10: #REF!
Name _tab11: #REF!
Name _tab11: #REF!
Name _tab12: #REF!
Name _tab12: #REF!
Name _tab13: #REF!
Name _tab13: #REF!
Name _tab14: #REF!
Name _tab14: #REF!
Name _tab15: #REF!
Name _tab15: #REF!
Name _tab16: #REF!
Name _tab16: #REF!
Name _tab17: #REF!
Name _tab17: #REF!
Name _tab18: #REF!
Name _tab18: #REF!
Name _tab19: #REF!
Name _tab19: #REF!
Name _tab20: #REF!
Name _tab20: #REF!
Name _tab21: #REF!
Name _tab21: #REF!
Name _tab22: #REF!
Name _tab22: #REF!
Name _tab23: #REF!
Name _tab23: #REF!
Name _tab24: #REF!
Name _tab24: #REF!
Name _tab5: #REF!
Name _tab5: #REF!
Name _tab6: #REF!
Name _tab6: #REF!
Name _tab7: #REF!
Name _tab7: #REF!
Name _tab8: #REF!
Name _tab8: #REF!
Name _tab9: #REF!
Name _tab9: #REF!
Name par_count: #REF!,#REF!,#REF!,#REF!,#REF!,#REF!,#REF!,#REF!,#REF!,#REF!,#REF!,#REF!,#REF!,#REF!,#REF!
Name par_count: #REF!,#REF!,#REF!,#REF!,#REF!,#REF!,#REF!,#REF!,#REF!,#REF!,#REF!,#REF!,#REF!,#REF!,#REF!
Name par_qual: #REF!,#REF!,#REF!,#REF!,#REF!
Name par_qual: #REF!,#REF!,#REF!,#REF!,#REF!
Name par_time: #REF!,#REF!,#REF!,#REF!
Name par_time: #REF!,#REF!,#REF!,#REF!
Name par2.12s: #REF!
Name par2.12s: #REF!
Name par2.4s: #REF!,#REF!,#REF!,#REF!,#REF!,#REF!,#REF!,#REF!,#REF!,#REF!,#REF!,#REF!,#REF!,#REF!,#REF!,#REF!
Name par2.4s: #REF!,#REF!,#REF!,#REF!,#REF!,#REF!,#REF!,#REF!,#REF!,#REF!,#REF!,#REF!,#REF!,#REF!,#REF!,#REF!
Name par2.5s: #REF!,#REF!
Name par2.5s: #REF!,#REF!
Name par2.6s: #REF!,#REF!,#REF!,#REF!
Name par2.6s: #REF!,#REF!,#REF!,#REF!
Name par2.7s: #REF!,#REF!
Name par2.7s: #REF!,#REF!
Name par2.9s: #REF!,#REF!,#REF!,#REF!,#REF!,#REF!,#REF!,#REF!,#REF!,#REF!,#REF!,#REF!,#REF!,#REF!,#REF!,#REF!
Name par2.9s: #REF!,#REF!,#REF!,#REF!,#REF!,#REF!,#REF!,#REF!,#REF!,#REF!,#REF!,#REF!,#REF!,#REF!,#REF!,#REF!
Name par4.10s: #REF!,#REF!
Name par4.10s: #REF!,#REF!

Sheet 1.
A1: Հավելված № 1
A2: ՀՀ կառավարության 2022 թվականի ----------
A3: № ---------- որոշման
A4: «ՀԱՅԱՍՏԱՆԻ ՀԱՆՐԱՊԵՏՈՒԹՅԱՆ 2022 ԹՎԱԿԱՆԻ ՊԵՏԱԿԱՆ ԲՅՈՒՋԵԻ ՄԱՍԻՆ» ՀԱՅԱՍՏԱՆԻ ՀԱՆՐԱՊԵՏՈՒԹՅԱՆ ՕՐԵՆՔԻ N 1 ՀԱՎԵԼՎԱԾԻ N 1 ԱՂՅՈՒՍԱԿՈՒՄ ԿԱՏԱՐՎՈՂ ՓՈՓՈԽՈՒԹՅՈՒՆՆԵՐ
A5: հազար դրամ
A6: Ծրագրային դասիչը | B6: Ծրագրի անվանումը | C6: Ցուցանիշների փոփոխությունները (ավելացումը նշված է դրական նշանով, իսկ նվազեցումը` փակագծերում)
C7: Տարի
A8: Ընդամենը | C8: =+C10+C11+C13 -> 0
A9: Առողջապահության նախարարություն
A10: 1126 | B10: Առողջապահության ոլորտում պետական քաղաքականության մշակում, ծրագրերի համակարգում և մոնիտորինգ | C10: -179521.9
A11: 1191 | B11: Խորհրդատվական, մասնագիտական աջակցություն և հետազոտություններ | C11: -20000
A12: Պաշտպանության նախարարություն
A13: 1169 | B13: ՀՀ պաշտպանության ապահովում | C13: 199521.9

Sheet 2.
A1: Հավելված № 2
A2: ՀՀ կառավարության 2022 թվականի -----------
A3: № ------------ -Ն որոշման
A4: «ՀԱՅԱՍՏԱՆԻ ՀԱՆՐԱՊԵՏՈՒԹՅԱՆ 2022 ԹՎԱԿԱՆԻ ՊԵՏԱԿԱՆ ԲՅՈՒՋԵԻ ՄԱՍԻՆ» ՀԱՅԱՍՏԱՆԻ ՀԱՆՐԱՊԵՏՈՒԹՅԱՆ ՕՐԵՆՔԻ № 1 ՀԱՎԵԼՎԱԾԻ № 2 ԱՂՅՈՒՍԱԿՈՒՄ ԿԱՏԱՐՎՈՂ ՎԵՐԱԲԱՇԽՈՒՄԸ ԵՎ ՀԱՅԱՍՏԱՆԻ ՀԱՆՐԱՊԵՏՈՒԹՅԱՆ ԿԱՌԱՎԱՐՈՒԹՅԱՆ 2021 ԹՎԱԿԱՆԻ ԴԵԿՏԵՄԲԵՐԻ 23-Ի № 2121-Ն ՈՐՈՇՄԱՆ № 5 ՀԱՎԵԼՎԱԾԻ № 1 ԱՂՅՈՒՍԱԿՈՒՄ ԿԱՏԱՐՎՈՂ ՓՈՓՈԽՈՒԹՅՈՒՆՆԵՐԸ
D5: (հազ. դրամ)
A6: Ծրագրային դասիչը | C6: Բյուջետային հատկացումների գլխավոր կարգադրիչների, ծրագրերի և միջոցառումների անվանումները | D6: Ցուցանիշների փոփոխությունները (ավելացումները նշված են դրական նշանով, իսկ նվազեցումները` փակագծերում)
A7: Ծրագիր | B7: Միջոցառում | D7: Տարի
C8: ԸՆԴԱՄԵՆԸ | D8: =+D9+D36 -> 0
A9: ՀՀ առողջապահության նախարարություն | D9: =D10+D23 -> -199521.9
A10: 1126 | C10: Ծրագրի անվանումը | D10: =+D17 -> -179521.9
C11: Առողջապահության ոլորտում պետական քաղաքականության մշակում, ծրագրերի համակարգում և մոնիտորինգ
C12: Ծրագրի նպատակը
C13: Մարդու և հանրության առողջության պահպանում, բնակչության առողջության բարելավում, հիվանդությունների կանխարգելում, հաշմանդամության և մահացության ցուցանիշների նվազեցում
C14: Վերջնական արդյունքի նկարագրությունը
C15: Առողջապահության ոլորտում իրականացվող ծրագրերի ազդեցության և արդյունավետության բարելավում
A16: Ծրագրի միջոցառումներ
B17: 31003 | C17: Միջոցառման անվանումը | D17: =+'1.'!C10 -> -179521.9
C18: Առողջապահական կազմակերպությունների կառուցում, վերակառուցում
C19: Միջոցառման նկարագրությունը
C20: Բնակչությանը որակյալ բժշկական օգնության և սպասարկման ծառայություններ մատուցելու նպատակով առողջապահական կազմակերպությունների կառուցում, վերակառուցում
C21: Միջոցառման տեսակը
C22: Պետական մարմինների կողմից օգտագործվող ոչ ֆինանսական ակտիվների հետ գործառնություններ
A23: 1191 | C23: Ծրագրի անվանումը` | D23: =+D30 -> -20000
C24: Խորհրդատվական, մասնագիտական աջակցություն և հետազոտություններ
C25: Ծրագրի նպատակը`
C26: Բժշկական օգնության կազմակերպման ու որակի բարձրացման կարգավորման մասնագիտական, խորհրդատվական, կազմակերպամեթոդական ապահովում, համակարգի գործունեության արդյունքների գնահատում
C27: Վերջնական արդյունքի նկարագրությունը`
C28: Առողջապահական վիճակագրության և նորմատիվային համակարգի բարելավում: Առողջապահական համակարգի գործունեության արդյունքների և կենսաբժշկական ոլորտի տեղեկատվությամբ ապաhովում
A29: Ծրագրի միջոցառումներ
B30: 11003 | C30: Միջոցառման անվանումը` | D30: =+'1.'!C11 -> -20000
C31: Բժիշկ-մասնագետների ժամանակավոր ուղեգրման միջոցով ՀՀ մարզային առողջապահական կազմակերպություններում բժշկական ծառայությունների մատուցում
C32: Միջոցառման նկարագրությունը`
C33: Բժիշկ-մասնագետների ժամանակավոր ուղեգրման միջոցով ՀՀ մարզային առողջապահական կազմակերպություններում բժշկական ծառայությունների մատուցում
C34: Միջոցառման տեսակը
C35: Ծառայությունների մատուցում
A36: ՀՀ պաշտպանության նախարարություն | D36: =+D37 -> 199521.9
A37: 1169 | C37: Ծրագրի անվանումը | D37: =+D44 -> 199521.9
C38: ՀՀ պաշտպանության ապահովում
C39: Ծրագրի նպատակը
C40: ՀՀ ԶՈւ ռազմավարական ծավալումն ապահովող մարտական պատրաստականության պահպանում, արտաքին թշնամուց ՀՀ պետական սահմանների պաշտպանության ապահովում
C41: Վերջնական արդյունքի նկարագրությունը
C42: ՀՀ ԶՈւ ռազմավարական ծավալումն ապահովող մարտական պատրաստականության պահպանում
A43: Ծրագրի միջոցառումներ
B44: 31001 | C44: Միջոցառման անվանումը` | D44: =+'1.'!C13 -> 199521.9
C45: ՀՀ պաշտպանության նախարարության շենքային պայմանների բարելավում
C46: Միջոցառման նկարագրությունը`
C47: Պաշտպանության կարիքների համար բնակելի, գրասենյակային և այլ նշանակության շենքերի և շինությունների կառուցում
C48: Միջոցառման տեսակը
C49: Պետական մարմինների կողմից օգտագործվող ոչ ֆինանսական ակտիվների հետ գործառնություններ

Sheet 3.
A1: Հավելված № 3
A2: ՀՀ կառավարության 2022 թվականի ----------
A3: № ---------- որոշման
A4: «ՀԱՅԱՍՏԱՆԻ ՀԱՆՐԱՊԵՏՈՒԹՅԱՆ 2022 ԹՎԱԿԱՆԻ ՊԵՏԱԿԱՆ ԲՅՈՒՋԵԻ ՄԱՍԻՆ» ՀԱՅԱՍՏԱՆԻ ՀԱՆՐԱՊԵՏՈՒԹՅԱՆ ՕՐԵՆՔԻ № 1 ՀԱՎԵԼՎԱԾԻ № 3 ԱՂՅՈՒՍԱԿՈՒՄ ԿԱՏԱՐՎՈՂ ՓՈՓՈԽՈՒԹՅՈՒՆՆԵՐԸ
H5: հազար դրամ
A6: Ծրագրային դասիչ | C6: Բյուջետային գլխավոր կարգադրիչների, ծրագրերի, միջոցառումների և ուղղությունների անվանումները | D6: Ցուցանիշների փոփոխությունները (ավելացումները նշված են դրական նշանով, իսկ նվազեցումները` փակագծերում)
D7: այդ թվում
A8: Ծրագիր | B8: Միջոցառում | D8: Ընդամենը | E8: Կառուցման աշխատանքներ | F8: Վերակառուցման, վերանորոգման և վերականգնման աշխատանքներ | G8: Նախագծահե- տազոտական, գեոդեզիա- քարտեզագրա- կան աշխա- տանքներ | H8: Ոչ ֆինանսական այլ ակտիվների ձեռքբերում
C9: ԸՆԴԱՄԵՆԸ | D9: =+E9+F9+G9+H9 -> 20000 | E9: =+E11+E20 -> 199521.9 | F9: =+F11+F20 -> -179521.9 | G9: =+G11+G20 -> 0 | H9: =+H11+H20 -> 0
C10: այդ թվում՝
C11: ՀՀ ԱՌՈՂՋԱՊԱՀՈՒԹՅԱՆ ՆԱԽԱՐԱՐՈՒԹՅՈՒՆ | D11: =+D13 -> -179521.9 | E11: =+E13 -> 0 | F11: =+F13 -> -179521.9 | G11: =+G13 -> 0 | H11: =+H13 -> 0
C12: այդ թվում`
A13: 1126 | B13: 31003 | C13: Առողջապահական կազմակերպությունների կառուցում, վերակառուցում | D13: =+D14+D17 -> -179521.9 | E13: =+E14+E17 -> 0 | F13: =+F14+F17 -> -179521.9 | G13: =+G14+G17 -> 0 | H13: =+H14+H17 -> 0
C14: Երևան | D14: =+D15+D16 -> -172676.6 | E14: =+E15+E16 -> 0 | F14: =+F15+F16 -> -172676.6 | G14: =+G15+G16 -> 0 | H14: =+H15+H16 -> 0
C15: «Հոգեկան առողջության պահպանման ազգային կենտրոն» ՓԲԸ | D15: =+E15+F15+G15+H15 -> -40105.2 | F15: -40105.2
C16: «Ինֆեկցիոն հիվանդությունների ազգային կենտրոն» ՓԲԸ | D16: =+E16+F16+G16+H16 -> -132571.4 | F16: -132571.4
C17: Սյունիքի մարզ | D17: =+D18 -> -6845.3 | E17: =E18 -> 0 | F17: =F18 -> -6845.3 | G17: =+G18 -> 0 | H17: =+H18 -> 0
C18: «Սիսիանի ԲԿ» ՓԲԸ | D18: =+E18+F18+G18+H18 -> -6845.3 | F18: -6845.3
C20: ՀՀ ՊԱՇՏՊԱՆՈՒԹՅԱՆ ՆԱԽԱՐԱՐՈՒԹՅՈՒՆ | D20: =+D22 -> 199521.9 | E20: =+E22 -> 199521.9 | F20: =+F22 -> 0 | G20: =+G22 -> 0 | H20: =+H22 -> 0
C21: այդ թվում`
A22: 1169 | B22: 31001 | C22: ՀՀ պաշտպանության նախարարության շենքային պայմանների բարելավում | D22: =+E22+F22+G22+H22 -> 199521.9 | E22: 199521.9

Sheet 4.
A1: Հավելված № 4
A2: ՀՀ կառավարության 2022 թվականի -----------
A3: № ------------ -Ն որոշման
A4: ՀԱՅԱՍՏԱՆԻ ՀԱՆՐԱՊԵՏՈՒԹՅԱՆ ԿԱՌԱՎԱՐՈՒԹՅԱՆ 2021 ԹՎԱԿԱՆԻ ԴԵԿՏԵՄԲԵՐԻ 23-Ի № 2121-Ն ՈՐՈՇՄԱՆ № 5 ՀԱՎԵԼՎԱԾԻ № 2 ԱՂՅՈՒՍԱԿՈՒՄ ԿԱՏԱՐՎՈՂ ՓՈՓՈԽՈՒԹՅՈՒՆՆԵՐԸ
D5: հազար դրամ
A6: Ծրագրային դասիչ | C6: Բյուջետային գլխավոր կարգադրիչների, ծրագրերի, միջոցառումների և ուղղությունների անվանումները | D6: Ցուցանիշների փոփոխությունները (ավելացումները նշված են դրական նշանով, նվազեցումները` փակագծերում)
A7: Ծրագիր | B7: Միջոցառում | D7: Տարի
C8: ԸՆԴԱՄԵՆԸ | D8: =+D10+D20 -> 20000
C9: այդ թվում՝
C10: ՀՀ ԱՌՈՂՋԱՊԱՀՈՒԹՅԱՆ ՆԱԽԱՐԱՐՈՒԹՅՈՒՆ | D10: =+D14 -> -179521.9
C11: այդ թվում`
A12: 1126 | B12: 31003 | C12: Առողջապահական կազմակերպությունների կառուցում, վերակառուցում
C13: այդ թվում ըստ կատարողների
C14: ՀՀ առողջապահության նախարարություն | D14: =+D15+D18 -> -179521.9
C15: Երևան | D15: =+D16+D17 -> -172676.6
C16: «Հոգեկան առողջության պահպանման ազգային կենտրոն» ՓԲԸ | D16: =+'3.'!D15 -> -40105.2
C17: «Ինֆեկցիոն հիվանդությունների ազգային կենտրոն» ՓԲԸ | D17: =+'3.'!D16 -> -132571.4
C18: Սյունիքի մարզ | D18: =+D19 -> -6845.3
C19: «Սիսիանի ԲԿ» ՓԲԸ | D19: =+'3.'!D18 -> -6845.3
C20: ՀՀ ՊԱՇՏՊԱՆՈՒԹՅԱՆ ՆԱԽԱՐԱՐՈՒԹՅՈՒՆ | D20: =+D22 -> 199521.9
C21: այդ թվում՝
A22: 1169 | B22: 31001 | C22: ՀՀ պաշտպանության նախարարության շենքային պայմանների բարելավում | D22: =+D24 -> 199521.9
C23: այդ թվում` ըստ կատարողների
C24: ՀՀ պաշտպանության նախարարություն | D24: 199521.9

Sheet 5.
A1: Հավելված № 5
A2: ՀՀ կառավարության 2022 թվականի -----------
A3: № ------------ -Ն որոշման
A4: ՀԱՅԱՍՏԱՆԻ ՀԱՆՐԱՊԵՏՈՒԹՅԱՆ ԿԱՌԱՎԱՐՈՒԹՅԱՆ 2021 ԹՎԱԿԱՆԻ ԴԵԿՏԵՄԲԵՐԻ 23-Ի № 2121-Ն ՈՐՈՇՄԱՆ №№ 3 ԵՎ 4 ՀԱՎԵԼՎԱԾՆԵՐՈՒՄ ԿԱՏԱՐՎՈՂ ՓՈՓՈԽՈՒԹՅՈՒՆՆԵՐԸ
G5: (հազ. դրամ)
A6: Գործառական դասիչը | D6: Ծրագրային դասիչը | F6: Բյուջետային հատկացումների գլխավոր կարգադրիչների, ծրագրերի, միջոցառումների և միջոցառումները կատարող պետական մարմինների անվանումները | G6: Ցուցանիշների փոփոխությունները (ավելացումները նշված են դրական նշանով, իսկ նվազեցումները` փակագծերում)
A7: բաժին | B7: խումբ | C7: դաս | D7: Ծրագիր | E7: Միջոցառում | G7: Տարի
A8: ԸՆԴԱՄԵՆԸ | G8: =+G10+G44 -> 0
A9: այդ թվում՝
A10: 07 | F10: ԱՌՈՂՋԱՊԱՀՈՒԹՅՈՒՆ | G10: =G12 -> -199521.9
F11: այդ թվում՝
B12: 06 | F12: Առողջապահություն (այլ դասերին չպատկանող) | G12: =G14+G29 -> -199521.9
F13: այդ թվում՝
C14: 01 | F14: Առողջապահական հարակից ծառայություններ և ծրագրեր | G14: =G16 -> -20000
F15: այդ թվում՝
F16: ՀՀ առողջապահության նախարարություն | G16: =G18 -> -20000
F17: այդ թվում՝
D18: 1191 | F18: Խորհրդատվական, մասնագիտական աջակցություն և հետազոտություններ | G18: =G20 -> -20000
F19: այդ թվում՝
E20: 11003 | F20: Բժիշկ-մասնագետների ժամանակավոր ուղեգրման միջոցով ՀՀ մարզային առողջապահական կազմակերպություններում բժշկական ծառայությունների մատուցում | G20: =+G22 -> -20000
F21: այդ թվում ըստ կատարողների
F22: ՀՀ առողջապահության նախարարություն | G22: =G28 -> -20000
F23: այդ թվում` բյուջետային ծախսերի տնտեսագիտական դասակարգման հոդվածներ
F24: ԸՆԴԱՄԵՆԸ ԾԱԽՍԵՐ | G24: =G25 -> -20000
F25: ԸՆԹԱՑԻԿ ԾԱԽՍԵՐ | G25: =G26 -> -20000
F26: ԴՐԱՄԱՇՆՈՐՀՆԵՐ | G26: =G27 -> -20000
F27: Ընթացիկ դրամաշնորհներ պետական հատվածի այլ մակարդակներին | G27: =G28 -> -20000
F28: - Այլ ընթացիկ դրամաշնորհներ | G28: -20000
C29: 02 | F29: Առողջապահություն (այլ դասերին չպատկանող) | G29: =G31 -> -179521.9
F30: այդ թվում՝
F31: ՀՀ առողջապահության նախարարություն | G31: =G33 -> -179521.9
F32: այդ թվում՝
D33: 1126 | F33: Առողջապահության ոլորտում պետական քաղաքականության մշակում, ծրագրերի համակարգում և մոնիտորինգ | G33: =G35 -> -179521.9
F34: այդ թվում՝
E35: 31003 | F35: Առողջապահական կազմակերպությունների կառուցում, վերակառուցում | G35: =+G37 -> -179521.9
F36: այդ թվում ըստ կատարողների
F37: ՀՀ առողջապահության նախարարություն | G37: =G43 -> -179521.9
F38: այդ թվում` բյուջետային ծախսերի տնտեսագիտական դասակարգման հոդվածներ
F39: ԸՆԴԱՄԵՆԸ ԾԱԽՍԵՐ | G39: =G40 -> -179521.9
F40: ՈՉ ՖԻՆԱՆՍԱԿԱՆ ԱԿՏԻՎՆԵՐԻ ԳԾՈՎ ԾԱԽՍԵՐ | G40: =G41 -> -179521.9
F41: ՀԻՄՆԱԿԱՆ ՄԻՋՈՑՆԵՐ | G41: =G42 -> -179521.9
F42: ՇԵՆՔԵՐ ԵՎ ՇԻՆՈՒԹՅՈՒՆՆԵՐ | G42: =G43 -> -179521.9
F43: Շենքերի և շինությունների կապիտալ վերանորոգում | G43: -179521.9
A44: 02 | F44: ՊԱՇՏՊԱՆՈՒԹՅՈՒՆ | G44: =+G46 -> 199521.9
F45: այդ թվում`
B46: 01 | F46: Ռազմական պաշտպանություն | G46: =+G48 -> 199521.9
F47: այդ թվում`
C48: 01 | F48: Ռազմական պաշտպանություն | G48: =+G50 -> 199521.9
F49: այդ թվում`
F50: ՀՀ պաշտպանության նախարարություն | G50: =+G52 -> 199521.9
F51: այդ թվում`
D52: 1169 | F52: ՀՀ պաշտպանության ապահովում | G52: =+G54 -> 199521.9
F53: այդ թվում`
E54: 31001 | F54: ՀՀ պաշտպանության նախարարության շենքային պայմանների բարելավում | G54: =+G56 -> 199521.9
F55: այդ թվում` ըստ կատարողների
F56: ՀՀ պաշտպանության նախարարություն | G56: =+G58 -> 199521.9
F57: այդ թվում` բյուջետային ծախսերի տնտեսագիտական դասակարգման հոդվածներ
F58: ԸՆԴԱՄԵՆԸ ԾԱԽՍԵՐ | G58: =+G59 -> 199521.9
F59: ՈՉ ՖԻՆԱՆՍԱԿԱՆ ԱԿՏԻՎՆԵՐԻ ԳԾՈՎ ԾԱԽՍԵՐ | G59: =+G60 -> 199521.9
F60: ՀԻՄՆԱԿԱՆ ՄԻՋՈՑՆԵՐ | G60: =+G61 -> 199521.9
F61: ՇԵՆՔԵՐ ԵՎ ՇԻՆՈՒԹՅՈՒՆՆԵՐ | G61: =+G62 -> 199521.9
F62: - Շենքերի և շինությունների շինարարություն | G62: =+'[1]1.'!C12 -> 199521.9

Sheet 6.
D1: Հավելված № 6
A2: ՀՀ կառավարության 2022 թվականի
C3: № ------------ -Ն որոշման
A5: ՀԱՅԱՍՏԱՆԻ ՀԱՆՐԱՊԵՏՈՒԹՅԱՆ ԿԱՌԱՎԱՐՈՒԹՅԱՆ 2021 ԹՎԱԿԱՆԻ ԴԵԿՏԵՄԲԵՐԻ 23-Ի № 2121-Ն ՈՐՈՇՄԱՆ N 5 ՀԱՎԵԼՎԱԾԻ N 7 ԱՂՅՈՒՍԱԿՈՒՄ ԿԱՏԱՐՎՈՂ ԼՐԱՑՈՒՄԸ
A6: հազար դրամ
A7: Ծրագրային դասիչը | C7: Բյուջետային հատկացումների գլխավոր կարգադրիչների, ծրագրերի, միջոցառումների, ծախսային ուղղությունների անվանումները | D7: Միջոցառումները կատարող պետական մարմինների և դրամաշնորհ ստացող տնտեսվարող սուբյեկտների անվանումները | E7: Տարի
A8: ծրագիրը | B8: միջոցառումը | E8: Ցուցանիշների փոփոխությունը (նվազեցումները նշված են փակագծերում)
A9: ՀՀ առողջապահության նախարարություն
A10: 1191 | C10: Խորհրդատվական, մասնագիտական աջակցություն և հետազոտություններ
B11: 11003 | C11: Բժիշկ-մասնագետների ժամանակավոր ուղեգրման միջոցով ՀՀ մարզային առողջապահական կազմակերպություններում բժշկական ծառայությունների մատուցում | D11: ՀՀ առողջապահության նախարարություն | E11: =E12 -> -20000
D12: ՀՀ առողջապահության նախարարի հրամանով ընտրված բժշկական կազմակերպություններ | E12: -20000

Sheet 7.
A1: Հավելված № 7
A2: ՀՀ կառավարության 2022 թվականի -----------
A3: № ------------ -Ն որոշման
A4: ՀԱՅԱՍՏԱՆԻ ՀԱՆՐԱՊԵՏՈՒԹՅԱՆ ԿԱՌԱՎԱՐՈՒԹՅԱՆ 2021 ԹՎԱԿԱՆԻ ԴԵԿՏԵՄԲԵՐԻ 23-Ի № 2121-Ն ՈՐՈՇՄԱՆ № 9 ՀԱՎԵԼՎԱԾԻ № 9.8 ԵՎ 9.14 ԱՂՅՈՒՍԱԿՆԵՐՈՒՄ ԿԱՏԱՐՎՈՂ ՓՈՓՈԽՈՒԹՅՈՒՆՆԵՐԸ
A5: ՀՀ առողջապահության նախարարություն
A6: ՄԱՍ 2. ՊԵՏԱԿԱՆ ՄԱՐՄՆԻ ԳԾՈՎ ԱՐԴՅՈՒՆՔԱՅԻՆ (ԿԱՏԱՐՈՂԱԿԱՆ) ՑՈՒՑԱՆԻՇՆԵՐԸ
A8: Ծրագրի դասիչը | B8: Ծրագրի անվանումը
A9: 1191 | B9: Խորհրդատվական, մասնագիտական աջակցություն և հետազոտություններ
A11: Ծրագրի միջոցառումները
A12: Ծրագրի դասիչը` | B12: 1191 | C12: Ցուցանիշների փոփոխությունը (ավելացումները նշված են դրական նշանով, իսկ նվազեցումները` փակագծերում)
A13: Միջոցառման դասիչը` | B13: 11003 | C13: Տարի
A14: Միջոցառման անվանումը` | B14: Բժիշկ-մասնագետների ժամանակավոր ուղեգրման միջոցով ՀՀ մարզային առողջապահական կազմակերպություններում բժշկական ծառայությունների մատուցում
A15: Նկարագրությունը` | B15: Բժիշկ-մասնագետների ժամանակավոր ուղեգրման միջոցով ՀՀ մարզային առողջապահական կազմակերպություններում բժշկական ծառայությունների մատուցում
A16: Միջոցառման տեսակը` | B16: Ծառայությունների մատուցում
A17: Ծառայությունը մատուցող կազմակերպության(ների) անվանում(ներ)ը | B17: Մասնագիտացված կազմակերպություններ
A18: Արդյունքի չափորոշիչներ
A19: Ուղեգրված բժիշկների թիվ, մարդ | C19: -10
A20: Բժիշկ-մասնագետներ ընդունած մարզային առողջապահական կազմակերպությունների թիվ, հատ | C20: -4
A21: Միջոցառման վրա կատարվող ծախսը (հազար դրամ) | C21: -20000
A23: Ծրագրի դասիչը | B23: Ծրագրի անվանումը
A24: 1126 | B24: Առողջապահության ոլորտում պետական քաղաքականության մշակում, ծրագրերի համակարգում և մոնիտորինգ
A26: Ծրագրի միջոցառումները
A27: Ծրագրի դասիչը` | B27: 1126 | C27: Ցուցանիշների փոփոխությունը (ավելացումները նշված են դրական նշանով, իսկ նվազեցումները` փակագծերում)
A28: Միջոցառման դասիչը` | B28: 31003 | C28: Տարի
A29: Միջոցառման անվանումը` | B29: Առողջապահական կազմակերպությունների կառուցում, վերակառուցում
A30: Նկարագրությունը` | B30: Բնակչությանը որակյալ բժշկական օգնության և սպասարկման ծառայություններ մատուցելու նպատակով առողջապահական կազմակերպությունների կառուցում, վերակառուցում
A31: Միջոցառման տեսակը` | B31: Պետական մարմինների կողմից օգտագործվող ոչ ֆինանսական ակտիվների հետ գործառնություններ
A32: Ակտիվն օգտագործող կազմակերպության (ների) անվանում(ներ)ը | B32: Մասնագիտացված միավոր
A33: Արդյունքի չափորոշիչներ
A34: Միջոցառման վրա կատարվող ծախսը (հազար դրամ) | C34: -179521.9
A35: ՀՀ պաշտպանության նախարարություն
A36: ՄԱՍ 2. ՊԵՏԱԿԱՆ ՄԱՐՄՆԻ ԳԾՈՎ ԱՐԴՅՈՒՆՔԱՅԻՆ (ԿԱՏԱՐՈՂԱԿԱՆ) ՑՈՒՑԱՆԻՇՆԵՐԸ
A38: Ծրագրի դասիչը | B38: Ծրագրի անվանումը
A39: 1169 | B39: ՀՀ պաշտպանության ապահովում
A40: Ծրագրի միջոցառումները
A41: Ծրագրի դասիչը՝ | B41: 1169 | C41: Ցուցանիշների փոփոխությունը (ավելացումները նշված են դրական նշանով, իսկ նվազեցումները` փակագծերում)
A42: Միջոցառման դասիչը՝ | B42: 31001 | C42: Տարի
A43: Միջոցառման անվանումը` | B43: ՀՀ պաշտպանության նախարարության շենքային պայմանների բարելավում
A44: Նկարագրությունը` | B44: Պաշտպանության կարիքների համար բնակելի, գրասենյակային և այլ նշանակության շենքերի և շինությունների կառուցում
A45: Միջոցառման տեսակը` | B45: Պետական մարմինների կողմից օգտագործվող ոչ ֆինանսական ակտիվների հետ գործառնություններ
A46: Ակտիվն օգտագործող կազմակերպության(ների) անվանում(ներ)ը՛ | B46: ՀՀ պաշտպանության նախարարություն
A47: Արդյունքի չափորոշիչներ
A48: Միջոցառման վրա կատարվող ծախսը (հազար դրամ) | C48: 199521.9

Sheet 8.
A1: Հավելված № 8
A2: ՀՀ կառավարության 2022 թվականի -----------
A3: № ------------ -Ն որոշման
A4: ՀԱՅԱՍՏԱՆԻ ՀԱՆՐԱՊԵՏՈՒԹՅԱՆ ԿԱՌԱՎԱՐՈՒԹՅԱՆ 2021 ԹՎԱԿԱՆԻ ԴԵԿՏԵՄԲԵՐԻ 23-Ի № 2121-Ն ՈՐՈՇՄԱՆ № 9.1 ՀԱՎԵԼՎԱԾԻ № 9.1.9 ԵՎ 9.1.15 ԱՂՅՈՒՍԱԿՆԵՐՈՒՄ ԿԱՏԱՐՎՈՂ ՓՈՓՈԽՈՒԹՅՈՒՆՆԵՐԸ
A5: ՀՀ առողջապահության նախարարություն
A6: ՄԱՍ 1. ՊԵՏԱԿԱՆ ՄԱՐՄՆԻ ԳԾՈՎ ԱՐԴՅՈՒՆՔԱՅԻՆ (ԿԱՏԱՐՈՂԱԿԱՆ) ՑՈՒՑԱՆԻՇՆԵՐԸ
A8: Ծրագրի դասիչը | B8: Ծրագրի անվանումը
A9: 1191 | B9: Խորհրդատվական, մասնագիտական աջակցություն և հետազոտություններ
A11: Ծրագրի միջոցառումները
A12: Ծրագրի դասիչը` | B12: 1191 | C12: Ցուցանիշների փոփոխությունը (ավելացումները նշված են դրական նշանով, իսկ նվազեցումները` փակագծերում)
A13: Միջոցառման դասիչը` | B13: 11003 | C13: Տարի
A14: Միջոցառման անվանումը` | B14: Բժիշկ-մասնագետների ժամանակավոր ուղեգրման միջոցով ՀՀ մարզային առողջապահական կազմակերպություններում բժշկական ծառայությունների մատուցում
A15: Նկարագրությունը` | B15: Բժիշկ-մասնագետների ժամանակավոր ուղեգրման միջոցով ՀՀ մարզային առողջապահական կազմակերպություններում բժշկական ծառայությունների մատուցում
A16: Միջոցառման տեսակը` | B16: Ծառայությունների մատուցում
A17: Ծառայությունը մատուցող կազմակերպության(ների) անվանում(ներ)ը | B17: Մասնագիտացված կազմակերպություններ
A18: Արդյունքի չափորոշիչներ
A19: Ուղեգրված բժիշկների թիվ, մարդ | C19: -10
A20: Բժիշկ-մասնագետներ ընդունած մարզային առողջապահական կազմակերպությունների թիվ, հատ | C20: -4
A21: Միջոցառման վրա կատարվող ծախսը (հազար դրամ) | C21: -20000
A24: Ծրագրի դասիչը | B24: Ծրագրի անվանումը
A25: 1126 | B25: Առողջապահության ոլորտում պետական քաղաքականության մշակում, ծրագրերի համակարգում և մոնիտորինգ
A27: Ծրագրի միջոցառումները | C27: (հազ. դրամ)
A28: Ծրագրի դասիչը` | B28: 1126 | C28: Ցուցանիշների փոփոխությունը (նվազեցումները նշված են փակագծերում)
A29: Միջոցառման դասիչը` | B29: 31003 | C29: Տարի
A30: Միջոցառման անվանումը` | B30: Առողջապահական կազմակերպությունների կառուցում, վերակառուցում
A31: Նկարագրությունը` | B31: Բնակչությանը որակյալ բժշկական օգնության և սպասարկման ծառայություններ մատուցելու նպատակով առողջապահական կազմակերպությունների կառուցում, վերակառուցում
A32: Միջոցառման տեսակը` | B32: Պետական մարմինների կողմից օգտագործվող ոչ ֆինանսական ակտիվների հետ գործառնություններ
A33: Ակտիվն օգտագործող կազմակերպության (ների) անվանում(ներ)ը | B33: Մասնագիտացված միավոր
A34: Արդյունքի չափորոշիչներ
A35: Միջոցառման վրա կատարվող ծախսը (հազար դրամ) | C35: ='7.'!C34 -> -179521.9
A37: ՀՀ պաշտպանության նախարարություն
A38: ՄԱՍ 1. ՊԵՏԱԿԱՆ ՄԱՐՄՆԻ ԳԾՈՎ ԱՐԴՅՈՒՆՔԱՅԻՆ (ԿԱՏԱՐՈՂԱԿԱՆ) ՑՈՒՑԱՆԻՇՆԵՐԸ
A40: Ծրագրի դասիչը | B40: Ծրագրի անվանումը
A41: 1169 | B41: ՀՀ պաշտպանության ապահովում
A43: Ծրագրի միջոցառումները
A44: Ծրագրի դասիչը՝ | B44: 1169 | C44: Ցուցանիշների փոփոխությունը (ավելացումները նշված են դրական նշանով)
A45: Միջոցառման դասիչը՝ | B45: 31001 | C45: Տարի
A46: Միջոցառման անվանումը` | B46: ՀՀ պաշտպանության նախարարության շենքային պայմանների բարելավում
A47: Նկարագրությունը` | B47: Պաշտպանության կարիքների համար բնակելի, գրասենյակային և այլ նշանակության շենքերի և շինությունների կառուցում
A48: Միջոցառման տեսակը` | B48: Պետական մարմինների կողմից օգտագործվող ոչ ֆինանսական ակտիվների հետ գործառնություններ
A49: Ակտիվն օգտագործող կազմակերպության(ների) անվանում(ներ)ը՛ | B49: ՀՀ պաշտպանության նախարարություն
B50: Արդյունքի չափորոշիչներ
A51: Միջոցառման վրա կատարվող ծախսը (հազար դրամ) | C51: =C35+C21 -> -199521.9

Sheet 9.
A1: Հավելված № 9
A2: ՀՀ կառավարության 2022 թվականի -----------
A3: № ------------ -Ն որոշման
A4: ՀԱՅԱՍՏԱՆԻ ՀԱՆՐԱՊԵՏՈՒԹՅԱՆ ԿԱՌԱՎԱՐՈՒԹՅԱՆ 2021 ԹՎԱԿԱՆԻ ԴԵԿՏԵՄԲԵՐԻ 23-Ի № 2121-Ն ՈՐՈՇՄԱՆ № 10 ՀԱՎԵԼՎԱԾՈՒՄ ԿԱՏԱՐՎՈՂ ՓՈՓՈԽՈՒԹՅՈՒՆՆԵՐԸ
A5: Կոդը | B5: Անվանումը | E5: Գնման ձևը | F5: Չափման միավորը | G5: Միավորի գինը | H5: Քանակը | I5: Ցուցանիշների փոփոխությունները (ավելացումները նշված են դրական նշանով, իսկ նվազեցումները` փակագծերում)
I6: (հազ. դրամ)
A7: ՀՀ առողջապահության նախարարություն | I7: =I8 -> -179521.85
A8: Բաժին N 07 | B8: Խումբ N 06 | C8: Դաս N 02 | D8: Առողջապահություն (այլ դասերին չպատկանող) | I8: =I9 -> -179521.85
A9: 1126 31003 | B9: Առողջապահական կազմակերպությունների կառուցում, վերակառուցում | I9: =+I10+I13 -> -179521.85
B10: ՄԱՍ II. ԱՇԽԱՏԱՆՔՆԵՐ | I10: =+I11+I12 -> -157616.9
A11: 45451700/3 | B11: վերակառուցման աշխատանքներ | E11: ԲՄ | F11: դրամ | I11: -28728.9
A12: 45451700/505 | B12: վերակառուցման աշխատանքներ | E12: ԲՄ | F12: դրամ | I12: -128888
B13: ՄԱՍ III. ԾԱՌԱՅՈՒԹՅՈՒՆՆԵՐ | I13: =SUM(I14:I19) -> -21904.95
A14: 71351540/3 | B14: տեխնիկական հսկողության ծառայություններ | E14: ԳՀ | F14: դրամ | I14: -7090.91
A15: 71351540/4 | B15: տեխնիկական հսկողության ծառայություններ | E15: ԳՀ | F15: դրամ | I15: -5195.61
A16: 71351540/501 | B16: տեխնիկական հսկողության ծառայություններ | E16: ԳՀ | F16: դրամ | I16: -2680
A17: 98111140/3 | B17: հեղինակային հսկողության ծառայություններ | E17: ՄԱ | F17: դրամ | I17: -4285.39
A18: 98111140/4 | B18: հեղինակային հսկողության ծառայություններ | E18: ՄԱ | F18: դրամ | I18: -1649.68
A19: 98111140/5 | B19: հեղինակային հսկողության ծառայություններ | E19: ՄԱ | F19: դրամ | I19: -1003.36
