Workbook
Name _tab10: #REF!
Name _tab10: #REF!
Name _tab10: #REF!
Name _tab10: #REF!
Name _tab10: #REF!
Name _tab10: #REF!
Name _tab11: #REF!
Name _tab11: #REF!
Name _tab11: #REF!
Name _tab11: #REF!
Name _tab11: #REF!
Name _tab11: #REF!
Name _tab12: #REF!
Name _tab12: #REF!
Name _tab12: #REF!
Name _tab12: #REF!
Name _tab12: #REF!
Name _tab12: #REF!
Name _tab13: #REF!
Name _tab13: #REF!
Name _tab13: #REF!
Name _tab13: #REF!
Name _tab13: #REF!
Name _tab13: #REF!
Name _tab14: #REF!
Name _tab14: #REF!
Name _tab14: #REF!
Name _tab14: #REF!
Name _tab14: #REF!
Name _tab14: #REF!
Name _tab15: #REF!
Name _tab15: #REF!
Name _tab15: #REF!
Name _tab15: #REF!
Name _tab15: #REF!
Name _tab15: #REF!
Name _tab16: #REF!
Name _tab16: #REF!
Name _tab16: #REF!
Name _tab16: #REF!
Name _tab16: #REF!
Name _tab16: #REF!
Name _tab17: #REF!
Name _tab17: #REF!
Name _tab17: #REF!
Name _tab17: #REF!
Name _tab17: #REF!
Name _tab17: #REF!
Name _tab18: #REF!
Name _tab18: #REF!
Name _tab18: #REF!
Name _tab18: #REF!
Name _tab18: #REF!
Name _tab18: #REF!
Name _tab19: #REF!
Name _tab19: #REF!
Name _tab19: #REF!
Name _tab19: #REF!
Name _tab19: #REF!
Name _tab19: #REF!

Sheet 1
B1: Հավելված N 1
B2: ՀՀ կառավարության 2022 թվականի
B3: ______________ ի ___ -Ն որոշման
B5: «ՀԱՅԱՍՏԱՆԻ ՀԱՆՐԱՊԵՏՈՒԹՅԱՆ 2022 ԹՎԱԿԱՆԻ ՊԵՏԱԿԱՆ ԲՅՈՒՋԵԻ ՄԱՍԻՆ» ՀԱՅԱՍՏԱՆԻ ՀԱՆՐԱՊԵՏՈՒԹՅԱՆ ՕՐԵՆՔԻ N 1 ՀԱՎԵԼՎԱԾԻ N 2 ԱՂՅՈՒՍԱԿՈՒՄ ԿԱՏԱՐՎՈՂ ՎԵՐԱԲԱՇԽՈՒՄԸ ԵՎ ՀԱՅԱՍՏԱՆԻ ՀԱՆՐԱՊԵՏՈՒԹՅԱՆ ԿԱՌԱՎԱՐՈՒԹՅԱՆ 2021 ԹՎԱԿԱՆԻ ԴԵԿՏԵՄԲԵՐԻ 23-Ի N 2121-Ն ՈՐՈՇՄԱՆ N 5 ՀԱՎԵԼՎԱԾԻ N 1 ԱՂՅՈՒՍԱԿՈՒՄ ԿԱՏԱՐՎՈՂ ՓՈՓՈԽՈՒԹՅՈՒՆՆԵՐԸ
E6: հազար դրամ
B7: Ծրագրային դասիչը | D7: Բյուջետային հատկացումների գլխավոր կարգադրիչների, ծրագրերի և միջոցառումների անվանումները | E7: Ցուցանիշների փոփոխությունը (ավելացումները նշված են դրական նշանով, իսկ նվազեցումները՝ փակագծերում)
B8: ծրագիր | C8: միջոցառում | E8: տարի
D9: Ընդամենը | E9: =E10+E24 -> 0
D10: ՀՀ պաշտպանության նախարարություն | E10: =+E12 -> -295000
B11: 1169 | D11: Ծրագրի անվանումը՝
D12: ՀՀ պաշտպանության ապահովում | E12: =E18 -> -295000
D13: Ծրագրի նպատակը՝
D14: ՀՀ ԶՈւ ռազմավարական ծավալումն ապահովող մարտական պատրաստականության պահպանում՝ արտաքին թշնամուց ՀՀ պետական սահմանների պաշտպանության ապահովում
D15: Վերջնական արդյունքի նկարագրությունը՝
D16: ՀՀ ԶՈւ ռազմավարական ծավալումն ապահովող մարտական պատրաստականության պահպանում
B17: Ծրագրի միջոցառումներ
C18: 31001 | D18: Միջոցառման անվանումը՝ | E18: ='3'!H37 -> -295000
D19: ՀՀ պաշտպանության նախարարության շենքային պայմանների բարելավում
D20: Միջոցառման նկարագրությունը՝
D21: Պաշտպանության կարիքների համար բնակելի, գրասենյակային և այլ նշանակության շենքերի և շինությունների կառուցում
D22: Միջոցառման տեսակը
D23: Պետական մարմինների կողմից օգտագործվող ոչ ֆինանսական ակտիվների հետ գործառնություններ
D24: ՀՀ պաշտպանության նախարարություն | E24: =+E26 -> 295000
B25: 1177 | D25: Ծրագրի անվանումը`
D26: Հումանիտար ականազերծման և փորձագիտական ծառայություններ | E26: =+E32 -> 295000
D27: Ծրագրի նպատակը`
D28: Նվազեցնել ականների և պատերազմի պայթուցիկ մնացորդների տարածման սոցիալական, տնտեսական և բնապահպանական վտանգավոր ազդեցությունը մարդու և հասարակության կենսագոյության վրա
D29: Վերջնական արդյունքի նկարագրությունը`
D30: Ականների և ՊՊՄ-ների ռիսկերի կրճատում մինչև նվազագույն մակարդակ: Կասկածելի ականապատված տարածքների և դրա հետ փոխկապակցված զոհերի նվազեցում
B31: Ծրագրի միջոցառումներ
C32: 11001 | D32: Միջոցառման անվանումը` | E32: ='3'!H20 -> 295000
D33: Հումանիտար ականազերծման և փորձագիտական ծառայությունների կազմակերպում
D34: Միջոցառման նկարագրությունը`
D35: Հակաականային գործողությունների ենթակա տարածքի հետազննում, քարտեզագրում, նախատեսվող ծավալի աշխատանքների հստակեցում և իրականացվող միջոցառումների պլանավորում
D36: Միջոցառման տեսակը
D37: Ծառայությունների մատուցում

Sheet 2
B1: Հավելված N 2
B2: ՀՀ կառավարության 2022 թվականի
B3: ______________ ի ___ -Ն որոշման
B5: «ՀԱՅԱՍՏԱՆԻ ՀԱՆՐԱՊԵՏՈՒԹՅԱՆ 2022 ԹՎԱԿԱՆԻ ՊԵՏԱԿԱՆ ԲՅՈՒՋԵԻ ՄԱՍԻՆ» ՀԱՅԱՍՏԱՆԻ ՀԱՆՐԱՊԵՏՈՒԹՅԱՆ ՕՐԵՆՔԻ N 1 ՀԱՎԵԼՎԱԾԻ N 3 ԱՂՅՈՒՍԱԿՈՒՄ ԿԱՏԱՐՎՈՂ ՓՈՓՈԽՈՒԹՅՈՒՆՆԵՐԸ
H6: հազար դրամ
B7: Ծրագրային դասիչ | D7: Բյուջետային գլխավոր կարգադրիչների, ծրագրերի, միջոցառումների և ուղղությունների անվանումները | E7: Ցուցանիշների փոփոխությունը (նվազեցումները նշված են փակագծերում)
E8: Ընդամենը | F8: այդ թվում՝
B9: ծրագիր | C9: միջոցառում | F9: կառուցման աշխատանքներ | G9: վերակառուցման, վերանորոգման և վերականգնման աշխատանքներ | H9: նախագծահե- տազոտական, գեոդեզիա- քարտեզագրա- կան աշխա- տանքներ | I9: ոչ ֆինանսական այլ ակտիվների ձեռքբերում
D10: ԸՆԴԱՄԵՆԸ | E10: =E12 -> -295000 | F10: =F12 -> -295000 | I10: =I12 -> 0
D11: այդ թվում՝
D12: ՀՀ ՊԱՇՏՊԱՆՈՒԹՅԱՆ ՆԱԽԱՐԱՐՈՒԹՅՈՒՆ | E12: =E14 -> -295000 | F12: =F14 -> -295000 | I12: =I14 -> 0
D13: այդ թվում`
B14: 1169 | C14: 31001 | D14: ՀՀ պաշտպանության նախարարության շենքային պայմաններ բարելավում | E14: =SUM(F14:I14) -> -295000 | F14: ='3'!H37 -> -295000

Sheet 3
B1: Հավելված N 3
B2: ՀՀ կառավարության 2022 թվականի
B3: ______________ ի ___ -Ն որոշման
B5: ՀԱՅԱՍՏԱՆԻ ՀԱՆՐԱՊԵՏՈՒԹՅԱՆ ԿԱՌԱՎԱՐՈՒԹՅԱՆ 2021 ԹՎԱԿԱՆԻ ԴԵԿՏԵՄԲԵՐԻ 23-Ի N 2121-Ն ՈՐՈՇՄԱՆ N 3 և N 4 ՀԱՎԵԼՎԱԾՆԵՐՈՒՄ ԿԱՏԱՐՎՈՂ ՓՈՓՈԽՈՒԹՅՈՒՆՆԵՐԸ
H6: հազար դրամ
B7: Գործառական դասիչը | E7: Ծրագրային դասիչը | G7: Բյուջետային ծախսերի գործառական դասակարգման բաժինների, խմբերի և դասերի, բյուջետային ծրագրերի միջոցառումների, բյուջետային հատկացումների գլխավոր կարգադրիչների անվանումները | H7: Ցուցանիշների փոփոխությունը (ավելացումները նշված են դրական նշանով, իսկ նվազեցումները՝ փակագծերում)
B8: բաժին | C8: խումբ | D8: դաս | E8: ծրագիր | F8: միջոցառում | H8: տարի
G9: ԸՆԴԱՄԵՆԸ ԾԱԽՍԵՐ այդ թվում՝ | H9: =H29+H10 -> 0
B10: 02 | G10: ՊԱՇՏՊԱՆՈՒԹՅՈՒՆ | H10: =+H12 -> 295000
G11: այդ թվում`
C12: 05 | G12: Պաշտպանություն (այլ դասերին չպատկանող) | H12: =+H14 -> 295000
G13: այդ թվում`
D14: 01 | G14: Պաշտպանություն (այլ դասերին չպատկանող) | H14: =+H16 -> 295000
G15: այդ թվում`
G16: ՀՀ պաշտպանության նախարարություն | H16: =+H18 -> 295000
G17: այդ թվում`
E18: 1177 | G18: Հումանիտար ականազերծման և փորձագիտական ծառայություններ | H18: =+H20 -> 295000
G19: այդ թվում`
F20: 11001 | G20: Հումանիտար ականազերծման և փորձագիտական ծառայությունների կազմակերպում | H20: =+H22 -> 295000
G21: այդ թվում` ըստ կատարողների
G22: ՀՀ պաշտպանության նախարարություն | H22: =+H24 -> 295000
G23: այդ թվում` բյուջետային ծախսերի տնտեսագիտական դասակարգման հոդվածներ
G24: ԸՆԴԱՄԵՆԸ ԾԱԽՍԵՐ | H24: =+H25 -> 295000
G25: ԸՆԹԱՑԻԿ ԾԱԽՍԵՐ | H25: =+H26 -> 295000
G26: ԴՐԱՄԱՇՆՈՐՀՆԵՐ | H26: =H27 -> 295000
G27: Ընթացիկ դրամաշնորհներ պետական հատվածի այլ մակարդակներին | H27: =H28 -> 295000
G28: - Ընթացիկ դրամաշնորհներ պետական և համայնքային ոչ առևտրային կազմակերպություններին | H28: 295000
B29: 02 | G29: ՊԱՇՏՊԱՆՈՒԹՅՈՒՆ | H29: =H31 -> -295000
G30: այդ թվում`
C31: 01 | G31: Ռազմական պաշտպանություն | H31: =+H33 -> -295000
G32: այդ թվում`
D33: 01 | G33: Ռազմական պաշտպանություն | H33: =+H35 -> -295000
G34: այդ թվում`
G35: ՀՀ պաշտպանության նախարարություն | H35: =+H36 -> -295000
E36: 1169 | G36: ՀՀ պաշտպանության ապահովում | H36: =H37 -> -295000
F37: 31001 | G37: ՀՀ պաշտպանության նախարարության շենքային պայմանների բարելավում | H37: =H39 -> -295000
G38: այդ թվում` ըստ կատարողների
G39: ՀՀ պաշտպանության նախարարություն | H39: =+H41 -> -295000
G40: այդ թվում` բյուջետային ծախսերի տնտեսագիտական դասակարգման հոդվածներ
G41: ԸՆԴԱՄԵՆԸ ԾԱԽՍԵՐ | H41: =H42 -> -295000
G42: ՈՉ ՖԻՆԱՆՍԱԿԱՆ ԱԿՏԻՎՆԵՐԻ ԳԾՈՎ ԾԱԽՍԵՐ | H42: =H43 -> -295000
G43: ՀԻՄՆԱԿԱՆ ՄԻՋՈՑՆԵՐ | H43: =H44 -> -295000
G44: ՄԵՔԵՆԱՆԵՐ ԵՎ ՍԱՐՔԱՎՈՐՈՒՄՆԵՐ | H44: =H45 -> -295000
G45: - Տրանսպորտային սարքավորումներ | H45: -295000

Sheet 4
B1: Հավելված N 4
B2: ՀՀ կառավարության 2022 թվականի
B3: ______________ ի ___ -Ն որոշման
B5: ՀԱՅԱՍՏԱՆԻ ՀԱՆՐԱՊԵՏՈՒԹՅԱՆ ԿԱՌԱՎԱՐՈՒԹՅԱՆ 2021 ԹՎԱԿԱՆԻ ԴԵԿՏԵՄԲԵՐԻ 23-Ի N 2121-Ն ՈՐՈՇՄԱՆ N 5 ՀԱՎԵԼՎԱԾԻ N 2 ԱՂՅՈՒՍԱԿՈՒՄ ԿԱՏԱՐՎՈՂ ՓՈՓՈԽՈՒԹՅՈՒՆՆԵՐԸ
E6: հազար դրամ
B7: Ծրագրային դասիչ | D7: Բյուջետային գլխավոր կարգադրիչների, ծրագրերի, միջոցառումների և ուղղությունների անվանումները | E7: Ցուցանիշների փոփոխությունը (նվազեցումները նշված են փակագծերում)
B8: ծրագիր | C8: միջոցառում | E8: տարի
D10: ԸՆԴԱՄԵՆԸ | E10: =+E12 -> -295000
D11: այդ թվում՝
D12: ՀՀ ՊԱՇՏՊԱՆՈՒԹՅԱՆ ՆԱԽԱՐԱՐՈՒԹՅՈՒՆ | E12: =+E14 -> -295000
D13: այդ թվում`
B14: 1169 | C14: 31001 | D14: ՀՀ պաշտպանության նախարարության շենքային պայմանների բարելավում | E14: =E16 -> -295000
D15: այդ թվում` ըստ կատարողների
D16: ՀՀ պաշտպանության նախարարություն | E16: ='3'!H37 -> -295000

Sheet 5
B1: Հավելված N 5
B2: ՀՀ կառավարության 2022 թվականի
B3: ______________ ի ___ -Ն որոշման
B5: ՀԱՅԱՍՏԱՆԻ ՀԱՆՐԱՊԵՏՈՒԹՅԱՆ ԿԱՌԱՎԱՐՈՒԹՅԱՆ 2021 ԹՎԱԿԱՆԻ ԴԵԿՏԵՄԲԵՐԻ 23-Ի N 2121-Ն ՈՐՈՇՄԱՆ N 9 ՀԱՎԵԼՎԱԾԻ N 9.14 ԱՂՅՈՒՍԱԿՈՒՄ ԿԱՏԱՐՎՈՂ ՓՈՓՈԽՈՒԹՅՈՒՆՆԵՐԸ
B7: ՀՀ պաշտպանության նախարարություն
B9: ՄԱՍ 2. ՊԵՏԱԿԱՆ ՄԱՐՄՆԻ ԳԾՈՎ ԱՐԴՅՈՒՆՔԱՅԻՆ (ԿԱՏԱՐՈՂԱԿԱՆ) ՑՈՒՑԱՆԻՇՆԵՐԸ
B11: Ծրագրի դասիչը | C11: Ծրագրի անվանումը
B12: 1169 | C12: ՀՀ պաշտպանության ապահովում
B14: Ծրագրի միջոցառումները
B16: Ծրագրի դասիչը` | C16: 1169 | D16: Ցուցանիշների փոփոխությունը (նվազեցումները նշված են փակագծերում)
B17: Միջոցառման դասիչը` | C17: 31001 | D17: տարի
B18: Միջոցառման անվանումը` | C18: ՀՀ պաշտպանության նախարարության շենքային պայմանների բարելավում
B19: Նկարագրությունը` | C19: Պաշտպանության կարիքների համար բնակելի, գրասենյակային և այլ նշանակության շենքերի և շինությունների կառուցում
B20: Միջոցառման տեսակը` | C20: Պետական մարմինների կողմից օգտագործվող ոչ ֆինանսական ակտիվների հետ գործառնություններ
B21: Ակտիվն օգտագործող կազմակերպության(ների) անվանում(ներ)ը՝ | C21: ՀՀ պաշտպանության նախարարություն
B22: Արդյունքի չափորոշիչներ
B23: չի սահմանվում
B24: Միջոցառման վրա կատարվող ծախսը (հազար դրամ) | D24: ='3'!H37 -> -295000
B26: ՀՀ պաշտպանության նախարարություն
B28: ՄԱՍ 2. ՊԵՏԱԿԱՆ ՄԱՐՄՆԻ ԳԾՈՎ ԱՐԴՅՈՒՆՔԱՅԻՆ (ԿԱՏԱՐՈՂԱԿԱՆ) ՑՈՒՑԱՆԻՇՆԵՐԸ
B30: Ծրագրի դասիչը | C30: Ծրագրի անվանումը
B31: 1177 | C31: Հումանիտար ականազերծման և փորձագիտական ծառայություններ
B33: Ծրագրի միջոցառումները
B35: Ծրագրի դասիչը` | C35: 1177 | D35: Ցուցանիշների փոփոխությունը (ավելացումները նշված են դրական նշանով)
B36: Միջոցառման դասիչը` | C36: 11001 | D36: տարի
B37: Միջոցառման անվանումը` | C37: Հումանիտար ականազերծման և փորձագիտական ծառայությունների կազմակերպում
B38: Նկարագրությունը` | C38: Հակաականային գործողությունների ենթակա տարածքի հետազննում, քարտեզագրում, նախատեսվող ծավալի աշխատանքների հստակեցում և իրականացվող միջոցառումների պլանավորում
B39: Միջոցառման տեսակը` | C39: Ծառայությունների մատուցում
B40: Միջոցառումն իրականացնողի անվանումը | C40: §Հումանիտար ականազերծման և փորձագիտական կենտրոն¦ ՊՈԱԿ
B41: Արդյունքի չափորոշիչներ
B42: Հաստատված վտանգավոր տարածքների (ՀՎՏ) և կասկածելի վտանգավոր տարածքների (ԿՎՏ) կրճատում, քառ. մետր
B43: Ականազերծված տարածքներ, քառ. մետր
B44: Իրազեկված չափահաս բնակիչներ և երեխաներ, ինչպես նաև աջակցություն ստացած ականներից և/կամ ՊՊՄ-ներից տուժած անձինք, մարդ
B45: Միջոցառման վրա կատարվող ծախսը (հազար դրամ) | D45: ='3'!H28 -> 295000

Sheet 6
B1: Հավելված N 6
B2: ՀՀ կառավարության 2022 թվականի
B3: ______________ ի ___ -Ն որոշման
B5: ՀԱՅԱՍՏԱՆԻ ՀԱՆՐԱՊԵՏՈՒԹՅԱՆ ԿԱՌԱՎԱՐՈՒԹՅԱՆ 2021 ԹՎԱԿԱՆԻ ԴԵԿՏԵՄԲԵՐԻ 23-Ի N 2121-Ն ՈՐՈՇՄԱՆ N 9.1 ՀԱՎԵԼՎԱԾԻ N 9.1.15 ԱՂՅՈՒՍԱԿՈՒՄ ԿԱՏԱՐՎՈՂ ՓՈՓՈԽՈՒԹՅՈՒՆՆԵՐԸ
B7: ՀՀ պաշտպանության նախարարություն
B9: ՄԱՍ 1. ՊԵՏԱԿԱՆ ՄԱՐՄՆԻ ԳԾՈՎ ԱՐԴՅՈՒՆՔԱՅԻՆ (ԿԱՏԱՐՈՂԱԿԱՆ) ՑՈՒՑԱՆԻՇՆԵՐԸ
B11: Ծրագրի դասիչը | C11: Ծրագրի անվանումը
B12: 1169 | C12: ՀՀ պաշտպանության ապահովում
B14: Ծրագրի միջոցառումները
B16: Ծրագրի դասիչը` | C16: 1169 | D16: Ցուցանիշների փոփոխությունը (նվազեցումները նշված են փակագծերում)
B17: Միջոցառման դասիչը` | C17: 31001 | D17: տարի
B18: Միջոցառման անվանումը` | C18: ՀՀ պաշտպանության նախարարության շենքային պայմանների բարելավում
B19: Նկարագրությունը` | C19: Պաշտպանության կարիքների համար բնակելի, գրասենյակային և այլ նշանակության շենքերի և շինությունների կառուցում
B20: Միջոցառման տեսակը` | C20: Պետական մարմինների կողմից օգտագործվող ոչ ֆինանսական ակտիվների հետ գործառնություններ
B21: Ակտիվն օգտագործող կազմակերպության(ների) անվանում(ներ)ը՝ | C21: ՀՀ պաշտպանության նախարարություն
B22: Արդյունքի չափորոշիչներ
B23: չի սահմանվում
B24: Միջոցառման վրա կատարվող ծախսը (հազար դրամ) | D24: ='3'!H37 -> -295000
B26: ՀՀ պաշտպանության նախարարություն
B28: ՄԱՍ 1. ՊԵՏԱԿԱՆ ՄԱՐՄՆԻ ԳԾՈՎ ԱՐԴՅՈՒՆՔԱՅԻՆ (ԿԱՏԱՐՈՂԱԿԱՆ) ՑՈՒՑԱՆԻՇՆԵՐԸ
B30: Ծրագրի դասիչը | C30: Ծրագրի անվանումը
B31: 1177 | C31: Հումանիտար ականազերծման և փորձագիտական ծառայություններ
B33: Ծրագրի միջոցառումները
B35: Ծրագրի դասիչը` | C35: 1177 | D35: Ցուցանիշների փոփոխությունը (ավելացումները նշված են դրական նշանով)
B36: Միջոցառման դասիչը` | C36: 11001 | D36: տարի
B37: Միջոցառման անվանումը` | C37: Հումանիտար ականազերծման և փորձագիտական ծառայությունների կազմակերպում
B38: Նկարագրությունը` | C38: Հակաականային գործողությունների ենթակա տարածքի հետազննում, քարտեզագրում, նախատեսվող ծավալի աշխատանքների հստակեցում և իրականացվող միջոցառումների պլանավորում
B39: Միջոցառման տեսակը` | C39: Ծառայությունների մատուցում
B40: Միջոցառումն իրականացնողի անվանումը | C40: §Հումանիտար ականազերծման և փորձագիտական կենտրոն¦ ՊՈԱԿ
B41: Արդյունքի չափորոշիչներ
B42: Հաստատված վտանգավոր տարածքների (ՀՎՏ) և կասկածելի վտանգավոր տարածքների (ԿՎՏ) կրճատում, քառ. մետր
B43: Ականազերծված տարածքներ, քառ. մետր
B44: Իրազեկված չափահաս բնակիչներ և երեխաներ, ինչպես նաև աջակցություն ստացած ականներից և/կամ ՊՊՄ-ներից տուժած անձինք, մարդ
B45: Միջոցառման վրա կատարվող ծախսը (հազար դրամ) | D45: ='3'!H28 -> 295000

Sheet 7
H1: Հավելված N 7
H2: ՀՀ կառավարության 2022 թվականի
H3: ______________ ի ___ -Ն որոշման
B5: ՀԱՅԱՍՏԱՆԻ ՀԱՆՐԱՊԵՏՈՒԹՅԱՆ ԿԱՌԱՎԱՐՈՒԹՅԱՆ 2021 ԹՎԱԿԱՆԻ ԴԵԿՏԵՄԲԵՐԻ 23-Ի N 2121-Ն ՈՐՈՇՄԱՆ N 10 ՀԱՎԵԼՎԱԾՈՒՄ ԿԱՏԱՐՎՈՂ ՓՈՓՈԽՈՒԹՅՈՒՆՆԵՐԸ
J6: հազար դրամ
B7: Կոդը | C7: Անվանումը | F7: Գնման ձևը | G7: Չափման միավորը | H7: Միավորի գինը (դրամով) | I7: Ցուցանիշների փոփոխությունը (նվազեցումները նշված են փակագծերում)
I8: քանակը | J8: գումարը (հազար դրամով)
C9: ՀՀ պաշտպանության նախարարություն | J9: =SUM(J11) -> -295000
B10: Բաժին N 02 | C10: Խումբ N 01 | D10: Դաս N 01 | E10: Ռազմական պաշտպանություն | J10: =SUM(J11) -> -295000
B11: 1169 31001 | C11: ՀՀ պաշտպանության նախարարության շենքային պայմանների բարելավում | J11: =SUM(J12:J12) -> -295000
B12: 99600000/2 | C12: գնում չհանդիսացող այլ ծախսեր | F12: գչծ | G12: դրամ | J12: -295000

Sheet Sheet1
A1: 4239 | B1: 20939.6
A2: 4252 | B2: 4001.2
A3: 4261 | B3: 24221.5
A4: 4264 | B4: 658398.2
A5: 4267 | B5: 51113.2
A6: 4269 | B6: 58135.2
A7: 5121 | B7: 34800
A8: 5122 | B8: 30780.6
A9: 5129 | B9: 165718.2
A10: 5132 | B10: 33.2
