Workbook
Name _tab10: #REF!
Name _tab10: #REF!
Name _tab10: #REF!
Name _tab11: #REF!
Name _tab11: #REF!
Name _tab11: #REF!
Name _tab12: #REF!
Name _tab12: #REF!
Name _tab12: #REF!
Name _tab13: #REF!
Name _tab13: #REF!
Name _tab13: #REF!
Name _tab14: #REF!
Name _tab14: #REF!
Name _tab14: #REF!
Name _tab15: #REF!
Name _tab15: #REF!
Name _tab15: #REF!
Name _tab16: #REF!
Name _tab16: #REF!
Name _tab16: #REF!
Name _tab17: #REF!
Name _tab17: #REF!
Name _tab17: #REF!
Name _tab18: #REF!
Name _tab18: #REF!
Name _tab18: #REF!
Name _tab19: #REF!
Name _tab19: #REF!
Name _tab19: #REF!
Name _tab20: #REF!
Name _tab20: #REF!
Name _tab20: #REF!
Name _tab21: #REF!
Name _tab21: #REF!
Name _tab21: #REF!
Name _tab22: #REF!
Name _tab22: #REF!
Name _tab22: #REF!
Name _tab23: #REF!
Name _tab23: #REF!
Name _tab23: #REF!
Name _tab24: #REF!
Name _tab24: #REF!
Name _tab24: #REF!
Name _tab5: #REF!
Name _tab5: #REF!
Name _tab5: #REF!
Name _tab6: #REF!
Name _tab6: #REF!
Name _tab6: #REF!
Name _tab7: #REF!
Name _tab7: #REF!
Name _tab7: #REF!
Name _tab8: #REF!
Name _tab8: #REF!
Name _tab8: #REF!
Name _tab9: #REF!
Name _tab9: #REF!
Name _tab9: #REF!

Sheet 1
D1: Հավելված N 1
C2: ՀՀ կառավարության 2022 թվականի
C3: -----------------ի N -----------Ն որոշման
A5: ՀԱՅԱՍՏԱՆԻ ՀԱՆՐԱՊԵՏՈՒԹՅԱՆ 2022 ԹՎԱԿԱՆԻ ՊԵՏԱԿԱՆ ԲՅՈՒՋԵԻ ՄԱՍԻՆ» ՕՐԵՆՔԻ N 1 ՀԱՎԵԼՎԱԾԻ N 2 ԱՂՅՈՒՍԱԿՈՒՄ ԿԱՏԱՐՎՈՂ ՎԵՐԱԲԱՇԽՈՒՄԸ ԵՎ ՀԱՅԱՍՏԱՆԻ ՀԱՆՐԱՊԵՏՈՒԹՅԱՆ ԿԱՌԱՎԱՐՈՒԹՅԱՆ 2021 ԹՎԱԿԱՆԻ ԴԵԿՏԵՄԲԵՐԻ 23-Ի N 2121-Ն ՈՐՈՇՄԱՆ N 5 ՀԱՎԵԼՎԱԾԻ N 1 ԱՂՅՈՒՍԱԿՈՒՄ ԿԱՏԱՐՎՈՂ ՓՈՓՈԽՈՒԹՅՈՒՆՆԵՐԸ
D6: հազար դրամ
A7: Ծրագրային դասիչը | C7: Բյուջետային հատկացումների գլխավոր կարգադրիչների, ծրագրերի և միջոցառումների անվանումները | D7: Ցուցանիշների փոփոխությունները ավելացումները նշված են դրական նշանով, իսկ նվազեցումները՝ փակագծերում
A8: Ծրագիր | B8: Միջոցառում | D8: Տարի
C9: ԸՆԴԱՄԵՆԸ | D9: =SUM(D10,D168) -> 0
C10: ՀՀ աշխատանքի և սոցիալական հարցերի նախարարություն | D10: =D11+D30+D55+D67+D80+D111 -> 7954600
A11: 1005 | C11: Ծրագրի անվանումը` | D11: =D18+D24 -> 303000
C12: Պարգևավճարներ և պատվովճարներ
C13: Ծրագրի նպատակը`
C14: Պետական հոգածության դրսևորում, առանձին կատեգորիայի քաղաքացիներին և նրանց ընտանիքներին սոցիալական երաշխիքների տրամադրում
C15: Վերջնական արդյունքի նկարագրությունը`
C16: Առանձին կատեգորիայի քաղաքացիներին և նրանց ընտանիքի անդամների սոցիալական պաշտպանվածության մակարդակի բարձրացում
A17: Ծրագրի միջոցառումներ
B18: 12001 | C18: Միջոցառման անվանումը` | D18: 305000
C19: Զինծառայողներին, ՀՄՊ մասնակիցներին, այլ պետություններում մարտական գործողությունների մասնակիցներին, զոհված (մահացած) զինծառայողի ընտանիքի անդամներին, ընտանիքներին տրվող պարգևավճարներ
C20: Միջոցառման նկարագրությունը`
C21: Զինծառայողներին, ՀՄՊ մասնակիցներին, այլ պետություններում մարտական գործողությունների մասնակիցներին, զոհված (մահացած) զինծառայողի ընտանիքի անդամներին, ընտանիքներին, պարգևավճարների տրամադրում
C22: Միջոցառման տեսակը
C23: Տրանսֆերտների տրամադրում
B24: 12002 | C24: Միջոցառման անվանումը` | D24: -2000
C25: Վետերանների պատվովճարներ
C26: Միջոցառման նկարագրությունը`
C27: ՀՄՊ վետերաններին պատվովճարի տրամադրում
C28: Միջոցառման տեսակը
C29: Տրանսֆերտների տրամադրում
A30: 1011 | C30: Ծրագրի անվանումը` | D30: =D37+D43+D49 -> -427000
C31: Անապահով սոցիալական խմբերին աջակցություն
C32: Ծրագրի նպատակը`
C33: Օժանդակել անապահով ընտանիքների կենսամակարդակի բարձրացմանը
C34: Վերջնական արդյունքի նկարագրությունը`
C35: Աղքատության մեղմում և ծայրահեղ աղքատության կրճատում
A36: Ծրագրի միջոցառումներ
B37: 11001 | C37: Միջոցառման անվանումը` | D37: -8000
C38: Ընտանիքի կենսամակարդակի բարձրացմանն ուղղված նպաստների իրականացման ապահովում
C39: Միջոցառման նկարագրությունը`
C40: Ընտանիքների անապահովության գնահատման համակարգում հաշվառված, ընդգրկված անապահով ճանաչված ընտանիքներին նպաստի, սոցիալական նպաստի և հրատապ օգնության վճարման ծառայությունների ձեռքբերում
C41: Միջոցառման տեսակը
...

Sheet 2
G1: Հավելված N 2
G2: ՀՀ կառավարության 2022 թվականի
G3: -----------------ի N -----------Ն որոշման
A5: ՀԱՅԱՍՏԱՆԻ ՀԱՆՐԱՊԵՏՈՒԹՅԱՆ ԿԱՌԱՎԱՐՈՒԹՅԱՆ 2021 ԹՎԱԿԱՆԻ ԴԵԿՏԵՄԲԵՐԻ 23-Ի N 2121-Ն ՈՐՈՇՄԱՆ N 3, N 4 ՀԱՎԵԼՎԱԾՆԵՐՈՒՄ ԿԱՏԱՐՎՈՂ ՓՈՓՈԽՈՒԹՅՈՒՆՆԵՐԸ
G6: հազար դրամ
A7: Գործառական դասիչը | D7: Ծրագրային դասիչը | F7: Բյուջետային ծախսերի գործառական դասակարգման բաժինների, խմբերի և դասերի, բյուջետային ծրագրերի միջոցառումների, բյուջետային հատկացումների գլխավոր կարգադրիչների անվանումները | G7: ='1'!D7 -> Ցուցանիշների փոփոխությունները ավելացումները նշված են դրական նշանով, իսկ նվազեցումները՝ փակագծերում
A8: Բաժինը | B8: Խումբը | C8: Դասը | D8: Ծրագիր | E8: Միջոցառում | G8: ='[1]1'!E8 -> Տարի
F9: ԸՆԴԱՄԵՆԸ ԾԱԽՍԵՐ | G9: =G11+G226 -> 0
F10: այդ թվում`
A11: 10 | F11: ՍՈՑԻԱԼԱԿԱՆ ՊԱՇՏՊԱՆՈՒԹՅՈՒՆ | G11: =G13+G75+G90+G105+G129+G191 -> 7954600
F12: այդ թվում`
B13: 02 | F13: Ծերություն | G13: =G15 -> 8101600
F14: այդ թվում`
C15: 01 | F15: Ծերություն | G15: =G17+G55 -> 8101600
F16: այդ թվում`
D17: 1102 | F17: Կենսաթոշակային ապահովություն | G17: =G19+G28+G37+G46 -> 6821600
F18: այդ թվում`
E19: 12001 | F19: Սպայական անձնակազմի և նրանց ընտանիքների անդամների կենսաթոշակներ | G19: =+G21 -> 1920000
F20: այդ թվում` ըստ կատարողների
F21: ՀՀ աշխատանքի և սոցիալական հարցերի նախարարության միասնական սոցիալական ծառայություն | G21: =+G23 -> 1920000
F22: այդ թվում` բյուջետային ծախսերի տնտեսագիտական դասակարգման հոդվածներ
F23: ԸՆԴԱՄԵՆԸ ԾԱԽՍԵՐ | G23: =+G24 -> 1920000
F24: ԸՆԹԱՑԻԿ ԾԱԽՍԵՐ | G24: =+G25 -> 1920000
F25: ՍՈՑԻԱԼԱԿԱՆ ՆՊԱՍՏՆԵՐ ԵՎ ԿԵՆՍԱԹՈՇԱԿՆԵՐ | G25: =+G26 -> 1920000
F26: Կենսաթոշակներ | G26: =+G27 -> 1920000
F27: - Կենսաթոշակներ | G27: ='1'!D87 -> 1920000
E28: 12002 | F28: Շարքային զինծառայողների և նրանց ընտանիքների անդամների զինվորական կենսաթոշակներ | G28: =G30 -> 14000
F29: այդ թվում` ըստ կատարողների
F30: ՀՀ աշխատանքի և սոցիալական հարցերի նախարարության միասնական սոցիալական ծառայություն | G30: =G32 -> 14000
F31: այդ թվում` բյուջետային ծախսերի տնտեսագիտական դասակարգման հոդվածներ
F32: ԸՆԴԱՄԵՆԸ ԾԱԽՍԵՐ | G32: =G33 -> 14000
F33: ԸՆԹԱՑԻԿ ԾԱԽՍԵՐ | G33: =G34 -> 14000
F34: ՍՈՑԻԱԼԱԿԱՆ ՆՊԱՍՏՆԵՐ ԵՎ ԿԵՆՍԱԹՈՇԱԿՆԵՐ | G34: =G35 -> 14000
F35: Կենսաթոշակներ | G35: =G36 -> 14000
F36: - Կենսաթոշակներ | G36: ='1'!D93 -> 14000
E37: 12003 | F37: Աշխատանքային կենսաթոշակներ | G37: =+G39 -> 4750000
F38: այդ թվում` ըստ կատարողների
F39: ՀՀ աշխատանքի և սոցիալական հարցերի նախարարության միասնական սոցիալական ծառայություն | G39: =G41 -> 4750000
F40: այդ թվում` բյուջետային ծախսերի տնտեսագիտական դասակարգման հոդվածներ
F41: ԸՆԴԱՄԵՆԸ ԾԱԽՍԵՐ | G41: =G42 -> 4750000
...

Sheet 3
G1: Հավելված N 3
G2: ՀՀ կառավարության 2022 թվականի
G3: " " " " N -Ն որոշման
A5: ՀԱՅԱՍՏԱՆԻ ՀԱՆՐԱՊԵՏՈՒԹՅԱՆ ԿԱՌԱՎԱՐՈՒԹՅԱՆ 2021 ԹՎԱԿԱՆԻ ԴԵԿՏԵՄԲԵՐԻ 23-Ի N 2121-Ն ՈՐՈՇՄԱՆ N 5 ՀԱՎԵԼՎԱԾԻ N 7 ԱՂՅՈՒՍԱԿՈՒՄ ԿԱՏԱՐՎՈՂ ՓՈՓՈԽՈՒԹՅՈՒՆՆԵՐԸ
G6: հազար դրամ
A7: Ծրագրային դասիչը | C7: Բյուջետային հատկացումների գլխավոր կարգադրիչների, ծրագրերի, միջոցառումների ծախսային ուղղությունների անվանումները | F7: Միջոցառումները կատարող պետական մարմինների և դրամաշնորհ ստացող տնտեսվարող սուբյեկտների անվանումները | G7: Ցուցանիշների փոփոխությունը (ավելացումները նշված են դրական նշանով)
A8: Ծրագիր | B8: Միջոցառում | G8: Տարի
A9: ՀՀ աշխատանքի և սոցիալական հարցերի նախարարություն | G9: =G10 -> -3000
A10: 1141 | B10: Ընտանիքներին, կանանց և երեխաներին աջակցություն | G10: =G11+G13 -> -3000
B11: 11010 | C11: Թրաֆիքինգի և շահագործման, սեռական բռնության ենթարկված անձանց սոցիալ-հոգեբանական վերականգնողական ծառայություններ | F11: ՀՀ աշխատանքի և սոցիալական հարցերի նախարարություն | G11: =G12 -> -1569.7
F12: Մրցույթով ընտրված կազմակերպություն | G12: ='[2]1'!D50 -> -1569.7
B13: 11016 | C13: Ընտանիքում բռնության ենթարկված անձանց աջակցության կենտրոնների ծառայություններ | F13: ՀՀ աշխատանքի և սոցիալական հարցերի նախարարություն | G13: =G14 -> -1430.3
F14: Մրցույթով ընտրված կազմակերպություն | G14: ='[2]1'!D56 -> -1430.3

Sheet 4
C1: Հավելված N 4
C2: ՀՀ կառավարության 2022 թվականի
C3: -----------------ի N -----------Ն որոշման
A4: ՀԱՅԱՍՏԱՆԻ ՀԱՆՐԱՊԵՏՈՒԹՅԱՆ ԿԱՌԱՎԱՐՈՒԹՅԱՆ 2020 ԹՎԱԿԱՆԻ ԴԵԿՏԵՄԲԵՐԻ 30-Ի N 2215-Ն ՈՐՈՇՄԱՆ N 9 ՀԱՎԵԼՎԱԾԻ N 9.1.20 ԱՂՅՈՒՍԱԿՈՒՄ ԿԱՏԱՐՎՈՂ ՓՈՓՈԽՈՒԹՅՈՒՆՆԵՐԸ
A5: ՀԱՅԱՍՏԱՆԻ ՀԱՆՐԱՊԵՏՈՒԹՅԱՆ ԿԱՌԱՎԱՐՈՒԹՅԱՆ 2021 ԹՎԱԿԱՆԻ ԴԵԿՏԵՄԲԵՐԻ 23-Ի N 2121-Ն ՈՐՈՇՄԱՆ N 9 ՀԱՎԵԼՎԱԾԻ N 9.15 և 9.47 ԱՂՅՈՒՍԱԿՆԵՐՈՒՄ ԿԱՏԱՐՎՈՂ ՓՈՓՈԽՈՒԹՅՈՒՆՆԵՐԸ
A6: Հայաստանի Հանրապետության աշխատանքի և սոցիալական հարցերի նախարարություն
A7: ՄԱՍ 2. ՊԵՏԱԿԱՆ ՄԱՐՄՆԻ ԳԾՈՎ ԱՐԴՅՈՒՆՔԱՅԻՆ (ԿԱՏԱՐՈՂԱԿԱՆ) ՑՈՒՑԱՆԻՇՆԵՐԸ
A9: Ծրագրի դասիչը | B9: Ծրագրի անվանումը
A10: 1005 | B10: Պարգևավճարներ և պատվովճարներ
A11: Ծրագրի միջոցառումները
A12: Ծրագրի դասիչը` | B12: 1005 | C12: Ցուցանիշների փոփոխությունները ավելացումները նշված են դրական նշանով
A13: Միջոցառման դասիչը` | B13: 12001 | C13: Տարի
A14: Միջոցառման անվանումը` | B14: Զինծառայողներին, ՀՄՊ մասնակիցներին, այլ պետություններում մարտական գործողությունների մասնակիցներին, զոհված (մահացած) զինծառայողի ընտանիքի անդամներին, ընտանիքներին տրվող պարգևավճարներ
A15: Նկարագրությունը` | B15: Զինծառայողներին, ՀՄՊ մասնակիցներին, այլ պետություններում մարտական գործողությունների մասնակիցներին, զոհված (մահացած) զինծառայողի ընտանիքի անդամներին, ընտանիքներին, պարգևավճարների տրամադրում
A16: Միջոցառման տեսակը` | B16: Տրանսֆերտների տրամադրում
A17: Շահառուների ընտրության չափանիշները | B17: ՀՄՊ մասնակիցներ, ՀՄՊ և այլ պետություններում մարտական գործողությունների ընթացքում զոհված զինծառայողների ընտանիքներ
A18: Արդյունքի չափորոշիչներ
A19: Պարգևավճարներ ստացողների թիվ, ընտանիք | C19: 1008.1578
A20: Միջոցառման վրա կատարվող ծախսը (հազար դրամ) | C20: ='1'!D18 -> 305000
A22: Ծրագրի դասիչը` | B22: 1005 | C22: Ցուցանիշների փոփոխությունները (նվազեցումները նշված են փակագծերում)
A23: Միջոցառման դասիչը` | B23: 12002 | C23: Տարի
A24: Միջոցառման անվանումը` | B24: Վետերանների պատվովճարներ
A25: Նկարագրությունը` | B25: ՀՄՊ վետերաններին պատվովճարի տրամադրում
A26: Միջոցառման տեսակը` | B26: Տրանսֆերտների տրամադրում
A27: Շահառուների ընտրության չափանիշները | B27: ՀՄ պատերազմի վետերաններին պատվովճարների տրամադրում 02.12.1998թ. ՀՕ-267-Ն օրենքի 4-րդ հոդվածով
A28: Արդյունքի չափորոշիչներ
A29: Պատվովճար ստացող վետերանների թիվ,մարդ | C29: -1.6666667
A30: Միջոցառման վրա կատարվող ծախսը (հազար դրամ) | C30: ='1'!D24 -> -2000
A33: Ծրագրի դասիչը | B33: Ծրագրի անվանումը
A34: 1011 | B34: Անապահով սոցիալական խմբերին աջակցություն
A35: Ծրագրի միջոցառումներ
A37: Ծրագրի դասիչը` | B37: 1011 | C37: Ցուցանիշների փոփոխությունները (նվազեցումները նշված են փակագծերում)
A38: Միջոցառման դասիչը` | B38: 11001 | C38: Տարի
A39: Միջոցառման անվանումը` | B39: Ընտանիքի կենսամակարդակի բարձրացմանն ուղղված նպաստների իրականացման ապահովում
A40: Նկարագրությունը` | B40: Ընտանիքների անապահովության գնահատման համակարգում հաշվառված, ընդգրկված անապահով ճանաչված ընտանիքներին նպաստի, սոցիալական նպաստի և հրատապ օգնության վճարման ծառայությունների ձեռքբերում
A41: Միջոցառման տեսակը` | B41: Ծառայությունների մատուցում
A42: Միջոցառումն իրականացնողի անվանումը՝ | B42: «Գնումների մասին» ՀՀ օրենքի համաձայն ընտրված կազմակերպություն
A43: Արդյունքի չափորոշիչներ
A44: Ընտանիքի կենսամակարդակի բարձրացմանն ուղղված նպաստներ ստացող ընտանիքների թիվ, հատ | C44: -441.17232
A45: Միջոցառման վրա կատարվող ծախսը (հազար դրամ) | C45: ='1'!D37 -> -8000
...

Sheet 5
C1: Հավելված N 5
C2: ՀՀ կառավարության 2022 թվականի
C3: -----------------ի N -----------Ն որոշման
A4: ՀԱՅԱՍՏԱՆԻ ՀԱՆՐԱՊԵՏՈՒԹՅԱՆ ԿԱՌԱՎԱՐՈՒԹՅԱՆ 2020 ԹՎԱԿԱՆԻ ԴԵԿՏԵՄԲԵՐԻ 30-Ի N 2215-Ն ՈՐՈՇՄԱՆ N 9 ՀԱՎԵԼՎԱԾԻ N 9.1.20 ԱՂՅՈՒՍԱԿՈՒՄ ԿԱՏԱՐՎՈՂ ՓՈՓՈԽՈՒԹՅՈՒՆՆԵՐԸ
A5: ՀԱՅԱՍՏԱՆԻ ՀԱՆՐԱՊԵՏՈՒԹՅԱՆ ԿԱՌԱՎԱՐՈՒԹՅԱՆ 2021 ԹՎԱԿԱՆԻ ԴԵԿՏԵՄԲԵՐԻ 23-Ի N 2121-Ն ՈՐՈՇՄԱՆ N 9.1 ՀԱՎԵԼՎԱԾԻ N 9.1.16, N 9.1.20 ԵՎ 9.1.59 ԱՂՅՈՒՍԱԿՆԵՐՈՒՄ ԿԱՏԱՐՎՈՂ ՓՈՓՈԽՈՒԹՅՈՒՆՆԵՐԸ
A6: ՄԱՍ 1. ՊԵՏԱԿԱՆ ՄԱՐՄՆԻ ԳԾՈՎ ԱՐԴՅՈՒՆՔԱՅԻՆ (ԿԱՏԱՐՈՂԱԿԱՆ) ՑՈՒՑԱՆԻՇՆԵՐԸ
A7: Հայաստանի Հանրապետության աշխատանքի և սոցիալական հարցերի նախարարություն
A8: Ծրագրի դասիչը | B8: Ծրագրի անվանումը
A9: 1068 | B9: Ժողովրդագրական վիճակի բարելավում
A11: Ծրագրի միջոցառումները
A12: Ծրագրի դասիչը` | B12: 1068 | C12: Ցուցանիշների փոփոխությունը (ավելացումը նշված է դրական նշանով)
A13: Միջոցառման դասիչը` | B13: 12003 | C13: Տարի
A14: Միջոցառման անվանումը` | B14: Երեխա ունեցող ընտանիքների բնակարանային ապահովման աջակցություն
A15: Նկարագրությունը` | B15: Երեխա ունեցող ընտանիքների բնակարանային ապահովման աջակցության տրամադրում
A16: Միջոցառման տեսակը` | B16: Տրանսֆերտների տրամադրում
A17: Շահառուների ընտրության չափանիշները | B17: Երեխա ունեցող ընտանիքներ, ովքեր ցանկանում են ձեռք բերել բնակարան, կանխավճարի ապահովագրության ձեռք բերում երիտասարդ ընտանիքների համար, երեխայի ծննդով պայմանավորված հիփոթեքային վարկ մարող ընտանիքներ
A18: Արդյունքի չափորոշիչներ
A19: Շահառուների թվաքանակ (մարզային բնակավայրերում բնակարան ձեռք բերելու համար միանվագ դրամական աջակցության բաղադրիչ) | C19: ='4'!C99 -> 45
A20: Շահառուների թվաքանակ (Երիտասարդ ընտանիքների համար կանխավճարի ապահովագրության բաղադրիչ) | C20: ='4'!C100 -> 65
A21: Շահառուների թվաքանակ (երեխայի ծննդով պայմանավորված` հիփոթեքային վարկ մարող ընտանիքներին դրամական աջակցության բաղադրիչ) | C21: ='4'!C101 -> 170
A22: Միջոցառման վրա կատարվող ծախսը (հազար դրամ) | C22: ='4'!C102 -> 200000
A24: Ծրագրի դասիչը | B24: Ծրագրի անվանումը
A25: 1141 | B25: Ընտանիքներին, կանանց և երեխաներին աջակցություն
A27: Ծրագրի դասիչը` | B27: 1141 | C27: Ցուցանիշների փոփոխությունները նվազեցումները նշված են փակագծերում
A28: Միջոցառման դասիչը` | B28: 11010 | C28: Տարի
A29: Միջոցառման անվանումը` | B29: Թրաֆիքինգի և շահագործման, սեռական բռնության ենթարկված անձանց սոցիալ-հոգեբանական վերականգնողական ծառայություններ
A30: Նկարագրությունը` | B30: Թրաֆիքինգի և շահագործման, սեռական բռնության ենթարկված անձանց պաշտպանություն և նրանց մատչելի, բազմակողմանի ու օպերատիվ աջակցության կազմակերպում
A31: Միջոցառման տեսակը` | B31: Ծառայությունների մատուցում
A32: Միջոցառումն իրականացնողի անվանումը? | B32: Մասնագիտացված կազմակերպություն
A33: Միջոցառման վրա կատարվող ծախսը (հազար դրամ) | C33: ='4'!C206 -> -1569.7
A35: Ծրագրի դասիչը` | B35: 1141
A36: Միջոցառման դասիչը` | B36: 11016
A37: Միջոցառման անվանումը` | B37: Ընտանեկան բռնության ենթարկված անձանց աջակցության կենտրոնների ծառայություններ
A38: Նկարագրությունը` | B38: Ընտանիքում բռնության ենթարկված անձանց, անհրաժեշտության դեպքում նրանց խնամքի տակ եղող անձանց ծառայությունների տրամադրում
A39: Միջոցառման տեսակը` | B39: Ծառայությունների մատուցում
A40: Միջոցառումն իրականացնողի անվանումը? | B40: Մրցույթի արդյունքում ընտրված հավաստագրված հասարակական կազմակերպություն
A41: Միջոցառման վրա կատարվող ծախսը (հազար դրամ) | C41: ='4'!C214 -> -1430.3
A43: Ծրագրի դասիչը` | B43: 1141 | C43: Ցուցանիշների փոփոխությունը (ավելացումը նշված է դրական նշանով)
A44: Միջոցառման դասիչը` | B44: 12006 | C44: Տարի
A45: Միջոցառման անվանումը` | B45: Ընտանիքում բռնության ենթարկվածների ժամանակավոր աջակցություն
...

Sheet 6
I1: Հավելված N 6
I2: ՀՀ կառավարության 2021 թվականի
I3: -----------------ի N -----------Ն որոշման
A6: ՀԱՅԱՍՏԱՆԻ ՀԱՆՐԱՊԵՏՈՒԹՅԱՆ ԿԱՌԱՎԱՐՈՒԹՅԱՆ 2021 ԹՎԱԿԱՆԻ ԴԵԿՏԵՄԲԵՐԻ 23-Ի N 2121-Ն ՈՐՈՇՄԱՆ N 10 ՀԱՎԵԼՎԱԾՈՒՄ ԿԱՏԱՐՎՈՂ ՓՈՓՈԽՈՒԹՅՈՒՆՆԵՐԸ
A9: ՀՀ աշխատանքի և սոցիալական հարցերի նախարարության միասնական սոցիալական ծառայություն
A11: Գնման առարկայի | G11: Միավորի գինը | H11: Ցուցանիշների փոփոխությունները  նվազեցումները նշված են փակագծերում
A12: Կոդը | D12: Անվանումը | E12: Գնման ձևը | F12: Չափման միավորը | H12: Քանակը | I12: Ընդամենը գումարը (հազար դրամ)
A13: ՀՀ աշխատանքի և սոցիալական հարցերի նախարարության միասնական սոցիալական ծառայություն | I13: =I15+I19 -> -21000
A14: Բաժին N 10 | B14: Խումբ N 09 | C14: Դաս N 01 | D14: Սոցիալական պաշտպանություն (այլ դասերին չպատկանող) | I14: =SUM(I15) -> -13000
A15: 1011 11003 | B15: Սոցիալական դեպքի վարման ծառայության ձեռք բերում | I15: =SUM(I16) -> -13000
B16: ՄԱՍ III. ԾԱՌԱՅՈՒԹՅՈՒՆՆԵՐ | I16: =SUM(I17) -> -13000
A17: 79571100-1 | B17: փոստային առաքման ծառայություններ | E17: ՄԱ | F17: դրամ | I17: =SUM('2'!G143) -> -13000
A18: Բաժին N 10 | B18: Խումբ N 09 | C18: Դաս N 02 | D18: Սոցիալական պաշտպանությանը տրամադրվող օժանդակ ծառայություններ (այլ դասերին չպատկանող) | I18: =SUM(I19) -> -8000
A19: 1011 11001 | B19: Ընտանիքի կենսամակարդակի բարձրացմանն ուղղված նպաստների իրականացման ապահովում | I19: =SUM(I20) -> -8000
B20: ՄԱՍ III. ԾԱՌԱՅՈՒԹՅՈՒՆՆԵՐ | I20: =SUM(I21) -> -8000
A21: 79571100-1 | B21: փոստային առաքման ծառայություններ | E21: ՄԱ | F21: դրամ | I21: =SUM('1'!D37) -> -8000

Sheet 7
G1: Հավելված N 7
G2: ՀՀ կառավարության 2021 թվականի
G3: -----------------ի N -----------Ն որոշման
A6: ՀԱՅԱՍՏԱՆԻ ՀԱՆՐԱՊԵՏՈՒԹՅԱՆ 2022 ԹՎԱԿԱՆԻ ՊԵՏԱԿԱՆ ԲՅՈՒՋԵՈՎ ՆԱԽԱՏԵՍՎԱԾ ՀԱՅԱՍՏԱՆԻ ՀԱՆՐԱՊԵՏՈՒԹՅԱՆ ԿԱՌԱՎԱՐՈՒԹՅԱՆ ՊԱՀՈՒՍՏԱՅԻՆ ՖՈՆԴԻՑ ՀԱՏԿԱՑՈՒՄՆԵՐ ԿԱՏԱՐԵԼՈՒ ՎԵՐԱԲԵՐՅԱԼ
G7: հազար դրամ
A8: Գործառական դասիչը | D8: Ծրագրային դասիչը | F8: Բյուջետային ծախսերի գործառական դասակարգման բաժինների, խմբերի և դասերի, բյուջետային ծրագրերի միջոցառումների, բյուջետային հատկացումների գլխավոր կարգադրիչների անվանումները | G8: Ցուցանիշների փոփոխությունները նվազեցումները նշված են փակագծերում
A9: Բաժինը | B9: Խումբը | C9: Դասը | D9: Ծրագիր | E9: Միջոցառում | G9: Տարի
F10: ԸՆԴԱՄԵՆԸ ԾԱԽՍԵՐ | G10: =G12 -> -7954600
F11: այդ թվում`
A12: 11 | F12: ՀԻՄՆԱԿԱՆ ԲԱԺԻՆՆԵՐԻՆ ՉԴԱՍՎՈՂ ՊԱՀՈՒՍՏԱՅԻՆ ՖՈՆԴԵՐ | G12: =SUM(G14) -> -7954600
F13: այդ թվում`
B14: 01 | F14: ՀՀ կառավարության և համայնքների պահուստային ֆոնդ | G14: =SUM(G16) -> -7954600
F15: այդ թվում`
C16: 01 | F16: ՀՀ կառավարության պահուստային ֆոնդ | G16: =SUM(G18) -> -7954600
F17: այդ թվում`
D18: 1139 | F18: ՀՀ կառավարության պահուստային ֆոնդ | G18: =SUM(G20) -> -7954600
F19: այդ թվում`
E20: 11001 | F20: ՀՀ կառավարության պահուստային ֆոնդ | G20: =G22 -> -7954600
F21: այդ թվում` ըստ կատարողների
F22: ՀՀ կառավարություն | G22: =G23 -> -7954600
F23: այդ թվում` բյուջետային ծախսերի տնտեսագիտական դասակարգման հոդվածներ | G23: =SUM(G25) -> -7954600
F24: ԸՆԴԱՄԵՆԸ ԾԱԽՍԵՐ | G24: =SUM(G26) -> -7954600
F25: ԸՆԹԱՑԻԿ ԾԱԽՍԵՐ | G25: =SUM(G27) -> -7954600
F26: ԱՅԼ ԾԱԽՍԵՐ | G26: =SUM(G27) -> -7954600
F27: Պահուստային միջոցներ | G27: ='1'!D175 -> -7954600
