Workbook
Name _tab10: #REF!
Name _tab10: #REF!
Name _tab10: #REF!
Name _tab11: #REF!
Name _tab11: #REF!
Name _tab11: #REF!
Name _tab12: #REF!
Name _tab12: #REF!
Name _tab12: #REF!
Name _tab13: #REF!
Name _tab13: #REF!
Name _tab13: #REF!
Name _tab14: #REF!
Name _tab14: #REF!
Name _tab14: #REF!
Name _tab15: #REF!
Name _tab15: #REF!
Name _tab15: #REF!
Name _tab16: #REF!
Name _tab16: #REF!
Name _tab16: #REF!
Name _tab17: #REF!
Name _tab17: #REF!
Name _tab17: #REF!
Name _tab18: #REF!
Name _tab18: #REF!
Name _tab18: #REF!
Name _tab19: #REF!
Name _tab19: #REF!
Name _tab19: #REF!
Name _tab20: #REF!
Name _tab20: #REF!
Name _tab20: #REF!
Name _tab21: #REF!
Name _tab21: #REF!
Name _tab21: #REF!
Name _tab22: #REF!
Name _tab22: #REF!
Name _tab22: #REF!
Name _tab23: #REF!
Name _tab23: #REF!
Name _tab23: #REF!
Name _tab24: #REF!
Name _tab24: #REF!
Name _tab24: #REF!
Name _tab5: #REF!
Name _tab5: #REF!
Name _tab5: #REF!
Name _tab6: #REF!
Name _tab6: #REF!
Name _tab6: #REF!
Name _tab7: #REF!
Name _tab7: #REF!
Name _tab7: #REF!
Name _tab8: #REF!
Name _tab8: #REF!
Name _tab8: #REF!
Name _tab9: #REF!
Name _tab9: #REF!
Name _tab9: #REF!

Sheet 1
D1: Հավելված N 1
C2: ՀՀ կառավարության 2022 թվականի
C3: -----------------ի N -----------Ն որոշման
A5: ՀԱՅԱՍՏԱՆԻ ՀԱՆՐԱՊԵՏՈՒԹՅԱՆ 2022 ԹՎԱԿԱՆԻ ՊԵՏԱԿԱՆ ԲՅՈՒՋԵԻ ՄԱՍԻՆ» ՕՐԵՆՔԻ N 1 ՀԱՎԵԼՎԱԾԻ N 2 ԱՂՅՈՒՍԱԿՈՒՄ ԿԱՏԱՐՎՈՂ ՎԵՐԱԲԱՇԽՈՒՄԸ ԵՎ ՀԱՅԱՍՏԱՆԻ ՀԱՆՐԱՊԵՏՈՒԹՅԱՆ ԿԱՌԱՎԱՐՈՒԹՅԱՆ 2021 ԹՎԱԿԱՆԻ ԴԵԿՏԵՄԲԵՐԻ 23-Ի N 2121-Ն ՈՐՈՇՄԱՆ N 5 ՀԱՎԵԼՎԱԾԻ N 1 ԱՂՅՈՒՍԱԿՈՒՄ ԿԱՏԱՐՎՈՂ ՓՈՓՈԽՈՒԹՅՈՒՆՆԵՐԸ
D6: հազար դրամ
A7: Ծրագրային դասիչը | C7: Բյուջետային հատկացումների գլխավոր կարգադրիչների, ծրագրերի և միջոցառումների անվանումները | D7: Ցուցանիշների փոփոխությունները ավելացումները նշված են դրական նշանով, իսկ նվազեցումները՝ փակագծերում
A8: Ծրագիր | B8: Միջոցառում | D8: Տարի
C9: ԸՆԴԱՄԵՆԸ | D9: =SUM(D10,D168) -> 0
C10: ՀՀ աշխատանքի և սոցիալական հարցերի նախարարություն | D10: =D11+D30+D55+D67+D80+D111 -> 7954600
A11: 1005 | C11: Ծրագրի անվանումը` | D11: =D18+D24 -> 303000
C12: Պարգևավճարներ և պատվովճարներ
C13: Ծրագրի նպատակը`
C14: Պետական հոգածության դրսևորում, առանձին կատեգորիայի քաղաքացիներին և նրանց ընտանիքներին սոցիալական երաշխիքների տրամադրում
C15: Վերջնական արդյունքի նկարագրությունը`
C16: Առանձին կատեգորիայի քաղաքացիներին և նրանց ընտանիքի անդամների սոցիալական պաշտպանվածության մակարդակի բարձրացում
A17: Ծրագրի միջոցառումներ
B18: 12001 | C18: Միջոցառման անվանումը` | D18: 305000
C19: Զինծառայողներին, ՀՄՊ մասնակիցներին, այլ պետություններում մարտական գործողությունների մասնակիցներին, զոհված (մահացած) զինծառայողի ընտանիքի անդամներին, ընտանիքներին տրվող պարգևավճարներ
C20: Միջոցառման նկարագրությունը`
C21: Զինծառայողներին, ՀՄՊ մասնակիցներին, այլ պետություններում մարտական գործողությունների մասնակիցներին, զոհված (մահացած) զինծառայողի ընտանիքի անդամներին, ընտանիքներին, պարգևավճարների տրամադրում
C22: Միջոցառման տեսակը
C23: Տրանսֆերտների տրամադրում
B24: 12002 | C24: Միջոցառման անվանումը` | D24: -2000
C25: Վետերանների պատվովճարներ
C26: Միջոցառման նկարագրությունը`
C27: ՀՄՊ վետերաններին պատվովճարի տրամադրում
C28: Միջոցառման տեսակը
C29: Տրանսֆերտների տրամադրում
A30: 1011 | C30: Ծրագրի անվանումը` | D30: =D37+D43+D49 -> -427000
C31: Անապահով սոցիալական խմբերին աջակցություն
C32: Ծրագրի նպատակը`
C33: Օժանդակել անապահով ընտանիքների կենսամակարդակի բարձրացմանը
C34: Վերջնական արդյունքի նկարագրությունը`
C35: Աղքատության մեղմում և ծայրահեղ աղքատության կրճատում
A36: Ծրագրի միջոցառումներ
B37: 11001 | C37: Միջոցառման անվանումը` | D37: -8000
C38: Ընտանիքի կենսամակարդակի բարձրացմանն ուղղված նպաստների իրականացման ապահովում
C39: Միջոցառման նկարագրությունը`
C40: Ընտանիքների անապահովության գնահատման համակարգում հաշվառված, ընդգրկված անապահով ճանաչված ընտանիքներին նպաստի, սոցիալական նպաստի և հրատապ օգնության վճարման ծառայությունների ձեռքբերում
C41: Միջոցառման տեսակը
C42: Ծառայությունների մատուցում
B43: 11003 | C43: Միջոցառման անվանումը` | D43: -69000
C44: Սոցիալական դեպքի վարման ծառայության ձեռք բերում
C45: Միջոցառման նկարագրությունը`
C46: Ընտանիքի, դրա յուրաքանչյուր անդամի, սոցիալական գնահատման իրականացում՛ անապահով սոցիալական խմբերին հայտնաբերելու համար՛ սոցիալական աջակցության տարածքային մարմինների սոցիալական աշխատողների կողմից տնային այցելությունների միջոցով
C47: Միջոցառման տեսակը
C48: Ծառայությունների մատուցում
B49: 12001 | C49: Միջոցառման անվանումը` | D49: -350000
C50: Ընտանիքի կենսամակարդակի բարձրացմանն ուղղված նպաստներ
C51: Միջոցառման նկարագրությունը`
C52: Ընտանիքների անապահովության գնահատման համակարգում հաշվառված, անապահով ճանաչված ընտանիքներին նպաստի, սոցիալական նպաստի և հրատապ օգնության տրամադրում
C53: Միջոցառման տեսակը
C54: Տրանսֆերտների տրամադրում
A55: 1015 | C55: Ծրագրի անվանումը` | D55: =D61 -> -23000
C56: Սոցիալական փաթեթների ապահովում
C57: Ծրագրի նպատակը`
C58: Պետական հիմնարկների և կազմակերպությունների աշխատողների սոցիալական երաշխիքների ապահովում և աշխատանքային մոտիվացիայի բարձրացում
C59: Վերջնական արդյունքի նկարագրությունը`
C60: Պետական մարմինների աշխատակիցների կյանքի որակի բարելավում
B61: 12001 | C61: Միջոցառման անվանումը` | D61: -23000
C62: Պետական հիմնարկների և կազմակերպությունների աշխատողների սոցիալական փաթեթով ապահովում
C63: Միջոցառման նկարագրությունը`
C64: Պետական հիմնարկների և կազմակերպությունների աշխատողների հիպոթեքային վարկի ամսական վճարի, ուսման վճարի և հանգստի ապահովման գծով ծախսերի փոխհատուցում
C65: Միջոցառման տեսակը
C66: Տրանսֆերտների տրամադրում
A67: 1068 | C67: Ծրագրի անվանումը` | D67: =D74 -> 200000
C68: Ժողովրդագրական վիճակի բարելավում
C69: Ծրագրի նպատակը`
C70: Խթանել ժողովրդագրական վիճակի բարելավումը
C71: Վերջնական արդյունքի նկարագրությունը`
C72: Ժողովրդագրական վիճակի բարելավում և բազմազավակության աճ
A73: Ծրագրի միջոցառումներ
B74: 12003 | C74: Միջոցառման անվանումը` | D74: 200000
C75: Երեխա ունեցող ընտանիքների բնակարանային ապահովման աջակցություն
C76: Միջոցառման նկարագրությունը`
C77: Երեխա ունեցող ընտանիքների բնակարանային ապահովման աջակցության տրամադրում
C78: Միջոցառման տեսակը
C79: Տրանսֆերտների տրամադրում
A80: 1102 | C80: Ծրագրի անվանումը` | D80: =D93+D99+D105+D87 -> 6821600
C81: Կենսաթոշակային ապահովություն
C82: Ծրագրի նպատակը`
C83: Կենսաթոշակի իրավունքի իրացում
C84: Վերջնական արդյունքի նկարագրությունը`
C85: Կենսաթոշակների նշանակման և վճարման գործընթացի ապահովում
A86: Ծրագրի միջոցառումներ
B87: 12001 | C87: Միջոցառման անվանումը` | D87: 1920000
C88: Սպայական անձնակազմի և նրանց ընտանիքների անդամների կենսաթոշակներ
C89: Միջոցառման նկարագրությունը`
C90: Սպայական անձնակազմի զինծառայողներին երկարամյա ծառայության, հաշմանդամության և զինծառայողի մահվան դեպքում նրա ընտանիքի անդամներին կերակրողին կորցնելու դեպքում զինվորական կենսաթոշակների տրամադրում
C91: Միջոցառման տեսակը
C92: Տրանսֆերտների տրամադրում
B93: 12002 | C93: Միջոցառման անվանումը` | D93: 14000
C94: Շարքային զինծառայողների և նրանց ընտանիքների անդամների զինվորական կենսաթոշակներ
C95: Միջոցառման նկարագրությունը`
C96: ԽՍՀՄ զինված ուժերի շարքային կազմի զինծառայողներին հաշմանդամության, նրանց մահվան դեպքում ընտանիքների անդամներին կերակրողին կորցնելու դեպքում զինվորական կենսաթոշակների տրամադրում
C97: Միջոցառման տեսակը
C98: Տրանսֆերտների տրամադրում
B99: 12003 | C99: Միջոցառման անվանումը` | D99: 4750000
C100: Աշխատանքային կենսաթոշակներ
C101: Միջոցառման նկարագրությունը`
...

Sheet 2
G1: Հավելված N 2
G2: ՀՀ կառավարության 2022 թվականի
G3: -----------------ի N -----------Ն որոշման
A5: ՀԱՅԱՍՏԱՆԻ ՀԱՆՐԱՊԵՏՈՒԹՅԱՆ ԿԱՌԱՎԱՐՈՒԹՅԱՆ 2021 ԹՎԱԿԱՆԻ ԴԵԿՏԵՄԲԵՐԻ 23-Ի N 2121-Ն ՈՐՈՇՄԱՆ N 3, N 4 ՀԱՎԵԼՎԱԾՆԵՐՈՒՄ ԿԱՏԱՐՎՈՂ ՓՈՓՈԽՈՒԹՅՈՒՆՆԵՐԸ
G6: հազար դրամ
A7: Գործառական դասիչը | D7: Ծրագրային դասիչը | F7: Բյուջետային ծախսերի գործառական դասակարգման բաժինների, խմբերի և դասերի, բյուջետային ծրագրերի միջոցառումների, բյուջետային հատկացումների գլխավոր կարգադրիչների անվանումները | G7: ='1'!D7 -> Ցուցանիշների փոփոխությունները ավելացումները նշված են դրական նշանով, իսկ նվազեցումները՝ փակագծերում
A8: Բաժինը | B8: Խումբը | C8: Դասը | D8: Ծրագիր | E8: Միջոցառում | G8: ='[1]1'!E8 -> Տարի
F9: ԸՆԴԱՄԵՆԸ ԾԱԽՍԵՐ | G9: =G11+G226 -> 0
F10: այդ թվում`
A11: 10 | F11: ՍՈՑԻԱԼԱԿԱՆ ՊԱՇՏՊԱՆՈՒԹՅՈՒՆ | G11: =G13+G75+G90+G105+G129+G191 -> 7954600
F12: այդ թվում`
B13: 02 | F13: Ծերություն | G13: =G15 -> 8101600
F14: այդ թվում`
C15: 01 | F15: Ծերություն | G15: =G17+G55 -> 8101600
F16: այդ թվում`
D17: 1102 | F17: Կենսաթոշակային ապահովություն | G17: =G19+G28+G37+G46 -> 6821600
F18: այդ թվում`
E19: 12001 | F19: Սպայական անձնակազմի և նրանց ընտանիքների անդամների կենսաթոշակներ | G19: =+G21 -> 1920000
F20: այդ թվում` ըստ կատարողների
F21: ՀՀ աշխատանքի և սոցիալական հարցերի նախարարության միասնական սոցիալական ծառայություն | G21: =+G23 -> 1920000
F22: այդ թվում` բյուջետային ծախսերի տնտեսագիտական դասակարգման հոդվածներ
F23: ԸՆԴԱՄԵՆԸ ԾԱԽՍԵՐ | G23: =+G24 -> 1920000
F24: ԸՆԹԱՑԻԿ ԾԱԽՍԵՐ | G24: =+G25 -> 1920000
F25: ՍՈՑԻԱԼԱԿԱՆ ՆՊԱՍՏՆԵՐ ԵՎ ԿԵՆՍԱԹՈՇԱԿՆԵՐ | G25: =+G26 -> 1920000
F26: Կենսաթոշակներ | G26: =+G27 -> 1920000
F27: - Կենսաթոշակներ | G27: ='1'!D87 -> 1920000
E28: 12002 | F28: Շարքային զինծառայողների և նրանց ընտանիքների անդամների զինվորական կենսաթոշակներ | G28: =G30 -> 14000
F29: այդ թվում` ըստ կատարողների
F30: ՀՀ աշխատանքի և սոցիալական հարցերի նախարարության միասնական սոցիալական ծառայություն | G30: =G32 -> 14000
F31: այդ թվում` բյուջետային ծախսերի տնտեսագիտական դասակարգման հոդվածներ
F32: ԸՆԴԱՄԵՆԸ ԾԱԽՍԵՐ | G32: =G33 -> 14000
F33: ԸՆԹԱՑԻԿ ԾԱԽՍԵՐ | G33: =G34 -> 14000
F34: ՍՈՑԻԱԼԱԿԱՆ ՆՊԱՍՏՆԵՐ ԵՎ ԿԵՆՍԱԹՈՇԱԿՆԵՐ | G34: =G35 -> 14000
F35: Կենսաթոշակներ | G35: =G36 -> 14000
F36: - Կենսաթոշակներ | G36: ='1'!D93 -> 14000
E37: 12003 | F37: Աշխատանքային կենսաթոշակներ | G37: =+G39 -> 4750000
F38: այդ թվում` ըստ կատարողների
F39: ՀՀ աշխատանքի և սոցիալական հարցերի նախարարության միասնական սոցիալական ծառայություն | G39: =G41 -> 4750000
F40: այդ թվում` բյուջետային ծախսերի տնտեսագիտական դասակարգման հոդվածներ
F41: ԸՆԴԱՄԵՆԸ ԾԱԽՍԵՐ | G41: =G42 -> 4750000
F42: ԸՆԹԱՑԻԿ ԾԱԽՍԵՐ | G42: =G43 -> 4750000
F43: ՍՈՑԻԱԼԱԿԱՆ ՆՊԱՍՏՆԵՐ ԵՎ ԿԵՆՍԱԹՈՇԱԿՆԵՐ | G43: =G44 -> 4750000
F44: Կենսաթոշակներ | G44: =G45 -> 4750000
F45: - Կենսաթոշակներ | G45: ='1'!D99 -> 4750000
E46: 12004 | F46: ՀՀ օրենքով նշանակված կենսաթոշակներ | G46: =G48 -> 137600
F47: այդ թվում` ըստ կատարողների
F48: ՀՀ աշխատանքի և սոցիալական հարցերի նախարարության միասնական սոցիալական ծառայություն | G48: =G50 -> 137600
F49: այդ թվում` բյուջետային ծախսերի տնտեսագիտական դասակարգման հոդվածներ
F50: ԸՆԴԱՄԵՆԸ ԾԱԽՍԵՐ | G50: =G51 -> 137600
F51: ԸՆԹԱՑԻԿ ԾԱԽՍԵՐ | G51: =G52 -> 137600
F52: ՍՈՑԻԱԼԱԿԱՆ ՆՊԱՍՏՆԵՐ ԵՎ ԿԵՆՍԱԹՈՇԱԿՆԵՐ | G52: =G53 -> 137600
F53: Կենսաթոշակներ | G53: =G54 -> 137600
F54: - Կենսաթոշակներ | G54: ='1'!D105 -> 137600
D55: 1205 | F55: Սոցիալական ապահովություն | G55: =G57+G66 -> 1280000
F56: այդ թվում`
E57: 12001 | F57: Ծերության, հաշմանդամության, կերակրողին կորցնելու դեպքում նպաստներ | G57: =+G59 -> 1080000
F58: այդ թվում` ըստ կատարողների
F59: ՀՀ աշխատանքի և սոցիալական հարցերի նախարարության միասնական սոցիալական ծառայություն | G59: =+G61 -> 1080000
F60: այդ թվում` բյուջետային ծախսերի տնտեսագիտական դասակարգման հոդվածներ
F61: ԸՆԴԱՄԵՆԸ ԾԱԽՍԵՐ | G61: =+G62 -> 1080000
F62: ԸՆԹԱՑԻԿ ԾԱԽՍԵՐ | G62: =+G63 -> 1080000
F63: ՍՈՑԻԱԼԱԿԱՆ ՆՊԱՍՏՆԵՐ ԵՎ ԿԵՆՍԱԹՈՇԱԿՆԵՐ | G63: =+G64 -> 1080000
F64: Սոցիալական օգնության դրամական արտահայտությամբ նպաստներ (բյուջեից) | G64: =+G65 -> 1080000
F65: - Այլ նպաստներ բյուջեից | G65: ='1'!D118 -> 1080000
E66: 12029 | F66: Անկանխիկ եղանակով վճարումներից կենսաթոշակառուներին հետվճարի տրամադրում | G66: =+G68 -> 200000
F67: այդ թվում` ըստ կատարողների
F68: ՀՀ աշխատանքի և սոցիալական հարցերի նախարարության միասնական սոցիալական ծառայություն | G68: =+G70 -> 200000
F69: այդ թվում` բյուջետային ծախսերի տնտեսագիտական դասակարգման հոդվածներ
F70: ԸՆԴԱՄԵՆԸ ԾԱԽՍԵՐ | G70: =+G71 -> 200000
F71: ԸՆԹԱՑԻԿ ԾԱԽՍԵՐ | G71: =+G72 -> 200000
F72: ՍՈՑԻԱԼԱԿԱՆ ՆՊԱՍՏՆԵՐ ԵՎ ԿԵՆՍԱԹՈՇԱԿՆԵՐ | G72: =+G73 -> 200000
F73: Սոցիալական օգնության դրամական արտահայտությամբ նպաստներ (բյուջեից) | G73: =+G74 -> 200000
F74: - Այլ նպաստներ բյուջեից | G74: ='1'!D136 -> 200000
B75: 03 | F75: Հարազատին կորցրած անձինք | G75: =G77 -> -175000
F76: այդ թվում`
C77: 01 | F77: Հարազատին կորցրած անձինք | G77: =G81 -> -175000
F78: այդ թվում`
D79: 1205 | F79: Սոցիալական ապահովություն | G79: =G81 -> -175000
F80: այդ թվում`
E81: 12002 | F81: Կենսաթոշակ, ծերության նպաստ, կերակրողին կորցնելու դեպքում նպաստ կամ հաշմանդամության նպաստ ստանալու իրավունք ունեցող անձանց մահվան դեպքում տրվող թաղման նպաստ | G81: =G84 -> -175000
F82: այդ թվում` ըստ կատարողների
F83: ՀՀ աշխատանքի և սոցիալական հարցերի նախարարության միասնական սոցիալական ծառայություն
F84: այդ թվում` բյուջետային ծախսերի տնտեսագիտական դասակարգման հոդվածներ | G84: =+G85 -> -175000
F85: ԸՆԴԱՄԵՆԸ ԾԱԽՍԵՐ | G85: =+G86 -> -175000
F86: ԸՆԹԱՑԻԿ ԾԱԽՍԵՐ | G86: =+G87 -> -175000
F87: ՍՈՑԻԱԼԱԿԱՆ ՆՊԱՍՏՆԵՐ ԵՎ ԿԵՆՍԱԹՈՇԱԿՆԵՐ | G87: =+G89 -> -175000
F88: Սոցիալական օգնության դրամական արտահայտությամբ նպաստներ (բյուջեից) | G88: =SUM(G89) -> -175000
F89: - Հուղարկավորության նպաստներ բյուջեից | G89: ='1'!D124 -> -175000
B90: 04 | F90: Ընտանիքի անդամներ և զավակներ | G90: =+G92 -> -350000
F91: այդ թվում`
C92: 01 | F92: Ընտանիքի անդամներ և զավակներ | G92: =G94 -> -350000
F93: այդ թվում`
D94: 1011 | F94: Անապահով սոցիալական խմբերին աջակցություն | G94: =G96 -> -350000
F95: այդ թվում`
E96: 12001 | F96: Ընտանիքի կենսամակարդակի բարձրացմանն ուղղված նպաստներ | G96: =+G98 -> -350000
F97: այդ թվում` ըստ կատարողների
F98: ՀՀ աշխատանքի և սոցիալական հարցերի նախարարության միասնական սոցիալական ծառայություն | G98: =+G100 -> -350000
F99: այդ թվում` բյուջետային ծախսերի տնտեսագիտական դասակարգման հոդվածներ
F100: ԸՆԴԱՄԵՆԸ ԾԱԽՍԵՐ | G100: =+G101 -> -350000
F101: ԸՆԹԱՑԻԿ ԾԱԽՍԵՐ | G101: =+G102 -> -350000
...

Sheet 3
G1: Հավելված N 3
G2: ՀՀ կառավարության 2022 թվականի
G3: " " " " N -Ն որոշման
A5: ՀԱՅԱՍՏԱՆԻ ՀԱՆՐԱՊԵՏՈՒԹՅԱՆ ԿԱՌԱՎԱՐՈՒԹՅԱՆ 2021 ԹՎԱԿԱՆԻ ԴԵԿՏԵՄԲԵՐԻ 23-Ի N 2121-Ն ՈՐՈՇՄԱՆ N 5 ՀԱՎԵԼՎԱԾԻ N 7 ԱՂՅՈՒՍԱԿՈՒՄ ԿԱՏԱՐՎՈՂ ՓՈՓՈԽՈՒԹՅՈՒՆՆԵՐԸ
G6: հազար դրամ
A7: Ծրագրային դասիչը | C7: Բյուջետային հատկացումների գլխավոր կարգադրիչների, ծրագրերի, միջոցառումների ծախսային ուղղությունների անվանումները | F7: Միջոցառումները կատարող պետական մարմինների և դրամաշնորհ ստացող տնտեսվարող սուբյեկտների անվանումները | G7: Ցուցանիշների փոփոխությունը (ավելացումները նշված են դրական նշանով)
A8: Ծրագիր | B8: Միջոցառում | G8: Տարի
A9: ՀՀ աշխատանքի և սոցիալական հարցերի նախարարություն | G9: =G10 -> -3000
A10: 1141 | B10: Ընտանիքներին, կանանց և երեխաներին աջակցություն | G10: =G11+G13 -> -3000
B11: 11010 | C11: Թրաֆիքինգի և շահագործման, սեռական բռնության ենթարկված անձանց սոցիալ-հոգեբանական վերականգնողական ծառայություններ | F11: ՀՀ աշխատանքի և սոցիալական հարցերի նախարարություն | G11: =G12 -> -1569.7
F12: Մրցույթով ընտրված կազմակերպություն | G12: ='[2]1'!D50 -> -1569.7
B13: 11016 | C13: Ընտանիքում բռնության ենթարկված անձանց աջակցության կենտրոնների ծառայություններ | F13: ՀՀ աշխատանքի և սոցիալական հարցերի նախարարություն | G13: =G14 -> -1430.3
F14: Մրցույթով ընտրված կազմակերպություն | G14: ='[2]1'!D56 -> -1430.3

Sheet 4
C1: Հավելված N 4
C2: ՀՀ կառավարության 2022 թվականի
C3: -----------------ի N -----------Ն որոշման
A4: ՀԱՅԱՍՏԱՆԻ ՀԱՆՐԱՊԵՏՈՒԹՅԱՆ ԿԱՌԱՎԱՐՈՒԹՅԱՆ 2020 ԹՎԱԿԱՆԻ ԴԵԿՏԵՄԲԵՐԻ 30-Ի N 2215-Ն ՈՐՈՇՄԱՆ N 9 ՀԱՎԵԼՎԱԾԻ N 9.1.20 ԱՂՅՈՒՍԱԿՈՒՄ ԿԱՏԱՐՎՈՂ ՓՈՓՈԽՈՒԹՅՈՒՆՆԵՐԸ
A5: ՀԱՅԱՍՏԱՆԻ ՀԱՆՐԱՊԵՏՈՒԹՅԱՆ ԿԱՌԱՎԱՐՈՒԹՅԱՆ 2021 ԹՎԱԿԱՆԻ ԴԵԿՏԵՄԲԵՐԻ 23-Ի N 2121-Ն ՈՐՈՇՄԱՆ N 9 ՀԱՎԵԼՎԱԾԻ N 9.15 և 9.47 ԱՂՅՈՒՍԱԿՆԵՐՈՒՄ ԿԱՏԱՐՎՈՂ ՓՈՓՈԽՈՒԹՅՈՒՆՆԵՐԸ
A6: Հայաստանի Հանրապետության աշխատանքի և սոցիալական հարցերի նախարարություն
A7: ՄԱՍ 2. ՊԵՏԱԿԱՆ ՄԱՐՄՆԻ ԳԾՈՎ ԱՐԴՅՈՒՆՔԱՅԻՆ (ԿԱՏԱՐՈՂԱԿԱՆ) ՑՈՒՑԱՆԻՇՆԵՐԸ
A9: Ծրագրի դասիչը | B9: Ծրագրի անվանումը
A10: 1005 | B10: Պարգևավճարներ և պատվովճարներ
A11: Ծրագրի միջոցառումները
A12: Ծրագրի դասիչը` | B12: 1005 | C12: Ցուցանիշների փոփոխությունները ավելացումները նշված են դրական նշանով
A13: Միջոցառման դասիչը` | B13: 12001 | C13: Տարի
A14: Միջոցառման անվանումը` | B14: Զինծառայողներին, ՀՄՊ մասնակիցներին, այլ պետություններում մարտական գործողությունների մասնակիցներին, զոհված (մահացած) զինծառայողի ընտանիքի անդամներին, ընտանիքներին տրվող պարգևավճարներ
A15: Նկարագրությունը` | B15: Զինծառայողներին, ՀՄՊ մասնակիցներին, այլ պետություններում մարտական գործողությունների մասնակիցներին, զոհված (մահացած) զինծառայողի ընտանիքի անդամներին, ընտանիքներին, պարգևավճարների տրամադրում
A16: Միջոցառման տեսակը` | B16: Տրանսֆերտների տրամադրում
A17: Շահառուների ընտրության չափանիշները | B17: ՀՄՊ մասնակիցներ, ՀՄՊ և այլ պետություններում մարտական գործողությունների ընթացքում զոհված զինծառայողների ընտանիքներ
A18: Արդյունքի չափորոշիչներ
A19: Պարգևավճարներ ստացողների թիվ, ընտանիք | C19: 1008.1578
A20: Միջոցառման վրա կատարվող ծախսը (հազար դրամ) | C20: ='1'!D18 -> 305000
A22: Ծրագրի դասիչը` | B22: 1005 | C22: Ցուցանիշների փոփոխությունները (նվազեցումները նշված են փակագծերում)
A23: Միջոցառման դասիչը` | B23: 12002 | C23: Տարի
A24: Միջոցառման անվանումը` | B24: Վետերանների պատվովճարներ
A25: Նկարագրությունը` | B25: ՀՄՊ վետերաններին պատվովճարի տրամադրում
A26: Միջոցառման տեսակը` | B26: Տրանսֆերտների տրամադրում
A27: Շահառուների ընտրության չափանիշները | B27: ՀՄ պատերազմի վետերաններին պատվովճարների տրամադրում 02.12.1998թ. ՀՕ-267-Ն օրենքի 4-րդ հոդվածով
A28: Արդյունքի չափորոշիչներ
A29: Պատվովճար ստացող վետերանների թիվ,մարդ | C29: -1.6666667
A30: Միջոցառման վրա կատարվող ծախսը (հազար դրամ) | C30: ='1'!D24 -> -2000
A33: Ծրագրի դասիչը | B33: Ծրագրի անվանումը
A34: 1011 | B34: Անապահով սոցիալական խմբերին աջակցություն
A35: Ծրագրի միջոցառումներ
A37: Ծրագրի դասիչը` | B37: 1011 | C37: Ցուցանիշների փոփոխությունները (նվազեցումները նշված են փակագծերում)
A38: Միջոցառման դասիչը` | B38: 11001 | C38: Տարի
A39: Միջոցառման անվանումը` | B39: Ընտանիքի կենսամակարդակի բարձրացմանն ուղղված նպաստների իրականացման ապահովում
A40: Նկարագրությունը` | B40: Ընտանիքների անապահովության գնահատման համակարգում հաշվառված, ընդգրկված անապահով ճանաչված ընտանիքներին նպաստի, սոցիալական նպաստի և հրատապ օգնության վճարման ծառայությունների ձեռքբերում
A41: Միջոցառման տեսակը` | B41: Ծառայությունների մատուցում
A42: Միջոցառումն իրականացնողի անվանումը՝ | B42: «Գնումների մասին» ՀՀ օրենքի համաձայն ընտրված կազմակերպություն
A43: Արդյունքի չափորոշիչներ
A44: Ընտանիքի կենսամակարդակի բարձրացմանն ուղղված նպաստներ ստացող ընտանիքների թիվ, հատ | C44: -441.17232
A45: Միջոցառման վրա կատարվող ծախսը (հազար դրամ) | C45: ='1'!D37 -> -8000
A47: Ծրագրի դասիչը` | B47: 1011 | C47: Ցուցանիշների փոփոխությունները (նվազեցումները նշված են փակագծերում)
A48: Միջոցառման դասիչը` | B48: 11003 | C48: Տարի
A49: Միջոցառման անվանումը` | B49: Սոցիալական դեպքի վարման ծառայության ձեռք բերում
A50: Նկարագրությունը` | B50: Ընտանիքի, դրա յուրաքանչյուր անդամի, սոցիալական գնահատման իրականացում՛ անապահով սոցիալական խմբերին հայտնաբերելու համար՛ սոցիալական աջակցության տարածքային մարմինների սոցիալական աշխատողների կողմից տնային այցելությունների միջոցով
A51: Միջոցառման տեսակը` | B51: Ծառայությունների մատուցում
A52: Միջոցառումն իրականացնողի անվանումը՝ | B52: ՀՀ աշխատանքի և սոցիալական հարցերի նախարարության միասնական սոցիալական ծառայություն
A53: Արդյունքի չափորոշիչներ
A54: Տունայցերի թիվ, այդ թվում | C54: -222737
A55: Ընտանիքի սոցիալական գնահատման համակարգում | C55: -200731
A56: Զբաղվածության պետական ծրագրերի գնահատման համակարգում | C56: -20785
A57: Հաշմանդամության գնահատման համակարգում | C57: -1221
A58: Տունայցի արդյունքում սոցիալական ծառայություն ստացած ընտանիքների (անձանց) թիվ | C58: -82044
A59: Գնահատված կարիքների թիվ տոկոս, տունայցերի նկատմամբ | C59: -10
A60: Միջոցառման վրա կատարվող ծախսը (հազար դրամ) | C60: ='1'!D43 -> -69000
A62: Ծրագրի դասիչը` | B62: 1011 | C62: Ցուցանիշների փոփոխությունները (նվազեցումները նշված են փակագծերում)
A63: Միջոցառման դասիչը` | B63: 12001 | C63: Տարի
A64: Միջոցառման անվանումը` | B64: Ընտանիքի կենսամակարդակի բարձրացմանն ուղղված նպաստներ
A65: Նկարագրությունը` | B65: Ընտանիքների անապահովության գնահատման համակարգում հաշվառված, անապահով ճանաչված ընտանիքներին նպաստի, սոցիալական նպաստի և հրատապ օգնության տրամադրում
A66: Միջոցառման տեսակը` | B66: Տրանսֆերտների տրամադրում
A67: Շահառուների ընտրության չափանիշները | B67: Ընտանիքների անապահովության գնահատման համակարգում հաշվառված ընտանիք?ընտանիքի անապահովության միավորի հիման վրա
A68: Արդյունքի չափորոշիչներ
A69: Ընտանիքի կենսամակարդակի բարձրացմանն ուղղված նպաստներ ստացող ընտանիքների թիվ, հատ | C69: =-441-595 -> -1036
A70: Միջոցառման վրա կատարվող ծախսը (հազար դրամ) | C70: ='1'!D49 -> -350000
A72: Ծրագրի դասիչը | B72: Ծրագրի անվանումը
A73: 1015 | B73: Սոցիալական փաթեթների ապահովում
A74: Ծրագրի միջոցառումներ
A76: Ծրագրի դասիչը` | B76: 1015 | C76: Ցուցանիշների փոփոխությունները (նվազեցումները նշված են փակագծերում)
A77: Միջոցառման դասիչը` | B77: 12001 | C77: Տարի
A78: Միջոցառման անվանումը` | B78: Պետական հիմնարկների և կազմակերպությունների աշխատողների սոցիալական փաթեթով ապահովում
A79: Նկարագրությունը` | B79: Պետական հիմնարկների և կազմակերպությունների աշխատողների հիպոթեքային վարկի ամսական վճարի, ուսման վճարի և հանգստի ապահովման գծով ծախսերի փոխհատուցում
A80: Միջոցառման տեսակը` | B80: Տրանսֆերտների տրամադրում
A81: Շահառուների ընտրության չափանիշները՝ | B81: Կառավարության 2012թ. դեկտեմբերի 27-ի N 1691-Ն որոշմամբ սահմանված անձինք
A82: Արդյունքի չափորոշիչներ
A83: Սոցփաթեթի շահառուներ (մարդ) | C83: -319.44444
A84: Միջոցառման վրա կատարվող ծախսը (հազար դրամ) | C84: ='1'!D61 -> -23000
A87: Ծրագրի դասիչը | B87: Ծրագրի անվանումը
A88: 1068 | B88: Ժողովրդագրական վիճակի բարելավում
A89: Ծրագրի միջոցառումներ
A92: Ծրագրի դասիչը` | B92: 1068 | C92: Ցուցանիշների փոփոխությունը (ավելացումը նշված է դրական նշանով)
A93: Միջոցառման դասիչը` | B93: 12003 | C93: Տարի
A94: Միջոցառման անվանումը` | B94: Երեխա ունեցող ընտանիքների բնակարանային ապահովման աջակցություն
A95: Նկարագրությունը` | B95: Երեխա ունեցող ընտանիքների բնակարանային ապահովման աջակցության տրամադրում
A96: Միջոցառման տեսակը` | B96: Տրանսֆերտների տրամադրում
A97: Շահառուների ընտրության չափանիշները | B97: Երեխա ունեցող ընտանիքներ, ովքեր ցանկանում են ձեռք բերել բնակարան, կանխավճարի ապահովագրության ձեռք բերում երիտասարդ ընտանիքների համար, երեխայի ծննդով պայմանավորված հիփոթեքային վարկ մարող ընտանիքներ
A98: Արդյունքի չափորոշիչներ
A99: Շահառուների թվաքանակ (մարզային բնակավայրերում բնակարան ձեռք բերելու համար միանվագ դրամական աջակցության բաղադրիչ) | C99: 45
A100: Շահառուների թվաքանակ (Երիտասարդ ընտանիքների համար կանխավճարի ապահովագրության բաղադրիչ) | C100: 65
A101: Շահառուների թվաքանակ (երեխայի ծննդով պայմանավորված` հիփոթեքային վարկ մարող ընտանիքներին դրամական աջակցության բաղադրիչ) | C101: 170
A102: Միջոցառման վրա կատարվող ծախսը (հազար դրամ) | C102: ='1'!D74 -> 200000
A107: Ծրագրի դասիչը | B107: Ծրագրի անվանումը
A108: 1102 | B108: Կենսաթոշակային ապահովություն
A109: Ծրագրի միջոցառումները
A110: Ծրագրի դասիչը` | B110: 1102 | C110: Ցուցանիշների փոփոխությունները ավելացումները նշված են դրական նշանով
A111: Միջոցառման դասիչը` | B111: 12001 | C111: Տարի
A112: Միջոցառման անվանումը` | B112: Սպայական անձնակազմի և նրանց ընտանիքների անդամների կենսաթոշակներ
A113: Նկարագրությունը` | B113: Սպայական անձնակազմի զինծառայողներին երկարամյա ծառայության, հաշմանդամության և զինծառայողի մահվան դեպքում նրա ընտանիքի անդամներին կերակրողին կորցնելու դեպքում զինվորական կենսաթոշակների տրամադրում
A114: Միջոցառման տեսակը` | B114: Տրանսֆերտների տրամադրում
A115: Շահառուների ընտրության չափանիշները | B115: Սպայական անձնակազմին և նրանց ընտանիքների անդամներին երկարամյա ծառայության, հաշմանդամության և կերակրողին կորցնելու դեպքում կենսաթոշակների տրամադրում 22.12.2010թ.ՀՕ-243-Ն օրենքի 18-րդ, 20-րդ, 22-րդ հոդվածներով
A116: Արդյունքի չափորոշիչներ
A117: Կենսաթոշակառուների թիվ, մարդ, այդ թվում | C117: 2006.5715
...

Sheet 5
C1: Հավելված N 5
C2: ՀՀ կառավարության 2022 թվականի
C3: -----------------ի N -----------Ն որոշման
A4: ՀԱՅԱՍՏԱՆԻ ՀԱՆՐԱՊԵՏՈՒԹՅԱՆ ԿԱՌԱՎԱՐՈՒԹՅԱՆ 2020 ԹՎԱԿԱՆԻ ԴԵԿՏԵՄԲԵՐԻ 30-Ի N 2215-Ն ՈՐՈՇՄԱՆ N 9 ՀԱՎԵԼՎԱԾԻ N 9.1.20 ԱՂՅՈՒՍԱԿՈՒՄ ԿԱՏԱՐՎՈՂ ՓՈՓՈԽՈՒԹՅՈՒՆՆԵՐԸ
A5: ՀԱՅԱՍՏԱՆԻ ՀԱՆՐԱՊԵՏՈՒԹՅԱՆ ԿԱՌԱՎԱՐՈՒԹՅԱՆ 2021 ԹՎԱԿԱՆԻ ԴԵԿՏԵՄԲԵՐԻ 23-Ի N 2121-Ն ՈՐՈՇՄԱՆ N 9.1 ՀԱՎԵԼՎԱԾԻ N 9.1.16, N 9.1.20 ԵՎ 9.1.59 ԱՂՅՈՒՍԱԿՆԵՐՈՒՄ ԿԱՏԱՐՎՈՂ ՓՈՓՈԽՈՒԹՅՈՒՆՆԵՐԸ
A6: ՄԱՍ 1. ՊԵՏԱԿԱՆ ՄԱՐՄՆԻ ԳԾՈՎ ԱՐԴՅՈՒՆՔԱՅԻՆ (ԿԱՏԱՐՈՂԱԿԱՆ) ՑՈՒՑԱՆԻՇՆԵՐԸ
A7: Հայաստանի Հանրապետության աշխատանքի և սոցիալական հարցերի նախարարություն
A8: Ծրագրի դասիչը | B8: Ծրագրի անվանումը
A9: 1068 | B9: Ժողովրդագրական վիճակի բարելավում
A11: Ծրագրի միջոցառումները
A12: Ծրագրի դասիչը` | B12: 1068 | C12: Ցուցանիշների փոփոխությունը (ավելացումը նշված է դրական նշանով)
A13: Միջոցառման դասիչը` | B13: 12003 | C13: Տարի
A14: Միջոցառման անվանումը` | B14: Երեխա ունեցող ընտանիքների բնակարանային ապահովման աջակցություն
A15: Նկարագրությունը` | B15: Երեխա ունեցող ընտանիքների բնակարանային ապահովման աջակցության տրամադրում
A16: Միջոցառման տեսակը` | B16: Տրանսֆերտների տրամադրում
A17: Շահառուների ընտրության չափանիշները | B17: Երեխա ունեցող ընտանիքներ, ովքեր ցանկանում են ձեռք բերել բնակարան, կանխավճարի ապահովագրության ձեռք բերում երիտասարդ ընտանիքների համար, երեխայի ծննդով պայմանավորված հիփոթեքային վարկ մարող ընտանիքներ
A18: Արդյունքի չափորոշիչներ
A19: Շահառուների թվաքանակ (մարզային բնակավայրերում բնակարան ձեռք բերելու համար միանվագ դրամական աջակցության բաղադրիչ) | C19: ='4'!C99 -> 45
A20: Շահառուների թվաքանակ (Երիտասարդ ընտանիքների համար կանխավճարի ապահովագրության բաղադրիչ) | C20: ='4'!C100 -> 65
A21: Շահառուների թվաքանակ (երեխայի ծննդով պայմանավորված` հիփոթեքային վարկ մարող ընտանիքներին դրամական աջակցության բաղադրիչ) | C21: ='4'!C101 -> 170
A22: Միջոցառման վրա կատարվող ծախսը (հազար դրամ) | C22: ='4'!C102 -> 200000
A24: Ծրագրի դասիչը | B24: Ծրագրի անվանումը
A25: 1141 | B25: Ընտանիքներին, կանանց և երեխաներին աջակցություն
A27: Ծրագրի դասիչը` | B27: 1141 | C27: Ցուցանիշների փոփոխությունները նվազեցումները նշված են փակագծերում
A28: Միջոցառման դասիչը` | B28: 11010 | C28: Տարի
A29: Միջոցառման անվանումը` | B29: Թրաֆիքինգի և շահագործման, սեռական բռնության ենթարկված անձանց սոցիալ-հոգեբանական վերականգնողական ծառայություններ
A30: Նկարագրությունը` | B30: Թրաֆիքինգի և շահագործման, սեռական բռնության ենթարկված անձանց պաշտպանություն և նրանց մատչելի, բազմակողմանի ու օպերատիվ աջակցության կազմակերպում
A31: Միջոցառման տեսակը` | B31: Ծառայությունների մատուցում
A32: Միջոցառումն իրականացնողի անվանումը? | B32: Մասնագիտացված կազմակերպություն
A33: Միջոցառման վրա կատարվող ծախսը (հազար դրամ) | C33: ='4'!C206 -> -1569.7
A35: Ծրագրի դասիչը` | B35: 1141
A36: Միջոցառման դասիչը` | B36: 11016
A37: Միջոցառման անվանումը` | B37: Ընտանեկան բռնության ենթարկված անձանց աջակցության կենտրոնների ծառայություններ
A38: Նկարագրությունը` | B38: Ընտանիքում բռնության ենթարկված անձանց, անհրաժեշտության դեպքում նրանց խնամքի տակ եղող անձանց ծառայությունների տրամադրում
A39: Միջոցառման տեսակը` | B39: Ծառայությունների մատուցում
A40: Միջոցառումն իրականացնողի անվանումը? | B40: Մրցույթի արդյունքում ընտրված հավաստագրված հասարակական կազմակերպություն
A41: Միջոցառման վրա կատարվող ծախսը (հազար դրամ) | C41: ='4'!C214 -> -1430.3
A43: Ծրագրի դասիչը` | B43: 1141 | C43: Ցուցանիշների փոփոխությունը (ավելացումը նշված է դրական նշանով)
A44: Միջոցառման դասիչը` | B44: 12006 | C44: Տարի
A45: Միջոցառման անվանումը` | B45: Ընտանիքում բռնության ենթարկվածների ժամանակավոր աջակցություն
A46: Նկարագրությունը` | B46: Ընտանիքում բռնության ենթարկված անձին ֆինանսական աջակցության տրամադրում
A47: Միջոցառման տեսակը` | B47: Տրանսֆերտների տրամադրում
A48: Շահառուների ընտրության չափանիշները | B48: ՀՀ կառավարության 2019 թվականի մարտի 29-ի N333-Ն որոշմամբ սահմանված դրույթների պահանջներին համապատասխան
A49: Արդյունքի չափորոշիչներ
A50: Դրամական փոխհատուցում ստացած շահառուների թիվ , մարդ այդ թվում | C50: ='4'!C223 -> 30
A51: Միջոցառման վրա կատարվող ծախսը (հազար դրամ) | C51: ='4'!C224 -> 3000
A54: ՀՀ աշխատանքի և սոցիալական հարցերի նախարարության միասնական սոցիալական ծառայություն
A56: Ծրագրի դասիչը | B56: Ծրագրի անվանումը
A57: 1005 | B57: Պարգևավճարներ և պատվովճարներ
A58: Ծրագրի միջոցառումները
A59: Ծրագրի դասիչը` | B59: 1005 | C59: Ցուցանիշների փոփոխությունները ավելացումները նշված են դրական նշանով
A60: Միջոցառման դասիչը` | B60: 12001 | C60: Տարի
A61: Միջոցառման անվանումը` | B61: Զինծառայողներին, ՀՄՊ մասնակիցներին, այլ պետություններում մարտական գործողությունների մասնակիցներին, զոհված (մահացած) զինծառայողի ընտանիքի անդամներին, ընտանիքներին տրվող պարգևավճարներ
A62: Նկարագրությունը` | B62: Զինծառայողներին, ՀՄՊ մասնակիցներին, այլ պետություններում մարտական գործողությունների մասնակիցներին, զոհված (մահացած) զինծառայողի ընտանիքի անդամներին, ընտանիքներին, պարգևավճարների տրամադրում
A63: Միջոցառման տեսակը` | B63: Տրանսֆերտների տրամադրում
A64: Շահառուների ընտրության չափանիշները | B64: ՀՄՊ մասնակիցներ, ՀՄՊ և այլ պետություններում մարտական գործողությունների ընթացքում զոհված զինծառայողների ընտանիքներ
A65: Արդյունքի չափորոշիչներ
A66: Պարգևավճարներ ստացողների թիվ, ընտանիք | C66: ='4'!C19 -> 1008.1578
A67: Միջոցառման վրա կատարվող ծախսը (հազար դրամ) | C67: ='4'!C20 -> 305000
A69: Ծրագրի դասիչը` | B69: 1005 | C69: Ցուցանիշների փոփոխությունները նվազեցումները նշված են փակագծերում
A70: Միջոցառման դասիչը` | B70: 12002 | C70: Տարի
A71: Միջոցառման անվանումը` | B71: Վետերանների պատվովճարներ
A72: Նկարագրությունը` | B72: ՀՄՊ վետերաններին պատվովճարի տրամադրում
A73: Միջոցառման տեսակը` | B73: Տրանսֆերտների տրամադրում
A74: Շահառուների ընտրության չափանիշները | B74: ՀՄ պատերազմի վետերաններին պատվովճարների տրամադրում 02.12.1998թ. ՀՕ-267-Ն օրենքի 4-րդ հոդվածով
A75: Արդյունքի չափորոշիչներ
A76: Պատվովճար ստացող վետերանների թիվ,մարդ | C76: ='4'!C29 -> -1.6666667
A77: Միջոցառման վրա կատարվող ծախսը (հազար դրամ) | C77: ='4'!C30 -> -2000
A80: Ծրագրի դասիչը | B80: Ծրագրի անվանումը
A81: 1011 | B81: Անապահով սոցիալական խմբերին աջակցություն
A82: Ծրագրի միջոցառումներ
A84: Ծրագրի դասիչը` | B84: 1011 | C84: Ցուցանիշների փոփոխությունները նվազեցումները նշված են փակագծերում
A85: Միջոցառման դասիչը` | B85: 11001 | C85: Տարի
A86: Միջոցառման անվանումը` | B86: Ընտանիքի կենսամակարդակի բարձրացմանն ուղղված նպաստների իրականացման ապահովում
A87: Նկարագրությունը` | B87: Ընտանիքների անապահովության գնահատման համակարգում հաշվառված, ընդգրկված անապահով ճանաչված ընտանիքներին նպաստի, սոցիալական նպաստի և հրատապ օգնության վճարման ծառայությունների ձեռքբերում
A88: Միջոցառման տեսակը` | B88: Ծառայությունների մատուցում
A89: Միջոցառումն իրականացնողի անվանումը՝ | B89: «Գնումների մասին» ՀՀ օրենքի համաձայն ընտրված կազմակերպություն
A90: Արդյունքի չափորոշիչներ
A91: Ընտանիքի կենսամակարդակի բարձրացմանն ուղղված նպաստներ ստացող ընտանիքների թիվ, հատ | C91: ='4'!C44 -> -441.17232
A92: Միջոցառման վրա կատարվող ծախսը (հազար դրամ) | C92: ='4'!C45 -> -8000
A94: Ծրագրի դասիչը` | B94: 1011 | C94: Ցուցանիշների փոփոխությունները նվազեցումները նշված են փակագծերում
A95: Միջոցառման դասիչը` | B95: 11003 | C95: Տարի
A96: Միջոցառման անվանումը` | B96: Սոցիալական դեպքի վարման ծառայության ձեռք բերում
A97: Նկարագրությունը` | B97: Ընտանիքի, դրա յուրաքանչյուր անդամի, սոցիալական գնահատման իրականացում՛ անապահով սոցիալական խմբերին հայտնաբերելու համար՛ սոցիալական աջակցության տարածքային մարմինների սոցիալական աշխատողների կողմից տնային այցելությունների միջոցով
A98: Միջոցառման տեսակը` | B98: Ծառայությունների մատուցում
A99: Միջոցառումն իրականացնողի անվանումը՝ | B99: ՀՀ աշխատանքի և սոցիալական հարցերի նախարարության միասնական սոցիալական ծառայություն
A100: Արդյունքի չափորոշիչներ
A101: Տունայցերի թիվ, այդ թվում | C101: ='4'!C54 -> -222737
A102: Ընտանիքի սոցիալական գնահատման համակարգում | C102: ='4'!C55 -> -200731
A103: Զբաղվածության պետական ծրագրերի գնահատման համակարգում | C103: ='4'!C56 -> -20785
A104: Հաշմանդամության գնահատման համակարգում | C104: ='4'!C57 -> -1221
A105: Տունայցի արդյունքում սոցիալական ծառայություն ստացած ընտանիքների (անձանց) թիվ | C105: ='4'!C58 -> -82044
A106: Գնահատված կարիքների թիվ տոկոս, տունայցերի նկատմամբ | C106: ='4'!C59 -> -10
A107: Միջոցառման վրա կատարվող ծախսը (հազար դրամ) | C107: ='4'!C60 -> -69000
A109: Ծրագրի դասիչը` | B109: 1011 | C109: Ցուցանիշների փոփոխությունները նվազեցումները նշված են փակագծերում
A110: Միջոցառման դասիչը` | B110: 12001 | C110: Տարի
A111: Միջոցառման անվանումը` | B111: Ընտանիքի կենսամակարդակի բարձրացմանն ուղղված նպաստներ
A112: Նկարագրությունը` | B112: Ընտանիքների անապահովության գնահատման համակարգում հաշվառված, անապահով ճանաչված ընտանիքներին նպաստի, սոցիալական նպաստի և հրատապ օգնության տրամադրում
A113: Միջոցառման տեսակը` | B113: Տրանսֆերտների տրամադրում
A114: Շահառուների ընտրության չափանիշները | B114: Ընտանիքների անապահովության գնահատման համակարգում հաշվառված ընտանիք?ընտանիքի անապահովության միավորի հիման վրա
...

Sheet 6
I1: Հավելված N 6
I2: ՀՀ կառավարության 2021 թվականի
I3: -----------------ի N -----------Ն որոշման
A6: ՀԱՅԱՍՏԱՆԻ ՀԱՆՐԱՊԵՏՈՒԹՅԱՆ ԿԱՌԱՎԱՐՈՒԹՅԱՆ 2021 ԹՎԱԿԱՆԻ ԴԵԿՏԵՄԲԵՐԻ 23-Ի N 2121-Ն ՈՐՈՇՄԱՆ N 10 ՀԱՎԵԼՎԱԾՈՒՄ ԿԱՏԱՐՎՈՂ ՓՈՓՈԽՈՒԹՅՈՒՆՆԵՐԸ
A9: ՀՀ աշխատանքի և սոցիալական հարցերի նախարարության միասնական սոցիալական ծառայություն
A11: Գնման առարկայի | G11: Միավորի գինը | H11: Ցուցանիշների փոփոխությունները  նվազեցումները նշված են փակագծերում
A12: Կոդը | D12: Անվանումը | E12: Գնման ձևը | F12: Չափման միավորը | H12: Քանակը | I12: Ընդամենը գումարը (հազար դրամ)
A13: ՀՀ աշխատանքի և սոցիալական հարցերի նախարարության միասնական սոցիալական ծառայություն | I13: =I15+I19 -> -21000
A14: Բաժին N 10 | B14: Խումբ N 09 | C14: Դաս N 01 | D14: Սոցիալական պաշտպանություն (այլ դասերին չպատկանող) | I14: =SUM(I15) -> -13000
A15: 1011 11003 | B15: Սոցիալական դեպքի վարման ծառայության ձեռք բերում | I15: =SUM(I16) -> -13000
B16: ՄԱՍ III. ԾԱՌԱՅՈՒԹՅՈՒՆՆԵՐ | I16: =SUM(I17) -> -13000
A17: 79571100-1 | B17: փոստային առաքման ծառայություններ | E17: ՄԱ | F17: դրամ | I17: =SUM('2'!G143) -> -13000
A18: Բաժին N 10 | B18: Խումբ N 09 | C18: Դաս N 02 | D18: Սոցիալական պաշտպանությանը տրամադրվող օժանդակ ծառայություններ (այլ դասերին չպատկանող) | I18: =SUM(I19) -> -8000
A19: 1011 11001 | B19: Ընտանիքի կենսամակարդակի բարձրացմանն ուղղված նպաստների իրականացման ապահովում | I19: =SUM(I20) -> -8000
B20: ՄԱՍ III. ԾԱՌԱՅՈՒԹՅՈՒՆՆԵՐ | I20: =SUM(I21) -> -8000
A21: 79571100-1 | B21: փոստային առաքման ծառայություններ | E21: ՄԱ | F21: դրամ | I21: =SUM('1'!D37) -> -8000

Sheet 7
G1: Հավելված N 7
G2: ՀՀ կառավարության 2021 թվականի
G3: -----------------ի N -----------Ն որոշման
A6: ՀԱՅԱՍՏԱՆԻ ՀԱՆՐԱՊԵՏՈՒԹՅԱՆ 2022 ԹՎԱԿԱՆԻ ՊԵՏԱԿԱՆ ԲՅՈՒՋԵՈՎ ՆԱԽԱՏԵՍՎԱԾ ՀԱՅԱՍՏԱՆԻ ՀԱՆՐԱՊԵՏՈՒԹՅԱՆ ԿԱՌԱՎԱՐՈՒԹՅԱՆ ՊԱՀՈՒՍՏԱՅԻՆ ՖՈՆԴԻՑ ՀԱՏԿԱՑՈՒՄՆԵՐ ԿԱՏԱՐԵԼՈՒ ՎԵՐԱԲԵՐՅԱԼ
G7: հազար դրամ
A8: Գործառական դասիչը | D8: Ծրագրային դասիչը | F8: Բյուջետային ծախսերի գործառական դասակարգման բաժինների, խմբերի և դասերի, բյուջետային ծրագրերի միջոցառումների, բյուջետային հատկացումների գլխավոր կարգադրիչների անվանումները | G8: Ցուցանիշների փոփոխությունները նվազեցումները նշված են փակագծերում
A9: Բաժինը | B9: Խումբը | C9: Դասը | D9: Ծրագիր | E9: Միջոցառում | G9: Տարի
F10: ԸՆԴԱՄԵՆԸ ԾԱԽՍԵՐ | G10: =G12 -> -7954600
F11: այդ թվում`
A12: 11 | F12: ՀԻՄՆԱԿԱՆ ԲԱԺԻՆՆԵՐԻՆ ՉԴԱՍՎՈՂ ՊԱՀՈՒՍՏԱՅԻՆ ՖՈՆԴԵՐ | G12: =SUM(G14) -> -7954600
F13: այդ թվում`
B14: 01 | F14: ՀՀ կառավարության և համայնքների պահուստային ֆոնդ | G14: =SUM(G16) -> -7954600
F15: այդ թվում`
C16: 01 | F16: ՀՀ կառավարության պահուստային ֆոնդ | G16: =SUM(G18) -> -7954600
F17: այդ թվում`
D18: 1139 | F18: ՀՀ կառավարության պահուստային ֆոնդ | G18: =SUM(G20) -> -7954600
F19: այդ թվում`
E20: 11001 | F20: ՀՀ կառավարության պահուստային ֆոնդ | G20: =G22 -> -7954600
F21: այդ թվում` ըստ կատարողների
F22: ՀՀ կառավարություն | G22: =G23 -> -7954600
F23: այդ թվում` բյուջետային ծախսերի տնտեսագիտական դասակարգման հոդվածներ | G23: =SUM(G25) -> -7954600
F24: ԸՆԴԱՄԵՆԸ ԾԱԽՍԵՐ | G24: =SUM(G26) -> -7954600
F25: ԸՆԹԱՑԻԿ ԾԱԽՍԵՐ | G25: =SUM(G27) -> -7954600
F26: ԱՅԼ ԾԱԽՍԵՐ | G26: =SUM(G27) -> -7954600
F27: Պահուստային միջոցներ | G27: ='1'!D175 -> -7954600
