Workbook
Name AgencyCode: #REF!
Name AgencyName: #REF!
Name Functional1: #REF!
Name PANature: #REF!
Name PAType: #REF!
Name Performance2: #REF!
Name PerformanceType: #REF!

Sheet Հավելված1
D1: Հավելված N 1
D2: ՀՀ կառավարության 2022 թվականի
D3: ___________ ___-ի N _______ որոշման
A5: «ՀԱՅԱUՏԱՆԻ ՀԱՆՐԱՊԵՏՈՒԹՅԱՆ 2022 ԹՎԱԿԱՆԻ ՊԵՏԱԿԱՆ ԲՅՈՒՋԵԻ ՄԱUԻՆ» ՀԱՅԱUՏԱՆԻ ՀԱՆՐԱՊԵՏՈՒԹՅԱՆ OՐԵՆՔԻ N 1 ՀԱՎԵԼՎԱԾԻ N 2 ԱՂՅՈՒՍԱԿՈՒՄ ԿԱՏԱՐՎՈՂ ՎԵՐԱԲԱՇԽՈՒՄԸ ԵՎ ՀԱՅԱՍՏԱՆԻ ՀԱՆՐԱՊԵՏՈՒԹՅԱՆ ԿԱՌԱՎԱՐՈՒԹՅԱՆ 2021 ԹՎԱԿԱՆԻ ԴԵԿՏԵՄԲԵՐԻ 23-Ի N 2121-Ն ՈՐՈՇՄԱՆ N5 ՀԱՎԵԼՎԱԾԻ N1 ԱՂՅՈՒՍԱԿՈՒՄ ԿԱՏԱՐՎՈՂ ՓՈՓՈԽՈՒԹՅՈՒՆՆԵՐԸ
D7: հազ. դրամներով
A8: Ծրագրային դասիչը | C8: Բյուջետային հատկացումների գլխավոր կարգադրիչների, ծրագրերի և միջոցառումների անվանումները | D8: Ցուցանիշների փոփոխությունը (ավելացումները նշված են դրական նշանով, նվազեցումները՝ փակագծերում)
A9: Ծրագիր | B9: Միջոցառում | D9: Տարի
B10: Ընդամենը | D10: =+D11+D25 -> 0
B11: ՀՀ արդարադատության նախարարություն | D11: =D12 -> 222600
A12: 1120 | C12: Ծրագրի անվանումը` | D12: =+D19 -> 222600
C13: Քրեակատարողական ծառայություններ
C14: Ծրագրի նպատակը`
C15: Դատապարտյալների պատժի կատարման և ուղղման համար անհրաժեշտ պայմանների ապահովում
C16: Վերջնական արդյունքի նկարագրությունը`
C17: Դատապարտյալների զբաղվածության և իրավունքների պաշտպանություն
C18: Ծրագրի միջոցառումներ
B19: 31006 | C19: Միջոցառման անվանումը` | D19: =+Հավելված3!G23 -> 222600
C20: Քրեակատարողական ծառայության տրանսպորտային միջոցներով ապահովվածության բարելավում
C21: Միջոցառման նկարագրությունը`
C22: Քրեակատարողական ծառայության կարիքների համար ավտոմեքենաների ձեռքբերում
C23: Միջոցառման տեսակը
C24: Պետական մարմինների կողմից օգտագործվող ոչ ֆինանսական ակտիվների հետ գործառնություններ
B25: ՀՀ կառավարություն | D25: =D26 -> -222600
A26: 1139 | C26: Ծրագրի անվանումը` | D26: =D33 -> -222600
C27: ՀՀ կառավարության պահուստային ֆոնդ
C28: Ծրագրի նպատակը`
C29: Պետական բյուջեում չկանխատեսված՝ ինչպես նաև բյուջետային երաշխիքների ապահովման ծախսերի ֆինանսավորման ապահովում
C30: Վերջնական արդյունքի նկարագրությունը`
C31: Պահուստային ֆոնդի կառավարման արդյունավետություն և թափանցիկության ապահովում
C32: Ծրագրի միջոցառումներ
B33: 11001 | C33: Միջոցառման անվանումը` | D33: =+Հավելված3!G42 -> -222600
C34: ՀՀ կառավարության պահուստային ֆոնդ
C35: Միջոցառման նկարագրությունը`
C36: ՀՀ պետական բյուջեում նախատեսված ելքերի լրացուցիչ ֆինանսավորման՝ պետական բյուջեում չկանխատեսված ելքերի՝ ինչպես նաև բյուջետային երաշխիքների ապահովման ելքերի ֆինանսավորման ապահովում
C37: Միջոցառման տեսակը
C38: Ծառայությունների մատուցում

Sheet Հավելված2
H1: Հավելված N 2
H2: ՀՀ կառավարության 2021 թվականի ----------
H3: № ---------- որոշման
A5: «ՀԱՅԱUՏԱՆԻ ՀԱՆՐԱՊԵՏՈՒԹՅԱՆ 2022 ԹՎԱԿԱՆԻ ՊԵՏԱԿԱՆ ԲՅՈՒՋԵԻ ՄԱUԻՆ» ՀԱՅԱUՏԱՆԻ ՀԱՆՐԱՊԵՏՈՒԹՅԱՆ OՐԵՆՔԻ N 1 ՀԱՎԵԼՎԱԾԻ N 3 ԱՂՅՈՒՍԱԿՈՒՄ ԿԱՏԱՐՎՈՂ ԿԱՏԱՐՎՈՂ ԼՐԱՑՈՒՄՆԵՐԸ
G7: հազ. դրամներով
A8: Ծրագրային դասիչ | C8: Բյուջետային գլխավոր կարգադրիչների, ծրագրերի, միջոցառումների և ուղղությունների անվանումները | D8: Ընդամենը, | E8: Ցուցանիշների փոփոխությունը (ավելացումները նշված են դրական նշանով)
A9: Ծրագիր | B9: Միջոցառում | E9: Կառուցման աշխատանքներ | F9: Վերակառուցման, վերանորոգման և վերականգնման աշխատանքներ | G9: Նախագծահե- տազոտական, գեոդեզիա- քարտեզագրա- կան աշխա- տանքներ | H9: Ոչ ֆինանսական այլ ակտիվների ձեռքբերում
C10: ԸՆԴԱՄԵՆԸ | D10: =+D12 -> 222600 | E10: =E12 -> 0 | F10: =F12 -> 0 | G10: =G12 -> 0 | H10: =H12 -> 222600
C11: այդ թվում՝
C12: ՀՀ ԱՐԴԱՐԱԴԱՏՈՒԹՅԱՆ ՆԱԽԱՐԱՐՈՒԹՅՈՒՆ | D12: =E12+F12+G12+H12 -> 222600 | E12: =E14 -> 0 | F12: =F14 -> 0 | G12: =G14 -> 0 | H12: =H14 -> 222600
C13: այդ թվում`
A14: 1120 | B14: 31006 | C14: Քրեակատարողական ծառայության տրանսպորտային միջոցներով ապահովվածության բարելավում | D14: =E14+F14+G14+H14 -> 222600 | H14: =+Հավելված3!G23 -> 222600

Sheet Հավելված3
G1: Հավելված N 3
G2: ՀՀ կառավարության 2022թվականի
G3: ___________ ___-ի N _______ որոշման
A8: ՀԱՅԱՍՏԱՆԻ ՀԱՆՐԱՊԵՏՈՒԹՅԱՆ ԿԱՌԱՎԱՐՈՒԹՅԱՆ 2021 ԹՎԱԿԱՆԻ ԴԵԿՏԵՄԲԵՐԻ 23-Ի N 2121-Ն ՈՐՈՇՄԱՆ N3 ԵՎ N4 ՀԱՎԵԼՎԱԾՆԵՐՈՒՄ ԿԱՏԱՐՎՈՂ ՓՈՓՈԽՈՒԹՅՈՒՆՆԵՐԸ ԵՎ ԼՐԱՑՈՒՄՆԵՐԸ
G10: հազ. դրամներով
A11: Գործառական դասիչը | D11: Ծրագրային դասիչը | F11: Բյուջետային հատկացումների գլխավոր կարգադրիչների, ծրագրերի, միջոցառումների և միջոցառումները կատարող պետական մարմինների անվանումները | G11: Ցուցանիշների փոփոխությունը (ավելացումները նշված են դրական նշանով, նվազեցումները՝ փակագծերում)
A12: Բաժին | B12: Խումբ | C12: Դաս | D12: Ծրագիր | E12: Միջոցառում | G12: Տարի
F13: ԸՆԴԱՄԵՆԸ | G13: =G14+G32 -> 0
A14: 03 | F14: ՀԱՍԱՐԱԿԱԿԱՆ ԿԱՐԳ, ԱՆՎՏԱՆԳՈՒԹՅՈՒՆ ԵՎ ԴԱՏԱԿԱՆ ԳՈՐԾՈՒՆԵՈՒԹՅՈՒՆ | G14: =G15 -> 222600
B15: 05 | F15: Կալանավայրեր | G15: =G21 -> 222600
C16: 01 | F16: այդ թվում`
F17: Կալանավայրեր | G17: =+G19 -> 222600
F18: այդ թվում`
F19: ՀՀ արդարադատության նախարարություն | G19: =+G21 -> 222600
F20: այդ թվում`
D21: 1120 | F21: Քրեակատարողական ծառայություններ | G21: =G23 -> 222600
F22: այդ թվում`
E23: 31006 | F23: Քրեակատարողական ծառայության տրանսպորտային միջոցներով ապահովվածության բարելավում | G23: =G25 -> 222600
F24: այդ թվում` ըստ կատարողների
F25: ՀՀ արդարադատության նախարարության քրեակատարողական ծառայություն | G25: =G27 -> 222600
F26: այդ թվում` բյուջետային ծախսերի տնտեսագիտական դասակարգման հոդվածներ
F27: ԸՆԴԱՄԵՆԸ ԾԱԽՍԵՐ | G27: =G28 -> 222600
F28: ՈՉ ՖԻՆԱՆՍԱԿԱՆ ԱԿՏԻՎՆԵՐԻ ԳԾՈՎ ԾԱԽՍԵՐ | G28: =G29 -> 222600
F29: ՀԻՄՆԱԿԱՆ ՄԻՋՈՑՆԵՐ | G29: =SUM(G30) -> 222600
F30: ՄԵՔԵՆԱՆԵՐ ԵՎ ՍԱՐՔԱՎՈՐՈՒՄՆԵՐ | G30: =G31 -> 222600
F31: - Տրանսպորտային սարքավորումներ | G31: 222600
A32: 11 | F32: ՀԻՄՆԱԿԱՆ ԲԱԺԻՆՆԵՐԻՆ ՉԴԱՍՎՈՂ ՊԱՀՈՒՍՏԱՅԻՆ ՖՈՆԴԵՐ | G32: =G34 -> -222600
F33: այդ թվում`
B34: 01 | F34: ՀՀ կառավարության և համայնքների պահուստային ֆոնդ | G34: =G36 -> -222600
F35: այդ թվում`
C36: 01 | F36: ՀՀ կառավարության պահուստային ֆոնդ | G36: =G38 -> -222600
F37: այդ թվում`
F38: ՀՀ կառավարություն | G38: =G40 -> -222600
F39: այդ թվում`
D40: 1139 | F40: ՀՀ կառավարության պահուստային ֆոնդ | G40: =G42 -> -222600
F41: այդ թվում`
E42: 11001 | F42: ՀՀ կառավարության պահուստային ֆոնդ | G42: =G44 -> -222600
F43: այդ թվում` ըստ կատարողների
F44: ՀՀ կառավարություն | G44: =G46 -> -222600
F45: այդ թվում` բյուջետային ծախսերի տնտեսագիտական դասակարգման հոդվածներ
F46: ԸՆԴԱՄԵՆԸ ԾԱԽՍԵՐ | G46: =G47 -> -222600
F47: ԸՆԹԱՑԻԿ ԾԱԽՍԵՐ | G47: =G48 -> -222600
F48: ԱՅԼ ԾԱԽՍԵՐ | G48: =G49 -> -222600
F49: Պահուստային միջոցներ | G49: -222600

Sheet Հավելված4
F1: Հավելված N 4
F2: ՀՀ կառավարության 2022թվականի
F3: ___________ ___-ի N _______ որոշման
A5: ՀԱՅԱՍՏԱՆԻ ՀԱՆՐԱՊԵՏՈՒԹՅԱՆ ԿԱՌԱՎԱՐՈՒԹՅԱՆ 2021ԹՎԱԿԱՆԻ ԴԵԿՏԵՄԲԵՐԻ 23-Ի ԹԻՎ 2121-Ն ՈՐՈՇՄԱՆ N5 ՀԱՎԵԼՎԱԾԻ N2 ԱՂՅՈՒՍԱԿՈՒՄ ԿԱՏԱՐՎՈՂ ՓՈՓՈԽՈՒԹՅՈՒՆՆԵՐԸ
F7: հազ. դրամներով
A8: Ծրագրային դասիչ | C8: Բյուջետային գլխավոր կարգադրիչների, ծրագրերի, միջոցառումների, միջոցառումները կատարող պետական մարմինների և ուղղությունների անվանումները | D8: Ցուցանիշների փոփոխությունը (ավելացումները նշված են դրական նշանով)
A9: Ծրագիր | B9: Միջոցառում | D9: ՏԱՐԻ
C10: ԸՆԴԱՄԵՆԸ | D10: =D11 -> 222600
C11: ՀՀ ԱՐԴԱՐԱԴԱՏՈՒԹՅԱՆ ՆԱԽԱՐԱՐՈՒԹՅՈՒՆ | D11: =D13 -> 222600
C12: այդ թվում`
A13: 1120 | B13: 31006 | C13: Քրեակատարողական ծառայության տրանսպորտային միջոցներով ապահովվածության բարելավում | D13: =D15 -> 222600
C14: այդ թվում` ըստ կատարողների
C15: ՀՀ արդարադատության նախարարության քրեակատարողական ծառայություն | D15: =+Հավելված3!G23 -> 222600

Sheet Հավելված5
E1: Հավելված N 5
E2: ՀՀ կառավարության 2022թվականի
E3: ___________ ___-ի N _______ որոշման
B5: ՀԱՅԱՍՏԱՆԻ ՀԱՆՐԱՊԵՏՈՒԹՅԱՆ ԿԱՌԱՎԱՐՈՒԹՅԱՆ 2022 ԹՎԱԿԱՆԻ ԴԵԿՏԵՄԲԵՐԻ 23-Ի N 2121-Ն ՈՐՈՇՄԱՆ N9 ՀԱՎԵԼՎԱԾԻ 9.9 և 9․47 ԱՂՅՈՒՍԱԿՆԵՐՈՒՄ ԿԱՏԱՐՎՈՂ ՓՈՓՈԽՈՒԹՅՈՒՆՆԵՐԸ
B8: ՀՀ արդարադատության նախարարություն
B10: ՄԱՍ 2. ՊԵՏԱԿԱՆ ՄԱՐՄՆԻ ԳԾՈՎ ԱՐԴՅՈՒՆՔԱՅԻՆ (ԿԱՏԱՐՈՂԱԿԱՆ) ՑՈՒՑԱՆԻՇՆԵՐԸ
B12: Ծրագրի դասիչը | C12: Ծրագրի անվանումը
B13: 1120 | C13: Քրեակատարողական ծառայություններ
B15: Ծրագրի միջոցառումները
B16: Ծրագրի դասիչը՝ | C16: 1120 | D16: Ցուցանիշների փոփոխությունները (ավելացումները նշված են դրական նշանով)
B17: Միջոցառման դասիչը՝ | C17: 31006 | D17: Տարի
B18: Միջոցառման անվանումը` | C18: Քրեակատարողական ծառայության տրանսպորտային միջոցներով ապահովվածության բարելավում
B19: Նկարագրությունը` | C19: Քրեակատարողական ծառայության կարիքների համար ավտոմեքենաների ձեռքբերում
B20: Միջոցառման տեսակը` | C20: Պետական մարմինների կողմից օգտագործվող ոչ ֆինանսական ակտիվների հետ գործառնություններ
B21: Ակտիվն օգտագործող կազմակերպության(ների) անվանում(ներ)ը | C21: Քրեակատարողական ծառայություն
C22: Արդյունքի չափորոշիչներ
B23: Հատուկ նշանակության ավտոմեքենաներ, քանակ, հատ | D23: 10
B24: Միջոցառման վրա կատարվող ծախսը (հազար դրամ) | D24: =+Հավելված3!G23 -> 222600
C27: ՀՀ կառավարություն
B28: ՄԱՍ 2. ՊԵՏԱԿԱՆ ՄԱՐՄՆԻ ԳԾՈՎ ԱՐԴՅՈՒՆՔԱՅԻՆ (ԿԱՏԱՐՈՂԱԿԱՆ) ՑՈՒՑԱՆԻՇՆԵՐԸ
B30: Ծրագրի դասիչը | C30: Ծրագրի անվանումը
B31: 1139 | C31: ՀՀ կառավարության պահուստային ֆոնդ
B33: Ծրագրի միջոցառումները
B35: Ծրագրի դասիչը` | C35: 1139 | D35: Ցուցանիշների փոփոխությունը (նվազեցումները նշված են փակագծերում)
B36: Միջոցառման դասիչը` | C36: 11001 | D36: Տարի
B37: Միջոցառման անվանումը` | C37: ՀՀ կառավարության պահուստային ֆոնդ
B38: Նկարագրությունը` | C38: ՀՀ պետական բյուջեում նախատեսված ելքերի լրացուցիչ ֆինանսավորման, պետական բյուջեում չկանխատեսված ելքերի, ինչպես նաև բյուջետային երաշխիքների ապահովման ելքերի ֆինանսավորման ապահովում
B39: Միջոցառման տեսակը` | C39: Ծառայությունների մատուցում
B40: Արդյունքի չափորոշիչներ
B41: Միջոցառման վրա կատարվող ծախսը (հազար դրամ) | D41: =+Հավելված3!G42 -> -222600

Sheet Հավելված 6
E1: Հավելված N 6
E2: ՀՀ կառավարության 2022թվականի
E3: ___________ ___-ի N _______ որոշման
A6: ՀԱՅԱՍՏԱՆԻ ՀԱՆՐԱՊԵՏՈՒԹՅԱՆ ԿԱՌԱՎԱՐՈՒԹՅԱՆ 2021 ԹՎԱԿԱՆԻ ԴԵԿՏԵՄԲԵՐԻ 23-Ի N 2121 -Ն ՈՐՈՇՄԱՆ N 9.1 ՀԱՎԵԼՎԱԾԻ 9.1.43 և 9.1.59 ԱՂՅՈՒՍԱԿՆԵՐՈՒՄ ԿԱՏԱՐՎՈՂ ՓՈՓՈԽՈՒԹՅՈՒՆՆԵՐԸ
E9: Աղյուսակ 9.1.43
B10: ՀՀ արդարադատության նախարարության քրեակատարողական ծառայություն
B12: ՄԱՍ 1. ՊԵՏԱԿԱՆ ՄԱՐՄՆԻ ԳԾՈՎ ԱՐԴՅՈՒՆՔԱՅԻՆ (ԿԱՏԱՐՈՂԱԿԱՆ) ՑՈՒՑԱՆԻՇՆԵՐԸ
B14: Ծրագրի դասիչը | C14: Ծրագրի անվանումը
B15: 1120 | C15: Քրեակատարողական ծառայություններ
B17: Ծրագրի միջոցառումները
B19: Ծրագրի դասիչը՝ | C19: 1120 | D19: Ցուցանիշների փոփոխությունները (ավելացումները նշված են դրական նշանով)
B20: Միջոցառման դասիչը՝ | C20: 31006 | D20: Տարի
B21: Միջոցառման անվանումը` | C21: Քրեակատարողական ծառայության տրանսպորտային միջոցներով ապահովվածության բարելավում
B22: Նկարագրությունը` | C22: Քրեակատարողական ծառայության կարիքների համար ավտոմեքենաների ձեռքբերում
B23: Միջոցառման տեսակը` | C23: Պետական մարմինների կողմից օգտագործվող ոչ ֆինանսական ակտիվների հետ գործառնություններ
B24: Ակտիվն օգտագործող կազմակերպության(ների) անվանում(ներ)ը | C24: Քրեակատարողական ծառայություն
C25: Արդյունքի չափորոշիչներ
B26: Հատուկ նշանակության ավտոմեքենաներ, քանակ, հատ | D26: 10
B27: Միջոցառման վրա կատարվող ծախսը (հազար դրամ) | D27: =+Հավելված3!G25 -> 222600
E31: Աղյուսակ 9.1.59
C32: ՀՀ կառավարություն
B33: ՄԱՍ 1. ՊԵՏԱԿԱՆ ՄԱՐՄՆԻ ԳԾՈՎ ԱՐԴՅՈՒՆՔԱՅԻՆ (ԿԱՏԱՐՈՂԱԿԱՆ) ՑՈՒՑԱՆԻՇՆԵՐԸ
B35: Ծրագրի դասիչը | C35: Ծրագրի անվանումը
B36: 1139 | C36: ՀՀ կառավարության պահուստային ֆոնդ
B38: Ծրագրի միջոցառումները
B40: Ծրագրի դասիչը` | C40: 1139 | D40: Ցուցանիշների փոփոխությունը (նվազեցումները նշված են փակագծերում)
B41: Միջոցառման դասիչը` | C41: 11001 | D41: Տարի
B42: Միջոցառման անվանումը` | C42: ՀՀ կառավարության պահուստային ֆոնդ
B43: Նկարագրությունը` | C43: ՀՀ պետական բյուջեում նախատեսված ելքերի լրացուցիչ ֆինանսավորման, պետական բյուջեում չկանխատեսված ելքերի, ինչպես նաև բյուջետային երաշխիքների ապահովման ելքերի ֆինանսավորման ապահովում
B44: Միջոցառման տեսակը` | C44: Ծառայությունների մատուցում
B45: Արդյունքի չափորոշիչներ
B46: Միջոցառման վրա կատարվող ծախսը (հազար դրամ) | D46: =Հավելված3!G40 -> -222600

Sheet Հավելված 7
G1: Հավելված N 7
G2: ՀՀ կառավարության 2022թվականի
G3: ___________ ___-ի N _______ որոշման
A6: ՀԱՅԱՍՏԱՆԻ ՀԱՆՐԱՊԵՏՈՒԹՅԱՆ ԿԱՌԱՎԱՐՈՒԹՅԱՆ 2021 ԹՎԱԿԱՆԻ ԴԵԿՏԵՄԲԵՐԻ 23-Ի N 2121-Ն ՈՐՈՇՄԱՆ N 10 ՀԱՎԵԼՎԱԾՈՒՄ ԿԱՏԱՐՎՈՂ ՓՈՓՈԽՈՒԹՅՈՒՆՆԵՐԸ
A8: Կոդը | B8: Անվանումը | C8: Գնման ձևը | D8: Չափի միավորը | E8: միավորի գինը | F8: Ցուցանիշների փոփոխությունը (ավելացումները նշված են դրական նշանով)
F9: քանակը | G9: գումարը (հազար դրամով)
A10: 1 | B10: 2 | C10: 3 | D10: 4 | E10: 5 | F10: 6 | G10: 7
A11: ՀՀ արդարադատության նախարարության քրեակատարողական ծառայություն
A12: Բաժին N 03 | B12: Խումբ N 05 | C12: Դաս N 01 | D12: Կալանավայրեր | G12: =+G13 -> 222600
A13: 1120 | B13: 31006 | C13: Քրեակատարողական ծառայության տրանսպորտային միջոցներով ապահովվածության բարելավում | G13: =+G14 -> 222600
B14: ՄԱՍ 1. ԱՊՐԱՆՔՆԵՐ | G14: =SUM(G15:G15) -> 222600
A15: 34111250/501 | B15: Բանտարկյալների տեղափոխման ավտոմեքենաներ | C15: ԷԱՃ | D15: հատ | E15: 22260000 | F15: 10 | G15: =+E15*F15/1000 -> 222600
