Workbook
Name AgencyCode: #REF!
Name AgencyCode: #REF!
Name AgencyName: #REF!
Name AgencyName: #REF!
Name davit: #REF!
Name davit: #REF!
Name Functional1: #REF!
Name Functional1: #REF!
Name ggg: #REF!
Name ggg: #REF!
Name PANature: #REF!
Name PANature: #REF!
Name PAType: #REF!
Name PAType: #REF!
Name Performance2: #REF!
Name Performance2: #REF!
Name PerformanceType: #REF!
Name PerformanceType: #REF!
Name Հավելված: #REF!
Name Հավելված: #REF!
Name Մաս: #REF!
Name Մաս: #REF!
Name շախմատիստ: #REF!
Name շախմատիստ: #REF!

Sheet Հավելված 1
C1: Հավելված N 1
C2: ՀՀ կառավարության 2022 թվականի
C3: ______________ ի ___Ն որոշման
A5: «ՀԱՅԱUՏԱՆԻ ՀԱՆՐԱՊԵՏՈՒԹՅԱՆ 2022 ԹՎԱԿԱՆԻ ՊԵՏԱԿԱՆ ԲՅՈՒՋԵԻ ՄԱUԻՆ» ՀԱՅԱUՏԱՆԻ ՀԱՆՐԱՊԵՏՈՒԹՅԱՆ OՐԵՆՔԻ N 1 ՀԱՎԵԼՎԱԾԻ N 2 ԱՂՅՈՒՍԱԿՈՒՄ ԿԱՏԱՐՎՈՂ ՎԵՐԱԲԱՇԽՈՒՄԸ ԵՎ ՀԱՅԱՍՏԱՆԻ ՀԱՆՐԱՊԵՏՈՒԹՅԱՆ ԿԱՌԱՎԱՐՈՒԹՅԱՆ 2021 ԹՎԱԿԱՆԻ ԴԵԿՏԵՄԲԵՐԻ 23-Ի N 2121-Ն ՈՐՈՇՄԱՆ N 5 ՀԱՎԵԼՎԱԾԻ N 1 ԱՂՅՈՒՍԱԿՈՒՄ ԿԱՏԱՐՎՈՂ ՓՈՓՈԽՈՒԹՅՈՒՆԸ ԵՎ ԼՐԱՑՈՒՄԸ
D7: հազ. դրամներով
A8: Ծրագրային դասիչը | C8: Բյուջետային հատկացումների գլխավոր կարգադրիչների, ծրագրերի և միջոցառումների անվանումները | D8: Ցուցանիշների փոփոխությունը (ավելացումները նշված են դրական նշանով, իսկ նվազեցումները՝ փակագծերում)
A9: Ծրագիր | B9: Միջոցառում | D9: Տարի
C10: ԸՆԴԱՄԵՆԸ | D10: =+D12 -> 0
C11: այդ թվում
C12: ՀՀ ԿՐԹՈՒԹՅԱՆ, ԳԻՏՈՒԹՅԱՆ, ՄՇԱԿՈՒՅԹԻ ԵՎ ՍՊՈՐՏԻ ՆԱԽԱՐԱՐՈՒԹՅՈՒՆ | D12: =+D14+D27 -> 0
A13: 1163 | C13: Ծրագրի անվանումը`
C14: Մասսայական սպորտ | D14: =+D21 -> 201147
C15: Ծրագրի նպատակը`
C16: Բնակչության շրջանում առողջ ապրելակերպի արմատավորում, անհատի բազմակողմանի ու ներդաշնակ զարգացման գործում ֆիզիկական կուլտուրայի և սպորտի դերի բարձրացում
C17: Վերջնական արդյունքի նկարագրությունը`
C18: Սպորտի նկատմամբ հետաքրքրվածության և մասնակցության ընդլայնում
C19: Ծրագրի միջոցառումներ
B20: 12001 | C20: Միջոցառման անվանումը`
C21: Աջակցություն համայնքներին մարզական հաստատությունների շենքային պայմանների բարելավման համար | D21: =+'Հավելված 2'!G23 -> 201147
C22: Միջոցառման նկարագրությունը`
C23: Համայնքային ենթակայության մարզական հաստատությունների վերանորոգում և կառուցում
C24: Միջոցառման տեսակը
C25: Տրանսֆերտների տրամադրում
A26: 1183 | C26: Ծրագրի անվանումը`
C27: Ապահով դպրոց | D27: =+D34 -> -201147
C28: Ծրագրի նպատակը`
C29: Դպրոցներին սպառնացող աղետների ռիսկի կառավարման կարողությունների հզորացում, դպրոցի անձնակազմի և աշակերտների անվտանգության ապահովման մակարդակի բարձրացում՛ կիրառելով ներառական և երեխայակենտրոն մոտեցում
C30: Վերջնական արդյունքի նկարագրությունը`
C31: Դպրոցական միջավայրի բարելավում
C32: Ծրագրի միջոցառումներ
B33: 32012 | C33: Միջոցառման անվանումը`
C34: Հանրակրթական դպրոցների գույքով և տեխնիկայով ապահովում | D34: =+'Հավելված 2'!G36 -> -201147
C35: Միջոցառման նկարագրությունը`
C36: Կրթական ժամանակակից նորմերին համապատասխանող գույքի ձեռքբերում
C37: Միջոցառման տեսակը
C38: Այլ պետական կազմակերպությունների կողմից օգտագործվող ոչ ֆինանսական ակտիվների հետ գործառնություններ

Sheet Հավելված 2
F1: Հավելված N 2
F2: ՀՀ կառավարության 2022 թվականի
F3: ______________ ի ___Ն որոշման
A6: ՀԱՅԱՍՏԱՆԻ ՀԱՆՐԱՊԵՏՈՒԹՅԱՆ ԿԱՌԱՎԱՐՈՒԹՅԱՆ 2021 ԹՎԱԿԱՆԻ ԴԵԿՏԵՄԲԵՐԻ 23-Ի N 2121-Ն ՈՐՈՇՄԱՆ N 3 ԵՎ N 4 ՀԱՎԵԼՎԱԾՆԵՐՈՒՄ ԿԱՏԱՐՎՈՂ ՓՈՓՈԽՈՒԹՅՈՒՆՆԵՐԸ ԵՎ ԼՐԱՑՈՒՄԸ
G7: հազ. դրամներով
A8: Գործառական դասիչը | D8: Ծրագրային դասիչը | F8: Բյուջետային հատկացումների գլխավոր կարգադրիչների, ծրագրերի, միջոցառումների և միջոցառումները կատարող պետական մարմինների անվանումները | G8: Ցուցանիշների փոփոխությունը (ավելացումները նշված են դրական նշանով, իսկ նվազեցումները՝ փակագծերում)
A9: Բաժին | B9: Խումբ | C9: Դաս | D9: Ծրագիր | E9: Միջոցառում | G9: Տարի
F10: ԸՆԴԱՄԵՆԸ | G10: =+G12 -> 0
F11: այդ թվում
F12: ՀՀ ԿՐԹՈՒԹՅԱՆ, ԳԻՏՈՒԹՅԱՆ, ՄՇԱԿՈՒՅԹԻ ԵՎ ՍՊՈՐՏԻ ՆԱԽԱՐԱՐՈՒԹՅՈՒՆ | G12: =+G13 -> 0
A13: 09 | F13: ԿՐԹՈՒԹՅՈՒՆ | G13: =+G15 -> 0
F14: այդ թվում`
B15: 06 | F15: Կրթությանը տրամադրվող օժանդակ ծառայություններ | G15: =+G17 -> 0
F16: այդ թվում`
C17: 01 | F17: Կրթությանը տրամադրվող օժանդակ ծառայություններ | G17: =+G19 -> 0
F18: այդ թվում`
F19: ՀՀ կրթության, գիտության, մշակույթի և սպորտի նախարարություն | G19: =+G21+G34 -> 0
F20: այդ թվում`
D21: 1163 | E21: Մասսայական սպորտ | G21: =+G23 -> 201147
F22: այդ թվում`
E23: 12001 | F23: Աջակցություն համայնքներին մարզական հաստատությունների շենքային պայմանների բարելավման համար | G23: =+G25 -> 201147
F24: այդ թվում` ըստ կատարողների
F25: ՀՀ քաղաքաշինության կոմիտե | G25: =+G27 -> 201147
F26: այդ թվում՝ բյուջետային ծախսերի տնտեսագիտական դասակարգման հոդվածներ
F27: ԸՆԴԱՄԵՆԸ ԾԱԽՍԵՐ | G27: =+G28 -> 201147
F28: ՈՉ ՖԻՆԱՆՍԱԿԱՆ ԱԿՏԻՎՆԵՐԻ ԳԾՈՎ ԾԱԽՍԵՐ | G28: =+G29 -> 201147
F29: ՀԻՄՆԱԿԱՆ ՄԻՋՈՑՆԵՐ | G29: =+G30+G32 -> 201147
F30: ՇԵՆՔԵՐ ԵՎ ՇԻՆՈՒԹՅՈՒՆՆԵՐ | G30: =+G31 -> 225147
F31: - Շենքերի և շինությունների կապիտալ վերանորոգում | G31: =+'Հավելված 3'!E15 -> 225147
F32: ԱՅԼ ՀԻՄՆԱԿԱՆ ՄԻՋՈՑՆԵՐ | G32: =+G33 -> -24000
F33: - Նախագծահետազոտական ծախսեր | G33: =+'Հավելված 3'!G15 -> -24000
D34: 1183 | E34: Ապահով դպրոց | G34: =+G36 -> -201147
F35: այդ թվում`
E36: 32012 | F36: Հանրակրթական դպրոցների գույքով և տեխնիկայով ապահովում | G36: =+G38 -> -201147
F37: այդ թվում` ըստ կատարողների
F38: ՀՀ կրթության, գիտության, մշակույթի և սպորտի նախարարություն | G38: =+G40 -> -201147
F39: այդ թվում՝ բյուջետային ծախսերի տնտեսագիտական դասակարգման հոդվածներ
F40: ԸՆԴԱՄԵՆԸ ԾԱԽՍԵՐ | G40: =+G41 -> -201147
F41: ՈՉ ՖԻՆԱՆՍԱԿԱՆ ԱԿՏԻՎՆԵՐԻ ԳԾՈՎ ԾԱԽՍԵՐ | G41: =+G42 -> -201147
F42: ՀԻՄՆԱԿԱՆ ՄԻՋՈՑՆԵՐ | G42: =+G43 -> -201147
...

Sheet Հավելված 3
F1: Հավելված N 3
F2: ՀՀ կառավարության 2022 թվականի
F3: ______________ ի ___Ն որոշման
A5: «ՀԱՅԱUՏԱՆԻ ՀԱՆՐԱՊԵՏՈՒԹՅԱՆ 2022 ԹՎԱԿԱՆԻ ՊԵՏԱԿԱՆ ԲՅՈՒՋԵԻ ՄԱUԻՆ» ՀԱՅԱUՏԱՆԻ ՀԱՆՐԱՊԵՏՈՒԹՅԱՆ OՐԵՆՔԻ N 1 ՀԱՎԵԼՎԱԾԻ N 3 ԱՂՅՈՒՍԱԿՈՒՄ ԿԱՏԱՐՎՈՂ ԼՐԱՑՈՒՄԸ ԵՎ ՓՈՓՈԽՈՒԹՅՈՒՆՆԵՐԸ
G8: հազ. դրամներով
A9: Ծրագրային դասիչ | C9: Բյուջետային գլխավոր կարգադրիչների, ծրագրերի, միջոցառումների, միջոցառումները կատարող պետական մարմինների և ուղղությունների անվանումները | D9: Ընդամենը | E9: Ցուցանիշների փոփոխությունը (ավելացումները նշված են դրական նշանով, իսկ նվազեցումները փակագծերում)
A10: Ծրագիր | B10: Միջոցառում | E10: Կառուցման աշխատանքներ | F10: Վերակառուցման, վերանորոգման և վերականգնման աշխատանքներ | G10: Նախագծահե- տազոտական, գեոդեզիա- քարտեզագրա- կան աշխա- տանքներ | H10: Ոչ ֆինանսական այլ ակտիվների ձեռքբերում
C11: ԸՆԴԱՄԵՆԸ | D11: =SUM(E11:H11) -> -276679 | E11: =+E13 -> 225147 | F11: =+F13 -> 0 | G11: =+G13 -> -24000 | H11: =+H13 -> -477826
C12: այդ թվում՝
C13: ՀՀ ԿՐԹՈՒԹՅԱՆ, ԳԻՏՈՒԹՅԱՆ, ՄՇԱԿՈՒՅԹԻ ԵՎ ՍՊՈՐՏԻ ՆԱԽԱՐԱՐՈՒԹՅՈՒՆ | D13: =SUM(E13:H13) -> -276679 | E13: =+E15+E19 -> 225147 | F13: =+F15+F19 -> 0 | G13: =+G15+G19 -> -24000 | H13: =+H15+H19 -> -477826
C14: այդ թվում`
A15: 1163 | B15: 12001 | C15: Աջակցություն համայնքներին մարզական հաստատությունների շենքային պայմանների բարելավման համար | D15: =SUM(E15:H15) -> 201147 | E15: =+E17 -> 225147 | F15: =+F17 -> 0 | G15: =+G17 -> -24000 | H15: =+H17 -> 0
C16: այդ թվում`
C17: Երևան քաղաք | D17: =SUM(E17:H17) -> 201147 | E17: =+E18 -> 225147 | F17: =+F18 -> 0 | G17: =+G18 -> -24000 | H17: =+H18 -> 0
C18: «Երևանի թենիսի և բադմինթոնի մանկապատանեկան մարզադպրոց» ՀՈԱԿ | D18: =+E18+F18+G18+H18 -> 201147 | E18: =+'Հավելված 7'!I22+'Հավելված 7'!I25 -> 225147 | G18: =+'Հավելված 7'!I24 -> -24000
A19: 1183 | B19: 32012 | C19: Հանրակրթական դպրոցների գույքով և տեխնիկայով ապահովում | D19: =SUM(E19:H19) -> -477826 | E19: =+E21+E27+E32+E39+E44+E51 -> 0 | F19: =+F21+F27+F32+F39+F44+F51 -> 0 | G19: =+G21+G27+G32+G39+G44+G51 -> 0 | H19: =+H21+H27+H32+H39+H44+H51 -> -477826
C20: այդ թվում`
C21: Երևան քաղաք | D21: =SUM(E21:H21) -> -58250 | E21: =+E22+E23+E24+E25+E26 -> 0 | F21: =+F22+F23+F24+F25+F26 -> 0 | G21: =+G22+G23+G24+G25+G26 -> 0 | H21: =+H22+H23+H24+H25+H26 -> -58250
C22: «Երևանի Մ. Սարյանի անվան հ. 86 հիմնական դպրոց» ՊՈԱԿ | D22: =SUM(E22:H22) -> -11650 | H22: -11650
C23: «Երևանի Միքայել Նալբանդյանի անվան հ.33 հիմնական դպրոց» ՊՈԱԿ | D23: =SUM(E23:H23) -> -11650 | H23: -11650
C24: «Երևանի Ս. Խանզադյանի անվան հ. 184 ավագ դպրոց» ՊՈԱԿ | D24: =SUM(E24:H24) -> -11650 | H24: -11650
C25: «Երևանի Ա. Երզնկյանի անվան հ. 118 ավագ դպրոց» ՊՈԱԿ | D25: =SUM(E25:H25) -> -11650 | H25: -11650
C26: «Երևանի Սիլվա Կապուտիկյանի անվան հ. 145 հիմնական դպրոց» ՊՈԱԿ | D26: =SUM(E26:H26) -> -11650 | H26: -11650
C27: ՀՀ Արագածոտնի մարզ | D27: =SUM(E27:H27) -> -123300 | E27: =+E28+E29+E30+E31 -> 0 | F27: =+F28+F29+F30+F31 -> 0 | G27: =+G28+G29+G30+G31 -> 0 | H27: =+H28+H29+H30+H31 -> -123300
C28: «Գառնահովիտի միջնակարգ դպրոց» ՊՈԱԿ | D28: =SUM(E28:H28) -> -50000 | H28: -50000
C29: «Լուսակնի միջնակարգ դպրոց» ՊՈԱԿ | D29: =SUM(E29:H29) -> -50000 | H29: -50000
C30: Ալագյազի միջնակարգ դպրոց ՊՈԱԿ | D30: =SUM(E30:H30) -> -11650 | H30: -11650
C31: «Թալինի ավագ դպրոց» ՊՈԱԿ | D31: =SUM(E31:H31) -> -11650 | H31: -11650
C32: ՀՀ Արմավիրի մարզ | D32: =SUM(E32:H32) -> -69900 | E32: =E33+E34+E35+E36+E37+E38 -> 0 | F32: =F33+F34+F35+F36+F37+F38 -> 0 | G32: =G33+G34+G35+G36+G37+G38 -> 0 | H32: =H33+H34+H35+H36+H37+H38 -> -69900
C33: «Արտիմետի միջնակարգ դպրոց» ՊՈԱԿ | D33: =SUM(E33:H33) -> -11650 | H33: -11650
C34: «Արագածի Մ. Մեխակյանի անվան միջնակարգ դպրոց» ՊՈԱԿ | D34: =SUM(E34:H34) -> -11650 | H34: -11650
C35: «Վաղարշապատի Երվանդ Օտյանի անվան N 7 հիմնական դպրոց » ՊՈԱԿ | D35: =SUM(E35:H35) -> -11650 | H35: -11650
C36: «Ջանֆիդայի Է. Դաշտոյանի անվան միջնակարգ դպրոց» ՊՈԱԿ | D36: =SUM(E36:H36) -> -11650 | H36: -11650
C37: «Արմավիրի N 6 հիմնական դպրոց» ՊՈԱԿ | D37: =SUM(E37:H37) -> -11650 | H37: -11650
C38: Շահումյանի միջնակարգ դպրոց ՊՈԱԿ | D38: =SUM(E38:H38) -> -11650 | H38: -11650
C39: ՀՀ Գեղարքունիքի մարզ | D39: =SUM(E39:H39) -> -123300 | E39: =+E40+E41+E42+E43 -> 0 | F39: =+F40+F41+F42+F43 -> 0 | G39: =+G40+G41+G42+G43 -> 0 | H39: =+H40+H41+H42+H43 -> -123300
C40: «Լեռնահովիտ գյուղի Վ. Բարեղամյանի անվան հիմնական դպրոց» ՊՈԱԿ | D40: =SUM(E40:H40) -> -50000 | H40: -50000
C41: «Շատջրեք գյուղի միջնակարգ դպրոց» ՊՈԱԿ | D41: =SUM(E41:H41) -> -50000 | H41: -50000
C42: «Գեղարքունիքի մարզի Ակունք գյուղի միջնակարգ դպրոց» ՊՈԱԿ | D42: =SUM(E42:H42) -> -11650 | H42: -11650
C43: Գագարինի միջնակարգ դպրոց ՊՈԱԿ | D43: =SUM(E43:H43) -> -11650 | H43: -11650
...

Sheet Հավելված 4
D1: Հավելված N 4
D2: ՀՀ կառավարության 2022 թվականի
D3: ______________ ի ___Ն որոշման
B6: ՀԱՅԱՍՏԱՆԻ ՀԱՆՐԱՊԵՏՈՒԹՅԱՆ ԿԱՌԱՎԱՐՈՒԹՅԱՆ 2021 ԹՎԱԿԱՆԻ ԴԵԿՏԵՄԲԵՐԻ 23-Ի N 2121-Ն ՈՐՈՇՄԱՆ N 5 ՀԱՎԵԼՎԱԾԻ N 2 ԱՂՅՈՒՍԱԿՈՒՄ ԿԱՏԱՐՎՈՂ ԼՐԱՑՈՒՄԸ ԵՎ ՓՈՓՈԽՈՒԹՅՈՒՆՆԵՐԸ
E8: հազ. դրամներով
B9: Ծրագրային դասիչ | D9: Բյուջետային գլխավոր կարգադրիչների, ծրագրերի, միջոցառումների, միջոցառումները կատարող պետական մարմինների և ուղղությունների անվանումները | E9: Ցուցանիշների փոփոխությունը (ավելացումները նշված են դրական նշանով, իսկ նվազեցումները փակագծերում)
B10: Ծրագիր | C10: Միջոցառում | E10: Տարի
D11: ՀՀ ԿՐԹՈՒԹՅԱՆ, ԳԻՏՈՒԹՅԱՆ, ՄՇԱԿՈՒՅԹԻ ԵՎ ՍՊՈՐՏԻ ՆԱԽԱՐԱՐՈՒԹՅՈՒՆ | E11: =+E13+E19 -> -276679
D12: այդ թվում՝
B13: 1163 | C13: 12001 | D13: Աջակցություն համայնքներին մարզական հաստատությունների շենքային պայմանների բարելավման համար | E13: =+E15 -> 201147
D14: այդ թվում` ըստ կատարողների
D15: ՀՀ քաղաքաշինության կոմիտե | E15: =+E17 -> 201147
D16: այդ թվում`ըստ ուղղությունների
D17: Երևան քաղաք | E17: =+E18 -> 201147
D18: «Երևանի թենիսի և բադմինթոնի մանկապատանեկան մարզադպրոց» ՀՈԱԿ | E18: =+'Հավելված 3'!D18 -> 201147
B19: 1183 | C19: 32012 | D19: Հանրակրթական դպրոցների գույքով և տեխնիկայով ապահովում | E19: =+E21 -> -477826
D20: այդ թվում` ըստ կատարողների
D21: ՀՀ կրթության, գիտության, մշակույթի և սպորտի նախարարություն | E21: =+E23+E29+E34+E41+E46+E53 -> -477826
D22: այդ թվում`ըստ ուղղությունների
D23: Երևան քաղաք | E23: =+E24+E25+E26+E27+E28 -> -58250
D24: «Երևանի Մ. Սարյանի անվան հ. 86 հիմնական դպրոց» ՊՈԱԿ | E24: =+'Հավելված 3'!D22 -> -11650
D25: «Երևանի Միքայել Նալբանդյանի անվան հ.33 հիմնական դպրոց» ՊՈԱԿ | E25: =+'Հավելված 3'!D23 -> -11650
D26: «Երևանի Ս. Խանզադյանի անվան հ. 184 ավագ դպրոց» ՊՈԱԿ | E26: =+'Հավելված 3'!D24 -> -11650
D27: «Երևանի Ա. Երզնկյանի անվան հ. 118 ավագ դպրոց» ՊՈԱԿ | E27: =+'Հավելված 3'!D25 -> -11650
D28: «Երևանի Սիլվա Կապուտիկյանի անվան հ. 145 հիմնական դպրոց» ՊՈԱԿ | E28: =+'Հավելված 3'!D26 -> -11650
D29: ՀՀ Արագածոտնի մարզ | E29: =+E30+E31+E32+E33 -> -123300
D30: «Գառնահովիտի միջնակարգ դպրոց» ՊՈԱԿ | E30: =+'Հավելված 3'!D28 -> -50000
D31: «Լուսակնի միջնակարգ դպրոց» ՊՈԱԿ | E31: =+'Հավելված 3'!D29 -> -50000
D32: Ալագյազի միջնակարգ դպրոց ՊՈԱԿ | E32: =+'Հավելված 3'!D30 -> -11650
D33: «Թալինի ավագ դպրոց» ՊՈԱԿ | E33: =+'Հավելված 3'!D31 -> -11650
D34: ՀՀ Արմավիրի մարզ | E34: =+E35+E36+E37+E38+E39+E40 -> -69900
D35: «Արտիմետի միջնակարգ դպրոց» ՊՈԱԿ | E35: =+'Հավելված 3'!D33 -> -11650
D36: «Արագածի Մ. Մեխակյանի անվան միջնակարգ դպրոց» ՊՈԱԿ | E36: =+'Հավելված 3'!D34 -> -11650
D37: «Վաղարշապատի Երվանդ Օտյանի անվան N 7 հիմնական դպրոց » ՊՈԱԿ | E37: =+'Հավելված 3'!D35 -> -11650
D38: «Ջանֆիդայի Է. Դաշտոյանի անվան միջնակարգ դպրոց» ՊՈԱԿ | E38: =+'Հավելված 3'!D36 -> -11650
D39: «Արմավիրի N 6 հիմնական դպրոց» ՊՈԱԿ | E39: =+'Հավելված 3'!D37 -> -11650
D40: Շահումյանի միջնակարգ դպրոց ՊՈԱԿ | E40: =+'Հավելված 3'!D38 -> -11650
D41: ՀՀ Գեղարքունիքի մարզ | E41: =+E42+E43+E44+E45 -> -123300
D42: «Լեռնահովիտ գյուղի Վ. Բարեղամյանի անվան հիմնական դպրոց» ՊՈԱԿ | E42: =+'Հավելված 3'!D40 -> -50000
D43: «Շատջրեք գյուղի միջնակարգ դպրոց» ՊՈԱԿ | E43: =+'Հավելված 3'!D41 -> -50000
...

Sheet Հավելված 5
C1: Հավելված N 5
C2: ՀՀ կառավարության 2022 թվականի
C3: ______________ ի ___Ն որոշման
B5: ՀԱՅԱՍՏԱՆԻ ՀԱՆՐԱՊԵՏՈՒԹՅԱՆ ԿԱՌԱՎԱՐՈՒԹՅԱՆ 2021 ԹՎԱԿԱՆԻ ԴԵԿՏԵՄԲԵՐԻ 23-Ի N 2121-Ն ՈՐՈՇՄԱՆ N 9 ՀԱՎԵԼՎԱԾԻ N 9.13 ԱՂՅՈՒՍԱԿՈՒՄ ԿԱՏԱՐՎՈՂ ԼՐԱՑՈՒՄՆԵՐԸ ԵՎ ՓՈՓՈԽՈՒԹՅՈՒՆՆԵՐԸ
A7: Աղյուսակ 9.13
C8: ՀՀ կրթության, գիտության, մշակույթի և սպորտի նախարարություն
B9: ՄԱՍ 2. ՊԵՏԱԿԱՆ ՄԱՐՄՆԻ ԳԾՈՎ ԱՐԴՅՈՒՆՔԱՅԻՆ (ԿԱՏԱՐՈՂԱԿԱՆ) ՑՈՒՑԱՆԻՇՆԵՐԸ
B12: Ծրագրի դասիչը | C12: Ծրագրի անվանումը
B13: 1163 | C13: Մասսայական սպորտ
B15: Ծրագրի միջոցառումները
B16: Ծրագրի դասիչը՝ | C16: 1163 | D16: Ցուցանիշների փոփոխությունը (ավելացումները նշված են դրական նշանով, իսկ նվազեցումները փակագծերում)
B17: Միջոցառման դասիչը՝ | C17: 12001 | D17: Տարի
B18: Միջոցառման անվանումը՝ | C18: Աջակցություն համայնքներին մարզական հաստատությունների շենքային պայմանների բարելավման համար
B19: Նկարագրությունը՝ | C19: Համայնքային ենթակայության մարզական հաստատությունների վերանորոգում և կառուցում
B20: Միջոցառման տեսակը՝ | C20: Տրանսֆերտների տրամադրում
B21: Շահառուների ընտրության չափանիշները | C21: Համայնքային ենթակայության մարզական հաստատություններ
B22: Արդյունքի չափորոշիչներ
B23: Նախագծանախահաշվային փաստաթղթերի թիվը, հատ | D23: -1
B24: Վերակառուցման ենթակա օբյեկտների թիվ, հատ | D24: 1
B25: Միջոցառման վրա կատարվող ծախսը (հազար դրամ) | D25: =+'Հավելված 1'!D21 -> 201147
B27: Ծրագրի դասիչը | C27: Ծրագրի անվանումը
B28: 1183 | C28: Ապահով դպրոց
B30: Ծրագրի միջոցառումները
B31: Ծրագրի դասիչը` | C31: 1183 | D31: Ցուցանիշների փոփոխությունը (նվազեցումները նշված են փակագծերում)
B32: Միջոցառման դասիչը` | C32: 32012 | D32: Տարի
B33: Միջոցառման անվանումը` | C33: Հանրակրթական դպրոցների գույքով և տեխնիկայով ապահովում
B34: Նկարագրությունը` | C34: Կրթական ժամանակակից նորմերին համապատասխանող գույքի ձեռքբերում
B35: Միջոցառման տեսակը` | C35: Այլ պետական կազմակերպությունների կողմից օգտագործվող ոչ ֆինանսական ակտիվների հետ գործառնություններ
B36: Ակտիվն օգտագործող կազմակերպությունների անվանումները | C36: Հանրակրթական դպրոցներ
B37: Արդյունքի չափորոշիչներ
B38: Դպրոցների թիվը, որոնց մարզադահլիճները ապահովվում են գույքով, հատ | D38: -22
B39: Միջոցառման վրա կատարվող ծախսը (հազար դրամ) | D39: =+'Հավելված 1'!D34 -> -201147

Sheet Հավելված 6
C1: Հավելված N 6
C2: ՀՀ կառավարության 2022 թվականի
C3: ______________ ի ___Ն որոշման
B5: ՀԱՅԱՍՏԱՆԻ ՀԱՆՐԱՊԵՏՈՒԹՅԱՆ ԿԱՌԱՎԱՐՈՒԹՅԱՆ 2021 ԹՎԱԿԱՆԻ ԴԵԿՏԵՄԲԵՐԻ 23-Ի N 2121-Ն ՈՐՈՇՄԱՆ N 9.1 ՀԱՎԵԼՎԱԾԻ NN 9.1.14 ԵՎ 9.1.42 ԱՂՅՈՒՍԱԿՆԵՐՈՒՄ ԿԱՏԱՐՎՈՂ ԼՐԱՑՈՒՄՆԵՐԸ ԵՎ ՓՈՓՈԽՈՒԹՅՈՒՆՆԵՐԸ
A7: Աղյուսակ 9.13
C8: ՀՀ կրթության, գիտության, մշակույթի և սպորտի նախարարություն
B9: ՄԱՍ 1. ՊԵՏԱԿԱՆ ՄԱՐՄՆԻ ԳԾՈՎ ԱՐԴՅՈՒՆՔԱՅԻՆ (ԿԱՏԱՐՈՂԱԿԱՆ) ՑՈՒՑԱՆԻՇՆԵՐԸ
B12: Ծրագրի դասիչը | C12: Ծրագրի անվանումը
B13: 1183 | C13: Ապահով դպրոց
B15: Ծրագրի միջոցառումները
B16: Ծրագրի դասիչը` | C16: 1183 | D16: Ցուցանիշների փոփոխությունը (նվազեցումները նշված են փակագծերում)
B17: Միջոցառման դասիչը` | C17: 32012 | D17: Տարի
B18: Միջոցառման անվանումը` | C18: Հանրակրթական դպրոցների գույքով և տեխնիկայով ապահովում
B19: Նկարագրությունը` | C19: Կրթական ժամանակակից նորմերին համապատասխանող գույքի ձեռքբերում
B20: Միջոցառման տեսակը` | C20: Այլ պետական կազմակերպությունների կողմից օգտագործվող ոչ ֆինանսական ակտիվների հետ գործառնություններ
B21: Ակտիվն օգտագործող կազմակերպությունների անվանումները | C21: Հանրակրթական դպրոցներ
B22: Արդյունքի չափորոշիչներ
B23: Դպրոցների թիվը, որոնց մարզադահլիճները ապահովվում են գույքով, հատ | D23: -22
B24: Միջոցառման վրա կատարվող ծախսը (հազար դրամ) | D24: =+'Հավելված 2'!G38 -> -201147
A28: Աղյուսակ 9.1.42
C29: ՀՀ քաղաքաշինության կոմիտե
B30: ՄԱՍ 1. ՊԵՏԱԿԱՆ ՄԱՐՄՆԻ ԳԾՈՎ ԱՐԴՅՈՒՆՔԱՅԻՆ (ԿԱՏԱՐՈՂԱԿԱՆ) ՑՈՒՑԱՆԻՇՆԵՐԸ
B33: Ծրագրի դասիչը | C33: Ծրագրի անվանումը
B34: 1163 | C34: Մասսայական սպորտ
B36: Ծրագրի միջոցառումները
B37: Ծրագրի դասիչը՝ | C37: 1163 | D37: Ցուցանիշների փոփոխությունը (ավելացումները նշված են դրական նշանով, իսկ նվազեցումները փակագծերում)
B38: Միջոցառման դասիչը՝ | C38: 12001 | D38: Տարի
B39: Միջոցառման անվանումը՝ | C39: Աջակցություն համայնքներին մարզական հաստատությունների շենքային պայմանների բարելավման համար
B40: Նկարագրությունը՝ | C40: Համայնքային ենթակայության մարզական հաստատությունների վերանորոգում և կառուցում
B41: Միջոցառման տեսակը՝ | C41: Տրանսֆերտների տրամադրում
B42: Շահառուների ընտրության չափանիշները | C42: Համայնքային ենթակայության մարզական հաստատություններ
B43: Արդյունքի չափորոշիչներ
B44: Նախագծանախահաշվային փաստաթղթերի թիվը, հատ | D44: -1
B45: Վերակառուցման ենթակա օբյեկտների թիվ, հատ | D45: 1
B46: Միջոցառման վրա կատարվող ծախսը (հազար դրամ) | D46: =+'Հավելված 2'!G25 -> 201147

Sheet Հավելված 7
H1: Հավելված N 7
H2: ՀՀ կառավարության 2022 թվականի
H3: ______________ ի ___Ն որոշման
A6: ՀԱՅԱՍՏԱՆԻ ՀԱՆՐԱՊԵՏՈՒԹՅԱՆ ԿԱՌԱՎԱՐՈՒԹՅԱՆ 2021 ԹՎԱԿԱՆԻ ԴԵԿՏԵՄԲԵՐԻ 23-Ի N 2121-Ն N 2215-Ն ՈՐՈՇՄԱՆ N 10 ՀԱՎԵԼՎԱԾՈՒՄ ԿԱՏԱՐՎՈՂ ՓՈՓՈԽՈՒԹՅՈՒՆՆԵՐԸ ԵՎ ԼՐԱՑՈՒՄՆԵՐԸ
A8: Կոդը | B8: Անվանումը | E8: Գնման ձևը | F8: Չափման միավորը | G8: Միավորի գինը | H8: Ցուցանիշների փոփոխությունը (ավելացումները նշված են դրական նշանով, իսկ նվազեցումները՝ փակագծերում)
H9: Քանակը | I9: Գումարը (հազար դրամ)
A11: 1 | B11: 2 | E11: 3 | F11: 4 | G11: 5 | H11: 6 | I11: 7
A12: ՀՀ կրթության, գիտության, մշակույթի և սպորտի նախարարություն | I12: =+I13 -> -201147
A13: Բաժին N 09 | B13: Խումբ N 06 | C13: Դաս N 01 | D13: Կրթությանը տրամադրվող օժանդակ ծառայություններ | I13: =+I14 -> -201147
A14: 1183-32012 | B14: Հանրակրթական դպրոցների գույքով և տեխնիկայով ապահովում | I14: =+I15 -> -201147
B15: ՄԱՍ I. ԱՊՐԱՆՔՆԵՐ | I15: =SUM(I16:I17) -> -201147
A16: 39292110-1 | B16: գրատախտակներ | E16: ԷԱՃ | F16: հատ | G16: 650000 | H16: -124.34 | I16: =+H16*G16/1000 -> -80821
A17: 39121520-7 | B17: գրապահարաններ | E17: ԳՀ | F17: հատ | G17: 240652 | H17: -500 | I17: =+H17*G17/1000 -> -120326
A18: ՀՀ քաղաքաշինության կոմիտե | I18: =+I19 -> 201147
A19: Բաժին N 09 | B19: Խումբ N 06 | C19: Դաս N 01 | D19: Կրթությանը տրամադրվող օժանդակ ծառայություններ | I19: =+I20 -> 201147
A20: 1163-12001 | B20: Աջակցություն համայնքներին մարզական հաստատությունների շենքային պայմանների բարելավման համար | I20: =+I21+I23 -> 201147
B21: ՄԱՍ II. ԱՇԽԱՏԱՆՔՆԵՐ | I21: =+I22 -> 222000
A22: 45211131 | B22: մարզական օբյեկտների շինարարական աշխատանքներ | E22: ՀՄԱ | F22: դրամ | G22: 222000000 | H22: 1 | I22: 222000
B23: ՄԱՍ III. ԾԱՌԱՅՈՒԹՅՈՒՆՆԵՐ | I23: =SUM(I24:I25) -> -20853
A24: 71241200-67 | B24: նախագծերի պատրաստում, ծախսերի գնահատում | E24: ՀՄԱ | F24: դրամ | G24: 24000000 | H24: -1 | I24: =+H24*G24/1000 -> -24000
A25: 71351540 | B25: տեխնիկական հսկողության ծառայություններ | E25: ՀՄԱ | F25: դրամ | G25: 3147000 | H25: 1 | I25: 3147
