Workbook
Name AgencyCode: #REF!
Name AgencyCode: #REF!
Name AgencyName: #REF!
Name AgencyName: #REF!
Name Functional1: #REF!
Name Functional1: #REF!
Name PANature: #REF!
Name PANature: #REF!
Name PAType: #REF!
Name PAType: #REF!
Name Performance2: #REF!
Name Performance2: #REF!
Name PerformanceType: #REF!
Name PerformanceType: #REF!

Sheet 1
A1: Հավելված 1
A2: 2022 թվականի
A3: ______________ ի ___Ն որոշման
A5: «ՀԱՅԱUՏԱՆԻ ՀԱՆՐԱՊԵՏՈՒԹՅԱՆ 2022 ԹՎԱԿԱՆԻ ՊԵՏԱԿԱՆ ԲՅՈՒՋԵԻ ՄԱUԻՆ» OՐԵՆՔԻ N 1 ՀԱՎԵԼՎԱԾԻ N 2 ԱՂՅՈՒՍԱԿՈՒՄ ԿԱՏԱՐՎՈՂ ՎԵՐԱԲԱՇԽՈՒՄԸ ԵՎ ՀԱՅԱՍՏԱՆԻ ՀԱՆՐԱՊԵՏՈՒԹՅԱՆ ԿԱՌԱՎԱՐՈՒԹՅԱՆ 2021 ԹՎԱԿԱՆԻ ԴԵԿՏԵՄԲԵՐԻ 23-Ի N 2121-Ն ՈՐՈՇՄԱՆ N5 ՀԱՎԵԼՎԱԾԻ N1 ԱՂՅՈՒՍԱԿՈՒՄ ԿԱՏԱՐՎՈՂ ՓՈՓՈԽՈՒԹՅՈՒՆՆԵՐԸ ԵՎ ԼՐԱՑՈՒՄՆԵՐԸ
D6: հազար դրամ
A7: Ծրագրային դասիչը | C7: Բյուջետային հատկացումների գլխավոր կարգադրիչների, ծրագրերի և միջոցառումների անվանումները | D7: Ցուցանիշների փոփոխությունը (ավելացումները նշված են դրական նշանով, իսկ նվազեցումները` փակագծերում)
A8: Ծրագիր | B8: Միջոցառում | D8: Տարի
C9: ԸՆԴԱՄԵՆԸ
C10: այդ թվում
C11: ՀՀ տարածքային կառավարման և ենթակառուցվածքների նախարարություն
A12: 1070 | C12: Ծրագրի անվանումը` | D12: =D20 -> -700
C13: Աջակցություն փախստականների ինտեգրմանը
C14: Ծրագրի նպատակը`
C15: Փախստականների ինտեգրում հասարակություն
C16: Վերջնական արդյունքի նկարագրությունը`
C17: Փախստականներին մատուցվող ծառայությունների ընդգրկման և ծառայությունների շրջանակի ընդլայնում
C18: Ծրագրի միջոցառումներ
B19: 12002 | C19: Միջոցառման անվանումը`
C20: ՀՀ-ում փախստական ճանաչված և ապաստան ստացած անձանց վարձակալությամբ բնակարանների ձեռքբերման ծախսերի փոխհատուցման տրամադրում | D20: -700
C21: Միջոցառման նկարագրությունը`
C22: ՀՀ-ում փախստական ճանաչված և ապաստան ստացած անձանց մինչև 9 ամիս տևողությամբ բնակարաններ վարձակալելու նպատակով փոխհատուցման տրամադրում
C23: Միջոցառման տեսակը
C24: Տրանսֆերտների տրամադրում
A25: 1212 | C25: Ծրագրի անվանումը`
C26: Տարածքային զարգացում | D26: =D33 -> 700
C27: Ծրագրի նպատակը`
C28: Տարածքային համաչափ զարգացման խթանում
C29: Վերջնական արդյունքի նկարագրությունը`
C30: ՀՀ համայնքների կառավարման արդյունավետության բարձրացում և տնտեսական գործունեության խթանում
C31: Ծրագրի միջոցառումներ
B32: 21002 | C32: Միջոցառման անվանումը`
C33: ՀՀ համայնքներում բազմաբնակարան շենքերի տեխնիկական վիճակի բարելավում | D33: =-D20 -> 700
C34: Միջոցառման նկարագրությունը`
C35: ՀՀ համայնքներում անբավարար տեխնիկական վիճակում գտնվող վթարային շենքերի ուժեղացման-վերականգնման (ամրացման) աշխատանքներ, նախագծանախահաշվային փաստաթղթերի ձեռքբերում
C36: Միջոցառման տեսակը
C37: Հանրության կողմից անմիջականորեն օգտագործվող ակտիվների հետ կապված միջոցառումներ

Sheet 2
F1: Հավելված N 2
D2: ՀՀ կառավարության 2022 թվականի
D3: ___________ ___-ի N _______ -Ն որոշման
A6: ՀԱՅԱՍՏԱՆԻ ՀԱՆՐԱՊԵՏՈՒԹՅԱՆ 2022 ԹՎԱԿԱՆԻ ՊԵՏԱԿԱՆ ԲՅՈՒՋԵԻ ՄԱՍԻՆ ՕՐԵՆՔԻ N 1 ՀԱՎԵԼՎԱԾԻ N 3 ԱՂՅՈՒՍԱԿՈՒՄ ԿԱՏԱՐՎՈՂ ԼՐԱՑՈՒՄԸ
G7: հազար դրամ
A8: Ծրագրային դասիչը | C8: Բյուջետային գլխավոր կարգադրիչների, ծրագրերի և միջոցառումների և ուղղությունների անվանումները | D8: Ընդամենը, | E8: Ցուցանիշների փոփոխությունը (ավելացումները նշված են դրական նշանով)
E9: այդ թվում
A10: Ծրագիր | B10: Միջոցառում | E10: Կառուցման աշխատանքներ | F10: Վերակառուցման, վերանորոգման և վերականգնման աշխատանքներ | G10: Նախագծահետազոտական, գեոդեզիա-քարտեզագրական աշխատանքներ | H10: Ոչ ֆինանսական այլ ակտիվների ձեռքբերում
C11: Ընդամենը | D11: =D17 -> 700 | E11: =+E13 -> 0 | F11: =+F13 -> 0 | G11: =D17 -> 700 | H11: =+H13 -> 0
C12: այդ թվում`
C13: ='3'!F38 -> ՀՀ Տարածքային կառավարման և ենթակառուցվածքների նախարարություն | D13: =D17 -> 700 | E13: =+E15 -> 0 | F13: =+F15 -> 0 | G13: =D17 -> 700 | H13: =+H15 -> 0
C14: այդ թվում`
A15: =+'1'!A25 -> 1212 | B15: =+'1'!B32 -> 21002 | C15: ՀՀ համայնքներում բազմաբնակարան շենքերի տեխնիկական վիճակի բարելավում | D15: =D17 -> 700 | E15: =+E17 -> 0 | F15: =+F17 -> 0 | G15: =D17 -> 700 | H15: =+H17 -> 0
C16: այդ թվում`
C17: ՀՀ Շիրակի մարզի Գյումրի քաղաքի Տիգրան Մեծ N 5 շենքի անբավարար տեխնիկական վիճակում գտնվող թվով 3 մուտքերի ուժեղացման-վերականգնման (ամրացման) նախագծանախահաշվային փաստաթղթերի փորձաքննության ծառայությունների ձեռքբերում | D17: ='1'!D33 -> 700 | E17: 0 | F17: 0 | G17: =D17 -> 700 | H17: 0

Sheet 3
A1: Հավելված 3
A2: ՀՀ կառավարության 2022 թվականի
A3: ______________ ի ___Ն որոշման
A5: ՀԱՅԱՍՏԱՆԻ ՀԱՆՐԱՊԵՏՈՒԹՅԱՆ ԿԱՌԱՎԱՐՈՒԹՅԱՆ 2021 ԹՎԱԿԱՆԻ ԴԵԿՏԵՄԲԵՐԻ 23-Ի N 2121-Ն ՈՐՈՇՄԱՆ N 3 ԵՎ N 4 ՀԱՎԵԼՎԱԾՆԵՐՈՒՄ ԿԱՏԱՐՎՈՂ ՓՈՓՈԽՈՒԹՅՈՒՆՆԵՐԸ ԵՎ ԼՐԱՑՈՒՄՆԵՐԸ
G7: հազար դրամ
A8: Գործառական դասիչը | D8: Ծրագրային դասիչը | F8: Բյուջետային ծախսերի գործառական դասակարգման բաժինների, խմբերի և դասերի, բյուջետային հատկացումների գլխավոր կարգադրիչների, ծրագրերի, միջոցառումների և միջոցառումները կատարող պետական մարմինների անվանումները | G8: Ցուցանիշների փոփոխությունը (ավելացումները նշված են դրական նշանով, իսկ նվազեցումները` փակագծերում)
A9: Բաժին | B9: Խումբ | C9: Դաս | D9: Ծրագիր | E9: Միջոցա ռում | G9: Տարի
F10: ԸՆԴԱՄԵՆԸ | G10: =G12 -> 0
F11: այդ թվում
F12: ՀՀ տարածքային կառավարման և ենթակառուցվածքների նախարարություն | G12: =G13+G32 -> 0
A13: 10 | F13: ՍՈՑԻԱԼԱԿԱՆ ՊԱՇՏՊԱՆՈՒԹՅՈՒՆ | G13: =G31 -> -700
F14: այդ թվում`
B15: 09 | F15: Սոցիալական պաշտպանություն (այլ դասերին չպատկանող) | G15: =G31 -> -700
F16: այդ թվում`
C17: 02 | F17: Սոցիալական պաշտպանությանը տրամադրվող օժանդակ ծառայություններ (այլ դասերին չպատկանող) | G17: =G31 -> -700
F18: այդ թվում`
F19: ՀՀ տարածքային կառավարման և ենթակառուցվածքների նախարարություն | G19: =G31 -> -700
F20: այդ թվում`
D21: 1070 | F21: Աջակցություն փախստականների ինտեգրմանը | G21: =G31 -> -700
F22: այդ թվում`
E23: 12002 | F23: ՀՀ-ում փախստական ճանաչված և ապաստան ստացած անձանց վարձակալությամբ բնակարանների ձեռքբերման ծախսերի փոխհատուցման տրամադրում | G23: =G31 -> -700
F24: այդ թվում` ըստ կատարողների
F25: ՀՀ տարածքային կառավարման և ենթակառուցվածքների նախարարության միգրացիոն ծառայություն | G25: =G31 -> -700
F26: այդ թվում` բյուջետային ծախսերի տնտեսագիտական դասակարգման հոդվածներ
F27: ԸՆԴԱՄԵՆԸ ԾԱԽՍԵՐ | G27: =G31 -> -700
F28: ԸՆԹԱՑԻԿ ԾԱԽՍԵՐ | G28: =G31 -> -700
F29: ՍՈՑԻԱԼԱԿԱՆ ՆՊԱՍՏՆԵՐ ԵՎ ԿԵՆՍԱԹՈՇԱԿՆԵՐ | G29: =G31 -> -700
F30: Սոցիալական օգնության դրամական արտահայտությամբ նպաստներ (բյուջեից) | G30: =G31 -> -700
F31: - Բնակարանային նպաստներ բյուջեից | G31: ='1'!D20 -> -700
A32: 06 | F32: ԲՆԱԿԱՐԱՆԱՅԻՆ ՇԻՆԱՐԱՐՈՒԹՅՈՒՆ ԵՎ ԿՈՄՈՒՆԱԼ ԾԱՌԱՅՈՒԹՅՈՒՆՆԵՐ | G32: =G49 -> 700
F33: այդ թվում`
B34: 01 | F34: Բնակարանային շինարարություն | G34: =G49 -> 700
F35: այդ թվում`
C36: 01 | F36: Բնակարանային շինարարություն | G36: =G49 -> 700
F37: այդ թվում`
F38: ՀՀ Տարածքային կառավարման և ենթակառուցվածքների նախարարություն | G38: =G49 -> 700
F39: այդ թվում`
D40: =+'1'!A25 -> 1212 | F40: =+'1'!C26 -> Տարածքային զարգացում | G40: =G49 -> 700
F41: այդ թվում`
E42: =+'1'!B32 -> 21002 | F42: =+'1'!C33 -> ՀՀ համայնքներում բազմաբնակարան շենքերի տեխնիկական վիճակի բարելավում | G42: =G49 -> 700
F43: այդ թվում` ըստ կատարողների
F44: ՀՀ Շիրակի մարզպետարան | G44: =G49 -> 700
F45: այդ թվում` բյուջետային ծախսերի տնտեսագիտական դասակարգման հոդվածներ
F46: ԸՆԴԱՄԵՆԸ ԾԱԽՍԵՐ | G46: =G49 -> 700
F47: ՈՉ ՖԻՆԱՆՍԱԿԱՆ ԱԿՏԻՎՆԵՐԻ ԳԾՈՎ ԾԱԽՍԵՐ | G47: =G49 -> 700
F48: ԱՅԼ ՀԻՄՆԱԿԱՆ ՄԻՋՈՑՆԵՐ | G48: =G49 -> 700
F49: - Նախագծահետազոտական ծախսեր | G49: ='1'!D26 -> 700

Sheet 4
A1: Հավելված 4
C2: ՀՀ կառավարության 2022 թվականի
C3: ______________ ի ___Ն որոշման
A5: ՀԱՅԱՍՏԱՆԻ ՀԱՆՐԱՊԵՏՈՒԹՅԱՆ ԿԱՌԱՎԱՐՈՒԹՅԱՆ 2021 ԹՎԱԿԱՆԻ ԴԵԿՏԵՄԲԵՐԻ 23-Ի N 2121-Ն ՈՐՈՇՄԱՆ N5 ՀԱՎԵԼՎԱԾԻ N 2 ԱՂՅՈՒՍԱԿՈՒՄ ԿԱՏԱՐՎՈՂ ԼՐԱՑՈՒՄԸ
A7: Ծրագրային դասիչը | C7: Բյուջետային հատկացումների գլխավոր կարգադրիչների, ծրագրերի, միջոցառումների և միջոցառումները կատարող պետական մարմինների անվանումները | D7: Ցուցանիշների փոփոխությունը (ավելացումները նշված են դրական նշանով)
A8: Ծրագիր | B8: Միջոցառում | D8: Տարի
C9: ԸՆԴԱՄԵՆԸ | D9: =D17 -> 700
C10: այդ թվում
C11: ='3'!F38 -> ՀՀ Տարածքային կառավարման և ենթակառուցվածքների նախարարություն | D11: =D17 -> 700
C12: այդ թվում
A13: =+'3'!D40 -> 1212 | B13: =+'3'!E42 -> 21002 | C13: =+'3'!F42 -> ՀՀ համայնքներում բազմաբնակարան շենքերի տեխնիկական վիճակի բարելավում | D13: =D17 -> 700
C14: այդ թվում` ըստ կատարողների
C15: ՀՀ Շիրակի մարզպետարան | D15: =D17 -> 700
C16: այդ թվում` ըստ ուղղությունների
C17: ՀՀ Շիրակի մարզի Գյումրի քաղաքի Տիգրան Մեծ N 5 շենքի անբավարար տեխնիկական վիճակում գտնվող թվով 3 մուտքերի ուժեղացման-վերականգնման (ամրացման) նախագծանախահաշվային փաստաթղթերի փորձաքննության ծառայությունների ձեռքբերում | D17: ='1'!D33 -> 700

Sheet 5
B1: Հավելված 5
B2: ՀՀ կառավարության 2022 թվականի
B3: ______________ ի ___Ն որոշման
A5: ՀԱՅԱՍՏԱՆԻ ՀԱՆՐԱՊԵՏՈՒԹՅԱՆ ԿԱՌԱՎԱՐՈՒԹՅԱՆ 2021 ԹՎԱԿԱՆԻ ԴԵԿՏԵՄԲԵՐԻ 23-Ի ԹԻՎ 2121-Ն ՈՐՈՇՄԱՆ N9 ՀԱՎԵԼՎԱԾԻ 9.7 ԱՂՅՈՒՍԱԿՈՒՄ ԿԱՏԱՐՎՈՂ ՓՈՓՈԽՈՒԹՅՈՒՆԸ ԵՎ ԼՐԱՑՈՒՄԸ
C6: Աղյուսակ 9.7
A7: =+'4'!C11 -> ՀՀ Տարածքային կառավարման և ենթակառուցվածքների նախարարություն
A9: ՄԱՍ 2. ՊԵՏԱԿԱՆ ՄԱՐՄՆԻ ԳԾՈՎ ԱՐԴՅՈՒՆՔԱՅԻՆ (ԿԱՏԱՐՈՂԱԿԱՆ) ՑՈՒՑԱՆԻՇՆԵՐԸ
A11: Ծրագրի դասիչը | B11: Ծրագրի անվանումը
A12: 1070 | B12: Աջակցություն փախստականների ինտեգրմանը
A14: Ծրագրի միջոցառումները
A16: Ծրագրի դասիչը` | B16: 1070 | C16: Ցուցանիշների փոփոխությունը (նվազեցումները նշված են փակագծերում)
A17: Միջոցառման դասիչը` | B17: 12002 | C17: Տարի
A18: Միջոցառման անվանումը` | B18: ՀՀ-ում փախստական ճանաչված և ապաստան ստացած անձանց վարձակալությամբ բնակարանների ձեռքբերման ծախսերի փոխհատուցման տրամադրում
A19: Նկարագրությունը` | B19: ՀՀ-ում փախստական ճանաչված և ապաստան ստացած անձանց մինչև 9 ամիս տևողությամբ բնակարաններ վարձակալելու նպատակով փոխհատուցման տրամադրում
A20: Միջոցառման տեսակը` | B20: Տրանսֆերտների տրամադրում
A21: Շահառուների ընտրության չափանիշներ | B21: Ժամանակավոր կացարանով ապահովման խնդիր ունեցող ՀՀ-ում փախստական ճանաչված անձինք
A22: Արդյունքի չափորոշիչներ
A23: Միջոցառման վրա կատարվող ծախսը (հազար դրամ) | C23: =+'3'!G13 -> -700
A25: Ծրագրի դասիչը | B25: Ծրագրի անվանումը
A26: =+'4'!A13 -> 1212 | B26: =+'1'!C26 -> Տարածքային զարգացում
A28: Ծրագրի միջոցառումները
A30: Ծրագրի դասիչը՝ | B30: =+A26 -> 1212 | C30: Ցուցանիշների փոփոխությունը (ավելացումները նշված են դրական նշանով)
A31: Միջոցառման դասիչը՝ | B31: =+'1'!B32 -> 21002 | C31: Տարի
A32: Միջոցառման անվանումը՝ | B32: =+'1'!C33 -> ՀՀ համայնքներում բազմաբնակարան շենքերի տեխնիկական վիճակի բարելավում
A33: Նկարագրությունը՝ | B33: =+'1'!C35 -> ՀՀ համայնքներում անբավարար տեխնիկական վիճակում գտնվող վթարային շենքերի ուժեղացման-վերականգնման (ամրացման) աշխատանքներ, նախագծանախահաշվային փաստաթղթերի ձեռքբերում
A34: Միջոցառման տեսակը՝ | B34: Հանրության կողմից անմիջականորեն օգտագործվող ակտիվների հետ կապված միջոցառումներ
A35: Միջոցառումն իրականացնողի անվանումը | B35: ՀՀ Շիրակի մարզպետարան
B36: Արդյունքի չափորոշիչներ
A37: Գյումրի քաղաքի Տիգրան Մեծ N 5 շենքի անբավարար տեխնիկական վիճակում գտնվող թվով 3 մուտքերի ուժեղացման-վերականգնման (ամրացման) նախագծանախահաշվային փաստաթղթերի փորձաքննության ծառայությունների ձեռքբերում, հատ | C37: 1
A38: Միջոցառման վրա կատարվող ծախսը (հազար դրամ) | C38: =SUM('4'!D13) -> 700

Sheet 6
B1: Հավելված 6
B2: ՀՀ կառավարության 2022 թվականի
B3: ______________ ի ___Ն որոշման
A5: ՀԱՅԱՍՏԱՆԻ ՀԱՆՐԱՊԵՏՈՒԹՅԱՆ ԿԱՌԱՎԱՐՈՒԹՅԱՆ 2021 ԹՎԱԿԱՆԻ ԴԵԿՏԵՄԲԵՐԻ 23-Ի ԹԻՎ 2121-Ն ՈՐՈՇՄԱՆ N9.1 ՀԱՎԵԼՎԱԾԻ 9.1.35 ԵՎ 9.1.55 ԱՂՅՈՒՍԱԿՆԵՐՈՒՄ ԿԱՏԱՐՎՈՂ ՓՈՓՈԽՈՒԹՅՈՒՆԸ ԵՎ ԼՐԱՑՈՒՄԸ
B8: Աղյուսակ 9.1.35
A9: ՀՀ տարածքային կառավարման և ենթակառուցվածքների նախարարության միգրացիոն ծառայություն
A10: ՄԱՍ 1. ՊԵՏԱԿԱՆ ՄԱՐՄՆԻ ԳԾՈՎ ԱՐԴՅՈՒՆՔԱՅԻՆ (ԿԱՏԱՐՈՂԱԿԱՆ) ՑՈՒՑԱՆԻՇՆԵՐԸ
A12: Ծրագրի դասիչը | B12: Ծրագրի անվանումը
A13: =+'5'!A12 -> 1070 | B13: =+'5'!B12 -> Աջակցություն փախստականների ինտեգրմանը
A15: Ծրագրի միջոցառումները
A16: Ծրագրի դասիչը` | B16: ='5'!B16 -> 1070 | C16: Ցուցանիշների փոփոխությունը (նվազեցումները նշված են փակագծերում)
A17: Միջոցառման դասիչը` | B17: ='5'!B17 -> 12002 | C17: Տարի
A18: Միջոցառման անվանումը` | B18: ='5'!B18 -> ՀՀ-ում փախստական ճանաչված և ապաստան ստացած անձանց վարձակալությամբ բնակարանների ձեռքբերման ծախսերի փոխհատուցման տրամադրում
A19: Նկարագրությունը` | B19: ='5'!B19 -> ՀՀ-ում փախստական ճանաչված և ապաստան ստացած անձանց մինչև 9 ամիս տևողությամբ բնակարաններ վարձակալելու նպատակով փոխհատուցման տրամադրում
A20: Միջոցառման տեսակը` | B20: ='5'!B20 -> Տրանսֆերտների տրամադրում
A21: Շահառուների ընտրության չափանիշներ | B21: ='5'!B21 -> Ժամանակավոր կացարանով ապահովման խնդիր ունեցող ՀՀ-ում փախստական ճանաչված անձինք
A22: Արդյունքի չափորոշիչներ
A23: Միջոցառման վրա կատարվող ծախսը (հազար դրամ) | C23: =+'5'!C23 -> -700
C25: Աղյուսակ 9.1.55
A26: ՀՀ Շիրակի մարզպետարան
A28: ՄԱՍ 1. ՊԵՏԱԿԱՆ ՄԱՐՄՆԻ ԳԾՈՎ ԱՐԴՅՈՒՆՔԱՅԻՆ (ԿԱՏԱՐՈՂԱԿԱՆ) ՑՈՒՑԱՆԻՇՆԵՐԸ
A29: Ծրագրի դասիչը | B29: Ծրագրի անվանումը
A30: 1212 | B30: =+'5'!B26 -> Տարածքային զարգացում
A32: Ծրագրի միջոցառումները
A33: Ծրագրի դասիչը՝ | B33: =+'5'!B30 -> 1212 | C33: Ցուցանիշների փոփոխությունը (ավելացումները նշված են դրական նշանով)
A34: Միջոցառման դասիչը՝ | B34: =+'5'!B31 -> 21002 | C34: Տարի
A35: Միջոցառման անվանումը՝ | B35: =+'5'!B32 -> ՀՀ համայնքներում բազմաբնակարան շենքերի տեխնիկական վիճակի բարելավում
A36: Նկարագրությունը՝ | B36: =+'5'!B33 -> ՀՀ համայնքներում անբավարար տեխնիկական վիճակում գտնվող վթարային շենքերի ուժեղացման-վերականգնման (ամրացման) աշխատանքներ, նախագծանախահաշվային փաստաթղթերի ձեռքբերում
A37: Միջոցառման տեսակը՝ | B37: =+'5'!B34 -> Հանրության կողմից անմիջականորեն օգտագործվող ակտիվների հետ կապված միջոցառումներ
A38: Միջոցառումն իրականացնողի անվանումը | B38: ՀՀ Շիրակի մարզպետարան
B39: Արդյունքի չափորոշիչներ
A40: ='5'!A37:B37 -> Գյումրի քաղաքի Տիգրան Մեծ N 5 շենքի անբավարար տեխնիկական վիճակում գտնվող թվով 3 մուտքերի ուժեղացման-վերականգնման (ամրացման) նախագծանախահաշվային փաստաթղթերի փորձաքննության ծառայությունների ձեռքբերում, հատ | C40: 1
A41: Միջոցառման վրա կատարվող ծախսը (հազար դրամ) | C41: =SUM('5'!C38) -> 700

Sheet 7
G1: Հավելված N 7
F2: ՀՀ կառավարության 2022 թվականի ___________ ___-ի N _______ -Ն որոշման
A4: ՀԱՅԱՍՏԱՆԻ ՀԱՆՐԱՊԵՏՈՒԹՅԱՆ ԿԱՌԱՎԱՐՈՒԹՅԱՆ 2021 ԹՎԱԿԱՆԻ ԴԵԿՏԵՄԲԵՐԻ 23-Ի N 2121-Ն ՈՐՈՇՄԱՆ N 10 ՀԱՎԵԼՎԱԾՈՒՄ ԿԱՏԱՐՎՈՂ ԼՐԱՑՈՒՄԸ
A6: Կոդը | B6: Անվանումը | C6: Գնման ձևը | D6: Չափման միավորը | E6: Միավորի գինը | F6: Ցուցանիշների փոփոխությունը (ավելացումները նշված են դրական նշանով)
F7: Քանակը | G7: Գումարը (հազար դրամ)
A8: 1 | B8: 2 | C8: 3 | D8: 4 | E8: 5 | F8: 6 | G8: 7
A9: ՀՀ Շիրակի մարզպետարան | G9: 700
A10: Բաժին N 06, խումբ N 01, դաս N 01, Բնակարանային շինարարություն | G10: 700
A11: 1212 21002 ՀՀ համայնքներում բազմաբնակարան շենքերի պայմանների բարելավում | G11: 700
A12: ՄԱՍ III. ԾԱՌԱՅՈՒԹՅՈՒՆՆԵՐ | G12: 700
A13: 50531140 | B13: Փորձաքննության ծառայություններ | C13: ՄԱ | D13: դրամ | E13: 700 000.0 | F13: 1 | G13: 700
