Workbook
Name _tab10: #REF!
Name _tab10: #REF!
Name _tab11: #REF!
Name _tab11: #REF!
Name _tab12: #REF!
Name _tab12: #REF!
Name _tab13: #REF!
Name _tab13: #REF!
Name _tab14: #REF!
Name _tab14: #REF!
Name _tab15: #REF!
Name _tab15: #REF!
Name _tab16: #REF!
Name _tab16: #REF!
Name _tab17: #REF!
Name _tab17: #REF!
Name _tab18: #REF!
Name _tab18: #REF!
Name _tab19: #REF!
Name _tab19: #REF!
Name _tab20: #REF!
Name _tab20: #REF!
Name _tab21: #REF!
Name _tab21: #REF!
Name _tab22: #REF!
Name _tab22: #REF!
Name _tab23: #REF!
Name _tab23: #REF!
Name _tab24: #REF!
Name _tab24: #REF!
Name _tab5: #REF!
Name _tab5: #REF!
Name _tab6: #REF!
Name _tab6: #REF!
Name _tab7: #REF!
Name _tab7: #REF!
Name _tab8: #REF!
Name _tab8: #REF!
Name _tab9: #REF!
Name _tab9: #REF!
Name AgencyCode: #REF!
Name AgencyCode: #REF!
Name AgencyCode: #REF!
Name AgencyCode: #REF!
Name AgencyCode: #REF!
Name AgencyName: #REF!
Name AgencyName: #REF!
Name AgencyName: #REF!
Name AgencyName: #REF!
Name åû: #REF!
Name åû: #REF!
Name davit: #REF!
Name davit: #REF!
Name Functional1: #REF!
Name Functional1: #REF!
Name Functional1: #REF!
Name ggg: #REF!
Name ggg: #REF!
Name mas: #REF!
Name mas: #REF!

Sheet Հ1
D1: Հավելված N 1
D2: ՀՀ կառավարության 2022 թվականի
D3: -------------- ի N ---- -Ն որոշման
A5: «ՀԱՅԱՍՏԱՆԻ ՀԱՆՐԱՊԵՏՈՒԹՅԱՆ 2022 ԹՎԱԿԱՆԻ ՊԵՏԱԿԱՆ ԲՅՈՒՋԵԻ ՄԱՍԻՆ» ՕՐԵՆՔԻ N 1 ՀԱՎԵԼՎԱԾԻ N 7 ԱՂՅՈՒՍԱԿՈՒՄ ԵՎ ՀԱՅԱՍՏԱՆԻ ՀԱՆՐԱՊԵՏՈՒԹՅԱՆ ԿԱՌԱՎԱՐՈՒԹՅԱՆ 2021 ԹՎԱԿԱՆԻ ԴԵԿՏԵՄԲԵՐԻ 23-Ի N 2121-Ն ՈՐՈՇՄԱՆ N 5 ՀԱՎԵԼՎԱԾԻ N 6 ԱՂՅՈՒՍԱԿՈՒՄ ԿԱՏԱՐՎՈՂ ԼՐԱՑՈՒՄՆԵՐԸ
D6: հազար դրամ
A7: Ծրագրային դասիչը | C7: Բյուջետային հատկացումների գլխավոր կարգադրիչների, ծրագրերի, միջոցառումների և միջոցառումները կատարող պետական մարմինների անվանումները | D7: Ցուցանիշների փոփոխությունը (ավելացումները նշված են դրական նշանով)
A8: Ծրագիր | B8: Միջոցառում | D8: Տարի
C9: ԸՆԴԱՄԵՆԸ | D9: =+D11 -> 2296199.5
C10: այդ թվում
C11: Կապիտալ սուբվենցիաներ համայնքներին | D11: =+D13 -> 2296199.5
C12: այդ թվում`
C13: ՀՀ տարածքային կառավարման և ենթակառուցվածքների նախարարություն | D13: =+D15 -> 2296199.5
C14: այդ թվում`
A15: 1212 | C15: Տարածքային զարգացում | D15: =+D17 -> 2296199.5
C16: այդ թվում`
B17: 12007 | C17: ՀՀ մարզերին սուբվենցիաների տրամադրում՝ ենթակառուցվածքների զարգացման նպատակով | D17: =+D20+D22+D29+D43+D52+D63+D71+D74+D19 -> 2296199.5
C18: այդ թվում` ըստ կատարողների
C19: ՀՀ կառավարություն | D19: =+Հ3!G98 -> 108175.81
C20: ՀՀ Արագածոտնի մարզպետարան | D20: =D21 -> 7586.8
C21: Արագածավան համայնքի Արագածավան բն․ մշակույթի տան տանիքի վերանորոգման | D21: 7586.8
C22: ՀՀ Արարատի մարզպետարան | D22: =D24+D25+D26+D27+D28 -> 397837
C23: այդ թվում` ըստ ուղղությունների
C24: Արարատ համայնքի Սուրենավան, Արմաշ և Երասխ բնակավայրերի գազատարի կառուցում | D24: 129220
C25: Արտաշատ համայնքի բնակավայրերի ոռոգման համակարգերի կառուցում/նորոգում/Այգեզարդ բնակավայր/ | D25: 89928
C26: Վեդի համայնքի Վեդի քաղաքային, Գինեվետ, Նոր Ուղի, Արալեզ, Այգավան և Փոքր Վեդի բնակավայրերի գազիֆիկացման աշխատանքներ/Վեդի բնակավայր/ | D26: 49050
C27: Վեդի համայնքի Վեդի քաղաքային բնակավայրի փողոցներում կոյուղագծի կառուցում | D27: 70020
C28: Վեդի համայնքի Վեդի քաղաքային և Լուսառատ բնակավայրի բազմաբնակարան բնակելի շենքերի տանիքների հիմնանորոգում | D28: 59619
C29: ՀՀ Արմավիրի մարզպետարան | D29: =D31+D32+D33+D34+D35+D36+D37+D38+D39+D40+D41+D42 -> 269131.5
C30: այդ թվում` ըստ ուղղությունների
C31: Վաղարշապատ համայնքի Էջմիածին բնակավայրի Չարենց թաղամասի հյուսիսային մասի կոյուղու կառուցում | D31: 95328
C32: ՀՀ Արմավիրի մարզի Արաքս համայնքի Առատաշեն գյուղի մանկապարտեզի երկհարկանի մասնաշենքի կապիտալ վերանորոգում, Խորոնք գյուղի մանկապարտեզի շենքի կապիտալ վերանորոգում, Ջրառատ գյուղի մանկապարտեզի շենքի կապիտալ վերանորոգում, ջեռուցման համակարգի կառուցում, Մեծամոր գյուղի Խ.Աբովյան փող. 1/2 հասցեում մանկապարտեզի շենքի հիմնանորոգման /վերանորոգման/ աշխատանքներ, Գայ գյուղի մանկապարտեզի շենքի կառուցում | D32: 27469.7
C33: Արաքս համայնքի Գայ գյուղի ջրահեռացման համակարգի մի մասի և ջրամատակարարման ցանցի, Ջրառատ գյուղի ջրամատակարարման ցանցի կառուցում | D33: 12206
C34: Արաքս համայնքի Գայ գյուղի ջրահեռացման համակարգի մի մասի և ջրամատակարարման ցանցի, Ջրառատ գյուղի ջրամատակարարման ցանցի կառուցում | D34: 9716.5
C35: Ֆերիկ համայնքի արտաքին լուսավորության ցանցի կառուցում | D35: 1641.7
C36: Մեծամոր համայնքի 2 թաղամաս 1 շենքի, 1 թաղամաս 13ա և 27 բազմաբնակարն շենքերի տանիքների հիմնանորոգում և 1 թաղամաս 4Բ1, 6Բ1, 8Բ1, 8Բ2 և 2Բ շենքերի վերելակների փոխարինում | D36: 23899.3
C37: Մեծամոր համայնքի Մարգարա բնակավայրի փողոցների գազամատակարարում, Ջանֆիդա, Փշատավան բնակավայրերի գազաֆիկացում | D37: 16039.9
C38: Մեծամոր համայնքի .Մեծամոր, և Արազափ մշակույթի տների վերանորոգում, Նոր Կեսարիա մշակույթի տան ջեռուցման համակարգի կառուցում, Մրգաշատ բնակավայրի երաժշտական դպրոցի վերանորոգում և ջեռուցոման համակարգի կառուցում, Նալբանդյան բնակավայրերում երաժշտական դպրոցի ջեռուցման համակարգի կառուցում | D38: 3069.5
C39: Արմավիրի մարզի Արմավիր համայնքի Արմավիր քաղաքի Աբովյան փողոցի Չարենց-Բաղրամյան հատվածի հիմնանորոգում | D39: 31781.7
C40: Արմավիր համայնքի Այգեվան և Լենուղի գյուղերի ջրամատակարարման ցանցի վերակառուցում | D40: 37335.3
C41: Խոյ համայնքի Արշալույս բնակավայրի փողոցային լուսավորության ընդլայնում և Շահումյան բնակավայրի փողոցների լուսավորության ցանցի կառուցում | D41: 8150.4
C42: Խոյ համայնքի Մոնթեավան և Արագած բնակավայրերի հուշարձան-պուրակների կառուցում | D42: 2493.5
C43: ՀՀ Գեղարքունիքի մարզպետարան | D43: =D45+D46+D47+D48+D49+D50+D51 -> 767792.2
C44: այդ թվում` ըստ ուղղությունների
C45: Մարտունի համայնքի Մարտունի համայնքային կենտրոնի գարեգին Նժդեհ, Կոմիտաս, Գետափնյա 2, Կարապետյան փողոցների, Արծվանիստ, Ծովինար, Վարդենիկ, Զոլաքար, Գեղհովիտ, Գեղհովիտ բնակավայրի Լեռնակերտ տարածքի,Ն. Գետաշեն, Վ. Գետաշեն, Լիճք, Ծակքար, Ձորագյուղ, Վարդաձոր, Երանոս բնակավայրերում տարբեր փողոցների երթևեկելի հատվածների ասֆալտապատում, ինչպես նաև Ծակքար բնակավայրի 6-րդ և 10-րդ փողոցները միացնող կամրիջի կառուցում | D45: 408664.2
C46: Մարտունի համայնքի համայնքապետարանի, Ծովինար և Զոլաքար բնակավայրերի մանկապարտեզների, Վարդենիկ բնակավայրի երաժշտական դպրոցի կարիքների համար գույքի և տեխնիկայի ձեռքբերում | D46: 42856.5
C47: Մարտունի համայնքի Մարտունու համայնքապետարանի, Ծովինար բնակավայրի մշակույթի պալատի և Ծակքար համայնքի մշակույթի պալատի շենքերի վերանորոգում /Ծովինար, Ծակքար բնակավայրեր/ | D47: 55915.6
C48: Մարտունի համայնքի Ծովինար, Զոլաքար, Վաղաշեն, Գեղհովիտ, Ն. Գետաշեն, Ծակքար և Ձորագյուղ բնակավայրերի փողոցներում լուսավորության համակարգերի կառուցում/Վաղաշեն բնակավայր/ | D48: 17776.1
C49: Մարտունի համայնքի Զոլաքար, Աստղաձոր, Վաղաշեն, Լիճք, Ձորագյուղ, Երանոս բնակավայրերում խմելու ջրագծերի համակարգերի կառուցում և վերանորոգում/Երանոս, Զոլաքար բնակավայրեր/ | D49: 113540.8
C50: Մարտունի համայնքի կենտրոնի Վարդենիկ, Զոլաքար, Աստղաձոր, Գեղհովիտ, Ն. Գետաշեն և Ձորագյուղ բնակավայրեր գազիֆիկացում/Զոլաքար բնակավայր/ | D50: 18882.9
C51: Մարտունի համայնքի Արծվանիստ, Ծովինար , Վարդենիկ,Աստղաձոր, Վաղաշեն, Ն. Գետաշեն Վ Գետաշեն,Մադինա, Ծակքար, Ձորագյուղ, Վարդաձոր, Երանոս բնակավայրերում ոռոգման համակարգերի կառուցում և նորոգում /Վ. Գետաշեն, Երանոս, Ձորագյուղ/ | D51: 110156.1
C52: ՀՀ Լոռու մարզպետարան | D52: =D54+D55+D56+D57+D58+D59+D60+D61+D62 -> 232000.2
C53: այդ թվում` ըստ ուղղությունների
C54: Գյուլագարակ համայնքի Գյուլագարակ, Գարգառ, Պուշկինո և Ամրակից բն․ չգազաֆիկացված թաղամասերի գազաֆիկացում | D54: 33075.6
C55: Տաշիր համայնքի կարիքների համար տեխնիկայի ձեռքբերում | D55: 26019
C56: Սպիտակ համայնքի Սպիտակ, Արջահովիտ, Ջրաշեն, Արևաշող, Շենավան, Գեղասար և Խնկոյան բնակավայրերի փողոցային լուսավորության գոյություն ունեցող համակարգերի ընդլայնում /Շենավան, Գեղասար և Խնկոյան/ | D56: 5513.2
C57: Լոռի Բերդ համայնքի Սվերդլով բն․ մանկապարտեզի շենքի հիմնանորոգում | D57: 12070.1
C58: Սպիտակ համայնքի Սպիտակ բնակավայրի Էստոնական և Տաշիր թաղամասերի գլխավոր ճանապարհների, Ծաղկաբեր բն․ 3-րդ փող, Լեռնանցք բն․ «Նոր գյուղի» կենտրոնական ճանապարհի սալարկում տուֆով և ջրահեռացման համակարգի կառուցում /Ծաղկաբեր/ | D58: 15584.3
C59: Ստեփանավան համայնքի Ստեփանավան բն․ Քալաշյան, Աղայան և 409 դիվիզիա փողոցների հիմնանորոգում տուֆե սալարկումով | D59: 56912.6
C60: Լոռի Բերդ համայնքի Ուռուտ բն․ մանկապարտեզի շենքի հիմնանորոգում | D60: 14761.7
C61: Սպիտակ համայնքի Կաթնաջուր բնակավայրի արցախյան գոյամարտերում անմահացած զավակների հիշատակի հուշահամալիրի կառուցում և Մեծ Պարնի բնակավայրի նոր բնակատեղիի համայնքային այգու կառուցում /Կաթնաջուր/ | D61: 17729.2
C62: Սպիտակ համայնքի Սպիտակ բնակավայրի Այգեստան թաղամասի փողոցի հիմնանորոգում ասֆալտապատումով և ջրահեռացման համակարգով, Շենավան բնակավայրի փողոցների մասնակի ասֆալտապատում, Արևաշող բնակավայրի կենտրոնական ճանապարհի հիմնանորոգում ասֆալտապատմամբ, Ծաղկաբեր բնակավայրի 1-ին փողոցի հենապատի կառուցում, Լուսաղբյուր բնակավայրի ճանապարհների ասֆալտապատում /Սպիտակ, Շենավան, Արևաշող/ | D62: 50334.5
C63: ՀՀ Կոտայքի մարզպետարան | D63: =D65+D66+D67+D68+D69+D70 -> 214124.3
C64: այդ թվում` ըստ ուղղությունների
C65: Ակունք բնակավայրի 14-րդ փողոցի, 14-րդ-ի 1-ին փակուղի, Նոր Գյուղ բնակավայրի 9-րդ փողոց, 2-րդ, և 10-րդ փողոցների, Կապուտան բնակավայրի 10-րդ, 9-րդ ,փողոցների , Կոտայք բնակավայրի 3-րդ փողոցի և 3-րդ փողոցի 1-ին նրբանցքի, Զառ բնակավայրի Մեխանիզատորների և դպրոցականների փողոցների ասֆալտապատում | D65: 47317.8
C66: Նոր Հաճն համայնքի Նոր Արտամետ բնակավայրի կոյուղագծի վերակառուցում | D66: 44575.8
C67: Ծաղկաձոր համայնքի Մեղրաձոր գյուղի 2-րդ, 5-րդ և 8-րդ փողոցների կապիտալ վերանորոգման՝ ասֆալտապատման աշխատանքներ | D67: 32908.8
C68: Գեղաշեն համայնքի երաժշտական դպրոցի տանիքին 4.92ԿՎՏ, համայնքապետարանի տանիքին 3.282ԿՎՏ, հեքիաթ մանկապարտեզի տանիքին 12.32ԿՎՏ, մշակույթի տան տանիքին 9.842ԿՎՏ,պոմպակայնի տարածքում 9.842ԿՎՏ արևային կայանների տեղադրում | D68: 9298.7
C69: Զովաշեն գյուղի վարչական շենքի և արտաքին սանհանգույցի կառուցապատում | D69: 9691.2
C70: Պռոշյան համայնքի ճանապարհների հիմնանորոգում | D70: 70332
C71: ՀՀ Սյունիքի մարզպետարան | D71: =D73 -> 5051.8
C72: այդ թվում` ըստ ուղղությունների
C73: ՀՀ Սյունիքի մարզի Տեղ համայնքի խաղահրապարակ-ժամանցի կենտրոնի վերակառուցում, վերանորոգում | D73: 5051.8
C74: ՀՀ Վայոց ձորի մարզպետարան | D74: =D76+D77+D78+D79+D80+D81+D82+D83 -> 294499.9
C75: այդ թվում` ըստ ուղղությունների
C76: Եղեգիս համայնքի Շատին, Հորս, Քարագլուխ,Հերմոն, Թառաթումբ և Աղնջաձոր բնակավայրերի փողոցային լուսավորության ցանցի կառուցում | D76: 220
C77: Եղեգիս համայնքի Քարագլուխ, Սալլի, Աղնջաձոր, Թառաթումբ, Հորս, Հորբատեղ, Արտաբունք ոռոգման առուների կառուցում | D77: 101430.2
C78: Եղեգիս համայնքի Շատին և Վարդահովիտ բնակավայրերի ոռոգման առուների կառուցում | D78: 23176.3
C79: Եղեգնաձոր համայնքի Եղեգնաձոր, Գլաձոր, Գետափ և Վերնաշեն բնակավայրերի 44-օրյա պատերազմում նահատակված հայորդիների, Եղեգնաձոր բնակավայրի 1941-1945թթ Հայրենական Մեծ պատերազմում զոհվածների և Դ. Դեմիրճյանի անվան զբոսայգում գտնվող Արցախյան առաջին պատերազմում զոհվածների հիշատակին նվիրված հուշահամալիրների կից տարածքների բարեկարգման աշխատանքներ | D79: 16930.3
C80: Եղեգնաձոր համայնքի Մալիշկա բնակավայրի ներհամայնքային փողոցների ասֆալտապատում | D80: 65367.2
C81: Եղեգնաձոր համայնքի Միկոյան 5, Մոմիկի 2 և 6, Սպանդարյան 2 բազմաբնակարան բնակելի շենքերի բակերի ասֆալտապատում | D81: 39482.6
C82: Եղեգնաձոր համայնքի Միկոյան փողոցի 130մ, Նարեկացի փողոցի 80 մ, Շահումյան փողոցի 120մ, Վ. Գևորգյան փողոցի 210մ, Մոմիկի և Նարեկացի փողոցների խաչմերուկի 60մ մայթերի և Սրկողուն գետի վրա գտնվող /Անդրանիկ փողոց/ կամուրջին կից նոր մայթի կառուցում | D82: 17833.4
C83: Եղեգնաձոր համայնքի Վերնաշեն բնակավայրի ջրամատակարարման վերակառուցման աշխատանքներ | D83: 30059.9

Sheet Հ2
D1: Հավելված N 2
D2: ՀՀ կառավարության 2022 թվականի
D3: ______________ ի ___Ն որոշման
A5: «ՀԱՅԱUՏԱՆԻ ՀԱՆՐԱՊԵՏՈՒԹՅԱՆ 2022 ԹՎԱԿԱՆԻ ՊԵՏԱԿԱՆ ԲՅՈՒՋԵԻ ՄԱUԻՆ» OՐԵՆՔԻ N 1 ՀԱՎԵԼՎԱԾԻ N 2 ԱՂՅՈՒՍԱԿՈՒՄ ԿԱՏԱՐՎՈՂ ՎԵՐԱԲԱՇԽՈՒՄԸ ԵՎ ՀԱՅԱՍՏԱՆԻ ՀԱՆՐԱՊԵՏՈՒԹՅԱՆ ԿԱՌԱՎԱՐՈՒԹՅԱՆ 2021 ԹՎԱԿԱՆԻ ԴԵԿՏԵՄԲԵՐԻ 23-Ի N 2121-Ն ՈՐՈՇՄԱՆ N 5 ՀԱՎԵԼՎԱԾԻ N 1 ԱՂՅՈՒՍԱԿՈՒՄ ԿԱՏԱՐՎՈՂ ՓՈՓՈԽՈՒԹՅՈՒՆՆԵՐԸ ԵՎ ԼՐԱՑՈՒՄՆԵՐԸ
D7: հազար դրամ
A8: Ծրագրային դասիչը | C8: Բյուջետային հատկացումների գլխավոր կարգադրիչների, ծրագրերի և միջոցառումների անվանումները | D8: Ցուցանիշների փոփոխությունը (ավելացումները նշված են դրական նշանով, իսկ նվազեցումները` փակագծերում)
A9: Ծրագիր | B9: Միջոցառում | D9: Տարի
C10: ԸՆԴԱՄԵՆԸ | D10: =+D12 -> -5.5388227e-10
C11: այդ թվում
B12: ՀՀ տարածքային կառավարման և ենթակառուցվածքների նախարարություն | D12: =+D33+D46+D77+D103+D14+D89 -> -5.5388227e-10
A13: 1001 | C13: Ծրագրի անվանումը`
C14: Տարածքային կառավարման ոլորտում քաղաքականության մշակում, ծրագրերի համակարգում և մոնիտորինգի իրականացում | D14: =+D21+D27 -> -5863.504
C15: Ծրագրի նպատակը`
C16: Տարածքային կառավարման բնագավառում պետական արդյունավետ քաղաքականության մշակման և իրականացման ապահովում
C17: Վերջնական արդյունքի նկարագրությունը`
C18: Տարածքային կառավարման քաղաքականության իրագործմանն ուղղված ծրագրերի ազդեցության և արդյունավետության բարելավում
B19: Ծրագրի միջոցառումներ
B20: 11001 | C20: Միջոցառման անվանումը`
C21: Տարածքային կառավարման և ենթակառուցվածքների քաղաքականության մշակում և ծառայությունների մատուցում | D21: =+Հ3!G23 -> -5734.104
C22: Միջոցառման նկարագրությունը`
C23: Տարածքային կառավարման և ենթակառուցվածքների բնագավառում պետական քաղաքականության մշակման և դրա կատարման համակարգման, պետական ծրագրերի մշակման, իրականացման, մոնիտորինգի, խորհրդատվության և աջակցության ծառայություններ
C24: Միջոցառման տեսակը
C25: Ծառայությունների մատուցում
B26: 31001 | C26: Միջոցառման անվանումը`
C27: ՀՀ տարածքային կառավարման և ենթակառուցվածքների նախարարության կարողությունների զարգացում և տեխնիկական հագեցվածության ապահովում | D27: =+Հ3!G39 -> -129.4
C28: Միջոցառման նկարագրությունը`
C29: ՀՀ տարածքային կառավարման և ենթակառուցվածքների նախարարության աշխատանքային պայմանների բարելավման համար վարչական սարքավորումների ձեռք բերում_x000D_
C30: Միջոցառման տեսակը
C31: Պետական մարմինների կողմից օգտագործվող ոչ ֆինանսական ակտիվների հետ գործառնություններ
A32: 1038 | C32: Ծրագրի անվանումը`
C33: Տարածքային կառավարման և տեղական ինքնակառավարման մարմինների ներկայացուցիչների մասնագիտական վերապատրաստում և հատուկ ուսուցում | D33: =+D40 -> -9384
C34: Ծրագրի նպատակը`
C35: Տարածքային կառավարման և տեղական ինքնակառավարման մարմինների աշխատակիցների աշխատանքի արդյունավետության բարելավում
C36: Վերջնական արդյունքի նկարագրությունը`
C37: Տարածքային կառավարման մարմինների մասնագիտական հմտությունների և կարողությունների բարելավում
B38: Ծրագրի միջոցառումներ
B39: 11001 | C39: Միջոցառման անվանումը`
C40: Վերապատրաստման ծառայություններ | D40: =+Հ3!G215 -> -9384
C41: Միջոցառման նկարագրությունը`
C42: Տարածքային կառավարման մարմինների աշխատակիցների, տեղական ինքնակառավարման մարմինների, ինչպես նաև համայնքային ծառայողների վերապատրաստման կազմակերպում
C43: Միջոցառման տեսակը
C44: Ծառայությունների մատուցում
A45: 1049 | C45: Ծրագրի անվանումը`
C46: Ճանապարհային ցանցի բարելավում | D46: =+D53+D59+D65+D71 -> -2207983.3
C47: Ծրագրի նպատակը`
C48: Ճանապարհային ցանցի բարելավում և անվտանգ երթևեկության ապահովում
C49: Վերջնական արդյունքի նկարագրությունը`
C50: Ճանապարհների ծածկի որակի և փոխադրումների արդյունավետության բարելավում, ճանապարհների վիճակով պայմանավորված պատահարների նվազում
B51: Ծրագրի միջոցառումներ
B52: 11001 | C52: Միջոցառման անվանումը`
C53: Միջպետական և հանրապետական նշանակության ավտոճանապարհների պահպանման և անվտանգ երթևեկության ծառայություններ | D53: =+Հ3!G173 -> -86114.71
C54: Միջոցառման նկարագրությունը`
C55: Հողային պաստառի, երթևեկելի մասի, արհեստական կառույցների և կահավորման տարրերի նորմատիվ մակարդակում պահպանում և շահագործում
C56: Միջոցառման տեսակը
C57: Ծառայությունների մատուցում
B58: 11003 | C58: Միջոցառման անվանումը`
C59: Հայաստանի Հանրապետությունում հսկիչ սարքերի (թվային տախոգրաֆի) համակարգի կարգավորում | D59: =+Հ3!G174 -> -16565
C60: Միջոցառման նկարագրությունը`
C61: Հայաստանի Հանրապետությունում հսկիչ սարքերի (թվային տախոգրաֆի) համակարգի անընդհատ և անխափան աշխատանքի ապահովման նպատակով տախոնետ կապի ապահովում
C62: Միջոցառման տեսակը
C63: Ծառայությունների մատուցում
B64: 21001 | C64: Միջոցառման անվանումը`
C65: Պետական նշանակության ավտոճանապարհների հիմնանորոգում | D65: =+Հ3!G183 -> -2045956.9
C66: Միջոցառման նկարագրությունը`
C67: Միջպետական, հանրապետական և մարզային նշանակության ավտոճոնապարհների քայքայված ծածկի վերանորոգում, մաշված ծածկի փոխարինում
C68: Միջոցառման տեսակը
C69: Հանրության կողմից անմիջականորեն օգտագործվող ակտիվների հետ կապված միջոցառումներ
B70: 21002 | C70: Միջոցառման անվանումը`
C71: Տրանսպորտային օբյեկտների հիմնանորոգում | D71: =+Հ3!G194 -> -59346.7
C72: Միջոցառման նկարագրությունը`
C73: Ավտոմոբիլային ճանապարհների վրա գտնվող կամուրջների հիմնանորոգում
C74: Միջոցառման տեսակը
C75: Հանրության կողմից անմիջականորեն օգտագործվող ակտիվների հետ կապված միջոցառումներ
A76: 1070 | C76: Ծրագրի անվանումը`
C77: Աջակցություն փախստականների ինտեգրմանը | D77: =+D84 -> -20000
C78: Ծրագրի նպատակը`
C79: Փախստականների ինտեգրում հասարակություն
C80: Վերջնական արդյունքի նկարագրությունը`
C81: Փախստականներին մատուցվող ծառայությունների ընդգրկման և ծառայությունների շրջանակի ընդլայնում
B82: Ծրագրի միջոցառումներ
B83: 11001 | C83: Միջոցառման անվանումը`
C84: Ապաստան հայցողների կեցության խնդիրների լուծման միջոցառումների իրականացում | D84: =+Հ3!G228 -> -20000
C85: Միջոցառման նկարագրությունը`
C86: Ապաստան հայցողներին և նրանց ընտանիքներին ժամանակավոր կացարանի, սննդի, իրավաբանական խորհրդատվական անվճար ծառայությունների մատուցում
C87: Միջոցառման տեսակը
C88: Ծառայությունների մատուցում
A89: 1079 | C89: Ծրագրի անվանումը` | D89: =-2968.7 -> -2968.7
C90: Պետական գույքի կառավարում
C91: Ծրագրի նպատակը`
C92: Պետական գույքի համալիր և արդյունավետ կառավարման ապահովում
C93: Վերջնական արդյունքի նկարագրությունը`
C94: Պետական գույքի կառավարման արդյունավետության բարձրացում
C95: Ծրագրի միջոցառումներ
B96: 11001 | C96: Միջոցառման անվանումը` | D96: =-2968.7 -> -2968.7
C97: Պետական գույքի կառավարման համակարգման, խորհրդատվության և մոնիտորինգի ծառայություններ
C98: Միջոցառման նկարագրությունը`
C99: Պետական գույքի հաշվառում, գույքագրում, աճուրդների կազմակերպում, մասնավորեցվող գույքի վերաբերյալ տեղեկատվության հրապարակում
C100: Միջոցառման տեսակը
C101: Ծառայությունների մատուցում
A102: 1212 | C102: Ծրագրի անվանումը`
...

Sheet Հ3
G1: Հավելված N 3
G2: ՀՀ կառավարության 2022 թվականի
G3: ______________ ի ___Ն որոշման
A5: ՀԱՅԱՍՏԱՆԻ ՀԱՆՐԱՊԵՏՈՒԹՅԱՆ ԿԱՌԱՎԱՐՈՒԹՅԱՆ 2021 ԹՎԱԿԱՆԻ ԴԵԿՏԵՄԲԵՐԻ 23-Ի N 2121-Ն ՈՐՈՇՄԱՆ N 3 ԵՎ N 4 ՀԱՎԵԼՎԱԾՆԵՐՈՒՄ ԿԱՏԱՐՎՈՂ ՓՈՓՈԽՈՒԹՅՈՒՆՆԵՐԸ ԵՎ ԼՐԱՑՈՒՄՆԵՐԸ
G7: հազար դրամ
A8: Գործառական դասիչը | D8: Ծրագրային դասիչը | F8: Բյուջետային հատկացումների գլխավոր կարգադրիչների, ծրագրերի, միջոցառումների և միջոցառումները կատարող պետական մարմինների անվանումները | G8: Ցուցանիշների փոփոխությունը (ավելացումները նշված են դրական նշանով, իսկ նվազեցումները` փակագծերում)
A9: Բաժին | B9: Խումբ | C9: Դաս | D9: Ծրագիր | E9: Միջոցառում | G9: Տարի
F10: ԸՆԴԱՄԵՆԸ | G10: 0
F11: այդ թվում
F12: ՀՀ տարածքային կառավարման և ենթակառուցվածքների նախարարություն | G12: =+G205+G13+G155+G226 -> 0
A13: 01 | F13: ԸՆԴՀԱՆՈՒՐ ԲՆՈՒՅԹԻ ՀԱՆՐԱՅԻՆ ԾԱՌԱՅՈՒԹՅՈՒՆՆԵՐ | G13: =+G73+G15+G48 -> 2237367.3
F14: այդ թվում`
B15: 01 | F15: Օրենսդիր և գործադիր մարմիններ, պետական կառավարում, ֆինանսական և հարկաբյուջետային հարաբերություններ, արտաքին հարաբերություններ | G15: =+G17 -> -5863.504
F16: այդ թվում`
C17: 01 | F17: Օրենսդիր և գործադիր մարմիններ, պետական կառավարում | G17: =+G19 -> -5863.504
F18: այդ թվում`
F19: ՀՀ տարածքային կառավարման և ենթակառուցվածքների նախարարություն | G19: =+G21 -> -5863.504
F20: այդ թվում`
D21: 1001 | F21: Տարածքային կառավարման ոլորտում քաղաքականության մշակում, ծրագրերի համակարգում և մոնիտորինգի իրականացում | G21: =+G23+G39 -> -5863.504
F22: այդ թվում`
E23: 11001 | F23: Տարածքային կառավարման և ենթակառուցվածքների քաղաքականության մշակում և ծառայությունների մատուցում | G23: =+G25 -> -5734.104
F24: այդ թվում` ըստ կատարողների
F25: ՀՀ տարածքային կառավարման և ենթակառուցվածքների նախարարություն | G25: =+G27 -> -5734.104
F26: այդ թվում` բյուջետային ծախսերի տնտեսագիտական դասակարգման հոդվածներ
F27: ԸՆԴԱՄԵՆԸ ԾԱԽՍԵՐ | G27: =+G28 -> -5734.104
F28: ԸՆԹԱՑԻԿ ԾԱԽՍԵՐ | G28: =+G29 -> -5734.104
F29: ԾԱՌԱՅՈՒԹՅՈՒՆՆԵՐԻ ԵՎ ԱՊՐԱՆՔՆԵՐԻ ՁԵՌՔԲԵՐՈՒՄ | G29: =+G30+G35 -> -5734.104
F30: Պայմանագրային այլ ծառայությունների ձեռքբերում | G30: =+G31+G32+G33+G34 -> -4916.204
F31: - Համակարգչային ծառայություններ | G31: =+Հ10!G32+Հ10!G33 -> -5
F32: - Տեղեկատվական ծառայություններ | G32: =+Հ10!G34+Հ10!G35+Հ10!G36+Հ10!G37+Հ10!G38+Հ10!G39+Հ10!G40+Հ10!G41 -> -4502.004
F33: - Կառավարչական ծառայություններ | G33: -12
F34: - Ընդհանուր բնույթի այլ ծառայություններ | G34: -397.2
F35: Նյութեր (Ապրանքներ) | G35: =+G36+G38+G37 -> -817.9
F36: - Գրասենյակային նյութեր և հագուստ | G36: =+Հ10!G11+Հ10!G12+Հ10!G13+Հ10!G14+Հ10!G15+Հ10!G16+Հ10!G17+Հ10!G18+Հ10!G19+Հ10!G20+Հ10!G21+Հ10!G22+Հ10!G23+Հ10!G24 -> -578.1
F37: - Տրանսպորտային նյութեր | G37: -118.3
F38: - Հատուկ նպատակային այլ նյութեր | G38: -121.5
E39: 31001 | F39: ՀՀ տարածքային կառավարման և ենթակառուցվածքների նախարարության կարողությունների զարգացում և տեխնիկական հագեցվածության ապահովում | G39: =G41 -> -129.4
F40: այդ թվում` ըստ կատարողների
F41: ՀՀ տարածքային կառավարման և ենթակառուցվածքների նախարարություն | G41: =G42 -> -129.4
F42: այդ թվում` բյուջետային ծախսերի տնտեսագիտական դասակարգման հոդվածներ | G42: =G43 -> -129.4
F43: ԸՆԴԱՄԵՆԸ ԾԱԽՍԵՐ | G43: =G44 -> -129.4
F44: ՈՉ ՖԻՆԱՆՍԱԿԱՆ ԱԿՏԻՎՆԵՐԻ ԳԾՈՎ ԾԱԽՍԵՐ | G44: =G45 -> -129.4
F45: ՀԻՄՆԱԿԱՆ ՄԻՋՈՑՆԵՐ | G45: =G46 -> -129.4
F46: ՄԵՔԵՆԱՆԵՐ ԵՎ ՍԱՐՔԱՎՈՐՈՒՄՆԵՐ | G46: =G47 -> -129.4
F47: - Վարչական սարքավորումներ | G47: -129.4
B48: 03 | F48: Ընդհանուր բնույթի ծառայություններ | G48: =G50 -> -2968.7
F49: այդ թվում`
C50: 03 | F50: Ընդհանուր բնույթի այլ ծառայություններ | G50: =G56 -> -2968.7
F51: այդ թվում`
F52: ՀՀ տարածքային կառավարման և ենթակառուցվածքների նախարարություն | G52: =G56 -> -2968.7
F53: այդ թվում`
D54: 1079 | F54: Պետական գույքի կառավարում | G54: =G56 -> -2968.7
F55: այդ թվում`
E56: 11001 | F56: Պետական գույքի կառավարման համակարգման, խորհրդատվության և մոնիտորինգի ծառայություններ | G56: =G58 -> -2968.7
F57: այդ թվում` ըստ կատարողների
F58: ՀՀ տարածքային կառավարման և ենթակառուցվածքների նախարարության պետական գույքի կառավարման կոմիտե | G58: =G60 -> -2968.7
F59: այդ թվում` բյուջետային ծախսերի տնտեսագիտական դասակարգման հոդվածներ
F60: ԸՆԴԱՄԵՆԸ ԾԱԽՍԵՐ | G60: =G61 -> -2968.7
F61: ԸՆԹԱՑԻԿ ԾԱԽՍԵՐ | G61: =G62 -> -2968.7
F62: ԾԱՌԱՅՈՒԹՅՈՒՆՆԵՐԻ ԵՎ ԱՊՐԱՆՔՆԵՐԻ ՁԵՌՔԲԵՐՈՒՄ | G62: =G63+G67+G69 -> -2968.7
F63: Պայմանագրային այլ ծառայությունների ձեռքբերում | G63: =G64+G65+G66 -> -2266.9
F64: - Համակարգչային ծառայություններ | G64: -10.9
F65: - Կառավարչական ծառայություններ | G65: -1
F66: - Ընդհանուր բնույթի այլ ծառայություններ | G66: =-2255 -> -2255
F67: Այլ մասնագիտական ծառայությունների ձեռքբերում | G67: =G68 -> -4
F68: - Մասնագիտական ծառայություններ | G68: -4
F69: Նյութեր (Ապրանքներ) | G69: =G70+G71+G72 -> -697.8
F70: - Գրասենյակային նյութեր և հագուստ | G70: =-349.5 -> -349.5
F71: - Տրանսպորտային նյութեր | G71: =-344.3 -> -344.3
F72: - Կենցաղային և հանրային սննդի նյութեր | G72: -4
B73: 08 | F73: Կառավարության տարբեր մակարդակների միջև իրականացվող ընդհանուր բնույթի տրանսֆերտներ | G73: =+G75 -> 2246199.5
F74: այդ թվում`
C75: 01 | F75: Կառավարության տարբեր մակարդակների միջև իրականացվող ընդհանուր բնույթի տրանսֆերտներ | G75: =+G77 -> 2246199.5
F76: այդ թվում`
F77: ՀՀ տարածքային կառավարման և ենթակառուցվածքների նախարարություն | G77: =+G79 -> 2246199.5
F78: այդ թվում`
D79: 1212 | F79: Տարածքային զարգացում | G79: =+G90+G81 -> 2246199.5
F80: այդ թվում`
E81: 12003 | F81: Պետական աջակցություն սահմանամերձ համայնքներին | G81: =+G83 -> -50000
F82: այդ թվում` ըստ կատարողների
F83: ՀՀ Սյունիքի մարզպետարան | G83: =+G86 -> -50000
F84: այդ թվում` բյուջետային ծախսերի տնտեսագիտական դասակարգման հոդվածներ
F85: ԸՆԴԱՄԵՆԸ ԾԱԽՍԵՐ | G85: =+G86 -> -50000
F86: ԸՆԹԱՑԻԿ ԾԱԽՍԵՐ | G86: =+G87 -> -50000
F87: ՍՈՑԻԱԼԱԿԱՆ ՆՊԱՍՏՆԵՐ ԵՎ ԿԵՆՍԱԹՈՇԱԿՆԵՐ | G87: =+G88 -> -50000
F88: Սոցիալական օգնության դրամական արտահայտությամբ նպաստներ (բյուջեից) | G88: =+G89 -> -50000
F89: - Այլ նպաստներ բյուջեից | G89: -50000
E90: 12007 | F90: ՀՀ մարզերին սուբվենցիաների տրամադրում՛ ենթակառուցվածքների զարգացման նպատակով | G90: =+G92+G99+G106+G113+G120+G127+G134+G141+G148 -> 2296199.5
F91: այդ թվում` ըստ կատարողների
F92: ՀՀ կառավարություն | G92: =+G94 -> 108175.81
F93: այդ թվում` բյուջետային ծախսերի տնտեսագիտական դասակարգման հոդվածներ
F94: ԸՆԴԱՄԵՆԸ ԾԱԽՍԵՐ | G94: =+G95 -> 108175.81
F95: ԸՆԹԱՑԻԿ ԾԱԽՍԵՐ | G95: =+G96 -> 108175.81
F96: ԴՐԱՄԱՇՆՈՐՀՆԵՐ | G96: =+G97 -> 108175.81
F97: Կապիտալ դրամաշնորհներ պետական հատվածի այլ մակարդակներին | G97: =+G98 -> 108175.81
F98: - Կապիտալ սուբվենցիաներ համայնքներին | G98: =-G244-G225-G223-G204-G202-G193-G191-G182-G173-G154-G147-G140-G133-G126-G119-G112-G105-G89-G72-G71-G70-G68-G66-G65-G64-G47-G38-G37-G36-G34-G33-G32-G31 -> 108175.81
F99: ՀՀ Արագածոտնի մարզպետարան | G99: =+G101 -> 7586.8
F100: այդ թվում` բյուջետային ծախսերի տնտեսագիտական դասակարգման հոդվածներ
F101: ԸՆԴԱՄԵՆԸ ԾԱԽՍԵՐ | G101: =+G102 -> 7586.8
F102: ԸՆԹԱՑԻԿ ԾԱԽՍԵՐ | G102: =+G103 -> 7586.8
...

Sheet Հ4
H1: Հավելված N 4
F2: ՀՀ կառավարության 2022 թվականի
G3: _______ ի ___Ն որոշման
A6: «ՀԱՅԱUՏԱՆԻ ՀԱՆՐԱՊԵՏՈՒԹՅԱՆ 2022 ԹՎԱԿԱՆԻ ՊԵՏԱԿԱՆ ԲՅՈՒՋԵԻ ՄԱUԻՆ» OՐԵՆՔԻ N 1 ՀԱՎԵԼՎԱԾԻ N 3 ԱՂՅՈՒՍԱԿՈՒՄ ԿԱՏԱՐՎՈՂ ՓՈՓՈԽՈՒԹՅՈՒՆՆԵՐՆ ՈՒ ԼՐԱՑՈՒՄՆԵՐԸ
H7: հազար դրամ
A8: Ծրագրային դասիչ | C8: Բյուջետային գլխավոր կարգադրիչների, ծրագրերի, միջոցառումների և ուղղությունների անվանումները | D8: Ընդամենը, | E8: այդ թվում՝
A9: Ծրագիր | B9: Միջոցառում | E9: Կառուցման աշխատանքներ | F9: Վերակառուցման, վերանորոգման և վերականգնման աշխատանքներ | G9: Նախագծահե- տազոտական, գեոդեզիա- քարտեզագրա- կան աշխա- տանքներ | H9: Ոչ ֆինանսական այլ ակտիվների ձեռքբերում
C10: ԸՆԴԱՄԵՆԸ | D10: =+E10+F10+G10+H10 -> -2105433 | E10: =+E12 -> 0 | F10: =+F12 -> -2057887.2 | G10: =+G12 -> -47416.4 | H10: =+H12 -> -129.4
C11: այդ թվում՝
C12: ՀՀ ՏԱՐԱԾՔԱՅԻՆ ԿԱՌԱՎԱՐՄԱՆ ԵՎ ԵՆԹԱԿԱՌՈՒՑՎԱԾՔՆԵՐԻ ՆԱԽԱՐԱՐՈՒԹՅՈՒՆ | D12: =+E12+F12+G12+H12 -> -2105433 | E12: =+E14+E15+E47 -> 0 | F12: =+F14+F15+F47 -> -2057887.2 | G12: =+G14+G15+G47 -> -47416.4 | H12: =+H14+H15+H47 -> -129.4
C13: այդ թվում`
A14: 1001 | B14: 31001 | C14: ՀՀ տարածքային կառավարման և ենթակառուցվածքների նախարարության կարողությունների զարգացում և տեխնիկական հագեցվածության ապահովում | D14: =+E14+F14+G14+H14 -> -129.4 | E14: 0 | F14: 0 | G14: 0 | H14: =+Հ3!G47 -> -129.4
A15: 1049 | B15: 21001 | C15: Պետական նշանակության ավտոճանապարհների հիմնանորոգում | D15: =+E15+F15+G15+H15 -> -2045956.9 | E15: =+E17+E24+E32 -> 0 | F15: =+F17+F24+F32 -> -2002040.5 | G15: =+G17+G24+G32 -> -43916.4 | H15: =+H17+H24+H32 -> 0
C16: այդ թվում`
B17: 1 | C17: Միջպետական նշանակության ավտոճանապարհներ, այդ թվում | D17: =+E17+F17+G17+H17 -> -1439649.9 | E17: =SUM(E18:E23) -> 0 | F17: =SUM(F18:F23) -> -1409233.5 | G17: =SUM(G18:G23) -> -30416.4 | H17: =SUM(H18:H23) -> 0
C18: Մ-2, Երևան-Երասխ-Գորիս-Մեղրի-Իրանի սահման միջպետական նշանակության ավտոճանապարհի կմ329+820 - կմ338+100 հատվածի հիմնանորոգում | D18: =+E18+F18+G18+H18 -> -17725.9 | E18: 0 | F18: -17725.9 | G18: 0 | H18: 0
C19: Մ-3, Թուրքիայի սահման-Մարգարա-Վանաձոր-Տաշիր-Վրաստանի սահման միջպետական նշանակության ավտոճանապարհի կմ2+000 - կմ10+500 հատվածի հիմնանորոգում | D19: =+E19+F19+G19+H19 -> -687545.3 | E19: 0 | F19: -687545.3 | G19: 0 | H19: 0
C20: Մ-3, Թուրքիայի սահման-Մարգարա-Վանաձոր-Տաշիր-Վրաստանի սահման միջպետական նշանակության ավտոճանապարհի կմ97+020-կմ104+700 հատվածի հիմնանորոգում | D20: =+E20+F20+G20+H20 -> -264488.4 | E20: 0 | F20: -264488.4 | G20: 0 | H20: 0
C21: Մ-3, Թուրքիայի սահման-Մարգարա-Վանաձոր-Տաշիր-Վրաստանի սահման միջպետական նշանակության ավտոճանապարհի կմ116+790 (կմ116+900)-կմ128+718(կմ127+900) հատվածի հիմնանորոգում | D21: =+E21+F21+G21+H21 -> -30416.4 | E21: 0 | F21: 0 | G21: -30416.4 | H21: 0
C22: Մ-3, Թուրքիայի սահման-Մարգարա-Վանաձոր-Տաշիր-Վրաստանի սահման միջպետական նշանակության ավտոճանապարհի կմ154+000-կմ176+900 հատվածի հիմնանորոգում | D22: =+E22+F22+G22+H22 -> 45749.2 | E22: 0 | F22: 45749.2 | G22: 0 | H22: 0
C23: Մ-4, Երևան-Սևան-Իջևան-Ադրբեջանի սահման միջպետական նշանակության ավտոճանապարհի կմ91+176-կմ96+176 հատվածի հիմնանորոգում և ոլորանների պարամետրերի բարելավում | D23: =+E23+F23+G23+H23 -> -485223.1 | E23: 0 | F23: -485223.1 | G23: 0 | H23: 0
B24: 2 | C24: Հանրապետական նշանակության ավտոճանապարհներ, այդ թվում | D24: =+E24+F24+G24+H24 -> -117458.1 | E24: =SUM(E25:E31) -> 0 | F24: =SUM(F25:F31) -> -117458.1 | G24: =SUM(G25:G31) -> 0 | H24: =SUM(H25:H31) -> 0
C25: Հ-2, /Հ-1/ Աբովյան- Արզնի-/Հ-6/ (Նոր Գեղի) հանրապետական նշանակության ավտոճանապարհի կմ0+000-կմ1+400 հատվածի հիմնանորոգում | D25: =+E25+F25+G25+H25 -> -7769.7 | E25: 0 | F25: -7769.7 | G25: 0 | H25: 0
C26: Հ-5, /Հ-6/-Նոր Գեղի-Արգել-Արզական-Հրազդան հանրապետական նշանակության ավտոճանապարհի կմ0+000 - կմ10+000 հատվածի հիմնանորոգում | D26: =+E26+F26+G26+H26 -> -13156 | E26: 0 | F26: -13156 | G26: 0 | H26: 0
C27: Հ-33, /Մ-3 /Ստեփանավան-Ագարակ-Յաղդան-/Հ-35/ հանրապետական նշանակության ավտոճանապարհի կմ0+000-կմ8+100 հատվածի հիմնանորոգում | D27: =+E27+F27+G27+H27 -> -3845.8 | E27: 0 | F27: -3845.8 | G27: 0 | H27: 0
C28: Հ-36, /Մ-4/ (Իջևան) - Նավուր - Բերդ - Այգեպար հանրապետական նշանակության ավտոճանապարհի կմ 5+600-կմ 42+100 հատվածի հիմնանորոգում | D28: =+E28+F28+G28+H28 -> -6125 | E28: 0 | F28: =+Հ6!E29 -> -6125 | G28: 0 | H28: 0
C29: Հ-41, /Մ-2/ - Նորավանքի պատմական հուշարձան հանրապետական նշանակության ավտոճանապարհի կմ0+000-կմ8+100 հատվածի հիմնանորոգում | D29: =+E29+F29+G29+H29 -> -85000 | E29: 0 | F29: -85000 | G29: 0 | H29: 0
C30: Հ-46, /Մ-2/-Տաթև-Աղվանի-/Մ-2/(Սյունիք) հանրապետական նշանակության ավտոճանապարհի կմ37+500-կմ55+000 հատվածի հիմնանորոգում | D30: =+E30+F30+G30+H30 -> -1040.8 | E30: 0 | F30: -1040.8 | G30: 0 | H30: 0
C31: Հ-93, /Հ-75/ - Երերույքի տաճար հանրապետական նշանակության ավտոճանապարհի կմ 0+000-կմ 2+700 հատվածի հիմնանորոգում | D31: =+E31+F31+G31+H31 -> -520.8 | E31: 0 | F31: -520.8 | G31: 0 | H31: 0
B32: 3 | C32: Մարզային նշանակության ավտոճանապարհներ, այդ թվում | D32: =+E32+F32+G32+H32 -> -488848.9 | E32: =SUM(E33:E46) -> 0 | F32: =SUM(F33:F46) -> -475348.9 | G32: =SUM(G33:G46) -> -13500 | H32: =SUM(H33:H46) -> 0
C33: Տ-3-44, /Մ-5/ – Ծիածան – Աղավնատուն – Լեռնամերձ ավտոճանապարհի կմ0+000-կմ7+300 հատվածի հիմնանորոգում | D33: =+E33+F33+G33+H33 -> -10950 | E33: 0 | F33: 0 | G33: -10950 | H33: 0
C34: Տ-3-76, Զարթոնք - Արտաշար /Տ-3-54/ ավտոճանապարհի կմ 0+000-կմ 2+100 հատվածի հիմնանորոգում | D34: =+E34+F34+G34+H34 -> -42711.2 | E34: 0 | F34: -42711.2 | G34: 0 | H34: 0
C35: Տ-3-61, /Մ-5/ (Նորապատ) - /Հ-17/ ավտոճանապարհի կմ0+000-կմ1+700 հատվածի հիմնանորոգում | D35: =+E35+F35+G35+H35 -> -2550 | E35: 0 | F35: 0 | G35: -2550 | H35: 0
C36: Տ-5-7, /Մ-7/ (Շիրակամուտ) - Լեռնավան (Տ-5-38) ավտոճանապարհի կմ0+000 - կմ1+142 հատվածի հիմնանորոգում | D36: =+E36+F36+G36+H36 -> -3163.9 | E36: 0 | F36: -3163.9 | G36: 0 | H36: 0
C37: Տ-5-23, /Մ-3/ - Սարամեջ ավտոճանապարհի կմ0+000-կմ4+300 հատվածի հիմնանորոգում | D37: =+E37+F37+G37+H37 -> -32997.6 | E37: 0 | F37: -32997.6 | G37: 0 | H37: 0
C38: Մ-6 - Եղեգնուտ - Դեբեդ ավտոճանապարհի կմ0+000 - կմ7+183 հատվածի հիմնանորոգում | D38: =+E38+F38+G38+H38 -> -2095.6 | E38: 0 | F38: -2095.6 | G38: 0 | H38: 0
C39: Տ-9-19, /Մ-2/ - Հերհեր -Կարմրաշեն մարզային նշանակության ավտոճանապարհի կմ10+000 - կմ18+700 հատվածի հիմնանորոգում | D39: =+E39+F39+G39+H39 -> -19509.7 | E39: 0 | F39: -19509.7 | G39: 0 | H39: 0
C40: Հրազդան քաղաքի Տիգրան Մեծ փողոցի 290 գծ.մ հատվածի հիմնանորոգում | D40: =+E40+F40+G40+H40 -> -887 | E40: 0 | F40: -887 | G40: 0 | H40: 0
C41: Հրազդան քաղաքի Վանատուր թաղամասի միջթաղամասային փողոցների 3384 գծ.մ ( 626 գծ.մ, 310 գծ.մ, 176 գծ.մ, 1235 գծ.մ, 950 գծ.մ և 87 գծ.մ ) հատվածների հիմնանորոգում | D41: =+E41+F41+G41+H41 -> -16570.7 | E41: 0 | F41: -16570.7 | G41: 0 | H41: 0
C42: Հրազդան քաղաքի հարավային թաղամաս 1069 գծ.մ ( Նոյեմբերյան փողոց 627 գծ.մ, Մյասնիկյան փողոց 442 գծ.մ ) հատվածների հիմնանորոգում | D42: =+E42+F42+G42+H42 -> -9761.4 | E42: 0 | F42: -9761.4 | G42: 0 | H42: 0
C43: ՀՀ Գեղարքունիքի մարզի Մարտունի համայնքի Մյասնիկյան փողոցի մայթերի կառուցում | D43: =+E43+F43+G43+H43 -> -98363.2 | E43: 0 | F43: -98363.2 | G43: 0 | H43: 0
C44: Տ-8-93.Լծեն-Տաթև ավտոճանապարհի վերակառուցում | D44: =+E44+F44+G44+H44 -> -44946.3 | E44: 0 | F44: -44946.3 | G44: 0 | H44: 0
C45: Որոտան-Խոտ ավտոճանապարհի վերակառուցում | D45: =+E45+F45+G45+H45 -> -179529.3 | E45: 0 | F45: =+Հ6!E46 -> -179529.3 | G45: 0 | H45: 0
C46: Տանձավեր-Շուռնուխ ավտոճանապարհի կառուցում | D46: =+E46+F46+G46+H46 -> -24813 | E46: 0 | F46: -24813 | G46: 0 | H46: 0
A47: 1049 | B47: 21002 | C47: Տրանսպորտային օբյեկտների հիմնանորոգում, այդ թվում | D47: =+E47+F47+G47+H47 -> -59346.7 | E47: =+E48+E49 -> 0 | F47: =+F48+F49 -> -55846.7 | G47: =+G48+G49 -> -3500 | H47: =+H48+H49 -> 0
C48: Մ-10, Սևան-Մարտունի-Գետափ Կմ 123+500 (Գետափ բնակավայրի դպրոցի մոտ) վերգետնյա հետիոտնային անցման կառուցում | D48: =+E48+F48+G48+H48 -> -55846.7 | E48: 0 | F48: -55846.7 | G48: 0 | H48: 0
C49: Մ-5, Երևան - Արմավիր - Թուրքիայի սահման միջպետական նշանակության ավտոճանապարհի հարևանությամբ գտնվող Պտղունք գյուղի միջնակարգ դպրոցի հատվածում վերգետնյա հետիոտնային անցումի կառուցում | D49: =+E49+F49+G49+H49 -> -3500 | E49: 0 | F49: 0 | G49: -3500 | H49: 0

Sheet Հ5
E1: Հավելված N 5
E2: ՀՀ կառավարության 2022 թվականի
E3: -ի N - Ն որոշման
B4: «ՀԱՅԱՍՏԱՆԻ ՀԱՆՐԱՊԵՏՈՒԹՅԱՆ 2022 ԹՎԱԿԱՆԻ ՊԵՏԱԿԱՆ ԲՅՈՒՋԵԻ ՄԱՍԻՆ» ՕՐԵՆՔԻ N 1 ՀԱՎԵԼՎԱԾԻ N 6 ԱՂՅՈՒՍԱԿՈՒՄ ԿԱՏԱՐՎՈՂ ՓՈՓՈԽՈՒԹՅՈՒՆ, ՀԱՅԱՍՏԱՆԻ ՀԱՆՐԱՊԵՏՈՒԹՅԱՆ ԿԱՌԱՎԱՐՈՒԹՅԱՆ 2021 ԹՎԱԿԱՆԻ ԴԵԿՏԵՄԲԵՐԻ 23-Ի N 2121-Ն ՈՐՈՇՄԱՆ N 5 ՀԱՎԵԼՎԱԾԻ N 5 ԱՂՅՈՒՍԱԿՈՒՄ ԿԱՏԱՐՎՈՂ ՓՈՓՈԽՈՒԹՅՈՒՆՆԵՐԸ
E5: հազար դրամ
B6: Ծրագրային դասիչը | D6: Բյուջետային ծրագրերի, միջոցառումների և աշխատանքների անվանումները | E6: Ցուցանիշների փոփոխությունը (նվազեցումները նշված են փակագծերում)
B8: Ծրագիր | C8: Միջոցառում | E8: Տարի
B9: 1049 | D9: Ճանապարհային ցանցի բարելավում
C10: 11001 | D10: Միջպետական և հանրապետական նշանակության ավտոճանապարհների պահպանման և անվտանգ երթևեկության ծառայություններ¸ այդ թվում՝ | E10: =+E11 -> -86114.71
D11: 1. Ավտոճանապարհների ձմեռային և ընթացիկ պահպանում, այդ թվում` | E11: =+E12 -> -86114.71
D12: 1.2 Պարբերական պահպանում (միջին նորոգում) | E12: =+'[1]2'!G41 -> -86114.71

Sheet Հ6
E1: Հավելված N 6
E2: ՀՀ կառավարության 2022 թվականի
E3: ______________ ի ___Ն որոշման
B5: ՀԱՅԱՍՏԱՆԻ ՀԱՆՐԱՊԵՏՈՒԹՅԱՆ ԿԱՌԱՎԱՐՈՒԹՅԱՆ 2021 ԹՎԱԿԱՆԻ ԴԵԿՏԵՄԲԵՐԻ 23-Ի N 2121-Ն ՈՐՈՇՄԱՆ N 5 ՀԱՎԵԼՎԱԾԻ N 2 ԱՂՅՈՒՍԱԿՈՒՄ ԿԱՏԱՐՎՈՂ ՓՈՓՈԽՈՒԹՅՈՒՆՆԵՐՆ ՈՒ ԼՐԱՑՈՒՄՆԵՐԸ
E6: հազար դրամ
B7: Ծրագրային դասիչ | D7: Բյուջետային գլխավոր կարգադրիչների, ծրագրերի, միջոցառումների, միջոցառումները կատարող պետական մարմինների և ուղղությունների անվանումները | E7: Տարի
B8: Ծրագիր | C8: Միջոցառում
D9: ՀՀ ՏԱՐԱԾՔԱՅԻՆ ԿԱՌԱՎԱՐՄԱՆ ԵՎ ԵՆԹԱԿԱՌՈՒՑՎԱԾՔՆԵՐԻ ՆԱԽԱՐԱՐՈՒԹՅՈՒՆ | E9: =+E11+E14+E48 -> -2105433
D10: այդ թվում`
B11: 1001 | C11: 31001 | D11: ՀՀ տարածքային կառավարման և ենթակառուցվածքների նախարարության կարողությունների զարգացում և տեխնիկական հագեցվածության ապահովում | E11: =E13 -> -129.4
D12: այդ թվում` ըստ կատարողների
D13: ՀՀ տարածքային կառավարման և ենթակառուցվածքների նախարարություն | E13: =+Հ4!H14 -> -129.4
B14: 1049 | C14: 21001 | D14: Պետական նշանակության ավտոճանապարհների հիմնանորոգում | E14: =+E16 -> -2045956.9
D15: այդ թվում` ըստ կատարողների
D16: ՀՀ տարածքային կառավարման և ենթակառուցվածքների նախարարություն | E16: =+E18+E25+E33 -> -2045956.9
D17: այդ թվում՝ ըստ ուղղությունների
C18: 1 | D18: Միջպետական նշանակության ավտոճանապարհներ, այդ թվում | E18: =SUM(E19:E24) -> -1439649.9
D19: Մ-2, Երևան-Երասխ-Գորիս-Մեղրի-Իրանի սահման միջպետական նշանակության ավտոճանապարհի կմ329+820 - կմ338+100 հատվածի հիմնանորոգում | E19: -17725.9
D20: Մ-3, Թուրքիայի սահման-Մարգարա-Վանաձոր-Տաշիր-Վրաստանի սահման միջպետական նշանակության ավտոճանապարհի կմ2+000 - կմ10+500 հատվածի հիմնանորոգում | E20: -687545.3
D21: Մ-3, Թուրքիայի սահման-Մարգարա-Վանաձոր-Տաշիր-Վրաստանի սահման միջպետական նշանակության ավտոճանապարհի կմ97+020-կմ104+700 հատվածի հիմնանորոգում | E21: -264488.4
D22: Մ-3, Թուրքիայի սահման-Մարգարա-Վանաձոր-Տաշիր-Վրաստանի սահման միջպետական նշանակության ավտոճանապարհի կմ116+790 (կմ116+900)-կմ128+718(կմ127+900) հատվածի հիմնանորոգում | E22: -30416.4
D23: Մ-3, Թուրքիայի սահման-Մարգարա-Վանաձոր-Տաշիր-Վրաստանի սահման միջպետական նշանակության ավտոճանապարհի կմ154+000-կմ176+900 հատվածի հիմնանորոգում | E23: 45749.2
D24: Մ-4, Երևան-Սևան-Իջևան-Ադրբեջանի սահման միջպետական նշանակության ավտոճանապարհի կմ91+176-կմ96+176 հատվածի հիմնանորոգում և ոլորանների պարամետրերի բարելավում | E24: -485223.1
C25: 2 | D25: Հանրապետական նշանակության ավտոճանապարհներ, այդ թվում | E25: =SUM(E26:E32) -> -117458.1
D26: Հ-2, /Հ-1/ Աբովյան- Արզնի-/Հ-6/ (Նոր Գեղի) հանրապետական նշանակության ավտոճանապարհի կմ0+000-կմ1+400 հատվածի հիմնանորոգում | E26: -7769.7
D27: Հ-5, /Հ-6/-Նոր Գեղի-Արգել-Արզական-Հրազդան հանրապետական նշանակության ավտոճանապարհի կմ0+000 - կմ10+000 հատվածի հիմնանորոգում | E27: -13156
D28: Հ-33, /Մ-3 /Ստեփանավան-Ագարակ-Յաղդան-/Հ-35/ հանրապետական նշանակության ավտոճանապարհի կմ0+000-կմ8+100 հատվածի հիմնանորոգում | E28: -3845.8
D29: Հ-36, /Մ-4/ (Իջևան) - Նավուր - Բերդ - Այգեպար հանրապետական նշանակության ավտոճանապարհի կմ 5+600-կմ 42+100 հատվածի հիմնանորոգում | E29: -6125
D30: Հ-41, /Մ-2/ - Նորավանքի պատմական հուշարձան հանրապետական նշանակության ավտոճանապարհի կմ0+000-կմ8+100 հատվածի հիմնանորոգում | E30: -85000
D31: Հ-46, /Մ-2/-Տաթև-Աղվանի-/Մ-2/(Սյունիք) հանրապետական նշանակության ավտոճանապարհի կմ37+500-կմ55+000 հատվածի հիմնանորոգում | E31: -1040.8
D32: Հ-93, /Հ-75/ - Երերույքի տաճար հանրապետական նշանակության ավտոճանապարհի կմ 0+000-կմ 2+700 հատվածի հիմնանորոգում | E32: -520.8
C33: 3 | D33: Մարզային նշանակության ավտոճանապարհներ, այդ թվում | E33: =SUM(E34:E47) -> -488848.9
D34: Տ-3-44, /Մ-5/ – Ծիածան – Աղավնատուն – Լեռնամերձ ավտոճանապարհի կմ0+000-կմ7+300 հատվածի հիմնանորոգում | E34: -10950
D35: Տ-3-76, Զարթոնք - Արտաշար /Տ-3-54/ ավտոճանապարհի կմ 0+000-կմ 2+100 հատվածի հիմնանորոգում | E35: -42711.2
D36: Տ-3-61, /Մ-5/ (Նորապատ) - /Հ-17/ ավտոճանապարհի կմ0+000-կմ1+700 հատվածի հիմնանորոգում | E36: -2550
D37: Տ-5-7, /Մ-7/ (Շիրակամուտ) - Լեռնավան (Տ-5-38) ավտոճանապարհի կմ0+000 - կմ1+142 հատվածի հիմնանորոգում | E37: -3163.9
D38: Տ-5-23, /Մ-3/ - Սարամեջ ավտոճանապարհի կմ0+000-կմ4+300 հատվածի հիմնանորոգում | E38: -32997.6
D39: Մ-6 - Եղեգնուտ - Դեբեդ ավտոճանապարհի կմ0+000 - կմ7+183 հատվածի հիմնանորոգում | E39: -2095.6
D40: Տ-9-19, /Մ-2/ - Հերհեր -Կարմրաշեն մարզային նշանակության ավտոճանապարհի կմ10+000 - կմ18+700 հատվածի հիմնանորոգում | E40: -19509.7
D41: Հրազդան քաղաքի Տիգրան Մեծ փողոցի 290 գծ.մ հատվածի հիմնանորոգում | E41: -887
D42: Հրազդան քաղաքի Վանատուր թաղամասի միջթաղամասային փողոցների 3384 գծ.մ ( 626 գծ.մ, 310 գծ.մ, 176 գծ.մ, 1235 գծ.մ, 950 գծ.մ և 87 գծ.մ ) հատվածների հիմնանորոգում | E42: -16570.7
D43: Հրազդան քաղաքի հարավային թաղամաս 1069 գծ.մ ( Նոյեմբերյան փողոց 627 գծ.մ, Մյասնիկյան փողոց 442 գծ.մ ) հատվածների հիմնանորոգում | E43: -9761.4
D44: ՀՀ Գեղարքունիքի մարզի Մարտունի համայնքի Մյասնիկյան փողոցի մայթերի կառուցում | E44: -98363.2
D45: Տ-8-93.Լծեն-Տաթև ավտոճանապարհի վերակառուցում | E45: -44946.3
... D47: Տանձավեր-Շուռնուխ ավտոճանապարհի կառուցում | E47: -24813
B48: 1049 | C48: 21002 | D48: Տրանսպորտային օբյեկտների հիմնանորոգում | E48: =+E50 -> -59346.7
D49: այդ թվում` ըստ կատարողների
D50: ՀՀ տարածքային կառավարման և ենթակառուցվածքների նախարարություն | E50: =SUM(E52:E53) -> -59346.7
D51: այդ թվում՝ ըստ ուղղությունների
D52: Մ-10, Սևան-Մարտունի-Գետափ Կմ 123+500 (Գետափ բնակավայրի դպրոցի մոտ) վերգետնյա հետիոտնային անցման կառուցում | E52: -55846.7
D53: Մ-5, Երևան - Արմավիր - Թուրքիայի սահման միջպետական նշանակության ավտոճանապարհի հարևանությամբ գտնվող Պտղունք գյուղի միջնակարգ դպրոցի հատվածում վերգետնյա հետիոտնային անցումի կառուցում | E53: -3500

Sheet Հ7
F1: Հավելված N 7
F2: ՀՀ կառավարության 2022 թվականի
F3: ______________ ի ___Ն որոշման
C5: «ՀԱՅԱՍՏԱՆԻ ՀԱՆՐԱՊԵՏՈՒԹՅԱՆ 2022 ԹՎԱԿԱՆԻ ՊԵՏԱԿԱՆ ԲՅՈՒՋԵԻ ՄԱՍԻՆ» ՕՐԵՆՔԻ N 1 ՀԱՎԵԼՎԱԾԻ N 8 ԱՂՅՈՒՍԱԿՈՒՄ ԿԱՏԱՐՎՈՂ ՓՈՓՈԽՈՒԹՅՈՒՆՆԵՐԸ
E7: հազար դրամ
B8: Ծրագրային դասիչը | D8: Ծրագրերի և միջոցառումների անվանումները | E8: Պետական մարմինների անվանումները | F8: Ցուցանիշների փոփոխությունը (նվազեցումները նշված են փակագծերում)
B9: Ծրագիր | C9: Միջոցառում | F9: Գումարը
D10: ԸՆԴԱՄԵՆԸ | F10: =+F11 -> -50000
B11: 1212 | D11: Տարածքային զարգացում | F11: =+F12 -> -50000
C12: 12003 | D12: Պետական աջակցություն սահմանամերձ համայնքներին | E12: ՀՀ Սյունիքի մարզպետարան | F12: =+Հ3!G89 -> -50000

Sheet Հ8
D1: Հավելված N 8
D2: ՀՀ կառավարության 2022 թվականի
D3: ______________ ի ___Ն որոշման
B5: ՀԱՅԱՍՏԱՆԻ ՀԱՆՐԱՊԵՏՈՒԹՅԱՆ ԿԱՌԱՎԱՐՈՒԹՅԱՆ 2021 ԹՎԱԿԱՆԻ ԴԵԿՏԵՄԲԵՐԻ 23-Ի N 2121-Ն ՈՐՈՇՄԱՆ N 9 ՀԱՎԵԼՎԱԾԻ N 9.7 ԱՂՅՈՒՍԱԿՈՒՄ ԿԱՏԱՐՎՈՂ ՓՈՓՈԽՈՒԹՅՈՒՆՆԵՐԸ ԵՎ ԼՐԱՑՈՒՄՆԵՐԸ
B7: ՀՀ տարածքային կառավարման և ենթակառուցվածքների նախարարություն
B9: ՄԱՍ 2. ՊԵՏԱԿԱՆ ՄԱՐՄՆԻ ԳԾՈՎ ԱՐԴՅՈՒՆՔԱՅԻՆ (ԿԱՏԱՐՈՂԱԿԱՆ) ՑՈՒՑԱՆԻՇՆԵՐԸ
B11: Ծրագրի դասիչը | C11: Ծրագրի անվանումը
B12: 1001 | C12: Տարածքային կառավարման ոլորտում քաղաքականության մշակում, ծրագրերի համակարգում և մոնիտորինգի իրականացում
B14: Ծրագրի միջոցառումները
B15: Ծրագրի դասիչը` | C15: 1001 | D15: Ցուցանիշների փոփոխությունը (նվազեցումները նշված են փակագծերում)
B16: Միջոցառման դասիչը` | C16: 11001 | D16: Տարի
B17: Միջոցառման անվանումը` | C17: Տարածքային կառավարման և ենթակառուցվածքների քաղաքականության մշակում և ծառայությունների մատուցում
B18: Նկարագրությունը` | C18: Տարածքային կառավարման և ենթակառուցվածքների բնագավառում պետական քաղաքականության մշակման և դրա կատարման համակարգման, պետական ծրագրերի մշակման, իրականացման, մոնիտորինգի, խորհրդատվության և աջակցության ծառայություններ
B19: Միջոցառման տեսակը` | C19: Ծառայությունների մատուցում
B20: Միջոցառումն իրականացնողի անվանումը | C20: ՀՀ տարածքային կառավարման և ենթակառուցվածքների նախարարություն
B21: Արդյունքի չափորոշիչներ
B22: Միջոցառման վրա կատարվող ծախսը (հազար դրամ) | D22: =+Հ3!G23 -> -5734.104
B24: Ծրագրի դասիչը` | C24: 1001 | D24: Ցուցանիշների փոփոխությունը (նվազեցումները նշված են փակագծերում)
B25: Միջոցառման դասիչը` | C25: 31001 | D25: Տարի
B26: Միջոցառման անվանումը` | C26: ՀՀ տարածքային կառավարման և ենթակառուցվածքների նախարարության կարողությունների զարգացում և տեխնիկական հագեցվածության ապահովում
B27: Նկարագրությունը` | C27: ՀՀ տարածքային կառավարման և ենթակառուցվածքների նախարարության աշխատանքային պայմանների բարելավման համար վարչական սարքավորումների ձեռք բերում_x000D_
B28: Միջոցառման տեսակը` | C28: Պետական մարմինների կողմից օգտագործվող ոչ ֆինանսական ակտիվների հետ գործառնություններ
B29: Ակտիվն օգտագործող կազմակերպության անվանումը՝ | C29: ՀՀ տարածքային կառավարման և ենթակառուցվածքների նախարարություն
B30: Արդյունքի չափորոշիչներ
B31: Միջոցառման վրա կատարվող ծախսը (հազար դրամ) | D31: =+Հ3!G47 -> -129.4
B33: Ծրագրի դասիչը | C33: Ծրագրի անվանումը
B34: 1038 | C34: Տարածքային կառավարման և տեղական ինքնակառավարման մարմինների ներկայացուցիչների մասնագիտական վերապատրաստում և հատուկ ուսուցում
B36: Ծրագրի միջոցառումները
B37: Ծրագրի դասիչը` | C37: 1038 | D37: Ցուցանիշների փոփոխությունը (նվազեցումները նշված են փակագծերում)
B38: Միջոցառման դասիչը` | C38: 11001 | D38: Տարի
B39: Միջոցառման անվանումը` | C39: Վերապատրաստման ծառայություններ
B40: Նկարագրությունը` | C40: Տարածքային կառավարման մարմինների աշխատակիցների, տեղական ինքնակառավարման մարմինների, ինչպես նաև համայնքային ծառայողների վերապատրաստման կազմակերպում
B41: Միջոցառման տեսակը` | C41: Ծառայությունների մատուցում
B42: Ծառայությունը մատուցող կազմակերպության(ների) անվանում(ներ)ը` | C42: «Գնումների մասին» ՀՀ օրենքի համաձայն ընտրված կազմակերպություն
B43: Արդյունքի չափորոշիչներ
B44: Միջոցառման վրա կատարվող ծախսը (հազար դրամ) | D44: =+Հ3!G215 -> -9384
B46: Ծրագրի դասիչը | C46: Ծրագրի անվանումը
B47: 1049 | C47: Ճանապարհային ցանցի բարելավում
B49: Ծրագրի միջոցառումները
B51: Ծրագրի դասիչը` | C51: 1049 | D51: Ցուցանիշների փոփոխությունը (նվազեցումները նշված են փակագծերում)
B52: Միջոցառման դասիչը` | C52: 11001 | D52: Տարի
B53: Միջոցառման անվանումը` | C53: Միջպետական և հանրապետական նշանակության ավտոճանապարհների պահպանման և անվտանգ երթևեկության ծառայություններ
B54: Նկարագրությունը` | C54: Հողային պաստառի, երթևեկելի մասի, արհեստական կառույցների և կահավորման տարրերի նորմատիվ մակարդակում պահպանում և շահագործում
B55: Միջոցառման տեսակը` | C55: Ծառայությունների մատուցում
B56: Միջոցառումն իրականացնողի անվանումը | C56: ՀՀ տարածքային կառավարման և ենթակառուցվածքների նախարարություն, մրցութային կարգով ընտրված կազմակերպություններ
B57: Արդյունքի չափորոշիչներ
B58: Պարբերական պահպանման/ միջին նորոգման ենթակա ճանապարհների երկարությունը, կիլոմետր | D58: -2
B59: Միջոցառման վրա կատարվող ծախսը (հազար դրամ) | D59: -86114.71
B62: Ծրագրի դասիչը` | C62: 1049 | D62: Ցուցանիշների փոփոխությունը (նվազեցումները նշված են փակագծերում)
B63: Միջոցառման դասիչը` | C63: 11003 | D63: Տարի
B64: Միջոցառման անվանումը` | C64: Հայաստանի Հանրապետությունում հսկիչ սարքերի (թվային տախոգրաֆի) համակարգի կարգավորում
B65: Նկարագրությունը` | C65: Հայաստանի Հանրապետությունում հսկիչ սարքերի (թվային տախոգրաֆի) համակարգի անընդհատ և անխափան աշխատանքի ապահովման նպատակով տախոնետ կապի ապահովում
B66: Միջոցառման տեսակը` | C66: Ծառայությունների մատուցում
B67: Միջոցառումն իրականացնողի անվանումը | C67: Մրցութային ընտրակարգով հաղթող ճանաչված ընկերություն
B68: Արդյունքի չափորոշիչներ
B69: Սպասարկվող կապերի քանակը, հատ | D69: -1
B70: Թվային տախոգրաֆի համակարգում գրանցված տախոքարտերի քանակը, հատ | D70: -500
B71: Միջոցառման վրա կատարվող ծախսը (հազար դրամ) | D71: =+Հ3!G182 -> -16565
B73: Ծրագրի դասիչը` | C73: 1049 | D73: Ցուցանիշների փոփոխությունը (Նվազեցումները նշված են փակագծերում)
B74: Միջոցառման դասիչը` | C74: 21001 | D74: Տարի
B75: Միջոցառման անվանումը` | C75: Պետական նշանակության ավտոճանապարհների հիմնանորոգում
B76: Նկարագրությունը` | C76: Միջպետական՝ հանրապետական և մարզային նշանակության ավտոճանապարհների քայքայված ծածկի վերանորոգում՝ մաշված ծածկի փոխարինում_x000D_
B77: Միջոցառման տեսակը` | C77: Հանրության կողմից անմիջականորեն օգտագործվող ակտիվների հետ կապված միջոցառումներ
B78: Միջոցառումն իրականացնողի անվանումը | C78: Մասնագիտացված միավոր
B79: Արդյունքի չափորոշիչներ
B80: Միջպետական նշանակության ավտոճանապարհներ | D80: -9.5
B81: Մարզային նշանակության ավտոճանապարհներ | D81: -1.1
B82: Միջոցառման վրա կատարվող ծախսը (հազար դրամ) | D82: =+Հ3!G183 -> -2045956.9
B84: Ծրագրի դասիչը` | C84: 1049 | D84: Ցուցանիշների փոփոխությունը (Նվազեցումները նշված են փակագծերում)
B85: Միջոցառման դասիչը` | C85: 21002 | D85: Տարի
B86: Միջոցառման անվանումը` | C86: Տրանսպորտային օբյեկտների հիմնանորոգում
B87: Նկարագրությունը` | C87: Ավտոմոբիլային ճանապարհների վրա գտնվող կամուրջների հիմնանորոգում
B88: Միջոցառման տեսակը` | C88: Հանրության կողմից անմիջականորեն օգտագործվող ակտիվների հետ կապված միջոցառումներ
B89: Միջոցառումն իրականացնողի անվանումը | C89: Մասնագիտացված միավոր
B90: Արդյունքի չափորոշիչներ
B91: Կամուրջներ, այդ թվում աշխատանքներ և ծառայություններ | D91: -3
B92: Շինարարություն, հատ | D92: -3
B93: Կամուրջներ (մ) | D93: -250.7
B94: Տրանսպորտային հանգույցներ (ուղեանցեր, հենապատեր և այլն), այդ թվում աշխատանքներ և ծառայություններ | D94: -1
B95: Շինարարություն, հատ | D95: -1
B96: Միջոցառման վրա կատարվող ծախսը (հազար դրամ) | D96: =+Հ3!G194 -> -59346.7
B99: Ծրագրի դասիչը | C99: Ծրագրի անվանումը
B100: 1070 | C100: Աջակցություն փախստականների ինտեգրմանը
B102: Ծրագրի միջոցառումները
B103: Ծրագրի դասիչը` | C103: 1070 | D103: Ցուցանիշների փոփոխությունը (նվազեցումները նշված են փակագծերում)
B104: Միջոցառման դասիչը` | C104: 11001 | D104: Տարի
B105: Միջոցառման անվանումը` | C105: Ապաստան հայցողների կեցության խնդիրների լուծման միջոցառումների իրականացում
B106: Նկարագրությունը` | C106: Ապաստան հայցողներին և նրանց ընտանիքներին ժամանակավոր կացարանի, սննդի, իրավաբանական խորհրդատվական անվճար ծառայությունների մատուցում
B107: Միջոցառման տեսակը` | C107: Ծառայությունների մատուցում
B108: Միջոցառումն իրականացնողի անվանումը? | C108: Մասնագիտացված կազմակերպություն
B109: Արդյունքի չափորոշիչներ
B110: Միջոցառման վրա կատարվող ծախսը (հազար դրամ) | D110: =+Հ3!G228 -> -20000
B112: Ծրագրի դասիչը | C112: Ծրագրի անվանումը
B113: 1079 | C113: Պետական գույքի կառավարում
B115: Ծրագրի միջոցառումները
B116: Ծրագրի դասիչը՝ | C116: 1079 | D116: Ցուցանիշների փոփոխությունը (նվազեցումները նշված են փակագծերում)
B117: Միջոցառման դասիչը՝ | C117: =11001 -> 11001 | D117: Տարի
B118: Միջոցառման անվանումը՝ | C118: Պետական գույքի կառավարման համակարգման, խորհրդատվության և մոնիտորինգի ծառայություններ
B119: Նկարագրությունը՝ | C119: Պետական գույքի հաշվառում, գույքագրում, աճուրդների կազմակերպում, մասնավորեցվող գույքի վերաբերյալ տեղեկատվության հրապարակում
B120: Միջոցառման տեսակը՝ | C120: Ծառայությունների մատուցում
...

Sheet Հ9
D1: Հավելված N 9
D2: ՀՀ կառավարության 2022 թվականի
D3: ______________ ի ___Ն որոշման
B5: ՀԱՅԱՍՏԱՆԻ ՀԱՆՐԱՊԵՏՈՒԹՅԱՆ ԿԱՌԱՎԱՐՈՒԹՅԱՆ 2021 ԹՎԱԿԱՆԻ ԴԵԿՏԵՄԲԵՐԻ 23-Ի N 2121-Ն ՈՐՈՇՄԱՆ N 9.1 ՀԱՎԵԼՎԱԾԻ NN 9.1.8, 9.1.34, 9.1.35, 9.1.49, 9.1.50, 9.1.51, 9.1.52, 9.1.53, 9.1.54, 9.1.56, 9.1.57 ԵՎ 9.1.59 ԱՂՅՈՒՍԱԿՆԵՐՈՒՄ ԿԱՏԱՐՎՈՂ ՓՈՓՈԽՈՒԹՅՈՒՆՆԵՐԸ ԵՎ ԼՐԱՑՈՒՄՆԵՐԸ
D7: Աղյուսակ 9.1.8
B8: ՀՀ տարածքային կառավարման և ենթակառուցվածքների նախարարություն
B9: ՄԱՍ 1. ՊԵՏԱԿԱՆ ՄԱՐՄՆԻ ԳԾՈՎ ԱՐԴՅՈՒՆՔԱՅԻՆ (ԿԱՏԱՐՈՂԱԿԱՆ) ՑՈՒՑԱՆԻՇՆԵՐԸ
B11: Ծրագրի դասիչը | C11: Ծրագրի անվանումը
B12: 1001 | C12: Տարածքային կառավարման ոլորտում քաղաքականության մշակում, ծրագրերի համակարգում և մոնիտորինգի իրականացում
B14: Ծրագրի միջոցառումները
B15: Ծրագրի դասիչը` | C15: 1001 | D15: Ցուցանիշների փոփոխությունը (նվազեցումները նշված են փակագծերում)
B16: Միջոցառման դասիչը` | C16: 11001 | D16: Տարի
B17: Միջոցառման անվանումը` | C17: Տարածքային կառավարման և ենթակառուցվածքների քաղաքականության մշակում և ծառայությունների մատուցում
B18: Նկարագրությունը` | C18: Տարածքային կառավարման և ենթակառուցվածքների բնագավառում պետական քաղաքականության մշակման և դրա կատարման համակարգման, պետական ծրագրերի մշակման, իրականացման, մոնիտորինգի, խորհրդատվության և աջակցության ծառայություններ
B19: Միջոցառման տեսակը` | C19: Ծառայությունների մատուցում
B20: Միջոցառումն իրականացնողի անվանումը | C20: ՀՀ տարածքային կառավարման և ենթակառուցվածքների նախարարություն
B21: Արդյունքի չափորոշիչներ
B22: Միջոցառման վրա կատարվող ծախսը (հազար դրամ) | D22: =+Հ3!G23 -> -5734.104
B24: Ծրագրի դասիչը` | C24: 1001 | D24: Ցուցանիշների փոփոխությունը (նվազեցումները նշված են փակագծերում)
B25: Միջոցառման դասիչը` | C25: 31001 | D25: Տարի
B26: Միջոցառման անվանումը` | C26: ՀՀ տարածքային կառավարման և ենթակառուցվածքների նախարարության կարողությունների զարգացում և տեխնիկական հագեցվածության ապահովում
B27: Նկարագրությունը` | C27: ՀՀ տարածքային կառավարման և ենթակառուցվածքների նախարարության աշխատանքային պայմանների բարելավման համար վարչական սարքավորումների ձեռք բերում_x000D_
B28: Միջոցառման տեսակը` | C28: Պետական մարմինների կողմից օգտագործվող ոչ ֆինանսական ակտիվների հետ գործառնություններ
B29: Ակտիվն օգտագործող կազմակերպության անվանումը՝ | C29: ՀՀ տարածքային կառավարման և ենթակառուցվածքների նախարարություն
B30: Արդյունքի չափորոշիչներ
B31: Միջոցառման վրա կատարվող ծախսը (հազար դրամ) | D31: =+Հ8!D31 -> -129.4
B33: Ծրագրի դասիչը | C33: Ծրագրի անվանումը
B34: 1038 | C34: Տարածքային կառավարման և տեղական ինքնակառավարման մարմինների ներկայացուցիչների մասնագիտական վերապատրաստում և հատուկ ուսուցում
B36: Ծրագրի միջոցառումները
B37: Ծրագրի դասիչը` | C37: 1038 | D37: Ցուցանիշների փոփոխությունը (նվազեցումները նշված են փակագծերում)
B38: Միջոցառման դասիչը` | C38: 11001 | D38: Տարի
B39: Միջոցառման անվանումը` | C39: Վերապատրաստման ծառայություններ
B40: Նկարագրությունը` | C40: Տարածքային կառավարման մարմինների աշխատակիցների, տեղական ինքնակառավարման մարմինների, ինչպես նաև համայնքային ծառայողների վերապատրաստման կազմակերպում
B41: Միջոցառման տեսակը` | C41: Ծառայությունների մատուցում
B42: Ծառայությունը մատուցող կազմակերպության(ների) անվանում(ներ)ը` | C42: «Գնումների մասին» ՀՀ օրենքի համաձայն ընտրված կազմակերպություն
B43: Արդյունքի չափորոշիչներ
B44: Միջոցառման վրա կատարվող ծախսը (հազար դրամ) | D44: =+Հ8!D44 -> -9384
B46: Ծրագրի դասիչը | C46: Ծրագրի անվանումը
B47: 1049 | C47: Ճանապարհային ցանցի բարելավում
B49: Ծրագրի միջոցառումները
B51: Ծրագրի դասիչը` | C51: 1049 | D51: Ցուցանիշների փոփոխությունը (նվազեցումները նշված են փակագծերում)
B52: Միջոցառման դասիչը` | C52: 11001 | D52: Տարի
B53: Միջոցառման անվանումը` | C53: Միջպետական և հանրապետական նշանակության ավտոճանապարհների պահպանման և անվտանգ երթևեկության ծառայություններ
B54: Նկարագրությունը` | C54: Հողային պաստառի, երթևեկելի մասի, արհեստական կառույցների և կահավորման տարրերի նորմատիվ մակարդակում պահպանում և շահագործում
B55: Միջոցառման տեսակը` | C55: Ծառայությունների մատուցում
B56: Միջոցառումն իրականացնողի անվանումը | C56: ՀՀ տարածքային կառավարման և ենթակառուցվածքների նախարարություն, մրցութային կարգով ընտրված կազմակերպություններ
B57: Արդյունքի չափորոշիչներ
B58: Պարբերական պահպանման/ միջին նորոգման ենթակա ճանապարհների երկարությունը, կիլոմետր | D58: -2
B59: Միջոցառման վրա կատարվող ծախսը (հազար դրամ) | D59: =+Հ8!D59 -> -86114.71
B61: Ծրագրի դասիչը` | C61: 1049 | D61: Ցուցանիշների փոփոխությունը (նվազեցումները նշված են փակագծերում)
B62: Միջոցառման դասիչը` | C62: 11003 | D62: Տարի
B63: Միջոցառման անվանումը` | C63: Հայաստանի Հանրապետությունում հսկիչ սարքերի (թվային տախոգրաֆի) համակարգի կարգավորում
B64: Նկարագրությունը` | C64: Հայաստանի Հանրապետությունում հսկիչ սարքերի (թվային տախոգրաֆի) համակարգի անընդհատ և անխափան աշխատանքի ապահովման նպատակով տախոնետ կապի ապահովում
B65: Միջոցառման տեսակը` | C65: Ծառայությունների մատուցում
B66: Միջոցառումն իրականացնողի անվանումը | C66: Մրցութային ընտրակարգով հաղթող ճանաչված ընկերություն
B67: Արդյունքի չափորոշիչներ
B68: Սպասարկվող կապերի քանակը, հատ | D68: -1
B69: Թվային տախոգրաֆի համակարգում գրանցված տախոքարտերի քանակը, հատ | D69: -500
B70: Միջոցառման վրա կատարվող ծախսը (հազար դրամ) | D70: =+Հ8!D71 -> -16565
B72: Ծրագրի դասիչը` | C72: 1049 | D72: Ցուցանիշների փոփոխությունը (Նվազեցումները նշված են փակագծերում)
B73: Միջոցառման դասիչը` | C73: 21001 | D73: Տարի
B74: Միջոցառման անվանումը` | C74: Պետական նշանակության ավտոճանապարհների հիմնանորոգում
B75: Նկարագրությունը` | C75: Միջպետական՝ հանրապետական և մարզային նշանակության ավտոճանապարհների քայքայված ծածկի վերանորոգում՝ մաշված ծածկի փոխարինում_x000D_
B76: Միջոցառման տեսակը` | C76: Հանրության կողմից անմիջականորեն օգտագործվող ակտիվների հետ կապված միջոցառումներ
B77: Միջոցառումն իրականացնողի անվանումը | C77: Մասնագիտացված միավոր
B78: Արդյունքի չափորոշիչներ
B79: =+Հ8!B80:C80 -> Միջպետական նշանակության ավտոճանապարհներ | D79: =+Հ8!D80:E80 -> -9.5
B80: =+Հ8!B81:C81 -> Մարզային նշանակության ավտոճանապարհներ | D80: =+Հ8!D81:E81 -> -1.1
B81: Միջոցառման վրա կատարվող ծախսը (հազար դրամ) | D81: =+Հ8!D82:E82 -> -2045956.9
B83: Ծրագրի դասիչը` | C83: 1049 | D83: Ցուցանիշների փոփոխությունը (Նվազեցումները նշված են փակագծերում)
B84: Միջոցառման դասիչը` | C84: 21002 | D84: Տարի
B85: Միջոցառման անվանումը` | C85: Տրանսպորտային օբյեկտների հիմնանորոգում
B86: Նկարագրությունը` | C86: Ավտոմոբիլային ճանապարհների վրա գտնվող կամուրջների հիմնանորոգում
B87: Միջոցառման տեսակը` | C87: Հանրության կողմից անմիջականորեն օգտագործվող ակտիվների հետ կապված միջոցառումներ
B88: Միջոցառումն իրականացնողի անվանումը | C88: Մասնագիտացված միավոր
B89: Արդյունքի չափորոշիչներ
B90: Կամուրջներ, այդ թվում աշխատանքներ և ծառայություններ | D90: -3
B91: Շինարարություն, հատ | D91: -3
B92: Կամուրջներ (մ) | D92: -250.7
B93: Տրանսպորտային հանգույցներ (ուղեանցեր, հենապատեր և այլն), այդ թվում աշխատանքներ և ծառայություններ | D93: -1
B94: Շինարարություն, հատ | D94: -1
B95: Միջոցառման վրա կատարվող ծախսը (հազար դրամ) | D95: =+Հ8!D96 -> -59346.7
D97: Աղյուսակ 9.1.34
B98: ՀՀ տարածքային կառավարման և ենթակառուցվածքների նախարարության պետական գույքի կառավարման կոմիտե
B99: ՄԱՍ 1. ՊԵՏԱԿԱՆ ՄԱՐՄՆԻ ԳԾՈՎ ԱՐԴՅՈՒՆՔԱՅԻՆ (ԿԱՏԱՐՈՂԱԿԱՆ) ՑՈՒՑԱՆԻՇՆԵՐԸ
B101: Ծրագրի դասիչը | C101: Ծրագրի անվանումը
B102: 1079 | C102: Պետական գույքի կառավարում
B104: Ծրագրի միջոցառումները
B105: Ծրագրի դասիչը՝ | C105: 1079 | D105: Ցուցանիշների փոփոխությունը (նվազեցումները նշված են փակագծերում)
B106: Միջոցառման դասիչը՝ | C106: =11001 -> 11001 | D106: Տարի
B107: Միջոցառման անվանումը՝ | C107: Պետական գույքի կառավարման համակարգման, խորհրդատվության և մոնիտորինգի ծառայություններ
B108: Նկարագրությունը՝ | C108: Պետական գույքի հաշվառում, գույքագրում, աճուրդների կազմակերպում, մասնավորեցվող գույքի վերաբերյալ տեղեկատվության հրապարակում
B109: Միջոցառման տեսակը՝ | C109: Ծառայությունների մատուցում
B110: Ծառայությունը մատուցող կազմակերպության(ների) անվանում(ներ)ը | C110: ՀՀ տարածքային կառավարման և ենթակառուցվածքների նախարարության պետական գույքի կառավարման կոմիտե
C111: Արդյունքի չափորոշիչներ
B112: Միջոցառման վրա կատարվող ծախսը (հազար դրամ) | D112: =+Հ8!D123 -> -2968.7
D114: Աղյուսակ 9.1.35
B115: ՀՀ տարածքային կառավարման և ենթակառուցվածքների նախարարության միգրացիոն ծառայություն
B116: ՄԱՍ 1. ՊԵՏԱԿԱՆ ՄԱՐՄՆԻ ԳԾՈՎ ԱՐԴՅՈՒՆՔԱՅԻՆ (ԿԱՏԱՐՈՂԱԿԱՆ) ՑՈՒՑԱՆԻՇՆԵՐԸ
B118: Ծրագրի դասիչը | C118: Ծրագրի անվանումը
...

Sheet Հ10
G1: Հավելված N 10 ՀՀ կառավարության 2022 թվականի ___________ ___-ի N _______ -Ն որոշման
A2: ՀԱՅԱՍՏԱՆԻ ՀԱՆՐԱՊԵՏՈՒԹՅԱՆ ԿԱՌԱՎԱՐՈՒԹՅԱՆ 2021 ԹՎԱԿԱՆԻ ԴԵԿՏԵՄԲԵՐԻ 23-Ի N 2121-Ն ՈՐՈՇՄԱՆ N 10 ՀԱՎԵԼՎԱԾՈՒՄ ԿԱՏԱՐՎՈՂ ՓՈՓՈԽՈՒԹՅՈՒՆՆԵՐԸ
A3: Կոդը | B3: Անվանումը | C3: Գնման ձևը | D3: Չափման միավորը | E3: Միավորի գինը | F3: Քանակը | G3: Ցուցանիշների փոփոխությունը (ավելացումները նշված են դրական նշանով, իսկ նվազեցումները` փակագծերում)
G4: Գումարը (հազար դրամ)
A5: 1 | B5: 2 | C5: 3 | D5: 4 | E5: 5 | F5: 6 | G5: 7
B6: Ընդամենը | G6: =+G7+G107 -> -2221350.5
A7: ՀՀ տարածքային կառավարման և ենթակառուցվածքների նախարարություն | G7: =+G8+G48+G102 -> -2218381.9
A8: Բաժին N 01 | B8: Խումբ N 01 | C8: Դաս N 01 | D8: Օրենսդիր և գործադիր մարմիններ, պետական կառավարում | G8: =G9+G44 -> -5863.504
A9: 1001 11001 | B9: Տարածքային կառավարման և ենթակառուցվածքների քաղաքականության մշակում և ծառայությունների մատուցում | G9: =+G10+G31 -> -5734.104
A10: ՄԱՍ I. ԱՊՐԱՆՔՆԵՐ | G10: =SUM(G11:G30) -> -817.9
A11: 30192710/1 | B11: սոսնձամատիտ, գրասենյակային | C11: ԷԱՃ | D11: դրամ | E11: 0 | F11: 0 | G11: -6
A12: 30192160/1 | B12: շտրիխներ | C12: ԷԱՃ | D12: դրամ | E12: 0 | F12: 0 | G12: -6.4
A13: 22811150/1 | B13: նոթատետրեր | C13: ԷԱՃ | D13: դրամ | E13: 0 | F13: 0 | G13: -2
A14: 30197231/1 | B14: թղթապանակ, պոլիմերային թաղանթ, ֆայլ | C14: ԷԱՃ | D14: դրամ | E14: 0 | F14: 0 | G14: -76.5
A15: 31442000/1 | B15: մարտկոց, AA տեսակի | C15: ԷԱՃ | D15: դրամ | E15: 0 | F15: 0 | G15: -0.6
A16: 44423560/1 | B16: ռետինե շտամպեր | C16: ԷԱՃ | D16: դրամ | E16: 0 | F16: 0 | G16: -5
A17: 30199230/1 | B17: նամակի ծրար, A5 ձ―աչափի | C17: ԷԱՃ | D17: դրամ | E17: 0 | F17: 0 | G17: -9.7
A18: 30197622/1 | B18: թուղթ, A4 ֆորմատի | C18: ԷԱՃ | D18: դրամ | E18: 0 | F18: 0 | G18: -371.9
A19: 22851100/1 | B19: արագակարներ | C19: ԷԱՃ | D19: դրամ | E19: 0 | F19: 0 | G19: -28
A20: 30234630/1 | B20: ֆլեշ հիշողություն, 8GB | C20: ԷԱՃ | D20: դրամ | E20: 0 | F20: 0 | G20: -42
A21: 30192720/1 | B21: գծանշիչ | C21: ԷԱՃ | D21: դրամ | E21: 0 | F21: 0 | G21: -20.2
A22: 30192121/1 | B22: գրիչ գնդիկավոր | C22: ԷԱՃ | D22: դրամ | E22: 0 | F22: 0 | G22: -3
... A30: 24451141/1 | B30: ախտահանիչ հեղուկ նյութեր | C30: ՄԱ | D30: դրամ | E30: 0 | F30: 0 | G30: -10.5
A31: ՄԱՍ III. ԾԱՌԱՅՈՒԹՅՈՒՆՆԵՐ | G31: =SUM(G32:G43) -> -4916.204
A32: 48211210/3 | B32: ցանցային զանազան համակարգչային ծրագրային փաթեթներ | C32: ԷԱՃ | D32: դրամ | E32: 0 | F32: 0 | G32: -1
A33: 48211210/1 | B33: ցանցային զանազան համակարգչային ծրագրային փաթեթներ | C33: ԷԱՃ | D33: դրամ | E33: 0 | F33: 0 | G33: -4
A34: 79821200/8 | B34: այլ պոլիգրաֆիական արտադրանքի տպագրման ծառայություն | C34: ԷԱՃ | D34: դրամ | E34: 0 | F34: 0 | G34: -1.204
A35: 79821200/12 | B35: այլ պոլիգրաֆիական արտադրանքի տպագրման ծառայություն | C35: ԷԱՃ | D35: դրամ | E35: 0 | F35: 0 | G35: -3600
A36: 79821200/10 | B36: այլ պոլիգրաֆիական արտադրանքի տպագրման ծառայություն | C36: ԷԱՃ | D36: դրամ | E36: 0 | F36: 0 | G36: -50
A37: 79821200/9 | B37: այլ պոլիգրաֆիական արտադրանքի տպագրման ծառայություն | C37: ԷԱՃ | D37: դրամ | E37: 0 | F37: 0 | G37: -2.8
A38: 79821200/14 | B38: այլ պոլիգրաֆիական արտադրանքի տպագրման ծառայություն | C38: ԷԱՃ | D38: դրամ | E38: 0 | F38: 0 | G38: -276
A39: 79821200/16 | B39: այլ պոլիգրաֆիական արտադրանքի տպագրման ծառայություն | C39: ԷԱՃ | D39: դրամ | E39: 0 | F39: 0 | G39: -492.8
A40: 79821200/5 | B40: այլ պոլիգրաֆիական արտադրանքի տպագրման ծառայություն | C40: ԷԱՃ | D40: դրամ | E40: 0 | F40: 0 | G40: -16
A41: 79821200/25 | B41: այլ պոլիգրաֆիական արտադրանքի տպագրման ծառայություն | C41: ԷԱՃ | D41: դրամ | E41: 0 | F41: 0 | G41: -63.2
A42: 79211180/1 | B42: ներքին աուդիտի ծառայություններ | C42: ԷԱՃ | D42: դրամ | E42: 0 | F42: 0 | G42: -12
A43: 79631200/2 | B43: աշխատակիցների վերապատրաստման ծառայություններ | C43: ԷԱՃ | D43: դրամ | E43: 0 | F43: 0 | G43: -397.2
A44: 1001 31001 | B44: ՀՀ տարածքային կառավարման և ենթակառուցվածքների նախարարության կարողությունների զարգացում և տեխնիկական հագեցվածության ապահովում | G44: =+G46+G47 -> -129.4
A45: ՄԱՍ I. ԱՊՐԱՆՔՆԵՐ
A46: 30237490/1 | B46: համակարգչային մոնիտոր | C46: ԷԱՃ | D46: դրամ | E46: 0 | F46: 0 | G46: -4.4
A47: 39111220/1 | B47: բազկաթոռ` ղեկավարի | C47: ԷԱՃ | D47: դրամ | E47: 0 | F47: 0 | G47: -125
A48: Բաժին N 04 | B48: Խումբ N 05 | C48: Դաս N 01 | D48: Ճանապարհային տրանսպորտ | G48: =+G49+G55+G92+G99 -> -2207983.4
A49: 1049 11001 | B49: Միջպետական և հանրապետական նշանակության ավտոճանապարհների պահպանման և անվտանգ երթևեկության ծառայություններ | G49: =G50 -> -86114.71
A50: ՄԱՍ II. ԱՇԽԱՏԱՆՔՆԵՐ | G50: =SUM(G51:G54) -> -86114.71
A51: 45231177/536 | B51: ճանապարհների վերանորոգման աշխատանքներ | C51: ՀԲՄ | D51: դրամ | E51: 0 | F51: 0 | G51: -137243.3
A52: 45231177/604 | B52: ճանապարհների վերանորոգման աշխատանքներ | C52: ՀԲՄ | D52: դրամ | E52: 14479615 | F52: 1 | G52: =+E52/1000 -> 14479.615
A53: 45231177/605 | B53: ճանապարհների վերանորոգման աշխատանքներ | C53: ՀԲՄ | D53: դրամ | E53: 21658886 | F53: 1 | G53: =+E53/1000 -> 21658.886
A54: 45231177/100 | B54: ճանապարհների վերանորոգման աշխատանքներ | C54: ՀԲՄ | D54: դրամ | E54: 14990089 | F54: 1 | G54: =E54/1000 -> 14990.089
A55: 1049 21001 | B55: Պետական նշանակության ավտոճանապարհների հիմնանորոգում | G55: =G56+G77 -> -2045957
A56: ՄԱՍ II. ԱՇԽԱՏԱՆՔՆԵՐ | G56: =SUM(G57:G76) -> -1961882.3
A57: 45231177/562 | B57: ճանապարհների վերանորոգման աշխատանքներ | C57: ՀԲՄ | D57: դրամ | E57: 0 | F57: 0 | G57: -17725.9
A58: 45231177/87 | B58: ճանապարհների վերանորոգման աշխատանքներ | C58: ԲՄ | D58: դրամ | E58: 0 | F58: 0 | G58: -675585.2
A59: 45231177/578 | B59: ճանապարհների վերանորոգման աշխատանքներ | C59: ՀԲՄ | D59: դրամ | E59: 0 | F59: 0 | G59: -258629.9
A60: 45231177/15 | B60: ճանապարհների վերանորոգման աշխատանքներ | C60: ՀԲՄ | D60: դրամ | E60: 45749112 | F60: 1 | G60: =+E60/1000 -> 45749.112
A61: 45231177/512 | B61: ճանապարհների վերանորոգման աշխատանքներ | C61: ՀԲՄ | D61: դրամ | E61: 0 | F61: 0 | G61: -479578.9
A62: 45231177/59 | B62: ճանապարհների վերանորոգման աշխատանքներ | C62: ԲՄ | D62: դրամ | E62: 0 | F62: 0 | G62: -20925.7
A63: 45231177/505 | B63: ճանապարհների վերանորոգման աշխատանքներ | C63: ՀԲՄ | D63: դրամ | E63: 0 | F63: 0 | G63: -3845.8
A64: 45231177/27 | B64: ճանապարհների վերանորոգման աշխատանքներ | C64: ԲՄ | D64: դրամ | E64: 0 | F64: 0 | G64: -85000
A65: 45231177/96 | B65: ճանապարհների վերանորոգման աշխատանքներ | C65: ՀՄԱ | D65: դրամ | E65: 0 | F65: 0 | G65: -1040.8
A66: 45231177/597 | B66: ճանապարհների վերանորոգման աշխատանքներ | C66: ՀԲՄ | D66: դրամ | E66: 0 | F66: 0 | G66: -42711.2
A67: 45231177/585 | B67: ճանապարհների վերանորոգման աշխատանքներ | C67: ՀԲՄ | D67: դրամ | E67: 0 | F67: 0 | G67: -3163.9
A68: 45231177/577 | B68: ճանապարհների վերանորոգման աշխատանքներ | C68: ՀԲՄ | D68: դրամ | E68: 0 | F68: 0 | G68: -32556.9
A69: 45231177/544 | B69: ճանապարհների վերանորոգման աշխատանքներ | C69: ՀԲՄ | D69: դրամ | E69: 0 | F69: 0 | G69: -2095.6
A70: 45231177/114 | B70: ճանապարհների վերանորոգման աշխատանքներ | C70: ԲՄ | D70: դրամ | E70: 0 | F70: 0 | G70: -19509.7
A71: 45231177/86 | B71: ճանապարհների վերանորոգման աշխատանքներ | C71: ԲՄ | D71: դրամ | E71: 0 | F71: 0 | G71: -27219.2
A72: 45231177/592 | B72: ճանապարհների վերանորոգման աշխատանքներ | C72: ՀԲՄ | D72: դրամ | E72: 0 | F72: 0 | G72: -95970
... A76: 45231177/119 | B76: ճանապարհների վերանորոգման աշխատանքներ | C76: ՄԱ | D76: դրամ | E76: 0 | F76: 0 | G76: -171792.6
A77: ՄԱՍ III. ԾԱՌԱՅՈՒԹՅՈՒՆՆԵՐ | G77: =SUM(G78:G91) -> -84074.7
A78: 71351540/514 | B78: տեխնիկական հսկողության ծառայություններ | C78: ԳՀ | D78: դրամ | E78: 0 | F78: 0 | G78: -5926.1
A79: 71351540/20 | B79: տեխնիկական հսկողության ծառայություններ | C79: ՀԲՄ | D79: դրամ | E79: 0 | F79: 0 | G79: -3676
A80: 71351540/513 | B80: տեխնիկական հսկողության ծառայություններ | C80: ԳՀ | D80: դրամ | E80: 0 | F80: 0 | G80: =-2032.7-1184.2 -> -3216.9
A81: 71351540/561 | B81: տեխնիկական հսկողության ծառայություններ | C81: ԳՀ | D81: դրամ | E81: 0 | F81: 0 | G81: -219.8
A82: 71351540/515 | B82: տեխնիկական հսկողության ծառայություններ | C82: ԳՀ | D82: դրամ | E82: 0 | F82: 0 | G82: -1794.9
A83: 71351540/68 | B83: տեխնիկական հսկողության ծառայություններ | C83: ՀՄԱ | D83: դրամ | E83: 0 | F83: 0 | G83: -4325
A84: 71241200/535 | B84: նախագծերի պատրաստման, ծախսերի գնահատման ծառայություններ | C84: ԳՀ | D84: դրամ | E84: 0 | F84: 0 | G84: =-13500-30416.4 -> -43916.4
A85: 98111140/28 | B85: հեղինակային հսկողության ծառայություններ | C85: ՄԱ | D85: դրամ | E85: 0 | F85: 0 | G85: -6034
A86: 98111140/20 | B86: հեղինակային հսկողության ծառայություններ | C86: ՄԱ | D86: դրամ | E86: 0 | F86: 0 | G86: -2182.5
A87: 98111140/55 | B87: հեղինակային հսկողության ծառայություններ | C87: ՄԱ | D87: դրամ | E87: 0 | F87: 0 | G87: -3611.5
A88: 98111140/31 | B88: հեղինակային հսկողության ծառայություններ | C88: ՄԱ | D88: դրամ | E88: 0 | F88: 0 | G88: -4940.8
A89: 98111140/81 | B89: հեղինակային հսկողության ծառայություններ | C89: ՄԱ | D89: դրամ | E89: 0 | F89: 0 | G89: -220.9
A90: 98111140/77 | B90: հեղինակային հսկողության ծառայություններ | C90: ՄԱ | D90: դրամ | E90: 0 | F90: 0 | G90: -598.3
A91: 98111140/58 | B91: հեղինակային հսկողության ծառայություններ | C91: ՄԱ | D91: դրամ | E91: 0 | F91: 0 | G91: -3411.6
A92: 1049 21002 | B92: Տրանսպորտային օբյեկտների հիմնանորոգում | G92: =+G93+G95 -> -59346.7
A93: ՄԱՍ II. ԱՇԽԱՏԱՆՔՆԵՐ | G93: =+G94 -> -54551.1
A94: 45231177/521 | B94: ճանապարհների վերանորոգման աշխատանքներ | C94: ԳՀ | D94: դրամ | E94: 0 | F94: 0 | G94: -54551.1
A95: ՄԱՍ III. ԾԱՌԱՅՈՒԹՅՈՒՆՆԵՐ | G95: =+G96+G97+G98 -> -4795.6
A96: 71351540/512 | B96: տեխնիկական հսկողության ծառայություններ | C96: ԳՀ | D96: դրամ | E96: 0 | F96: 0 | G96: -968.5
A97: 71241200/541 | B97: նախագծերի պատրաստման, ծախսերի գնահատման ծառայություններ | C97: ԳՀ | D97: դրամ | E97: 0 | F97: 0 | G97: -3500
A98: 98111140/69 | B98: հեղինակային հսկողության ծառայություններ | C98: ՄԱ | D98: դրամ | E98: 0 | F98: 0 | G98: -327.1
A99: 1049 11003 | B99: Հայաստանի Հանրապետությունում հսկիչ սարքերի (թվային տախոգրաֆի) համակարգի կարգավորում | G99: =+G101 -> -16565
A100: ՄԱՍ III ԾԱՌԱՅՈՒԹՅՈՒՆՆԵՐ
A101: 50411170/2 | B101: ստուգող սարքերի վերանորոգման ― պահպանման ծառայություններ | C101: ԳՀ | D101: դրամ | E101: 0 | F101: 0 | G101: -16565
A102: Բաժին N 09, խումբ N 05, դաս N 02, Լրացուցիչ կրթություն | G102: =G103 -> -4535
A103: 1038 Տարածքային կառավարման և տեղական ինքնակառավարման մարմինների ներկայացուցիչների մասնագիտական վերապատրաստում և հատուկ ուսուցում | G103: =G104 -> -4535
A104: 11001 Վերապատրաստման ծառայություններ | G104: =G105 -> -4535
A105: ՄԱՍ III ԾԱՌԱՅՈՒԹՅՈՒՆՆԵՐ | G105: =+G106 -> -4535
A106: 79631200/1 | B106: աշխատակիցների վերապատրաստման ծառայություններ | C106: ԷԱՃ | D106: դրամ | E106: 0 | F106: 0 | G106: -4535
A107: ՀՀ տարածքային կառավարման և ենթակառուցվածքների նախարարության պետական գույքի կառավարման կոմիտե | G107: =+G108 -> -2968.59
A108: Բաժին N 01 | B108: Խումբ N 03 | C108: Դաս N 03 | D108: Ընդհանուր բնույթի այլ ծառայություններ | G108: =+G109 -> -2968.59
A109: 1079 11001 | B109: Պետական գույքի կառավարման համակարգման, խորհրդատվության և մոնիտորինգի ծառայություններ | G109: =+G110+G132 -> -2968.59
B110: ՄԱՍ I. ԱՊՐԱՆՔՆԵՐ | G110: =SUM(G111:G131) -> -697.69
...
