Workbook
Name _tab10: #REF!
Name _tab10: #REF!
Name _tab11: #REF!
Name _tab11: #REF!
Name _tab12: #REF!
Name _tab12: #REF!
Name _tab13: #REF!
Name _tab13: #REF!
Name _tab14: #REF!
Name _tab14: #REF!
Name _tab15: #REF!
Name _tab15: #REF!
Name _tab16: #REF!
Name _tab16: #REF!
Name _tab17: #REF!
Name _tab17: #REF!
Name _tab18: #REF!
Name _tab18: #REF!
Name _tab19: #REF!
Name _tab19: #REF!
Name _tab20: #REF!
Name _tab20: #REF!
Name _tab21: #REF!
Name _tab21: #REF!
Name _tab22: #REF!
Name _tab22: #REF!
Name _tab23: #REF!
Name _tab23: #REF!
Name _tab24: #REF!
Name _tab24: #REF!
Name _tab5: #REF!
Name _tab5: #REF!
Name _tab6: #REF!
Name _tab6: #REF!
Name _tab7: #REF!
Name _tab7: #REF!
Name _tab8: #REF!
Name _tab8: #REF!
Name _tab9: #REF!
Name _tab9: #REF!
Name AgencyCode: #REF!
Name AgencyCode: #REF!
Name AgencyCode: #REF!
Name AgencyCode: #REF!
Name AgencyCode: #REF!
Name AgencyName: #REF!
Name AgencyName: #REF!
Name AgencyName: #REF!
Name AgencyName: #REF!
Name åû: #REF!
Name åû: #REF!
Name davit: #REF!
Name davit: #REF!
Name Functional1: #REF!
Name Functional1: #REF!
Name Functional1: #REF!
Name ggg: #REF!
Name ggg: #REF!
Name mas: #REF!
Name mas: #REF!

Sheet Հ1
D1: Հավելված N 1
D2: ՀՀ կառավարության 2022 թվականի
D3: -------------- ի N ---- -Ն որոշման
A5: «ՀԱՅԱՍՏԱՆԻ ՀԱՆՐԱՊԵՏՈՒԹՅԱՆ 2022 ԹՎԱԿԱՆԻ ՊԵՏԱԿԱՆ ԲՅՈՒՋԵԻ ՄԱՍԻՆ» ՕՐԵՆՔԻ N 1 ՀԱՎԵԼՎԱԾԻ N 7 ԱՂՅՈՒՍԱԿՈՒՄ ԵՎ ՀԱՅԱՍՏԱՆԻ ՀԱՆՐԱՊԵՏՈՒԹՅԱՆ ԿԱՌԱՎԱՐՈՒԹՅԱՆ 2021 ԹՎԱԿԱՆԻ ԴԵԿՏԵՄԲԵՐԻ 23-Ի N 2121-Ն ՈՐՈՇՄԱՆ N 5 ՀԱՎԵԼՎԱԾԻ N 6 ԱՂՅՈՒՍԱԿՈՒՄ ԿԱՏԱՐՎՈՂ ԼՐԱՑՈՒՄՆԵՐԸ
D6: հազար դրամ
A7: Ծրագրային դասիչը | C7: Բյուջետային հատկացումների գլխավոր կարգադրիչների, ծրագրերի, միջոցառումների և միջոցառումները կատարող պետական մարմինների անվանումները | D7: Ցուցանիշների փոփոխությունը (ավելացումները նշված են դրական նշանով)
A8: Ծրագիր | B8: Միջոցառում | D8: Տարի
C9: ԸՆԴԱՄԵՆԸ | D9: =+D11 -> 2296199.5
C10: այդ թվում
C11: Կապիտալ սուբվենցիաներ համայնքներին | D11: =+D13 -> 2296199.5
C12: այդ թվում`
C13: ՀՀ տարածքային կառավարման և ենթակառուցվածքների նախարարություն | D13: =+D15 -> 2296199.5
C14: այդ թվում`
A15: 1212 | C15: Տարածքային զարգացում | D15: =+D17 -> 2296199.5
C16: այդ թվում`
B17: 12007 | C17: ՀՀ մարզերին սուբվենցիաների տրամադրում՝ ենթակառուցվածքների զարգացման նպատակով | D17: =+D20+D22+D29+D43+D52+D63+D71+D74+D19 -> 2296199.5
C18: այդ թվում` ըստ կատարողների
C19: ՀՀ կառավարություն | D19: =+Հ3!G98 -> 108175.81
C20: ՀՀ Արագածոտնի մարզպետարան | D20: =D21 -> 7586.8
C21: Արագածավան համայնքի Արագածավան բն․ մշակույթի տան տանիքի վերանորոգման | D21: 7586.8
C22: ՀՀ Արարատի մարզպետարան | D22: =D24+D25+D26+D27+D28 -> 397837
C23: այդ թվում` ըստ ուղղությունների
C24: Արարատ համայնքի Սուրենավան, Արմաշ և Երասխ բնակավայրերի գազատարի կառուցում | D24: 129220
C25: Արտաշատ համայնքի բնակավայրերի ոռոգման համակարգերի կառուցում/նորոգում/Այգեզարդ բնակավայր/ | D25: 89928
C26: Վեդի համայնքի Վեդի քաղաքային, Գինեվետ, Նոր Ուղի, Արալեզ, Այգավան և Փոքր Վեդի բնակավայրերի գազիֆիկացման աշխատանքներ/Վեդի բնակավայր/ | D26: 49050
C27: Վեդի համայնքի Վեդի քաղաքային բնակավայրի փողոցներում կոյուղագծի կառուցում | D27: 70020
C28: Վեդի համայնքի Վեդի քաղաքային և Լուսառատ բնակավայրի բազմաբնակարան բնակելի շենքերի տանիքների հիմնանորոգում | D28: 59619
C29: ՀՀ Արմավիրի մարզպետարան | D29: =D31+D32+D33+D34+D35+D36+D37+D38+D39+D40+D41+D42 -> 269131.5
C30: այդ թվում` ըստ ուղղությունների
C31: Վաղարշապատ համայնքի Էջմիածին բնակավայրի Չարենց թաղամասի հյուսիսային մասի կոյուղու կառուցում | D31: 95328
C32: ՀՀ Արմավիրի մարզի Արաքս համայնքի Առատաշեն գյուղի մանկապարտեզի երկհարկանի մասնաշենքի կապիտալ վերանորոգում, Խորոնք գյուղի մանկապարտեզի շենքի կապիտալ վերանորոգում, Ջրառատ գյուղի մանկապարտեզի շենքի կապիտալ վերանորոգում, ջեռուցման համակարգի կառուցում, Մեծամոր գյուղի Խ.Աբովյան փող. 1/2 հասցեում մանկապարտեզի շենքի հիմնանորոգման /վերանորոգման/ աշխատանքներ, Գայ գյուղի մանկապարտեզի շենքի կառուցում | D32: 27469.7
C33: Արաքս համայնքի Գայ գյուղի ջրահեռացման համակարգի մի մասի և ջրամատակարարման ցանցի, Ջրառատ գյուղի ջրամատակարարման ցանցի կառուցում | D33: 12206
C34: Արաքս համայնքի Գայ գյուղի ջրահեռացման համակարգի մի մասի և ջրամատակարարման ցանցի, Ջրառատ գյուղի ջրամատակարարման ցանցի կառուցում | D34: 9716.5
C35: Ֆերիկ համայնքի արտաքին լուսավորության ցանցի կառուցում | D35: 1641.7
C36: Մեծամոր համայնքի 2 թաղամաս 1 շենքի, 1 թաղամաս 13ա և 27 բազմաբնակարն շենքերի տանիքների հիմնանորոգում և 1 թաղամաս 4Բ1, 6Բ1, 8Բ1, 8Բ2 և 2Բ շենքերի վերելակների փոխարինում | D36: 23899.3
C37: Մեծամոր համայնքի Մարգարա բնակավայրի փողոցների գազամատակարարում, Ջանֆիդա, Փշատավան բնակավայրերի գազաֆիկացում | D37: 16039.9
C38: Մեծամոր համայնքի .Մեծամոր, և Արազափ մշակույթի տների վերանորոգում, Նոր Կեսարիա մշակույթի տան ջեռուցման համակարգի կառուցում, Մրգաշատ բնակավայրի երաժշտական դպրոցի վերանորոգում և ջեռուցոման համակարգի կառուցում, Նալբանդյան բնակավայրերում երաժշտական դպրոցի ջեռուցման համակարգի կառուցում | D38: 3069.5
C39: Արմավիրի մարզի Արմավիր համայնքի Արմավիր քաղաքի Աբովյան փողոցի Չարենց-Բաղրամյան հատվածի հիմնանորոգում | D39: 31781.7
C40: Արմավիր համայնքի Այգեվան և Լենուղի գյուղերի ջրամատակարարման ցանցի վերակառուցում | D40: 37335.3
C41: Խոյ համայնքի Արշալույս բնակավայրի փողոցային լուսավորության ընդլայնում և Շահումյան բնակավայրի փողոցների լուսավորության ցանցի կառուցում | D41: 8150.4
...

Sheet Հ2
D1: Հավելված N 2
D2: ՀՀ կառավարության 2022 թվականի
D3: ______________ ի ___Ն որոշման
A5: «ՀԱՅԱUՏԱՆԻ ՀԱՆՐԱՊԵՏՈՒԹՅԱՆ 2022 ԹՎԱԿԱՆԻ ՊԵՏԱԿԱՆ ԲՅՈՒՋԵԻ ՄԱUԻՆ» OՐԵՆՔԻ N 1 ՀԱՎԵԼՎԱԾԻ N 2 ԱՂՅՈՒՍԱԿՈՒՄ ԿԱՏԱՐՎՈՂ ՎԵՐԱԲԱՇԽՈՒՄԸ ԵՎ ՀԱՅԱՍՏԱՆԻ ՀԱՆՐԱՊԵՏՈՒԹՅԱՆ ԿԱՌԱՎԱՐՈՒԹՅԱՆ 2021 ԹՎԱԿԱՆԻ ԴԵԿՏԵՄԲԵՐԻ 23-Ի N 2121-Ն ՈՐՈՇՄԱՆ N 5 ՀԱՎԵԼՎԱԾԻ N 1 ԱՂՅՈՒՍԱԿՈՒՄ ԿԱՏԱՐՎՈՂ ՓՈՓՈԽՈՒԹՅՈՒՆՆԵՐԸ ԵՎ ԼՐԱՑՈՒՄՆԵՐԸ
D7: հազար դրամ
A8: Ծրագրային դասիչը | C8: Բյուջետային հատկացումների գլխավոր կարգադրիչների, ծրագրերի և միջոցառումների անվանումները | D8: Ցուցանիշների փոփոխությունը (ավելացումները նշված են դրական նշանով, իսկ նվազեցումները` փակագծերում)
A9: Ծրագիր | B9: Միջոցառում | D9: Տարի
C10: ԸՆԴԱՄԵՆԸ | D10: =+D12 -> -5.5388227e-10
C11: այդ թվում
B12: ՀՀ տարածքային կառավարման և ենթակառուցվածքների նախարարություն | D12: =+D33+D46+D77+D103+D14+D89 -> -5.5388227e-10
A13: 1001 | C13: Ծրագրի անվանումը`
C14: Տարածքային կառավարման ոլորտում քաղաքականության մշակում, ծրագրերի համակարգում և մոնիտորինգի իրականացում | D14: =+D21+D27 -> -5863.504
C15: Ծրագրի նպատակը`
C16: Տարածքային կառավարման բնագավառում պետական արդյունավետ քաղաքականության մշակման և իրականացման ապահովում
C17: Վերջնական արդյունքի նկարագրությունը`
C18: Տարածքային կառավարման քաղաքականության իրագործմանն ուղղված ծրագրերի ազդեցության և արդյունավետության բարելավում
B19: Ծրագրի միջոցառումներ
B20: 11001 | C20: Միջոցառման անվանումը`
C21: Տարածքային կառավարման և ենթակառուցվածքների քաղաքականության մշակում և ծառայությունների մատուցում | D21: =+Հ3!G23 -> -5734.104
C22: Միջոցառման նկարագրությունը`
C23: Տարածքային կառավարման և ենթակառուցվածքների բնագավառում պետական քաղաքականության մշակման և դրա կատարման համակարգման, պետական ծրագրերի մշակման, իրականացման, մոնիտորինգի, խորհրդատվության և աջակցության ծառայություններ
C24: Միջոցառման տեսակը
C25: Ծառայությունների մատուցում
B26: 31001 | C26: Միջոցառման անվանումը`
C27: ՀՀ տարածքային կառավարման և ենթակառուցվածքների նախարարության կարողությունների զարգացում և տեխնիկական հագեցվածության ապահովում | D27: =+Հ3!G39 -> -129.4
C28: Միջոցառման նկարագրությունը`
C29: ՀՀ տարածքային կառավարման և ենթակառուցվածքների նախարարության աշխատանքային պայմանների բարելավման համար վարչական սարքավորումների ձեռք բերում_x000D_
C30: Միջոցառման տեսակը
C31: Պետական մարմինների կողմից օգտագործվող ոչ ֆինանսական ակտիվների հետ գործառնություններ
A32: 1038 | C32: Ծրագրի անվանումը`
C33: Տարածքային կառավարման և տեղական ինքնակառավարման մարմինների ներկայացուցիչների մասնագիտական վերապատրաստում և հատուկ ուսուցում | D33: =+D40 -> -9384
C34: Ծրագրի նպատակը`
C35: Տարածքային կառավարման և տեղական ինքնակառավարման մարմինների աշխատակիցների աշխատանքի արդյունավետության բարելավում
C36: Վերջնական արդյունքի նկարագրությունը`
C37: Տարածքային կառավարման մարմինների մասնագիտական հմտությունների և կարողությունների բարելավում
B38: Ծրագրի միջոցառումներ
B39: 11001 | C39: Միջոցառման անվանումը`
C40: Վերապատրաստման ծառայություններ | D40: =+Հ3!G215 -> -9384
C41: Միջոցառման նկարագրությունը`
C42: Տարածքային կառավարման մարմինների աշխատակիցների, տեղական ինքնակառավարման մարմինների, ինչպես նաև համայնքային ծառայողների վերապատրաստման կազմակերպում
...

Sheet Հ3
G1: Հավելված N 3
G2: ՀՀ կառավարության 2022 թվականի
G3: ______________ ի ___Ն որոշման
A5: ՀԱՅԱՍՏԱՆԻ ՀԱՆՐԱՊԵՏՈՒԹՅԱՆ ԿԱՌԱՎԱՐՈՒԹՅԱՆ 2021 ԹՎԱԿԱՆԻ ԴԵԿՏԵՄԲԵՐԻ 23-Ի N 2121-Ն ՈՐՈՇՄԱՆ N 3 ԵՎ N 4 ՀԱՎԵԼՎԱԾՆԵՐՈՒՄ ԿԱՏԱՐՎՈՂ ՓՈՓՈԽՈՒԹՅՈՒՆՆԵՐԸ ԵՎ ԼՐԱՑՈՒՄՆԵՐԸ
G7: հազար դրամ
A8: Գործառական դասիչը | D8: Ծրագրային դասիչը | F8: Բյուջետային հատկացումների գլխավոր կարգադրիչների, ծրագրերի, միջոցառումների և միջոցառումները կատարող պետական մարմինների անվանումները | G8: Ցուցանիշների փոփոխությունը (ավելացումները նշված են դրական նշանով, իսկ նվազեցումները` փակագծերում)
A9: Բաժին | B9: Խումբ | C9: Դաս | D9: Ծրագիր | E9: Միջոցառում | G9: Տարի
F10: ԸՆԴԱՄԵՆԸ | G10: 0
F11: այդ թվում
F12: ՀՀ տարածքային կառավարման և ենթակառուցվածքների նախարարություն | G12: =+G205+G13+G155+G226 -> 0
A13: 01 | F13: ԸՆԴՀԱՆՈՒՐ ԲՆՈՒՅԹԻ ՀԱՆՐԱՅԻՆ ԾԱՌԱՅՈՒԹՅՈՒՆՆԵՐ | G13: =+G73+G15+G48 -> 2237367.3
F14: այդ թվում`
B15: 01 | F15: Օրենսդիր և գործադիր մարմիններ, պետական կառավարում, ֆինանսական և հարկաբյուջետային հարաբերություններ, արտաքին հարաբերություններ | G15: =+G17 -> -5863.504
F16: այդ թվում`
C17: 01 | F17: Օրենսդիր և գործադիր մարմիններ, պետական կառավարում | G17: =+G19 -> -5863.504
F18: այդ թվում`
F19: ՀՀ տարածքային կառավարման և ենթակառուցվածքների նախարարություն | G19: =+G21 -> -5863.504
F20: այդ թվում`
D21: 1001 | F21: Տարածքային կառավարման ոլորտում քաղաքականության մշակում, ծրագրերի համակարգում և մոնիտորինգի իրականացում | G21: =+G23+G39 -> -5863.504
F22: այդ թվում`
E23: 11001 | F23: Տարածքային կառավարման և ենթակառուցվածքների քաղաքականության մշակում և ծառայությունների մատուցում | G23: =+G25 -> -5734.104
F24: այդ թվում` ըստ կատարողների
F25: ՀՀ տարածքային կառավարման և ենթակառուցվածքների նախարարություն | G25: =+G27 -> -5734.104
F26: այդ թվում` բյուջետային ծախսերի տնտեսագիտական դասակարգման հոդվածներ
F27: ԸՆԴԱՄԵՆԸ ԾԱԽՍԵՐ | G27: =+G28 -> -5734.104
F28: ԸՆԹԱՑԻԿ ԾԱԽՍԵՐ | G28: =+G29 -> -5734.104
F29: ԾԱՌԱՅՈՒԹՅՈՒՆՆԵՐԻ ԵՎ ԱՊՐԱՆՔՆԵՐԻ ՁԵՌՔԲԵՐՈՒՄ | G29: =+G30+G35 -> -5734.104
F30: Պայմանագրային այլ ծառայությունների ձեռքբերում | G30: =+G31+G32+G33+G34 -> -4916.204
F31: - Համակարգչային ծառայություններ | G31: =+Հ10!G32+Հ10!G33 -> -5
F32: - Տեղեկատվական ծառայություններ | G32: =+Հ10!G34+Հ10!G35+Հ10!G36+Հ10!G37+Հ10!G38+Հ10!G39+Հ10!G40+Հ10!G41 -> -4502.004
F33: - Կառավարչական ծառայություններ | G33: -12
F34: - Ընդհանուր բնույթի այլ ծառայություններ | G34: -397.2
F35: Նյութեր (Ապրանքներ) | G35: =+G36+G38+G37 -> -817.9
F36: - Գրասենյակային նյութեր և հագուստ | G36: =+Հ10!G11+Հ10!G12+Հ10!G13+Հ10!G14+Հ10!G15+Հ10!G16+Հ10!G17+Հ10!G18+Հ10!G19+Հ10!G20+Հ10!G21+Հ10!G22+Հ10!G23+Հ10!G24 -> -578.1
F37: - Տրանսպորտային նյութեր | G37: -118.3
F38: - Հատուկ նպատակային այլ նյութեր | G38: -121.5
E39: 31001 | F39: ՀՀ տարածքային կառավարման և ենթակառուցվածքների նախարարության կարողությունների զարգացում և տեխնիկական հագեցվածության ապահովում | G39: =G41 -> -129.4
F40: այդ թվում` ըստ կատարողների
F41: ՀՀ տարածքային կառավարման և ենթակառուցվածքների նախարարություն | G41: =G42 -> -129.4
F42: այդ թվում` բյուջետային ծախսերի տնտեսագիտական դասակարգման հոդվածներ | G42: =G43 -> -129.4
...

Sheet Հ4
H1: Հավելված N 4
F2: ՀՀ կառավարության 2022 թվականի
G3: _______ ի ___Ն որոշման
A6: «ՀԱՅԱUՏԱՆԻ ՀԱՆՐԱՊԵՏՈՒԹՅԱՆ 2022 ԹՎԱԿԱՆԻ ՊԵՏԱԿԱՆ ԲՅՈՒՋԵԻ ՄԱUԻՆ» OՐԵՆՔԻ N 1 ՀԱՎԵԼՎԱԾԻ N 3 ԱՂՅՈՒՍԱԿՈՒՄ ԿԱՏԱՐՎՈՂ ՓՈՓՈԽՈՒԹՅՈՒՆՆԵՐՆ ՈՒ ԼՐԱՑՈՒՄՆԵՐԸ
H7: հազար դրամ
A8: Ծրագրային դասիչ | C8: Բյուջետային գլխավոր կարգադրիչների, ծրագրերի, միջոցառումների և ուղղությունների անվանումները | D8: Ընդամենը, | E8: այդ թվում՝
A9: Ծրագիր | B9: Միջոցառում | E9: Կառուցման աշխատանքներ | F9: Վերակառուցման, վերանորոգման և վերականգնման աշխատանքներ | G9: Նախագծահե- տազոտական, գեոդեզիա- քարտեզագրա- կան աշխա- տանքներ | H9: Ոչ ֆինանսական այլ ակտիվների ձեռքբերում
C10: ԸՆԴԱՄԵՆԸ | D10: =+E10+F10+G10+H10 -> -2105433 | E10: =+E12 -> 0 | F10: =+F12 -> -2057887.2 | G10: =+G12 -> -47416.4 | H10: =+H12 -> -129.4
C11: այդ թվում՝
C12: ՀՀ ՏԱՐԱԾՔԱՅԻՆ ԿԱՌԱՎԱՐՄԱՆ ԵՎ ԵՆԹԱԿԱՌՈՒՑՎԱԾՔՆԵՐԻ ՆԱԽԱՐԱՐՈՒԹՅՈՒՆ | D12: =+E12+F12+G12+H12 -> -2105433 | E12: =+E14+E15+E47 -> 0 | F12: =+F14+F15+F47 -> -2057887.2 | G12: =+G14+G15+G47 -> -47416.4 | H12: =+H14+H15+H47 -> -129.4
C13: այդ թվում`
A14: 1001 | B14: 31001 | C14: ՀՀ տարածքային կառավարման և ենթակառուցվածքների նախարարության կարողությունների զարգացում և տեխնիկական հագեցվածության ապահովում | D14: =+E14+F14+G14+H14 -> -129.4 | E14: 0 | F14: 0 | G14: 0 | H14: =+Հ3!G47 -> -129.4
A15: 1049 | B15: 21001 | C15: Պետական նշանակության ավտոճանապարհների հիմնանորոգում | D15: =+E15+F15+G15+H15 -> -2045956.9 | E15: =+E17+E24+E32 -> 0 | F15: =+F17+F24+F32 -> -2002040.5 | G15: =+G17+G24+G32 -> -43916.4 | H15: =+H17+H24+H32 -> 0
C16: այդ թվում`
B17: 1 | C17: Միջպետական նշանակության ավտոճանապարհներ, այդ թվում | D17: =+E17+F17+G17+H17 -> -1439649.9 | E17: =SUM(E18:E23) -> 0 | F17: =SUM(F18:F23) -> -1409233.5 | G17: =SUM(G18:G23) -> -30416.4 | H17: =SUM(H18:H23) -> 0
C18: Մ-2, Երևան-Երասխ-Գորիս-Մեղրի-Իրանի սահման միջպետական նշանակության ավտոճանապարհի կմ329+820 - կմ338+100 հատվածի հիմնանորոգում | D18: =+E18+F18+G18+H18 -> -17725.9 | E18: 0 | F18: -17725.9 | G18: 0 | H18: 0
C19: Մ-3, Թուրքիայի սահման-Մարգարա-Վանաձոր-Տաշիր-Վրաստանի սահման միջպետական նշանակության ավտոճանապարհի կմ2+000 - կմ10+500 հատվածի հիմնանորոգում | D19: =+E19+F19+G19+H19 -> -687545.3 | E19: 0 | F19: -687545.3 | G19: 0 | H19: 0
C20: Մ-3, Թուրքիայի սահման-Մարգարա-Վանաձոր-Տաշիր-Վրաստանի սահման միջպետական նշանակության ավտոճանապարհի կմ97+020-կմ104+700 հատվածի հիմնանորոգում | D20: =+E20+F20+G20+H20 -> -264488.4 | E20: 0 | F20: -264488.4 | G20: 0 | H20: 0
C21: Մ-3, Թուրքիայի սահման-Մարգարա-Վանաձոր-Տաշիր-Վրաստանի սահման միջպետական նշանակության ավտոճանապարհի կմ116+790 (կմ116+900)-կմ128+718(կմ127+900) հատվածի հիմնանորոգում | D21: =+E21+F21+G21+H21 -> -30416.4 | E21: 0 | F21: 0 | G21: -30416.4 | H21: 0
C22: Մ-3, Թուրքիայի սահման-Մարգարա-Վանաձոր-Տաշիր-Վրաստանի սահման միջպետական նշանակության ավտոճանապարհի կմ154+000-կմ176+900 հատվածի հիմնանորոգում | D22: =+E22+F22+G22+H22 -> 45749.2 | E22: 0 | F22: 45749.2 | G22: 0 | H22: 0
C23: Մ-4, Երևան-Սևան-Իջևան-Ադրբեջանի սահման միջպետական նշանակության ավտոճանապարհի կմ91+176-կմ96+176 հատվածի հիմնանորոգում և ոլորանների պարամետրերի բարելավում | D23: =+E23+F23+G23+H23 -> -485223.1 | E23: 0 | F23: -485223.1 | G23: 0 | H23: 0
B24: 2 | C24: Հանրապետական նշանակության ավտոճանապարհներ, այդ թվում | D24: =+E24+F24+G24+H24 -> -117458.1 | E24: =SUM(E25:E31) -> 0 | F24: =SUM(F25:F31) -> -117458.1 | G24: =SUM(G25:G31) -> 0 | H24: =SUM(H25:H31) -> 0
C25: Հ-2, /Հ-1/ Աբովյան- Արզնի-/Հ-6/ (Նոր Գեղի) հանրապետական նշանակության ավտոճանապարհի կմ0+000-կմ1+400 հատվածի հիմնանորոգում | D25: =+E25+F25+G25+H25 -> -7769.7 | E25: 0 | F25: -7769.7 | G25: 0 | H25: 0
C26: Հ-5, /Հ-6/-Նոր Գեղի-Արգել-Արզական-Հրազդան հանրապետական նշանակության ավտոճանապարհի կմ0+000 - կմ10+000 հատվածի հիմնանորոգում | D26: =+E26+F26+G26+H26 -> -13156 | E26: 0 | F26: -13156 | G26: 0 | H26: 0
C27: Հ-33, /Մ-3 /Ստեփանավան-Ագարակ-Յաղդան-/Հ-35/ հանրապետական նշանակության ավտոճանապարհի կմ0+000-կմ8+100 հատվածի հիմնանորոգում | D27: =+E27+F27+G27+H27 -> -3845.8 | E27: 0 | F27: -3845.8 | G27: 0 | H27: 0
C28: Հ-36, /Մ-4/ (Իջևան) - Նավուր - Բերդ - Այգեպար հանրապետական նշանակության ավտոճանապարհի կմ 5+600-կմ 42+100 հատվածի հիմնանորոգում | D28: =+E28+F28+G28+H28 -> -6125 | E28: 0 | F28: =+Հ6!E29 -> -6125 | G28: 0 | H28: 0
C29: Հ-41, /Մ-2/ - Նորավանքի պատմական հուշարձան հանրապետական նշանակության ավտոճանապարհի կմ0+000-կմ8+100 հատվածի հիմնանորոգում | D29: =+E29+F29+G29+H29 -> -85000 | E29: 0 | F29: -85000 | G29: 0 | H29: 0
C30: Հ-46, /Մ-2/-Տաթև-Աղվանի-/Մ-2/(Սյունիք) հանրապետական նշանակության ավտոճանապարհի կմ37+500-կմ55+000 հատվածի հիմնանորոգում | D30: =+E30+F30+G30+H30 -> -1040.8 | E30: 0 | F30: -1040.8 | G30: 0 | H30: 0
C31: Հ-93, /Հ-75/ - Երերույքի տաճար հանրապետական նշանակության ավտոճանապարհի կմ 0+000-կմ 2+700 հատվածի հիմնանորոգում | D31: =+E31+F31+G31+H31 -> -520.8 | E31: 0 | F31: -520.8 | G31: 0 | H31: 0
B32: 3 | C32: Մարզային նշանակության ավտոճանապարհներ, այդ թվում | D32: =+E32+F32+G32+H32 -> -488848.9 | E32: =SUM(E33:E46) -> 0 | F32: =SUM(F33:F46) -> -475348.9 | G32: =SUM(G33:G46) -> -13500 | H32: =SUM(H33:H46) -> 0
C33: Տ-3-44, /Մ-5/ – Ծիածան – Աղավնատուն – Լեռնամերձ ավտոճանապարհի կմ0+000-կմ7+300 հատվածի հիմնանորոգում | D33: =+E33+F33+G33+H33 -> -10950 | E33: 0 | F33: 0 | G33: -10950 | H33: 0
C34: Տ-3-76, Զարթոնք - Արտաշար /Տ-3-54/ ավտոճանապարհի կմ 0+000-կմ 2+100 հատվածի հիմնանորոգում | D34: =+E34+F34+G34+H34 -> -42711.2 | E34: 0 | F34: -42711.2 | G34: 0 | H34: 0
C35: Տ-3-61, /Մ-5/ (Նորապատ) - /Հ-17/ ավտոճանապարհի կմ0+000-կմ1+700 հատվածի հիմնանորոգում | D35: =+E35+F35+G35+H35 -> -2550 | E35: 0 | F35: 0 | G35: -2550 | H35: 0
C36: Տ-5-7, /Մ-7/ (Շիրակամուտ) - Լեռնավան (Տ-5-38) ավտոճանապարհի կմ0+000 - կմ1+142 հատվածի հիմնանորոգում | D36: =+E36+F36+G36+H36 -> -3163.9 | E36: 0 | F36: -3163.9 | G36: 0 | H36: 0
C37: Տ-5-23, /Մ-3/ - Սարամեջ ավտոճանապարհի կմ0+000-կմ4+300 հատվածի հիմնանորոգում | D37: =+E37+F37+G37+H37 -> -32997.6 | E37: 0 | F37: -32997.6 | G37: 0 | H37: 0
C38: Մ-6 - Եղեգնուտ - Դեբեդ ավտոճանապարհի կմ0+000 - կմ7+183 հատվածի հիմնանորոգում | D38: =+E38+F38+G38+H38 -> -2095.6 | E38: 0 | F38: -2095.6 | G38: 0 | H38: 0
C39: Տ-9-19, /Մ-2/ - Հերհեր -Կարմրաշեն մարզային նշանակության ավտոճանապարհի կմ10+000 - կմ18+700 հատվածի հիմնանորոգում | D39: =+E39+F39+G39+H39 -> -19509.7 | E39: 0 | F39: -19509.7 | G39: 0 | H39: 0
C40: Հրազդան քաղաքի Տիգրան Մեծ փողոցի 290 գծ.մ հատվածի հիմնանորոգում | D40: =+E40+F40+G40+H40 -> -887 | E40: 0 | F40: -887 | G40: 0 | H40: 0
C41: Հրազդան քաղաքի Վանատուր թաղամասի միջթաղամասային փողոցների 3384 գծ.մ ( 626 գծ.մ, 310 գծ.մ, 176 գծ.մ, 1235 գծ.մ, 950 գծ.մ և 87 գծ.մ ) հատվածների հիմնանորոգում | D41: =+E41+F41+G41+H41 -> -16570.7 | E41: 0 | F41: -16570.7 | G41: 0 | H41: 0
C42: Հրազդան քաղաքի հարավային թաղամաս 1069 գծ.մ ( Նոյեմբերյան փողոց 627 գծ.մ, Մյասնիկյան փողոց 442 գծ.մ ) հատվածների հիմնանորոգում | D42: =+E42+F42+G42+H42 -> -9761.4 | E42: 0 | F42: -9761.4 | G42: 0 | H42: 0
...

Sheet Հ5
E1: Հավելված N 5
E2: ՀՀ կառավարության 2022 թվականի
E3: -ի N - Ն որոշման
B4: «ՀԱՅԱՍՏԱՆԻ ՀԱՆՐԱՊԵՏՈՒԹՅԱՆ 2022 ԹՎԱԿԱՆԻ ՊԵՏԱԿԱՆ ԲՅՈՒՋԵԻ ՄԱՍԻՆ» ՕՐԵՆՔԻ N 1 ՀԱՎԵԼՎԱԾԻ N 6 ԱՂՅՈՒՍԱԿՈՒՄ ԿԱՏԱՐՎՈՂ ՓՈՓՈԽՈՒԹՅՈՒՆ, ՀԱՅԱՍՏԱՆԻ ՀԱՆՐԱՊԵՏՈՒԹՅԱՆ ԿԱՌԱՎԱՐՈՒԹՅԱՆ 2021 ԹՎԱԿԱՆԻ ԴԵԿՏԵՄԲԵՐԻ 23-Ի N 2121-Ն ՈՐՈՇՄԱՆ N 5 ՀԱՎԵԼՎԱԾԻ N 5 ԱՂՅՈՒՍԱԿՈՒՄ ԿԱՏԱՐՎՈՂ ՓՈՓՈԽՈՒԹՅՈՒՆՆԵՐԸ
E5: հազար դրամ
B6: Ծրագրային դասիչը | D6: Բյուջետային ծրագրերի, միջոցառումների և աշխատանքների անվանումները | E6: Ցուցանիշների փոփոխությունը (նվազեցումները նշված են փակագծերում)
B8: Ծրագիր | C8: Միջոցառում | E8: Տարի
B9: 1049 | D9: Ճանապարհային ցանցի բարելավում
C10: 11001 | D10: Միջպետական և հանրապետական նշանակության ավտոճանապարհների պահպանման և անվտանգ երթևեկության ծառայություններ¸ այդ թվում՝ | E10: =+E11 -> -86114.71
D11: 1. Ավտոճանապարհների ձմեռային և ընթացիկ պահպանում, այդ թվում` | E11: =+E12 -> -86114.71
D12: 1.2 Պարբերական պահպանում (միջին նորոգում) | E12: =+'[1]2'!G41 -> -86114.71

Sheet Հ6
E1: Հավելված N 6
E2: ՀՀ կառավարության 2022 թվականի
E3: ______________ ի ___Ն որոշման
B5: ՀԱՅԱՍՏԱՆԻ ՀԱՆՐԱՊԵՏՈՒԹՅԱՆ ԿԱՌԱՎԱՐՈՒԹՅԱՆ 2021 ԹՎԱԿԱՆԻ ԴԵԿՏԵՄԲԵՐԻ 23-Ի N 2121-Ն ՈՐՈՇՄԱՆ N 5 ՀԱՎԵԼՎԱԾԻ N 2 ԱՂՅՈՒՍԱԿՈՒՄ ԿԱՏԱՐՎՈՂ ՓՈՓՈԽՈՒԹՅՈՒՆՆԵՐՆ ՈՒ ԼՐԱՑՈՒՄՆԵՐԸ
E6: հազար դրամ
B7: Ծրագրային դասիչ | D7: Բյուջետային գլխավոր կարգադրիչների, ծրագրերի, միջոցառումների, միջոցառումները կատարող պետական մարմինների և ուղղությունների անվանումները | E7: Տարի
B8: Ծրագիր | C8: Միջոցառում
D9: ՀՀ ՏԱՐԱԾՔԱՅԻՆ ԿԱՌԱՎԱՐՄԱՆ ԵՎ ԵՆԹԱԿԱՌՈՒՑՎԱԾՔՆԵՐԻ ՆԱԽԱՐԱՐՈՒԹՅՈՒՆ | E9: =+E11+E14+E48 -> -2105433
D10: այդ թվում`
B11: 1001 | C11: 31001 | D11: ՀՀ տարածքային կառավարման և ենթակառուցվածքների նախարարության կարողությունների զարգացում և տեխնիկական հագեցվածության ապահովում | E11: =E13 -> -129.4
D12: այդ թվում` ըստ կատարողների
D13: ՀՀ տարածքային կառավարման և ենթակառուցվածքների նախարարություն | E13: =+Հ4!H14 -> -129.4
B14: 1049 | C14: 21001 | D14: Պետական նշանակության ավտոճանապարհների հիմնանորոգում | E14: =+E16 -> -2045956.9
D15: այդ թվում` ըստ կատարողների
D16: ՀՀ տարածքային կառավարման և ենթակառուցվածքների նախարարություն | E16: =+E18+E25+E33 -> -2045956.9
D17: այդ թվում՝ ըստ ուղղությունների
C18: 1 | D18: Միջպետական նշանակության ավտոճանապարհներ, այդ թվում | E18: =SUM(E19:E24) -> -1439649.9
D19: Մ-2, Երևան-Երասխ-Գորիս-Մեղրի-Իրանի սահման միջպետական նշանակության ավտոճանապարհի կմ329+820 - կմ338+100 հատվածի հիմնանորոգում | E19: -17725.9
D20: Մ-3, Թուրքիայի սահման-Մարգարա-Վանաձոր-Տաշիր-Վրաստանի սահման միջպետական նշանակության ավտոճանապարհի կմ2+000 - կմ10+500 հատվածի հիմնանորոգում | E20: -687545.3
D21: Մ-3, Թուրքիայի սահման-Մարգարա-Վանաձոր-Տաշիր-Վրաստանի սահման միջպետական նշանակության ավտոճանապարհի կմ97+020-կմ104+700 հատվածի հիմնանորոգում | E21: -264488.4
D22: Մ-3, Թուրքիայի սահման-Մարգարա-Վանաձոր-Տաշիր-Վրաստանի սահման միջպետական նշանակության ավտոճանապարհի կմ116+790 (կմ116+900)-կմ128+718(կմ127+900) հատվածի հիմնանորոգում | E22: -30416.4
D23: Մ-3, Թուրքիայի սահման-Մարգարա-Վանաձոր-Տաշիր-Վրաստանի սահման միջպետական նշանակության ավտոճանապարհի կմ154+000-կմ176+900 հատվածի հիմնանորոգում | E23: 45749.2
D24: Մ-4, Երևան-Սևան-Իջևան-Ադրբեջանի սահման միջպետական նշանակության ավտոճանապարհի կմ91+176-կմ96+176 հատվածի հիմնանորոգում և ոլորանների պարամետրերի բարելավում | E24: -485223.1
C25: 2 | D25: Հանրապետական նշանակության ավտոճանապարհներ, այդ թվում | E25: =SUM(E26:E32) -> -117458.1
D26: Հ-2, /Հ-1/ Աբովյան- Արզնի-/Հ-6/ (Նոր Գեղի) հանրապետական նշանակության ավտոճանապարհի կմ0+000-կմ1+400 հատվածի հիմնանորոգում | E26: -7769.7
D27: Հ-5, /Հ-6/-Նոր Գեղի-Արգել-Արզական-Հրազդան հանրապետական նշանակության ավտոճանապարհի կմ0+000 - կմ10+000 հատվածի հիմնանորոգում | E27: -13156
D28: Հ-33, /Մ-3 /Ստեփանավան-Ագարակ-Յաղդան-/Հ-35/ հանրապետական նշանակության ավտոճանապարհի կմ0+000-կմ8+100 հատվածի հիմնանորոգում | E28: -3845.8
D29: Հ-36, /Մ-4/ (Իջևան) - Նավուր - Բերդ - Այգեպար հանրապետական նշանակության ավտոճանապարհի կմ 5+600-կմ 42+100 հատվածի հիմնանորոգում | E29: -6125
D30: Հ-41, /Մ-2/ - Նորավանքի պատմական հուշարձան հանրապետական նշանակության ավտոճանապարհի կմ0+000-կմ8+100 հատվածի հիմնանորոգում | E30: -85000
D31: Հ-46, /Մ-2/-Տաթև-Աղվանի-/Մ-2/(Սյունիք) հանրապետական նշանակության ավտոճանապարհի կմ37+500-կմ55+000 հատվածի հիմնանորոգում | E31: -1040.8
D32: Հ-93, /Հ-75/ - Երերույքի տաճար հանրապետական նշանակության ավտոճանապարհի կմ 0+000-կմ 2+700 հատվածի հիմնանորոգում | E32: -520.8
C33: 3 | D33: Մարզային նշանակության ավտոճանապարհներ, այդ թվում | E33: =SUM(E34:E47) -> -488848.9
D34: Տ-3-44, /Մ-5/ – Ծիածան – Աղավնատուն – Լեռնամերձ ավտոճանապարհի կմ0+000-կմ7+300 հատվածի հիմնանորոգում | E34: -10950
D35: Տ-3-76, Զարթոնք - Արտաշար /Տ-3-54/ ավտոճանապարհի կմ 0+000-կմ 2+100 հատվածի հիմնանորոգում | E35: -42711.2
D36: Տ-3-61, /Մ-5/ (Նորապատ) - /Հ-17/ ավտոճանապարհի կմ0+000-կմ1+700 հատվածի հիմնանորոգում | E36: -2550
D37: Տ-5-7, /Մ-7/ (Շիրակամուտ) - Լեռնավան (Տ-5-38) ավտոճանապարհի կմ0+000 - կմ1+142 հատվածի հիմնանորոգում | E37: -3163.9
D38: Տ-5-23, /Մ-3/ - Սարամեջ ավտոճանապարհի կմ0+000-կմ4+300 հատվածի հիմնանորոգում | E38: -32997.6
D39: Մ-6 - Եղեգնուտ - Դեբեդ ավտոճանապարհի կմ0+000 - կմ7+183 հատվածի հիմնանորոգում | E39: -2095.6
D40: Տ-9-19, /Մ-2/ - Հերհեր -Կարմրաշեն մարզային նշանակության ավտոճանապարհի կմ10+000 - կմ18+700 հատվածի հիմնանորոգում | E40: -19509.7
D41: Հրազդան քաղաքի Տիգրան Մեծ փողոցի 290 գծ.մ հատվածի հիմնանորոգում | E41: -887
...

Sheet Հ7
F1: Հավելված N 7
F2: ՀՀ կառավարության 2022 թվականի
F3: ______________ ի ___Ն որոշման
C5: «ՀԱՅԱՍՏԱՆԻ ՀԱՆՐԱՊԵՏՈՒԹՅԱՆ 2022 ԹՎԱԿԱՆԻ ՊԵՏԱԿԱՆ ԲՅՈՒՋԵԻ ՄԱՍԻՆ» ՕՐԵՆՔԻ N 1 ՀԱՎԵԼՎԱԾԻ N 8 ԱՂՅՈՒՍԱԿՈՒՄ ԿԱՏԱՐՎՈՂ ՓՈՓՈԽՈՒԹՅՈՒՆՆԵՐԸ
E7: հազար դրամ
B8: Ծրագրային դասիչը | D8: Ծրագրերի և միջոցառումների անվանումները | E8: Պետական մարմինների անվանումները | F8: Ցուցանիշների փոփոխությունը (նվազեցումները նշված են փակագծերում)
B9: Ծրագիր | C9: Միջոցառում | F9: Գումարը
D10: ԸՆԴԱՄԵՆԸ | F10: =+F11 -> -50000
B11: 1212 | D11: Տարածքային զարգացում | F11: =+F12 -> -50000
C12: 12003 | D12: Պետական աջակցություն սահմանամերձ համայնքներին | E12: ՀՀ Սյունիքի մարզպետարան | F12: =+Հ3!G89 -> -50000

Sheet Հ8
D1: Հավելված N 8
D2: ՀՀ կառավարության 2022 թվականի
D3: ______________ ի ___Ն որոշման
B5: ՀԱՅԱՍՏԱՆԻ ՀԱՆՐԱՊԵՏՈՒԹՅԱՆ ԿԱՌԱՎԱՐՈՒԹՅԱՆ 2021 ԹՎԱԿԱՆԻ ԴԵԿՏԵՄԲԵՐԻ 23-Ի N 2121-Ն ՈՐՈՇՄԱՆ N 9 ՀԱՎԵԼՎԱԾԻ N 9.7 ԱՂՅՈՒՍԱԿՈՒՄ ԿԱՏԱՐՎՈՂ ՓՈՓՈԽՈՒԹՅՈՒՆՆԵՐԸ ԵՎ ԼՐԱՑՈՒՄՆԵՐԸ
B7: ՀՀ տարածքային կառավարման և ենթակառուցվածքների նախարարություն
B9: ՄԱՍ 2. ՊԵՏԱԿԱՆ ՄԱՐՄՆԻ ԳԾՈՎ ԱՐԴՅՈՒՆՔԱՅԻՆ (ԿԱՏԱՐՈՂԱԿԱՆ) ՑՈՒՑԱՆԻՇՆԵՐԸ
B11: Ծրագրի դասիչը | C11: Ծրագրի անվանումը
B12: 1001 | C12: Տարածքային կառավարման ոլորտում քաղաքականության մշակում, ծրագրերի համակարգում և մոնիտորինգի իրականացում
B14: Ծրագրի միջոցառումները
B15: Ծրագրի դասիչը` | C15: 1001 | D15: Ցուցանիշների փոփոխությունը (նվազեցումները նշված են փակագծերում)
B16: Միջոցառման դասիչը` | C16: 11001 | D16: Տարի
B17: Միջոցառման անվանումը` | C17: Տարածքային կառավարման և ենթակառուցվածքների քաղաքականության մշակում և ծառայությունների մատուցում
B18: Նկարագրությունը` | C18: Տարածքային կառավարման և ենթակառուցվածքների բնագավառում պետական քաղաքականության մշակման և դրա կատարման համակարգման, պետական ծրագրերի մշակման, իրականացման, մոնիտորինգի, խորհրդատվության և աջակցության ծառայություններ
B19: Միջոցառման տեսակը` | C19: Ծառայությունների մատուցում
B20: Միջոցառումն իրականացնողի անվանումը | C20: ՀՀ տարածքային կառավարման և ենթակառուցվածքների նախարարություն
B21: Արդյունքի չափորոշիչներ
B22: Միջոցառման վրա կատարվող ծախսը (հազար դրամ) | D22: =+Հ3!G23 -> -5734.104
B24: Ծրագրի դասիչը` | C24: 1001 | D24: Ցուցանիշների փոփոխությունը (նվազեցումները նշված են փակագծերում)
B25: Միջոցառման դասիչը` | C25: 31001 | D25: Տարի
B26: Միջոցառման անվանումը` | C26: ՀՀ տարածքային կառավարման և ենթակառուցվածքների նախարարության կարողությունների զարգացում և տեխնիկական հագեցվածության ապահովում
B27: Նկարագրությունը` | C27: ՀՀ տարածքային կառավարման և ենթակառուցվածքների նախարարության աշխատանքային պայմանների բարելավման համար վարչական սարքավորումների ձեռք բերում_x000D_
B28: Միջոցառման տեսակը` | C28: Պետական մարմինների կողմից օգտագործվող ոչ ֆինանսական ակտիվների հետ գործառնություններ
B29: Ակտիվն օգտագործող կազմակերպության անվանումը՝ | C29: ՀՀ տարածքային կառավարման և ենթակառուցվածքների նախարարություն
B30: Արդյունքի չափորոշիչներ
B31: Միջոցառման վրա կատարվող ծախսը (հազար դրամ) | D31: =+Հ3!G47 -> -129.4
B33: Ծրագրի դասիչը | C33: Ծրագրի անվանումը
B34: 1038 | C34: Տարածքային կառավարման և տեղական ինքնակառավարման մարմինների ներկայացուցիչների մասնագիտական վերապատրաստում և հատուկ ուսուցում
B36: Ծրագրի միջոցառումները
B37: Ծրագրի դասիչը` | C37: 1038 | D37: Ցուցանիշների փոփոխությունը (նվազեցումները նշված են փակագծերում)
B38: Միջոցառման դասիչը` | C38: 11001 | D38: Տարի
B39: Միջոցառման անվանումը` | C39: Վերապատրաստման ծառայություններ
B40: Նկարագրությունը` | C40: Տարածքային կառավարման մարմինների աշխատակիցների, տեղական ինքնակառավարման մարմինների, ինչպես նաև համայնքային ծառայողների վերապատրաստման կազմակերպում
B41: Միջոցառման տեսակը` | C41: Ծառայությունների մատուցում
B42: Ծառայությունը մատուցող կազմակերպության(ների) անվանում(ներ)ը` | C42: «Գնումների մասին» ՀՀ օրենքի համաձայն ընտրված կազմակերպություն
B43: Արդյունքի չափորոշիչներ
B44: Միջոցառման վրա կատարվող ծախսը (հազար դրամ) | D44: =+Հ3!G215 -> -9384
B46: Ծրագրի դասիչը | C46: Ծրագրի անվանումը
B47: 1049 | C47: Ճանապարհային ցանցի բարելավում
B49: Ծրագրի միջոցառումները
B51: Ծրագրի դասիչը` | C51: 1049 | D51: Ցուցանիշների փոփոխությունը (նվազեցումները նշված են փակագծերում)
...

Sheet Հ9
D1: Հավելված N 9
D2: ՀՀ կառավարության 2022 թվականի
D3: ______________ ի ___Ն որոշման
B5: ՀԱՅԱՍՏԱՆԻ ՀԱՆՐԱՊԵՏՈՒԹՅԱՆ ԿԱՌԱՎԱՐՈՒԹՅԱՆ 2021 ԹՎԱԿԱՆԻ ԴԵԿՏԵՄԲԵՐԻ 23-Ի N 2121-Ն ՈՐՈՇՄԱՆ N 9.1 ՀԱՎԵԼՎԱԾԻ NN 9.1.8, 9.1.34, 9.1.35, 9.1.49, 9.1.50, 9.1.51, 9.1.52, 9.1.53, 9.1.54, 9.1.56, 9.1.57 ԵՎ 9.1.59 ԱՂՅՈՒՍԱԿՆԵՐՈՒՄ ԿԱՏԱՐՎՈՂ ՓՈՓՈԽՈՒԹՅՈՒՆՆԵՐԸ ԵՎ ԼՐԱՑՈՒՄՆԵՐԸ
D7: Աղյուսակ 9.1.8
B8: ՀՀ տարածքային կառավարման և ենթակառուցվածքների նախարարություն
B9: ՄԱՍ 1. ՊԵՏԱԿԱՆ ՄԱՐՄՆԻ ԳԾՈՎ ԱՐԴՅՈՒՆՔԱՅԻՆ (ԿԱՏԱՐՈՂԱԿԱՆ) ՑՈՒՑԱՆԻՇՆԵՐԸ
B11: Ծրագրի դասիչը | C11: Ծրագրի անվանումը
B12: 1001 | C12: Տարածքային կառավարման ոլորտում քաղաքականության մշակում, ծրագրերի համակարգում և մոնիտորինգի իրականացում
B14: Ծրագրի միջոցառումները
B15: Ծրագրի դասիչը` | C15: 1001 | D15: Ցուցանիշների փոփոխությունը (նվազեցումները նշված են փակագծերում)
B16: Միջոցառման դասիչը` | C16: 11001 | D16: Տարի
B17: Միջոցառման անվանումը` | C17: Տարածքային կառավարման և ենթակառուցվածքների քաղաքականության մշակում և ծառայությունների մատուցում
B18: Նկարագրությունը` | C18: Տարածքային կառավարման և ենթակառուցվածքների բնագավառում պետական քաղաքականության մշակման և դրա կատարման համակարգման, պետական ծրագրերի մշակման, իրականացման, մոնիտորինգի, խորհրդատվության և աջակցության ծառայություններ
B19: Միջոցառման տեսակը` | C19: Ծառայությունների մատուցում
B20: Միջոցառումն իրականացնողի անվանումը | C20: ՀՀ տարածքային կառավարման և ենթակառուցվածքների նախարարություն
B21: Արդյունքի չափորոշիչներ
B22: Միջոցառման վրա կատարվող ծախսը (հազար դրամ) | D22: =+Հ3!G23 -> -5734.104
B24: Ծրագրի դասիչը` | C24: 1001 | D24: Ցուցանիշների փոփոխությունը (նվազեցումները նշված են փակագծերում)
B25: Միջոցառման դասիչը` | C25: 31001 | D25: Տարի
B26: Միջոցառման անվանումը` | C26: ՀՀ տարածքային կառավարման և ենթակառուցվածքների նախարարության կարողությունների զարգացում և տեխնիկական հագեցվածության ապահովում
B27: Նկարագրությունը` | C27: ՀՀ տարածքային կառավարման և ենթակառուցվածքների նախարարության աշխատանքային պայմանների բարելավման համար վարչական սարքավորումների ձեռք բերում_x000D_
B28: Միջոցառման տեսակը` | C28: Պետական մարմինների կողմից օգտագործվող ոչ ֆինանսական ակտիվների հետ գործառնություններ
B29: Ակտիվն օգտագործող կազմակերպության անվանումը՝ | C29: ՀՀ տարածքային կառավարման և ենթակառուցվածքների նախարարություն
B30: Արդյունքի չափորոշիչներ
B31: Միջոցառման վրա կատարվող ծախսը (հազար դրամ) | D31: =+Հ8!D31 -> -129.4
B33: Ծրագրի դասիչը | C33: Ծրագրի անվանումը
B34: 1038 | C34: Տարածքային կառավարման և տեղական ինքնակառավարման մարմինների ներկայացուցիչների մասնագիտական վերապատրաստում և հատուկ ուսուցում
B36: Ծրագրի միջոցառումները
B37: Ծրագրի դասիչը` | C37: 1038 | D37: Ցուցանիշների փոփոխությունը (նվազեցումները նշված են փակագծերում)
B38: Միջոցառման դասիչը` | C38: 11001 | D38: Տարի
B39: Միջոցառման անվանումը` | C39: Վերապատրաստման ծառայություններ
B40: Նկարագրությունը` | C40: Տարածքային կառավարման մարմինների աշխատակիցների, տեղական ինքնակառավարման մարմինների, ինչպես նաև համայնքային ծառայողների վերապատրաստման կազմակերպում
B41: Միջոցառման տեսակը` | C41: Ծառայությունների մատուցում
B42: Ծառայությունը մատուցող կազմակերպության(ների) անվանում(ներ)ը` | C42: «Գնումների մասին» ՀՀ օրենքի համաձայն ընտրված կազմակերպություն
B43: Արդյունքի չափորոշիչներ
B44: Միջոցառման վրա կատարվող ծախսը (հազար դրամ) | D44: =+Հ8!D44 -> -9384
B46: Ծրագրի դասիչը | C46: Ծրագրի անվանումը
B47: 1049 | C47: Ճանապարհային ցանցի բարելավում
B49: Ծրագրի միջոցառումները
...

Sheet Հ10
G1: Հավելված N 10 ՀՀ կառավարության 2022 թվականի ___________ ___-ի N _______ -Ն որոշման
A2: ՀԱՅԱՍՏԱՆԻ ՀԱՆՐԱՊԵՏՈՒԹՅԱՆ ԿԱՌԱՎԱՐՈՒԹՅԱՆ 2021 ԹՎԱԿԱՆԻ ԴԵԿՏԵՄԲԵՐԻ 23-Ի N 2121-Ն ՈՐՈՇՄԱՆ N 10 ՀԱՎԵԼՎԱԾՈՒՄ ԿԱՏԱՐՎՈՂ ՓՈՓՈԽՈՒԹՅՈՒՆՆԵՐԸ
A3: Կոդը | B3: Անվանումը | C3: Գնման ձևը | D3: Չափման միավորը | E3: Միավորի գինը | F3: Քանակը | G3: Ցուցանիշների փոփոխությունը (ավելացումները նշված են դրական նշանով, իսկ նվազեցումները` փակագծերում)
G4: Գումարը (հազար դրամ)
A5: 1 | B5: 2 | C5: 3 | D5: 4 | E5: 5 | F5: 6 | G5: 7
B6: Ընդամենը | G6: =+G7+G107 -> -2221350.5
A7: ՀՀ տարածքային կառավարման և ենթակառուցվածքների նախարարություն | G7: =+G8+G48+G102 -> -2218381.9
A8: Բաժին N 01 | B8: Խումբ N 01 | C8: Դաս N 01 | D8: Օրենսդիր և գործադիր մարմիններ, պետական կառավարում | G8: =G9+G44 -> -5863.504
A9: 1001 11001 | B9: Տարածքային կառավարման և ենթակառուցվածքների քաղաքականության մշակում և ծառայությունների մատուցում | G9: =+G10+G31 -> -5734.104
A10: ՄԱՍ I. ԱՊՐԱՆՔՆԵՐ | G10: =SUM(G11:G30) -> -817.9
A11: 30192710/1 | B11: սոսնձամատիտ, գրասենյակային | C11: ԷԱՃ | D11: դրամ | E11: 0 | F11: 0 | G11: -6
A12: 30192160/1 | B12: շտրիխներ | C12: ԷԱՃ | D12: դրամ | E12: 0 | F12: 0 | G12: -6.4
A13: 22811150/1 | B13: նոթատետրեր | C13: ԷԱՃ | D13: դրամ | E13: 0 | F13: 0 | G13: -2
A14: 30197231/1 | B14: թղթապանակ, պոլիմերային թաղանթ, ֆայլ | C14: ԷԱՃ | D14: դրամ | E14: 0 | F14: 0 | G14: -76.5
A15: 31442000/1 | B15: մարտկոց, AA տեսակի | C15: ԷԱՃ | D15: դրամ | E15: 0 | F15: 0 | G15: -0.6
A16: 44423560/1 | B16: ռետինե շտամպեր | C16: ԷԱՃ | D16: դրամ | E16: 0 | F16: 0 | G16: -5
A17: 30199230/1 | B17: նամակի ծրար, A5 ձ―աչափի | C17: ԷԱՃ | D17: դրամ | E17: 0 | F17: 0 | G17: -9.7
A18: 30197622/1 | B18: թուղթ, A4 ֆորմատի | C18: ԷԱՃ | D18: դրամ | E18: 0 | F18: 0 | G18: -371.9
A19: 22851100/1 | B19: արագակարներ | C19: ԷԱՃ | D19: դրամ | E19: 0 | F19: 0 | G19: -28
A20: 30234630/1 | B20: ֆլեշ հիշողություն, 8GB | C20: ԷԱՃ | D20: դրամ | E20: 0 | F20: 0 | G20: -42
A21: 30192720/1 | B21: գծանշիչ | C21: ԷԱՃ | D21: դրամ | E21: 0 | F21: 0 | G21: -20.2
A22: 30192121/1 | B22: գրիչ գնդիկավոր | C22: ԷԱՃ | D22: դրամ | E22: 0 | F22: 0 | G22: -3
... A30: 24451141/1 | B30: ախտահանիչ հեղուկ նյութեր | C30: ՄԱ | D30: դրամ | E30: 0 | F30: 0 | G30: -10.5
A31: ՄԱՍ III. ԾԱՌԱՅՈՒԹՅՈՒՆՆԵՐ | G31: =SUM(G32:G43) -> -4916.204
A32: 48211210/3 | B32: ցանցային զանազան համակարգչային ծրագրային փաթեթներ | C32: ԷԱՃ | D32: դրամ | E32: 0 | F32: 0 | G32: -1
A33: 48211210/1 | B33: ցանցային զանազան համակարգչային ծրագրային փաթեթներ | C33: ԷԱՃ | D33: դրամ | E33: 0 | F33: 0 | G33: -4
A34: 79821200/8 | B34: այլ պոլիգրաֆիական արտադրանքի տպագրման ծառայություն | C34: ԷԱՃ | D34: դրամ | E34: 0 | F34: 0 | G34: -1.204
A35: 79821200/12 | B35: այլ պոլիգրաֆիական արտադրանքի տպագրման ծառայություն | C35: ԷԱՃ | D35: դրամ | E35: 0 | F35: 0 | G35: -3600
A36: 79821200/10 | B36: այլ պոլիգրաֆիական արտադրանքի տպագրման ծառայություն | C36: ԷԱՃ | D36: դրամ | E36: 0 | F36: 0 | G36: -50
A37: 79821200/9 | B37: այլ պոլիգրաֆիական արտադրանքի տպագրման ծառայություն | C37: ԷԱՃ | D37: դրամ | E37: 0 | F37: 0 | G37: -2.8
A38: 79821200/14 | B38: այլ պոլիգրաֆիական արտադրանքի տպագրման ծառայություն | C38: ԷԱՃ | D38: դրամ | E38: 0 | F38: 0 | G38: -276
A39: 79821200/16 | B39: այլ պոլիգրաֆիական արտադրանքի տպագրման ծառայություն | C39: ԷԱՃ | D39: դրամ | E39: 0 | F39: 0 | G39: -492.8
A40: 79821200/5 | B40: այլ պոլիգրաֆիական արտադրանքի տպագրման ծառայություն | C40: ԷԱՃ | D40: դրամ | E40: 0 | F40: 0 | G40: -16
A41: 79821200/25 | B41: այլ պոլիգրաֆիական արտադրանքի տպագրման ծառայություն | C41: ԷԱՃ | D41: դրամ | E41: 0 | F41: 0 | G41: -63.2
A42: 79211180/1 | B42: ներքին աուդիտի ծառայություններ | C42: ԷԱՃ | D42: դրամ | E42: 0 | F42: 0 | G42: -12
A43: 79631200/2 | B43: աշխատակիցների վերապատրաստման ծառայություններ | C43: ԷԱՃ | D43: դրամ | E43: 0 | F43: 0 | G43: -397.2
A44: 1001 31001 | B44: ՀՀ տարածքային կառավարման և ենթակառուցվածքների նախարարության կարողությունների զարգացում և տեխնիկական հագեցվածության ապահովում | G44: =+G46+G47 -> -129.4
A45: ՄԱՍ I. ԱՊՐԱՆՔՆԵՐ
A46: 30237490/1 | B46: համակարգչային մոնիտոր | C46: ԷԱՃ | D46: դրամ | E46: 0 | F46: 0 | G46: -4.4
A47: 39111220/1 | B47: բազկաթոռ` ղեկավարի | C47: ԷԱՃ | D47: դրամ | E47: 0 | F47: 0 | G47: -125
...
