Workbook
Name _tab10: #REF!
Name _tab11: #REF!
Name _tab12: #REF!
Name _tab13: #REF!
Name _tab14: #REF!
Name _tab15: #REF!
Name _tab16: #REF!
Name _tab17: #REF!
Name _tab18: #REF!
Name _tab19: #REF!
Name _tab20: #REF!
Name _tab21: #REF!
Name _tab22: #REF!
Name _tab23: #REF!
Name _tab24: #REF!
Name _tab5: #REF!
Name _tab6: #REF!
Name _tab7: #REF!
Name _tab8: #REF!
Name _tab9: #REF!
Name par_count: #REF!,#REF!,#REF!,#REF!,#REF!,#REF!,#REF!,#REF!,#REF!,#REF!,#REF!,#REF!,#REF!,#REF!,#REF!
Name par_qual: #REF!,#REF!,#REF!,#REF!,#REF!
Name par_time: #REF!,#REF!,#REF!,#REF!
Name par2.12s: #REF!
Name par2.4s: #REF!,#REF!,#REF!,#REF!,#REF!,#REF!,#REF!,#REF!,#REF!,#REF!,#REF!,#REF!,#REF!,#REF!,#REF!,#REF!
Name par2.5s: #REF!,#REF!
Name par2.6s: #REF!,#REF!,#REF!,#REF!
Name par2.7s: #REF!,#REF!
Name par2.9s: #REF!,#REF!,#REF!,#REF!,#REF!,#REF!,#REF!,#REF!,#REF!,#REF!,#REF!,#REF!,#REF!,#REF!,#REF!,#REF!
Name par4.10s: #REF!,#REF!
Name par4.11d: #REF!,#REF!,#REF!,#REF!,#REF!
Name par4.12d: #REF!
Name par4.13s: #REF!
Name par4.14: #REF!,#REF!,#REF!,#REF!,#REF!,#REF!
Name par4.15: #REF!,#REF!,#REF!
Name par4.16: #REF!,#REF!,#REF!
Name par4.17: #REF!,#REF!,#REF!,#REF!
Name par4.18d: #REF!,#REF!
Name par4.19s: #REF!
Name par4.20f: #REF!
Name par4.21f: #REF!
Name par4.22: #REF!
Name par4.4: #REF!
Name par4.5: #REF!
Name par4.6s: #REF!
Name par4.7s: #REF!
Name par4.8: #REF!,#REF!,#REF!,#REF!,#REF!
Name par4.9: #REF!,#REF!,#REF!,#REF!,#REF!,#REF!
Name par5.1: #REF!,#REF!
Name par5.3: #REF!,#REF!,#REF!,#REF!,#REF!,#REF!
Name par5.4: #REF!,#REF!,#REF!,#REF!,#REF!
Name par5.5: #REF!
Name par5.6: #REF!,#REF!
Name program: #REF!,#REF!,#REF!,#REF!,#REF!,#REF!,#REF!,#REF!,#REF!,#REF!,#REF!,#REF!,#REF!,#REF!,#REF!,#REF!,#REF!,#REF!,#REF!,#REF!

Sheet 1
A1: Հավելված № 1
A2: ՀՀ կառավարության 2022 թվականի ----------
A3: № ---------- որոշման
A4: «ՀԱՅԱՍՏԱՆԻ ՀԱՆՐԱՊԵՏՈՒԹՅԱՆ 2022 ԹՎԱԿԱՆԻ ՊԵՏԱԿԱՆ ԲՅՈՒՋԵԻ ՄԱՍԻՆ» ՀԱՅԱՍՏԱՆԻ ՀԱՆՐԱՊԵՏՈՒԹՅԱՆ ՕՐԵՆՔԻ N 1 ՀԱՎԵԼՎԱԾԻ N 1 ԱՂՅՈՒՍԱԿՈՒՄ ԿԱՏԱՐՎՈՂ ՓՈՓՈԽՈՒԹՅՈՒՆԸ ԵՎ ԼՐԱՑՈՒՄԸ
C5: հազար դրամ
A6: Ծրագրային դասիչը | B6: Ծրագրի անվանումը | C6: Ցուցանիշների փոփոխությունները (ավելացումը նշված է դրական նշանով, իսկ նվազեցումը` փակագծերում)
C7: Տարի
A8: Ընդամենը | C8: =+C9+C10+C11+C12+C13+C14+C15+C16 -> 0
A9: 1142 | B9: Դատաբժշկական և ախտաբանաանատոմիական ծառայություններ | C9: 93186.1
A10: 1200 | B10: Մոր և մանկան առողջության պահպանում | C10: 455000
A11: 1201 | B11: Շտապ բժշկական օգնություն | C11: 52000
A12: 1202 | B12: Ոչ վարակիչ հիվանդությունների բժշկական օգնության ապահովում | C12: 90000
A13: 1207 | B13: Սոցիալապես անապահով և առանձին խմբերի անձանց բժշկական օգնություն | C13: =367200+599368.8 -> 966568.8
A14: 1003 | B14: Հանրային առողջության պահպանում | C14: -70000
A15: 1099 | B15: Առողջության առաջնային պահպանում | C15: -70000
A16: 1139 | B16: ՀՀ կառավարության պահուստային ֆոնդ | C16: =-917386.1-599368.8 -> -1516754.9

Sheet 2
A1: Հավելված № 2
A2: ՀՀ կառավարության 2022 թվականի ----------
A3: № ---------- որոշման
A4: «ՀԱՅԱՍՏԱՆԻ ՀԱՆՐԱՊԵՏՈՒԹՅԱՆ 2022 ԹՎԱԿԱՆԻ ՊԵՏԱԿԱՆ ԲՅՈՒՋԵԻ ՄԱՍԻՆ» ՀԱՅԱՍՏԱՆԻ ՀԱՆՐԱՊԵՏՈՒԹՅԱՆ ՕՐԵՆՔԻ N 1 ՀԱՎԵԼՎԱԾԻ N 2 ԱՂՅՈՒՍԱԿՈՒՄ ԿԱՏԱՐՎՈՂ ՎԵՐԱԲԱՇԽՈՒՄԸ ԵՎ ՀԱՅԱՍՏԱՆԻ ՀԱՆՐԱՊԵՏՈՒԹՅԱՆ ԿԱՌԱՎԱՐՈՒԹՅԱՆ 2021 ԹՎԱԿԱՆԻ ԴԵԿՏԵՄԲԵՐԻ 23-Ի № 2121-Ն ՈՐՈՇՄԱՆ № 5 ՀԱՎԵԼՎԱԾԻ № 1 ԱՂՅՈՒՍԱԿՈՒՄ ԿԱՏԱՐՎՈՂ ՓՈՓՈԽՈՒԹՅՈՒՆԸ ԵՎ ԼՐԱՑՈՒՄԸ
D5: հազար դրամ
A6: Ծրագրային դասիչը | C6: Բյուջետային հատկացումների գլխավոր կարգադրիչների, ծրագրերի և միջոցառումների անվանումները | D6: Ցուցանիշների փոփոխությունները (ավելացումները նշված են դրական նշանով, իսկ նվազեցումները` փակագծերում)
A7: Ծրագիր | B7: Միջոցառում | D7: Տարի
C8: ԸՆԴԱՄԵՆԸ | D8: =+D9+D142 -> 0
C9: ՀՀ առողջապահության նախարարություն | D9: =+D10+D23+D56+D69+D89+D116+D129 -> 1516754.9
A10: 1142 | C10: Ծրագրի անվանումը` | D10: =+D17 -> 93186.1
C11: Դատաբժշկական և ախտաբանաանատոմիական ծառայություններ
C12: Ծրագրի նպատակը`
C13: Պաթանատոմիական կանխորոշումների հիման վրա ախտորոշման և բուժման արդյունավետության բարձրացում
C14: Վերջնական արդյունքի նկարագրությունը`
C15: Մահերի պատճառների բացահայտում
A16: Ծրագրի միջոցառումներ
B17: 11001 | C17: Միջոցառման անվանումը` | D17: 93186.1
C18: Դատաբժշկական փորձաքննություններ
C19: Միջոցառման նկարագրությունը`
C20: Հանրապետության ուժային մարմինների որոշումների հիման վրա դատաբժշկական և գենետիկ փորձաքննությունների ապահովում` մահերի պատճառների վերհանման նպատակով դիակների փորձաքննություն
C21: Միջոցառման տեսակը
C22: Ծառայությունների մատուցում
A23: 1200 | C23: Ծրագրի անվանումը | D23: =+D30+D37+D44+D50 -> 455000
C24: Մոր և մանկան առողջության պահպանում
C25: Ծրագրի նպատակը
C26: Մոր և մանկան առողջության պահպանում, կանանց և երեխաներին մատուցվող բժշկական ծառայությունների մատչելիության և որակի բարելավում
C27: Վերջնական արդյունքի նկարագրությունը
C28: Մանկական և մայրական մահացության և հիվանդացության կրճատում, կանանց վերարտադրողական առողջության բարելավում
A29: Ծրագրի միջոցառումներ
B30: 11001 | C30: Միջոցառման անվանումը` | D30: 40000
C31: Մանկաբարձական բժշկական օգնության ծառայություններ
C32: Միջոցառման նկարագրությունը`
C33: Մանկաբարձական բժշկական օգնության համալիր միջոցառումների իրականացում, հղիության ախտաբանական ընթացքի բժշկական օգնություն և ծննդօգնություն
C34: Միջոցառման տեսակը
C35: Ծառայությունների մատուցում
A36: Ծրագրի միջոցառումներ
B37: 11003 | C37: Միջոցառման անվանումը | D37: 400000
C38: Երեխաներին բժշկական օգնության ծառայություններ
C39: Միջոցառման նկարագրությունը
C40: Երեխաների (0-18 տարեկան երեխաներին) հիվանդանոցային բժշկական օգնության իրականացում (հետազոտում, ախտորոշում, բուժում)
...

Sheet 3
A1: Հավելված № 3
A2: ՀՀ կառավարության 2022 թվականի -----------
A3: № ------------ -Ն որոշման
A4: ՀԱՅԱՍՏԱՆԻ ՀԱՆՐԱՊԵՏՈՒԹՅԱՆ ԿԱՌԱՎԱՐՈՒԹՅԱՆ 2021 ԹՎԱԿԱՆԻ ԴԵԿՏԵՄԲԵՐԻ 23-Ի № 2121-Ն ՈՐՈՇՄԱՆ NN 3 և 4 ՀԱՎԵԼՎԱԾՆԵՐՈՒՄ ԿԱՏԱՐՎՈՂ ՓՈՓՈԽՈՒԹՅՈՒՆՆԵՐԸ ԵՎ ԼՐԱՑՈՒՄՆԵՐԸ
A5: հազար դրամ
A6: Գործառական դասիչը | D6: Ծրագրային դասիչը | F6: Բյուջետային հատկացումների գլխավոր կարգադրիչների, ծրագրերի, միջոցառումների և միջոցառումները կատարող պետական մարմինների անվանումները | G6: Ցուցանիշների փոփոխությունները (ավելացումները նշված են դրական նշանով, իսկ նվազեցումները` փակագծերում)
A7: բաժին | B7: խումբ | C7: դաս | D7: Ծրագիր | E7: Միջոցառում | G7: Տարի
A8: ԸՆԴԱՄԵՆԸ | G8: =+G9+G183 -> 0
A9: 07 | F9: ԱՌՈՂՋԱՊԱՀՈՒԹՅՈՒՆ | G9: =+G11+G67+G150+G166 -> 1516754.9
F10: այդ թվում՝
B11: 02 | F11: Արտահիվանդանոցային ծառայություններ | G11: =+G13+G26+G52 -> 7000
F12: այդ թվում՝
C13: 01 | F13: Ընդհանուր բնույթի բժշկական ծառայություններ | G13: =+G15 -> -70000
F14: այդ թվում՝ | G14: =+G15 -> -70000
D15: 1099 | F15: =+'1'!B15 -> Առողջության առաջնային պահպանում | G15: =+G17 -> -70000
F16: այդ թվում`
E17: 11001 | F17: Ամբուլատոր-պոլիկլինիկական բժշկական օգնության ծառայություններ | G17: =+G19 -> -70000
F18: այդ թվում` ըստ կատարողների
F19: ՀՀ առողջապահության նախարարություն | G19: =+G21 -> -70000
F20: այդ թվում` բյուջետային ծախսերի տնտեսագիտական դասակարգման հոդվածներ
F21: ԸՆԴԱՄԵՆԸ ԾԱԽՍԵՐ | G21: =+G22 -> -70000
F22: ԸՆԹԱՑԻԿ ԾԱԽՍԵՐ | G22: =+G23 -> -70000
F23: ԾԱՌԱՅՈՒԹՅՈՒՆՆԵՐԻ ԵՎ ԱՊՐԱՆՔՆԵՐԻ ՁԵՌՔԲԵՐՈՒՄ | G23: =+G24 -> -70000
F24: Պայմանագրային այլ ծառայությունների ձեռքբերում | G24: =+G25 -> -70000
F25: - Ընդհանուր բնույթի այլ ծառայություններ | G25: =+'1'!C15 -> -70000
C26: 02 | F26: Մասնագիտացված բժշկական ծառայություններ | G26: =+G30+G41 -> 25000
F27: այդ թվում՝
F28: ՀՀ առողջապահության նախարարություն | G28: =G30 -> 5000
F29: այդ թվում՝
D30: 1200 | F30: Մոր և մանկան առողջության պահպանում | G30: =+G32 -> 5000
F31: այդ թվում`
E32: 11007 | F32: Բնածին հիպոթիրեոզի, ֆենիլկենտոնուրիայի, լսողության և տեսողության (անհասների ռետինոպաթիա) խանգարումների, կոնքազդրային հոդի խախտման վաղ հայտնաբերման նպատակով նորածնային սքրինգների անցկացում | G32: =G34 -> 5000
F33: այդ թվում` ըստ կատարողների
F34: ՀՀ առողջապահության նախարարություն | G34: =G36 -> 5000
F35: այդ թվում` բյուջետային ծախսերի տնտեսագիտական դասակարգման հոդվածներ
F36: ԸՆԴԱՄԵՆԸ ԾԱԽՍԵՐ | G36: =G38 -> 5000
F37: ԸՆԹԱՑԻԿ ԾԱԽՍԵՐ | G37: =G38 -> 5000
F38: ԾԱՌԱՅՈՒԹՅՈՒՆՆԵՐԻ ԵՎ ԱՊՐԱՆՔՆԵՐԻ ՁԵՌՔԲԵՐՈՒՄ | G38: =G40 -> 5000
F39: Պայմանագրային այլ ծառայությունների ձեռքբերում
F40: - Ընդհանուր բնույթի այլ ծառայություններ | G40: =+'2'!D50 -> 5000
...

Sheet 4.
D1: Հավելված № 4
A2: ՀՀ կառավարության 2022 թվականի
C3: № ------------ -Ն որոշման
A5: ՀԱՅԱՍՏԱՆԻ ՀԱՆՐԱՊԵՏՈՒԹՅԱՆ ԿԱՌԱՎԱՐՈՒԹՅԱՆ 2021 ԹՎԱԿԱՆԻ ԴԵԿՏԵՄԲԵՐԻ 23-Ի № 2121-Ն ՈՐՈՇՄԱՆ N 5 ՀԱՎԵԼՎԱԾԻ N 7 ԱՂՅՈՒՍԱԿՈՒՄ ԿԱՏԱՐՎՈՂ ԼՐԱՑՈՒՄԸ
A6: հազար դրամ
A7: Ծրագրային դասիչը | C7: Բյուջետային հատկացումների գլխավոր կարգադրիչների, ծրագրերի, միջոցառումների, ծախսային ուղղությունների անվանումները | D7: Միջոցառումները կատարող պետական մարմինների և դրամաշնորհ ստացող տնտեսվարող սուբյեկտների անվանումները | E7: Տարի
A8: ծրագիրը | B8: միջոցառումը | E8: Ցուցանիշների փոփոխությունը (նվազեցումները նշված են փակագծերում)
A9: ՀՀ առողջապահության նախարարություն
A10: 1142 | C10: Դատաբժշկական և ախտաբանաանատոմիական ծառայություններ | E10: =+E12 -> 93186.1
B11: 11001 | C11: Դատաբժշկական փորձաքննություններ | D11: ՀՀ առողջապահության նախարարություն | E11: =E12 -> 93186.1
D12: «Դատաբժշկական գիտագործնական կենտրոն» ՊՈԱԿ | E12: =+'2'!D17 -> 93186.1

Sheet 5.
A1: Հավելված № 5
A2: ՀՀ կառավարության 2022 թվականի -----------
A3: № ------------ -Ն որոշման
A4: ՀԱՅԱՍՏԱՆԻ ՀԱՆՐԱՊԵՏՈՒԹՅԱՆ ԿԱՌԱՎԱՐՈՒԹՅԱՆ 2021 ԹՎԱԿԱՆԻ ԴԵԿՏԵՄԲԵՐԻ 23-Ի N 2121-Ն ՈՐՈՇՄԱՆ N 9 ՀԱՎԵԼՎԱԾԻ 9.8 ԱՂՅՈՒՍԱԿՈՒՄ ԿԱՏԱՐՎՈՂ ՓՈՓՈԽՈՒԹՅՈՒՆՆԵՐԸ
A5: ՄԱՍ 2. ՊԵՏԱԿԱՆ ՄԱՐՄՆԻ ԳԾՈՎ ԱՐԴՅՈՒՆՔԱՅԻՆ (ԿԱՏԱՐՈՂԱԿԱՆ) ՑՈՒՑԱՆԻՇՆԵՐԸ
C6: հազար դրամ
A7: Ծրագրի դասիչը | B7: Ծրագրի անվանումը
A8: 1003 | B8: Հանրային առողջության պահպանում
A9: Ծրագրի միջոցառումները
A10: Ծրագրի դասիչը` | B10: 1003 | C10: Ցուցանիշների փոփոխությունը (ավելացումը նշված է դրական նշանով)
A11: Միջոցառման դասիչը` | B11: 11002 | C11: Տարի
A12: Միջոցառման անվանումը` | B12: Իմունականխարգելման ազգային ծրագիր
A13: Նկարագրությունը` | B13: Բնակչության շրջանում կառավարելի վարակիչ հիվանդությունների իմունականխարգելում` կառավարելի վարակիչ հիվանդություններով հիվանդացության նվազեցման և մահվան դեպքերի կանխման, ինչպես նաև բնակչության կոլեկտիվ անընկալության ապահովման նպատակով
A14: Միջոցառման տեսակը` | B14: Ծառայությունների մատուցում
A15: Ծառայությունը մատուցող կազմակերպության(ների) անվանում(ներ)ը | B15: Մասնագիտացված կազմակերպություն
A16: Արդյունքի չափորոշիչներ
A17: Միջոցառման վրա կատարվող ծախսը (հազար դրամ) | C17: =+'1'!C14 -> -70000
A19: Ծրագրի դասիչը | B19: Ծրագրի անվանումը
A20: 1099 | B20: =+'1'!B15 -> Առողջության առաջնային պահպանում
A21: Ծրագրի դասիչը` | B21: 1099 | C21: Ցուցանիշների փոփոխությունը (ավելացումը նշված է դրական նշանով)
A22: Միջոցառման դասիչը` | B22: 11001 | C22: Տարի
A23: Միջոցառման անվանումը` | B23: =+'2'!C137 -> Ամբուլատոր-պոլիկլինիկական բժշկական օգնության ծառայություններ
A24: Նկարագրությունը` | B24: =+'2'!C134 -> Առողջության առաջնային պահպանման օղակում ցուցաբերվող բժշկական օգնության որակի, հիվանդությունների վաղ հայտնաբերման և կանխարգելման մակարդակի բարելավում, առողջապահական ծառայությունների վերաբերյալ իրազեկվածության և դրանց նկատմամբ պահանջարկի ավելացում
A25: Միջոցառման տեսակը` | B25: =+'2'!C141 -> Ծառայությունների մատուցում
A26: Ծառայությունը մատուցող կազմակերպության(ների) անվանում(ներ)ը | B26: ՀՀ գնումների մասին օրենսդրությանը համապատասխան ընտրված կազմակերպություններ
A27: Արդյունքի չափորոշիչներ
A28: Բնակչության առողջության առաջնային պահպանման գծով կազմակերպություններում գրանցված բնակչության թիվ, մարդ | C28: 4573
A29: Տեղամասային թերապևտի, ընտանեկան բժշկի կողմից կազմակերպություններում գրանցված բնակչության թիվ` 18 և ավելի բարձր տարիքի անձինք, մարդ | C29: -475
A30: Տեղամասային մանկաբույժի, ընտանեկան բժշկի կողմից կազմակերպություններում գրանցված բնակչության թիվ` մինչև 18տ. երեխաներ, մարդ | C30: 448
A31: Դպրոցում բժշկական օգնություն և սպասարկում ստացող աշակերտների թիվ, մարդ | C31: 13070
A32: Հղիների նախածննդյան և հետծննդյան հսկողության ընթացքում իրականացվող լաբորատոր-գործիքային ախտորոշիչ հետազոտությունների թիվ, հատ | C32: -172000
A33: Միջոցառման վրա կատարվող ծախսը (հազար դրամ) | C33: =+'2'!D136 -> -70000
A35: Ծրագրի դասիչը` | B35: 1099 | C35: Ցուցանիշների փոփոխությունը (ավելացումը նշված է դրական նշանով)
A36: Միջոցառման դասիչը` | B36: 11004 | C36: Տարի
A37: Միջոցառման անվանումը` | B37: Ախտորոշման ճշտման նպատակով լաբորատոր-գործիքային ախտորոշիչ հետազոտություններ նեղ մասնագիտացված կենտրոններում և շարունակական հսկողություն պահանջող և առանձին հիվանդությունների բուժման ծառայություններ
A38: Նկարագրությունը` | B38: Ախտորոշման ճշտման նպատակով հետազոտությունների, քրոնիկ հիվանդությունների շարունակական բժշկական օգնության իրականացում նեղ մասնագիտացված կենտրոններում
A39: Միջոցառման տեսակը` | B39: Ծառայությունների մատուցում
A40: Ծառայությունը մատուցող կազմակերպության(ների) անվանում(ներ)ը | B40: ՀՀ գնումների մասին օրենսդրությանը համապատասխան ընտրված կազմակերպություններ
A41: Արդյունքի չափորոշիչներ
A42: Հետազոտությունների քանակ, հատ | C42: 47000
...

Sheet 6.
A1: Հավելված № 6
A2: ՀՀ կառավարության 2022 թվականի -----------
A3: № ------------ -Ն որոշման
A4: ՀԱՅԱՍՏԱՆԻ ՀԱՆՐԱՊԵՏՈՒԹՅԱՆ ԿԱՌԱՎԱՐՈՒԹՅԱՆ 2021 ԹՎԱԿԱՆԻ ԴԵԿՏԵՄԲԵՐԻ 23-Ի N 2121-Ն ՈՐՈՇՄԱՆ N 9.1 ՀԱՎԵԼՎԱԾԻ 9.1.9 ԱՂՅՈՒՍԱԿՈՒՄ ԿԱՏԱՐՎՈՂ ՓՈՓՈԽՈՒԹՅՈՒՆՆԵՐԸ
A5: ՄԱՍ 2. ՊԵՏԱԿԱՆ ՄԱՐՄՆԻ ԳԾՈՎ ԱՐԴՅՈՒՆՔԱՅԻՆ (ԿԱՏԱՐՈՂԱԿԱՆ) ՑՈՒՑԱՆԻՇՆԵՐԸ
C6: հազար դրամ
A7: Ծրագրի դասիչը | B7: Ծրագրի անվանումը
A8: 1003 | B8: Հանրային առողջության պահպանում
A9: Ծրագրի միջոցառումները
A10: Ծրագրի դասիչը` | B10: 1003 | C10: Ցուցանիշների փոփոխությունը (ավելացումը նշված է դրական նշանով)
A11: Միջոցառման դասիչը` | B11: 11002 | C11: Տարի
A12: Միջոցառման անվանումը` | B12: Իմունականխարգելման ազգային ծրագիր
A13: Նկարագրությունը` | B13: Բնակչության շրջանում կառավարելի վարակիչ հիվանդությունների իմունականխարգելում` կառավարելի վարակիչ հիվանդություններով հիվանդացության նվազեցման և մահվան դեպքերի կանխման, ինչպես նաև բնակչության կոլեկտիվ անընկալության ապահովման նպատակով
A14: Միջոցառման տեսակը` | B14: Ծառայությունների մատուցում
A15: Ծառայությունը մատուցող կազմակերպության(ների) անվանում(ներ)ը | B15: Մասնագիտացված կազմակերպություն
A16: Արդյունքի չափորոշիչներ
A17: Միջոցառման վրա կատարվող ծախսը (հազար դրամ) | C17: =+'1'!C14 -> -70000
A19: Ծրագրի դասիչը | B19: Ծրագրի անվանումը
A20: 1099 | B20: =+'1'!B15 -> Առողջության առաջնային պահպանում
A21: Ծրագրի դասիչը` | B21: 1099 | C21: Ցուցանիշների փոփոխությունը (ավելացումը նշված է դրական նշանով)
A22: Միջոցառման դասիչը` | B22: 11001 | C22: Տարի
A23: Միջոցառման անվանումը` | B23: =+'2'!C137 -> Ամբուլատոր-պոլիկլինիկական բժշկական օգնության ծառայություններ
A24: Նկարագրությունը` | B24: =+'2'!C134 -> Առողջության առաջնային պահպանման օղակում ցուցաբերվող բժշկական օգնության որակի, հիվանդությունների վաղ հայտնաբերման և կանխարգելման մակարդակի բարելավում, առողջապահական ծառայությունների վերաբերյալ իրազեկվածության և դրանց նկատմամբ պահանջարկի ավելացում
A25: Միջոցառման տեսակը` | B25: =+'2'!C141 -> Ծառայությունների մատուցում
A26: Ծառայությունը մատուցող կազմակերպության(ների) անվանում(ներ)ը | B26: ՀՀ գնումների մասին օրենսդրությանը համապատասխան ընտրված կազմակերպություններ
A27: Արդյունքի չափորոշիչներ
A28: Բնակչության առողջության առաջնային պահպանման գծով կազմակերպություններում գրանցված բնակչության թիվ, մարդ | C28: 4573
A29: Տեղամասային թերապևտի, ընտանեկան բժշկի կողմից կազմակերպություններում գրանցված բնակչության թիվ` 18 և ավելի բարձր տարիքի անձինք, մարդ | C29: -475
A30: Տեղամասային մանկաբույժի, ընտանեկան բժշկի կողմից կազմակերպություններում գրանցված բնակչության թիվ` մինչև 18տ. երեխաներ, մարդ | C30: 448
A31: Դպրոցում բժշկական օգնություն և սպասարկում ստացող աշակերտների թիվ, մարդ | C31: 13070
A32: Հղիների նախածննդյան և հետծննդյան հսկողության ընթացքում իրականացվող լաբորատոր-գործիքային ախտորոշիչ հետազոտությունների թիվ, հատ | C32: -172000
A33: Միջոցառման վրա կատարվող ծախսը (հազար դրամ) | C33: =+'2'!D136 -> -70000
A35: Ծրագրի դասիչը` | B35: 1099 | C35: Ցուցանիշների փոփոխությունը (ավելացումը նշված է դրական նշանով)
A36: Միջոցառման դասիչը` | B36: 11004 | C36: Տարի
A37: Միջոցառման անվանումը` | B37: Ախտորոշման ճշտման նպատակով լաբորատոր-գործիքային ախտորոշիչ հետազոտություններ նեղ մասնագիտացված կենտրոններում և շարունակական հսկողություն պահանջող և առանձին հիվանդությունների բուժման ծառայություններ
A38: Նկարագրությունը` | B38: Ախտորոշման ճշտման նպատակով հետազոտությունների, քրոնիկ հիվանդությունների շարունակական բժշկական օգնության իրականացում նեղ մասնագիտացված կենտրոններում
A39: Միջոցառման տեսակը` | B39: Ծառայությունների մատուցում
A40: Ծառայությունը մատուցող կազմակերպության(ների) անվանում(ներ)ը | B40: ՀՀ գնումների մասին օրենսդրությանը համապատասխան ընտրված կազմակերպություններ
A41: Արդյունքի չափորոշիչներ
A42: Հետազոտությունների քանակ, հատ | C42: 47000
...

Sheet 7.
A1: Հավելված № 7
A2: ՀՀ կառավարության 2022 թվականի -----------
A3: № ------------ -Ն որոշման
A4: ՀԱՅԱՍՏԱՆԻ ՀԱՆՐԱՊԵՏՈՒԹՅԱՆ ԿԱՌԱՎԱՐՈՒԹՅԱՆ 2021 ԹՎԱԿԱՆԻ ԴԵԿՏԵՄԲԵՐԻ 23-Ի N 2121-Ն ՈՐՈՇՄԱՆ N 10 ՀԱՎԵԼՎԱԾՈՒՄ ԿԱՏԱՐՎՈՂ ՓՈՓՈԽՈՒԹՅՈՒՆՆԵՐԸ
A5: Հայաստանի Հանրապետության 2022 թվականի պետական բյուջեի մասին Հայաստանի Հանրապետության օրենքի N 1 հավելվածով սահմանված բյուջետային հատկացումների հաշվին` ներառյալ սույն որոշմամբ կատարված փոփոխությունները, պետության կարիքների (բացառությամբ արտասահմանում գտնվող Հայաստանի Հանրապետության պետական հիմնարկների և ներկայացուցիչների գործունեության ապահովման ծրագրերի, ինչպես նաև օտարերկրյա պետությունների, միջազգային կազմակերպությունների և այլ արտաքին դոնորների աջակցությամբ Հայաստանի Հանրապետությունում իրականացվող նպատակային ծրագրերի) համար 2022 թվականին իրականացվող գնումների պլանը ըստ բյուջետային ծախսերի ծրագրային և գործառական դասակարգման և ըստ ծրագրերի միջոցառումները կատարող հանրային իշխանության մարմինների
A6: Կոդը | B6: Անվանումը | E6: Գնման ձևը | F6: Չափման միավորը | G6: Միավորի գինը | H6: Քանակը | I6: Գումարը (հազար դրամով)
A7: 1 | B7: 2 | C7: 3 | D7: 4 | E7: 5 | F7: 6 | G7: 7 | H7: 8 | I7: 9
A8: ՀՀ առողջապահության նախարարություն
A9: Բաժին N 07 | B9: Խումբ N 02 | C9: Դաս N 01 | D9: Ընդհանուր բնույթի բժշկական ծառայություններ | I9: =I10 -> -70000
A10: 1099 11001 | B10: Ամբուլատոր-պոլիկլինիկական բժշկական օգնության ծառայություններ | I10: =I11 -> -70000
B11: ՄԱՍ III. ԾԱՌԱՅՈՒԹՅՈՒՆՆԵՐ | I11: =I12 -> -70000
A12: 85121120-1 | B12: ամբուլատոր-բժշկական ծառայություններ | E12: ՄԱ | F12: դրամ | I12: -70000
A13: Բաժին N 07 | B13: Խումբ N 02 | C13: Դաս N 02 | D13: Մասնագիտացված բժշկական ծառայություններ | I13: =I17+I14 -> 25000
A14: 1200 11001 | B14: Հեմոդիալիզի և պերինատալ դիալիզի անցկացման ծառայություններ | I14: =I15 -> 20000
B15: ՄԱՍ III. ԾԱՌԱՅՈՒԹՅՈՒՆՆԵՐ | I15: =I16 -> 20000
A16: 85111230-1 | B16: հիվանդանոցային պայմաններում դիալիզի ծառայություններ | E16: ՄԱ | F16: դրամ | I16: 20000
A17: 1200 11007 | B17: Բնածին հիպոթերիոզի, ֆենիլկետոնուրիայի, լսողության (անհասների ռեթինոպաթիա) խանգարումների, կոնքազդրային հոդի դիսպլազիայի վաղ հայտնաբերման նպատակով նորածնային սքրինինգների անցկացում | I17: =I18 -> 5000
B18: ՄԱՍ III. ԾԱՌԱՅՈՒԹՅՈՒՆՆԵՐ | I18: =I19 -> 5000
A19: 85121100-1 | B19: բժշկական ծառայություններ | E19: ՄԱ | F19: դրամ | I19: 5000
A20: Բաժին N 07 | B20: Խումբ N 02 | C20: Դաս N 04 | D20: Պարաբժշկական ծառայություններ | I20: =I21 -> 52000
A21: 1201 11001 | B21: Շտապ բժշկական օգնության ծառայություններ | I21: =I22 -> 52000
B22: ՄԱՍ III. ԾԱՌԱՅՈՒԹՅՈՒՆՆԵՐ | I22: =I23 -> 52000
A23: 85141210-1 | B23: շտապ օգնության ծառայություններ | E23: ՄԱ | F23: դրամ | I23: 52000
A24: Բաժին N 07 | B24: Խումբ N 03 | C24: Դաս N 01 | D24: Ընդհանուր բնույթի հիվանդանոցային ծառայություններ | I24: =I25+I28 -> 926568.8
A25: 1207 11001 | B25: Սոցիալապես անապահով և հատուկ խմբերում ընդգրկվածներին բժշկական օգնության ծառայություններ | I25: =I26 -> 911568.8
B26: ՄԱՍ III. ԾԱՌԱՅՈՒԹՅՈՒՆՆԵՐ | I26: =I27 -> 911568.8
A27: 85111100-1 | B27: հիվանդանոցային ծառայություններ | E27: ՄԱ | F27: դրամ | I27: =312200+599368.8 -> 911568.8
A28: 1207 11007 | B28: Փոխպատվաստման ծառայություններ | I28: =I29 -> 15000
B29: ՄԱՍ III. ԾԱՌԱՅՈՒԹՅՈՒՆՆԵՐ | I29: =I30 -> 15000
A30: 85111120-1 | B30: հիվանդանոցների կողմից մատուցվող բժշկական ծառայություններ | E30: ՄԱ | F30: դրամ | I30: 15000
A31: Բաժին N 07 | B31: Խումբ N 03 | C31: Դաս N 02 | D31: Մասնագիտացված հիվանդանոցային ծառայություններ | I31: =I32 -> 70000
A32: 1202 11004 | B32: Ուռուցքաբանական և արյունաբանական հիվանդությունների բժշկական օգնության ծառայություններին | I32: =I33 -> 70000
B33: ՄԱՍ III. ԾԱՌԱՅՈՒԹՅՈՒՆՆԵՐ | I33: =I34 -> 70000
A34: 85111100-1 | B34: հիվանդանոցային ծառայություններ | E34: ՄԱ | F34: դրամ | I34: 70000
A35: Բաժին N 07 | B35: Խումբ N 03 | C35: Դաս N 03 | D35: Մոր և մանկան բժշկական ծառայություններ | I35: =I36+I39 -> 410000
A36: 1200 11003 | B36: Երեխաներին բժշկական օգնության ծառայություններ | I36: =I37 -> 400000
B37: ՄԱՍ III. ԾԱՌԱՅՈՒԹՅՈՒՆՆԵՐ | I37: =I38 -> 400000
A38: 85111120-1 | B38: հիվանդանոցների կողմից մատուցվող բժշկական ծառայություններ | E38: ՄԱ | F38: դրամ | I38: 400000
A39: 1200 11006 | B39: Անպտուղ զույգերի համար վերարտադրողական օժանդակ տեխնոլոգիաների կիրառմամբ բժշկական օգնության ծառայություններ | I39: =I40 -> 10000
B40: ՄԱՍ III. ԾԱՌԱՅՈՒԹՅՈՒՆՆԵՐ | I40: =I41 -> 10000
...

Sheet 8.
A1: Հավելված № 8
A2: ՀՀ կառավարության 2022 թվականի -----------
A3: № ------------ -Ն որոշման
A4: ՀԱՅԱՍՏԱՆԻ ՀԱՆՐԱՊԵՏՈՒԹՅԱՆ ԿԱՌԱՎԱՐՈՒԹՅԱՆ 2021 ԹՎԱԿԱՆԻ ԴԵԿՏԵՄԲԵՐԻ 23-Ի № 2121-Ն ՈՐՈՇՄԱՆ N 12 ՀԱՎԵԼՎԱԾՈՒՄ ԿԱՏԱՐՎՈՂ ՓՈՓՈԽՈՒԹՅՈՒՆՆԵՐԸ ԵՎ ԼՐԱՑՈՒՄՆԵՐԸ ՀՀ ԿԱՌԱՎԱՐՈՒԹՅԱՆ ՊԱՀՈՒՍՏԱՅԻՆ ՖՈՆԴԻՑ ԿԱՏԱՐՎՈՂ ՀԱՏԿԱՑՈՒՄՆԵՐԻ ՎԵՐԱԲԵՐՅԱԼ
A5: հազար դրամ
A6: Գործառական դասիչը | D6: Ծրագրային դասիչը | F6: Բյուջետային հատկացումների գլխավոր կարգադրիչների, ծրագրերի, միջոցառումների և միջոցառումները կատարող պետական մարմինների անվանումները | G6: Ցուցանիշների փոփոխությունները (ավելացումները նշված են դրական նշանով, իսկ նվազեցումները` փակագծերում)
A7: բաժին | B7: խումբ | C7: դաս | D7: Ծրագիր | E7: Միջոցառում | G7: Տարի
A8: ԸՆԴԱՄԵՆԸ | G8: =+G9+G139 -> 0
A9: 07 | F9: ԱՌՈՂՋԱՊԱՀՈՒԹՅՈՒՆ | G9: =+G11+G54+G122 -> 1516754.9
F10: այդ թվում՝
B11: 02 | F11: Արտահիվանդանոցային ծառայություններ | G11: =+G13+G39 -> 77000
F12: այդ թվում՝
C13: 02 | F13: Մասնագիտացված բժշկական ծառայություններ | G13: =+G17+G28 -> 25000
F14: այդ թվում՝
F15: ՀՀ առողջապահության նախարարություն | G15: =G17 -> 5000
F16: այդ թվում՝
D17: 1200 | F17: Մոր և մանկան առողջության պահպանում | G17: =+G19 -> 5000
F18: այդ թվում`
E19: 11007 | F19: Բնածին հիպոթիրեոզի, ֆենիլկենտոնուրիայի, լսողության և տեսողության (անհասների ռետինոպաթիա) խանգարումների, կոնքազդրային հոդի խախտման վաղ հայտնաբերման նպատակով նորածնային սքրինգների անցկացում | G19: =G21 -> 5000
F20: այդ թվում` ըստ կատարողների
F21: ՀՀ առողջապահության նախարարություն | G21: =G23 -> 5000
F22: այդ թվում` բյուջետային ծախսերի տնտեսագիտական դասակարգման հոդվածներ
F23: ԸՆԴԱՄԵՆԸ ԾԱԽՍԵՐ | G23: =G25 -> 5000
F24: ԸՆԹԱՑԻԿ ԾԱԽՍԵՐ | G24: =G25 -> 5000
F25: ԾԱՌԱՅՈՒԹՅՈՒՆՆԵՐԻ ԵՎ ԱՊՐԱՆՔՆԵՐԻ ՁԵՌՔԲԵՐՈՒՄ | G25: =G27 -> 5000
F26: Պայմանագրային այլ ծառայությունների ձեռքբերում
F27: - Ընդհանուր բնույթի այլ ծառայություններ | G27: =+'2'!D50 -> 5000
D28: 1202 | F28: Ոչ վարակիչ հիվանդությունների բժշկական օգնության ապահովում | G28: =+G30 -> 20000
F29: այդ թվում`
E30: 11001 | F30: Հեմոդիալիզի և պերիտոնիալ դիալիզի անցկացման ծառայություններ | G30: =G32 -> 20000
F31: այդ թվում` ըստ կատարողների
F32: ՀՀ առողջապահության նախարարություն | G32: =G34 -> 20000
F33: այդ թվում` բյուջետային ծախսերի տնտեսագիտական դասակարգման հոդվածներ
F34: ԸՆԴԱՄԵՆԸ ԾԱԽՍԵՐ | G34: =G36 -> 20000
F35: ԸՆԹԱՑԻԿ ԾԱԽՍԵՐ | G35: =G36 -> 20000
F36: ԾԱՌԱՅՈՒԹՅՈՒՆՆԵՐԻ ԵՎ ԱՊՐԱՆՔՆԵՐԻ ՁԵՌՔԲԵՐՈՒՄ | G36: =G38 -> 20000
F37: Պայմանագրային այլ ծառայությունների ձեռքբերում
F38: - Այլ նպաստներ բյուջեից | G38: =+'2'!D76 -> 20000
C39: 04 | F39: Պարաբժշկական ծառայություններ | G39: =G43 -> 52000
F40: այդ թվում՝
...
