Workbook
Name _tab10: #REF!
Name _tab10: #REF!
Name _tab10: #REF!
Name _tab11: #REF!
Name _tab11: #REF!
Name _tab11: #REF!
Name _tab12: #REF!
Name _tab12: #REF!
Name _tab12: #REF!
Name _tab13: #REF!
Name _tab13: #REF!
Name _tab13: #REF!
Name _tab14: #REF!
Name _tab14: #REF!
Name _tab14: #REF!
Name _tab15: #REF!
Name _tab15: #REF!
Name _tab15: #REF!
Name _tab16: #REF!
Name _tab16: #REF!
Name _tab16: #REF!
Name _tab17: #REF!
Name _tab17: #REF!
Name _tab17: #REF!
Name _tab18: #REF!
Name _tab18: #REF!
Name _tab18: #REF!
Name _tab19: #REF!
Name _tab19: #REF!
Name _tab19: #REF!
Name _tab20: #REF!
Name _tab20: #REF!
Name _tab20: #REF!
Name _tab21: #REF!
Name _tab21: #REF!
Name _tab21: #REF!
Name _tab22: #REF!
Name _tab22: #REF!
Name _tab22: #REF!
Name _tab23: #REF!
Name _tab23: #REF!
Name _tab23: #REF!
Name _tab24: #REF!
Name _tab24: #REF!
Name _tab24: #REF!
Name _tab5: #REF!
Name _tab5: #REF!
Name _tab5: #REF!
Name _tab6: #REF!
Name _tab6: #REF!
Name _tab6: #REF!
Name _tab7: #REF!
Name _tab7: #REF!
Name _tab7: #REF!
Name _tab8: #REF!
Name _tab8: #REF!
Name _tab8: #REF!
Name _tab9: #REF!
Name _tab9: #REF!
Name _tab9: #REF!

Sheet 1.
B1: ՀԱՎԵԼՎԱԾ N 1
B2: ՀՀ կառավարության 2022 թվականի
B3: ______________ ի ___Ն որոշման
A4: «ՀԱՅԱՍՏԱՆԻ ՀԱՆՐԱՊԵՏՈՒԹՅԱՆ 2022 ԹՎԱԿԱՆԻ ՊԵՏԱԿԱՆ ԲՅՈՒՋԵԻ ՄԱՍԻՆ» ՕՐԵՆՔԻ N 2 ՀՈԴՎԱԾԻ ԱՂՅՈՒՍԱԿՈՒՄ ԿԱՏԱՐՎՈՂ ՓՈՓՈԽՈՒԹՅՈՒՆ
B5: հազար դրամով
B6: Ցուցանիշների փոփոխություն (ավելացումը նշված է դրական նշանով)
A7: Եկամուտների գծով | B7: 0
A8: Ծախսերի գծով | B8: ='3.'!E7 -> 1222000
A9: Դեֆիցիտը (պակասուրդը) | B9: ='2.'!B7 -> 1222000

Sheet 2.
B1: ՀԱՎԵԼՎԱԾ N 2
A2: «ՀԱՅԱՍՏԱՆԻ ՀԱՆՐԱՊԵՏՈՒԹՅԱՆ 2022 ԹՎԱԿԱՆԻ ՊԵՏԱԿԱՆ ԲՅՈՒՋԵԻ ՄԱՍԻՆ» ՀԱՅԱՍՏԱՆԻ ՀԱՆՐԱՊԵՏՈՒԹՅԱՆ ՕՐԵՆՔԻ N 3 ՀԱՎԵԼՎԱԾԻ N 1 ԱՂՅՈՒՍԱԿՈՒՄ ԵՎ ՀԱՅԱՍՏԱՆԻ ՀԱՆՐԱՊԵՏՈՒԹՅԱՆ ԿԱՌԱՎԱՐՈՒԹՅԱՆ 2021 ԹՎԱԿԱՆԻ ԴԵԿՏԵՄԲԵՐԻ 23-Ի N 2121-Ն ՈՐՈՇՄԱՆ N 1 ՀԱՎԵԼՎԱԾԻ N 1 ԱՂՅՈՒՍԱԿՈՒՄ ԿԱՏԱՐՎՈՂ ՓՈՓՈԽՈՒԹՅՈՒՆՆԵՐԸ
B4: հազ. դրամ
A5: Պետական բյուջեի դեֆիցիտի ֆինանսավորման աղբյուրներն ու դրանց տարրերի անվանումները | B5: Ցուցանիշների փոփոխությունը (ավելացումները նշված են դրական նշանով, իսկ նվազեցումները` փակագծերում)
B6: Տարի
A7: ԸՆԴԱՄԵՆԸ | B7: =B9 -> 1222000
A8: այդ թվում՝
A9: Ա.Ներքին աղբյուրներ-ընդամենը | B9: =B11 -> 1222000
A10: այդ թվում՝
A11: 2. Ֆինանսական զուտ ակտիվներ | B11: =B13 -> 1222000
A12: այդ թվում՝
A13: 2.6 Այլ | B13: =B14 -> 1222000
A14: Կայունացման դեպոզիտային հաշվի օգտագործում | B14: ='4.'!G15 -> 1222000

Sheet 3.
E2: Հավելված N 3
B3: «ՀԱՅԱՍՏԱՆԻ ՀԱՆՐԱՊԵՏՈՒԹՅԱՆ 2022 ԹՎԱԿԱՆԻ ՊԵՏԱԿԱՆ ԲՅՈՒՋԵԻ ՄԱՍԻՆ» ՀԱՅԱՍՏԱՆԻ ՀԱՆՐԱՊԵՏՈՒԹՅԱՆ ՕՐԵՆՔԻ N 1 ՀԱՎԵԼՎԱԾԻ N 2 ԱՂՅՈՒՍԱԿՈՒՄ ԵՎ ՀԱՅԱՍՏԱՆԻ ՀԱՆՐԱՊԵՏՈՒԹՅԱՆ ԿԱՌԱՎԱՐՈՒԹՅԱՆ 2021 ԹՎԱԿԱՆԻ ԴԵԿՏԵՄԲԵՐԻ 23-Ի N 2121-Ն ՈՐՈՇՄԱՆ N 5 ՀԱՎԵԼՎԱԾԻ N 1 ԱՂՅՈՒՍԱԿՈՒՄ ԿԱՏԱՐՎՈՂ ՓՈՓՈԽՈՒԹՅՈՒՆՆԵՐԸ
E4: հազ.դրամ
B5: Ծրագրային դասիչը | D5: Բյուջետային հատկացումների գլխավոր կարգադրիչների, ծրագրերի և միջոցառումների անվանումները | E5: Ցուցանիշների փոփոխությունները (ավելացումները նշված են դրական նշանով)
B6: Ծրագիր | C6: Միջոցառում | E6: Տարի
D7: ԸՆԴԱՄԵՆԸ | E7: =E8 -> 1222000
D8: ՀՀ ոստիկանություն | E8: =E10 -> 1222000
B9: 1158 | D9: Ծրագրի անվանումը
D10: Ոստիկանության ոլորտի քաղաքականության մշակում, կառավարում, կենտրոնացված միջոցառումներ, մոնիտորինգ և վերահսկողություն | E10: =E17+E24 -> 1222000
D11: Ծրագրի նպատակը
D12: Ոստիկանության համակարգի կազմակերպաիրավական կատարելագործում, ոստիկանության գործունեության նկատմամբ հասարակական կարծիքի բարելավում և վստահության բարձրացում
D13: Վերջնական արդյունքի նկարագրությունը
D14: Արդի մարտահրավերներին դիմակայող, պետական և հասարակական պահանջարկը բավարարող, թափանցիկ, բարևարք, հաշվետվողական գործունեության ապահովում
B15: Ծրագրի միջոցառումներ
C16: 11001 | D16: Միջոցառման անվանումը
D17: Ոստիկանության ոլորտի քաղաքականության մշակում, կառավարում, կենտրոնացված միջոցառումների, մոնիտորինգի և վերահսկողության իրականացում | E17: ='4.'!G17 -> 548900
D18: Միջոցառման նկարագրությունը
D19: Ոստիկանության մարմինների աշխատանքների պլանավորում, համակարգում, ծրագրային միջոցառումների մշակում և իրականացում, միջգերատեսչական և միջազգային համագործակցության ապահովում, համընդհանուր և ոլորտային աշխատանքների իրականացում, մոնիտորինգ և հսկողություն
D20: Միջոցառման տեսակը
D21: Ծառայությունների մատուցում
B22: Ծրագրի միջոցառումներ
C23: 11004 | D23: Միջոցառման անվանումը
D24: Պետական պահպանության ծառայություններ մատուցող ՀՀ ոստիկանության ստորաբաժանումների կարիքի բավարարում | E24: ='4.'!G26 -> 673100
D25: Միջոցառման նկարագրությունը
D26: ՀՀ ոստիկանության պետական պահպանության ծառայության և այլ ստորաբաժանումների նյութատեխնիկական բազայով ապահովում
D27: Միջոցառման տեսակը
D28: Ծառայությունների մատուցում

Sheet 4.
G1: Հավելված N 4
A2: ՀԱՅԱՍՏԱՆԻ ՀԱՆՐԱՊԵՏՈՒԹՅԱՆ ԿԱՌԱՎԱՐՈՒԹՅԱՆ 2021 ԹՎԱԿԱՆԻ ԴԵԿՏԵՄԲԵՐԻ 23-Ի N 2121-Ն ՈՐՈՇՄԱՆ NN 3 և 4 ՀԱՎԵԼՎԱԾՆԵՐՈՒՄ ԿԱՏԱՐՎՈՂ ՓՈՓՈԽՈՒԹՅՈՒՆՆԵՐԸ ԵՎ ԼՐԱՑՈՒՄՆԵՐԸ
G3: հազ.դրամ
A4: Գործառական դասիչը | D4: Ծրագրային դասիչը | F4: Բյուջետային հատկացումների գլխավոր կարգադրիչների, ծրագրերի, միջոցառումների և միջոցառումները կատարող պետական մարմինների անվանումները | G4: Ցուցանիշների փոփոխությունները (ավելացումները նշված են դրական նշանով)
A5: բաժին | B5: խումբ | C5: դաս | D5: Ծրագիր | E5: Միջոցառում | G5: Տարի
A6: ԸՆԴԱՄԵՆԸ | G6: =+G7 -> 1222000
A7: 03 | F7: ՀԱՍԱՐԱԿԱԿԱՆ ԿԱՐԳ, ԱՆՎՏԱՆԳՈՒԹՅՈՒՆ ԵՎ ԴԱՏԱԿԱՆ ԳՈՐԾՈՒՆԵՈՒԹՅՈՒՆ | G7: =G9 -> 1222000
F8: այդ թվում՝
B9: 01 | F9: Հասարակական կարգ և անվտանգություն | G9: =G11 -> 1222000
F10: այդ թվում՝
C11: 01 | F11: Ոստիկանություն | G11: =G15 -> 1222000
F12: այդ թվում՝
F13: ՀՀ ոստիկանություն | G13: =G15 -> 1222000
F14: այդ թվում՝
D15: 1158 | F15: Ոստիկանության ոլորտի քաղաքականության մշակում, կառավարում, կենտրոնացված միջոցառումներ, մոնիտորինգ և վերահսկողություն | G15: =G17+G26 -> 1222000
F16: այդ թվում`
E17: 11001 | F17: Ոստիկանության ոլորտի քաղաքականության մշակում, կառավարում, կենտրոնացված միջոցառումների, մոնիտորինգի և վերահսկողության իրականացում | G17: =G19 -> 548900
F18: այդ թվում ըստ կատարողների
F19: ՀՀ ոստիկանություն | G19: =G21 -> 548900
F20: այդ թվում` բյուջետային ծախսերի տնտեսագիտական դասակարգման հոդվածներ
F21: ԸՆԴԱՄԵՆԸ ԾԱԽՍԵՐ | G21: =G23 -> 548900
F22: ԸՆԹԱՑԻԿ ԾԱԽՍԵՐ | G22: =G23 -> 548900
F23: ԱՇԽԱՏԱՆՔԻ ՎԱՐՁԱՏՐՈՒԹՅՈՒՆ | G23: =G25 -> 548900
F24: ԴՐԱՄՈՎ ՎՃԱՐՎՈՂ ԱՇԽԱՏԱՎԱՐՁԵՐ ԵՎ ՀԱՎԵԼԱՎՃԱՐՆԵՐ
F25: Պարգևատրումներ, դրամական խրախուսումներ և հատուկ վճարներ | G25: 548900
E26: 11004 | F26: Պետական պահպանության ծառայություններ մատուցող ՀՀ ոստիկանության ստորաբաժանումների կարիքի բավարարում | G26: =G28 -> 673100
F27: այդ թվում ըստ կատարողների
F28: ՀՀ ոստիկանություն | G28: =G30 -> 673100
F29: այդ թվում` բյուջետային ծախսերի տնտեսագիտական դասակարգման հոդվածներ
F30: ԸՆԴԱՄԵՆԸ ԾԱԽՍԵՐ | G30: =G32 -> 673100
F31: ԸՆԹԱՑԻԿ ԾԱԽՍԵՐ | G31: =G32 -> 673100
F32: ԱՇԽԱՏԱՆՔԻ ՎԱՐՁԱՏՐՈՒԹՅՈՒՆ | G32: =G34 -> 673100
F33: ԴՐԱՄՈՎ ՎՃԱՐՎՈՂ ԱՇԽԱՏԱՎԱՐՁԵՐ ԵՎ ՀԱՎԵԼԱՎՃԱՐՆԵՐ
F34: Պարգևատրումներ, դրամական խրախուսումներ և հատուկ վճարներ | G34: 673100

Sheet 5.
C1: Հավելված N 5
A4: ՀԱՅԱՍՏԱՆԻ ՀԱՆՐԱՊԵՏՈՒԹՅԱՆ ԿԱՌԱՎԱՐՈՒԹՅԱՆ 2021 ԹՎԱԿԱՆԻ ԴԵԿՏԵՄԲԵՐԻ 23-Ի N 2121-Ն ՈՐՈՇՄԱՆ N 9 ՀԱՎԵԼՎԱԾԻ 9.27 ԱՂՅՈՒՍԱԿՈՒՄ ԿԱՏԱՐՎՈՂ ՓՈՓՈԽՈՒԹՅՈՒՆՆԵՐԸ
A6: ՀՀ Ոստիկանություն
A7: ՄԱՍ 2. ՊԵՏԱԿԱՆ ՄԱՐՄՆԻ ԳԾՈՎ ԱՐԴՅՈՒՆՔԱՅԻՆ (ԿԱՏԱՐՈՂԱԿԱՆ) ՑՈՒՑԱՆԻՇՆԵՐԸ
A8: Ծրագրի դասիչը | B8: Ծրագրի անվանումը
A9: 1158 | B9: Ոստիկանության ոլորտի քաղաքականության մշակում, կառավարում, կենտրոնացված միջոցառումներ, մոնիտորինգ և վերահսկողություն
A11: Ծրագրի միջոցառումները
A12: Ծրագրի դասիչը` | B12: 1158 | C12: Ցուցանիշների փոփոխությունը (ավելացումները նշված են դրական նշանով)
A13: Միջոցառման դասիչը` | B13: 11001 | C13: Տարի
A14: Միջոցառման անվանումը` | B14: Ոստիկանության ոլորտի քաղաքականության մշակում, կառավարում, կենտրոնացված միջոցառումների, մոնիտորինգի և վերահսկողության իրականացում
A15: Նկարագրությունը` | B15: Ոստիկանության մարմինների աշխատանքների պլանավորում, համակարգում, ծրագրային միջոցառումների մշակում և իրականացում, միջգերատեսչական և միջազգային համագործակցության ապահովում, համընդհանուր և ոլորտային աշխատանքների իրականացում, մոնիտորինգ և հսկողություն
A16: Միջոցառման տեսակը` | B16: Ծառայությունների մատուցում
A17: Արդյունքի չափորոշիչներ
A18: Միջոցառման վրա կատարվող ծախսը (հազար դրամ) | C18: ='4.'!G17 -> 548900
A19: Միջոցառման դասիչը` | B19: 11004 | C19: Տարի
A20: Միջոցառման անվանումը` | B20: Պետական պահպանության ծառայություններ մատուցող ՀՀ ոստիկանության ստորաբաժանումների կարիքի բավարարում
A21: Նկարագրությունը` | B21: Ոստիկանության մարմինների աշխատանքների պլանավորում, համակարգում, ծրագրային միջոցառումների մշակում և իրականացում, միջգերատեսչական և միջազգային համագործակցության ապահովում, համընդհանուր և ոլորտային աշխատանքների իրականացում, մոնիտորինգ և հսկողություն
A22: Միջոցառման տեսակը` | B22: Ծառայությունների մատուցում
A23: Արդյունքի չափորոշիչներ
A24: Միջոցառման վրա կատարվող ծախսը (հազար դրամ) | C24: ='4.'!G26 -> 673100

Sheet 6
D1: Հավելված N 6
A3: ՀԱՅԱՍՏԱՆԻ ՀԱՆՐԱՊԵՏՈՒԹՅԱՆ ԿԱՌԱՎԱՐՈՒԹՅԱՆ 2021 ԹՎԱԿԱՆԻ ԴԵԿՏԵՄԲԵՐԻ 23-Ի N 2121-Ն ՈՐՈՇՄԱՆ N 9.1 ՀԱՎԵԼՎԱԾԻ 9.1.33 ԱՂՅՈՒՍԱԿՈՒՄ ԿԱՏԱՐՎՈՂ ՓՈՓՈԽՈՒԹՅՈՒՆՆԵՐԸ
A5: ՀՀ Ոստիկանություն
A6: ՄԱՍ 2. ՊԵՏԱԿԱՆ ՄԱՐՄՆԻ ԳԾՈՎ ԱՐԴՅՈՒՆՔԱՅԻՆ (ԿԱՏԱՐՈՂԱԿԱՆ) ՑՈՒՑԱՆԻՇՆԵՐԸ
A7: Ծրագրի դասիչը | B7: Ծրագրի անվանումը
A8: 1158 | B8: Ոստիկանության ոլորտի քաղաքականության մշակում, կառավարում, կենտրոնացված միջոցառումներ, մոնիտորինգ և վերահսկողություն
A10: Ծրագրի միջոցառումները
A11: Ծրագրի դասիչը` | B11: 1158 | C11: Ցուցանիշների փոփոխությունը (ավելացումները նշված են դրական նշանով)
A12: Միջոցառման դասիչը` | B12: 11001 | C12: Տարի
A13: Միջոցառման անվանումը` | B13: Ոստիկանության ոլորտի քաղաքականության մշակում, կառավարում, կենտրոնացված միջոցառումների, մոնիտորինգի և վերահսկողության իրականացում
A14: Նկարագրությունը` | B14: Ոստիկանության մարմինների աշխատանքների պլանավորում, համակարգում, ծրագրային միջոցառումների մշակում և իրականացում, միջգերատեսչական և միջազգային համագործակցության ապահովում, համընդհանուր և ոլորտային աշխատանքների իրականացում, մոնիտորինգ և հսկողություն
A15: Միջոցառման տեսակը` | B15: Ծառայությունների մատուցում
A16: Արդյունքի չափորոշիչներ
A17: Միջոցառման վրա կատարվող ծախսը (հազար դրամ) | C17: ='5.'!C18 -> 548900
A18: Միջոցառման դասիչը` | B18: 11004 | C18: Տարի
A19: Միջոցառման անվանումը` | B19: Պետական պահպանության ծառայություններ մատուցող ՀՀ ոստիկանության ստորաբաժանումների կարիքի բավարարում
A20: Նկարագրությունը` | B20: Ոստիկանության մարմինների աշխատանքների պլանավորում, համակարգում, ծրագրային միջոցառումների մշակում և իրականացում, միջգերատեսչական և միջազգային համագործակցության ապահովում, համընդհանուր և ոլորտային աշխատանքների իրականացում, մոնիտորինգ և հսկողություն
A21: Միջոցառման տեսակը` | B21: Ծառայությունների մատուցում
A22: Արդյունքի չափորոշիչներ
A23: Միջոցառման վրա կատարվող ծախսը (հազար դրամ) | C23: ='5.'!C24 -> 673100
