Workbook
Name a: #REF!
Name a: #REF!
Name AgencyCode: #REF!
Name AgencyCode: #REF!
Name AgencyCode: #REF!
Name AgencyName: #REF!
Name AgencyName: #REF!
Name AgencyName: #REF!
Name davit: #REF!
Name davit: #REF!
Name Functional1: #REF!
Name Functional1: #REF!
Name Functional1: #REF!
Name ggg: #REF!
Name ggg: #REF!
Name PANature: #REF!
Name PANature: #REF!
Name PANature: #REF!
Name PAType: #REF!
Name PAType: #REF!
Name PAType: #REF!
Name Performance2: #REF!
Name Performance2: #REF!
Name Performance2: #REF!
Name PerformanceType: #REF!
Name PerformanceType: #REF!
Name PerformanceType: #REF!
Name Հավելված: #REF!
Name Հավելված: #REF!
Name Մաս: #REF!
Name Մաս: #REF!
Name շախմատիստ: #REF!
Name շախմատիստ: #REF!

Sheet Հավելված N 1
C1: Հավելված N 1
C2: ՀՀ կառավարության 2022 թվականի
C3: ______________ ի ___Ն որոշման
A5: ՀԱՅԱՍՏԱՆԻ ՀԱՆՐԱՊԵՏՈՒԹՅԱՆ ԿԱՌԱՎԱՐՈՒԹՅԱՆ 2021 ԹՎԱԿԱՆԻ ԴԵԿՏԵՄԲԵՐԻ 23-Ի N2121-Ն ՈՐՈՇՄԱՆ N 4 ՀԱՎԵԼՎԱԾՈՒՄ ԿԱՏԱՐՎՈՂ ՓՈՓՈԽՈՒԹՅՈՒՆԸ ԵՎ ԼՐԱՑՈՒՄԸ
D7: հազ. դրամներով
A8: Ծրագրային դասիչը | C8: Բյուջետային հատկացումների գլխավոր կարգադրիչների, ծրագրերի, միջոցառումների և միջոցառումները կատարող պետական մարմինների անվանումները | D8: Ցուցանիշների փոփոխությունը (ավելացումները նշված են դրական նշանով, իսկ նվազեցումները՝ փակագծերում)
A9: Ծրագիր | B9: Միջոցառում | D9: Տարի
C10: ԸՆԴԱՄԵՆԸ | D10: =+D12 -> 0
C11: այդ թվում
C12: ՀՀ ԿՐԹՈՒԹՅԱՆ, ԳԻՏՈՒԹՅԱՆ, ՄՇԱԿՈՒՅԹԻ ԵՎ ՍՊՈՐՏԻ ՆԱԽԱՐԱՐՈՒԹՅՈՒՆ | D12: =+D14 -> 0
C13: այդ թվում՝
A14: 1183 | B14: Ապահով դպրոց | D14: =+D16 -> 0
C15: այդ թվում`
B16: 32001 | C16: Կրթական օբյեկտների շենքային պայմանների բարելավում | D16: =+D18 -> 0
C17: այդ թվում` ըստ կատարողների
C18: ՀՀ Արագածոտնի մարզպետարան | D18: =+D20 -> 0
C19: այդ թվում՝ բյուջետային ծախսերի տնտեսագիտական դասակարգման հոդվածներ
C20: ԸՆԴԱՄԵՆԸ ԾԱԽՍԵՐ | D20: =+D21+D25 -> 0
C21: ԸՆԹԱՑԻԿ ԾԱԽՍԵՐ | D21: =D22 -> 81307.6
C22: ԴՐԱՄԱՇՆՈՐՀՆԵՐ | D22: =+D23 -> 81307.6
C23: ԿԱՊԻՏԱԼ ԴՐԱՄԱՇՆՈՐՀՆԵՐ ՊԵՏԱԿԱՆ ՀԱՏՎԱԾԻ ԱՅԼ ՄԱԿԱՐԴԱԿՆԵՐԻՆ | D23: =+D24 -> 81307.6
C24: - Կապիտալ դրամաշնորհներ պետական և համայնքային ոչ առևտրային կազմակերպություններին | D24: =+'Հավելված N 4'!G13 -> 81307.6
C25: ՈՉ ՖԻՆԱՆՍԱԿԱՆ ԱԿՏԻՎՆԵՐԻ ԳԾՈՎ ԾԱԽՍԵՐ | D25: =D26 -> -81307.6
C26: ՀԻՄՆԱԿԱՆ ՄԻՋՈՑՆԵՐ | D26: =+D27 -> -81307.6
C27: ՇԵՆՔԵՐ ԵՎ ՇԻՆՈՒԹՅՈՒՆՆԵՐ | D27: =+D28 -> -81307.6
C28: - Շենքերի և շինությունների կապիտալ վերանորոգում | D28: =+'Հավելված N 3'!E16 -> -81307.6

Sheet Հավելված N 2
F1: Հավելված N 2
F2: ՀՀ կառավարության 2022 թվականի
F3: ______________ ի ___Ն որոշման
A5: «ՀԱՅԱUՏԱՆԻ ՀԱՆՐԱՊԵՏՈՒԹՅԱՆ 2022 ԹՎԱԿԱՆԻ ՊԵՏԱԿԱՆ ԲՅՈՒՋԵԻ ՄԱUԻՆ» ՀԱՅԱUՏԱՆԻ ՀԱՆՐԱՊԵՏՈՒԹՅԱՆ OՐԵՆՔԻ N 1 ՀԱՎԵԼՎԱԾԻ N 3 ԱՂՅՈՒՍԱԿՈՒՄ ԿԱՏԱՐՎՈՂ ՓՈՓՈԽՈՒԹՅՈՒՆՆԵՐԸ ԵՎ ԼՐԱՑՈՒՄԸ
H8: հազ. դրամներով
A9: Ծրագրային դասիչ | C9: Բյուջետային գլխավոր կարգադրիչների, ծրագրերի, միջոցառումների և ուղղությունների անվանումները | D9: Ընդամենը | E9: Ցուցանիշների փոփոխությունը (ավելացումները նշված են դրական նշանով, իսկ նվազեցումները՝ փակագծերում)
A10: Ծրագիր | B10: Միջոցառում | E10: Կառուցման աշխատանքներ | F10: Վերակառուցման, վերանորոգման և վերականգնման աշխատանքներ | G10: Նախագծահե- տազոտական, գեոդեզիա- քարտեզագրա- կան աշխա- տանքներ | H10: Ոչ ֆինանսական այլ ակտիվների ձեռքբերում
C11: ԸՆԴԱՄԵՆԸ | D11: =SUM(E11:H11) -> -81307.6 | E11: =+E13 -> -225147 | F11: =+F13 -> 143839.4 | G11: =+G13 -> 0 | H11: =+H13 -> 0
C12: այդ թվում՝
C13: ՀՀ ԿՐԹՈՒԹՅԱՆ, ԳԻՏՈՒԹՅԱՆ, ՄՇԱԿՈՒՅԹԻ ԵՎ ՍՊՈՐՏԻ ՆԱԽԱՐԱՐՈՒԹՅՈՒՆ | D13: =SUM(E13:H13) -> -81307.6 | E13: =+E15+E19 -> -225147 | F13: =+F15+F19 -> 143839.4 | G13: =+G15+G19 -> 0 | H13: =+H15+H19 -> 0
C14: այդ թվում`
A15: 1163 | B15: 12001 | C15: Աջակցություն համայնքներին մարզական հաստատությունների շենքային պայմանների բարելավման համար | D15: =+E15+F15+G15+H15 -> 0 | E15: =+E17 -> -225147 | F15: =+F17 -> 225147 | G15: =+G17 -> 0 | H15: =+H17 -> 0
C16: այդ թվում`
C17: Երևան քաղաք | D17: =SUM(E17:H17) -> 0 | E17: =+E18 -> -225147 | F17: =+F18 -> 225147 | G17: =+G18 -> 0 | H17: =+H18 -> 0
C18: «Երևանի թենիսի և բադմինթոնի մանկապատանեկան մարզադպրոց» ՀՈԱԿ | D18: =+E18+F18+G18+H18 -> 0 | E18: -225147 | F18: 225147
A19: 1183 | B19: 32001 | C19: Կրթական օբյեկտների շենքային պայմանների բարելավում | D19: =+E19+F19+G19+H19 -> -81307.6 | E19: =+E21+E29 -> 0 | F19: =+F21+F29 -> -81307.6 | G19: =+G21+G29 -> 0 | H19: =+H21+H29 -> 0
C20: այդ թվում`
C21: ՀՀ Արագածոտնի մարզ | D21: =SUM(E21:H21) -> -81307.6 | E21: =SUM(E22:E28) -> 0 | F21: =SUM(F22:F28) -> -81307.6 | G21: =SUM(G22:G28) -> 0 | H21: =SUM(H22:H28) -> 0
C22: «Ակունքի միջնակարգ դպրոց» ՊՈԱԿ | D22: =+E22+F22+G22+H22 -> -11140.7 | F22: -11140.7
C23: «Աշտարակի Սմբատ Շահազիզի անվան հ. 2 հիմնական դպրոց» ՊՈԱԿ | D23: =+E23+F23+G23+H23 -> -9975.3 | F23: -9975.3
C24: «Դավթաշենի Ա.Վարդանյանի անվան միջնակարգ դպրոց» ՊՈԱԿ | D24: =+E24+F24+G24+H24 -> -13332 | F24: -13332
C25: «Փարպիի Ղազար Փարպեցու անվան միջնակարգ դպրոց» ՊՈԱԿ | D25: =+E25+F25+G25+H25 -> -14551 | F25: -14551
C26: «Արտենիի թիվ 1 միջնակարգ դպրոց» ՊՈԱԿ | D26: =+E26+F26+G26+H26 -> -9807 | F26: -9807
C27: «Ներքին Սասնաշենի Հ.Հովհաննիսյանի անվան միջնակարգ դպրոց» ՊՈԱԿ | D27: =+E27+F27+G27+H27 -> -13320.6 | F27: -13320.6
C28: «Արտենիի թիվ 2 հիմնական դպրոց» ՊՈԱԿ | D28: =+E28+F28+G28+H28 -> -9181 | F28: -9181
C29: ՀՀ Տավուշի մարզ | D29: =SUM(E29:H29) -> 0 | E29: =SUM(E30:E31) -> 0 | F29: =SUM(F30:F31) -> 0 | G29: =SUM(G30:G31) -> 0 | H29: =SUM(H30:H31) -> 0
C30: «Այգեձորի միջնակարգ դպրոց» ՊՈԱԿ | D30: =+E30+F30+G30+H30 -> 1400.3 | F30: =+'Հավելված N 5'!I20 -> 1400.3
C31: «Գետահովիտի միջնակարգ դպրոց» ՊՈԱԿ | D31: =+E31+F31+G31+H31 -> -1400.3 | F31: =+'Հավելված N 5'!I15 -> -1400.3

Sheet Հավելված N 3
D1: Հավելված N 3
D2: ՀՀ կառավարության 2022 թվականի
D3: ______________ ի ___Ն որոշման
B5: ՀԱՅԱՍՏԱՆԻ ՀԱՆՐԱՊԵՏՈՒԹՅԱՆ ԿԱՌԱՎԱՐՈՒԹՅԱՆ 2021 ԹՎԱԿԱՆԻ ԴԵԿՏԵՄԲԵՐԻ 23-Ի N 2121-Ն ՈՐՈՇՄԱՆ N 5 ՀԱՎԵԼՎԱԾԻ N 2 ԱՂՅՈՒՍԱԿՈՒՄ ԿԱՏԱՐՎՈՂ ՓՈՓՈԽՈՒԹՅՈՒՆՆԵՐԸ ԵՎ ԼՐԱՑՈՒՄԸ
E8: հազ. դրամներով
B9: Ծրագրային դասիչ | D9: Բյուջետային գլխավոր կարգադրիչների, ծրագրերի, միջոցառումների, միջոցառումները կատարող պետական մարմինների և ուղղությունների անվանումները | E9: Ցուցանիշների փոփոխությունը (ավելացումները նշված են դրական նշանով, իսկ նվազեցումները՝ փակագծերում)
B10: Ծրագիր | C10: Միջոցառում | E10: Տարի
D12: ՀՀ ԿՐԹՈՒԹՅԱՆ, ԳԻՏՈՒԹՅԱՆ, ՄՇԱԿՈՒՅԹԻ ԵՎ ՍՊՈՐՏԻ ՆԱԽԱՐԱՐՈՒԹՅՈՒՆ | E12: =+E14 -> -81307.6
D13: այդ թվում՝
B14: 1183 | C14: 32001 | D14: Կրթական օբյեկտների շենքային պայմանների բարելավում | E14: =+E16+E26 -> -81307.6
D15: այդ թվում` ըստ կատարողների
D16: ՀՀ Արագածոտնի մարզպետարան | E16: =+E18 -> -81307.6
D17: այդ թվում` ըստ ուղղությունների
D18: ՀՀ Արագածոտնի մարզ | E18: =SUM(E19:E25) -> -81307.6
D19: «Ակունքի միջնակարգ դպրոց» ՊՈԱԿ | E19: =+'Հավելված N 2'!D22 -> -11140.7
D20: «Աշտարակի Սմբատ Շահազիզի անվան հ. 2 հիմնական դպրոց» ՊՈԱԿ | E20: =+'Հավելված N 2'!D23 -> -9975.3
D21: «Դավթաշենի Ա.Վարդանյանի անվան միջնակարգ դպրոց» ՊՈԱԿ | E21: =+'Հավելված N 2'!D24 -> -13332
D22: «Փարպիի Ղազար Փարպեցու անվան միջնակարգ դպրոց» ՊՈԱԿ | E22: =+'Հավելված N 2'!D25 -> -14551
D23: «Արտենիի թիվ 1 միջնակարգ դպրոց» ՊՈԱԿ | E23: =+'Հավելված N 2'!D26 -> -9807
D24: «Ներքին Սասնաշենի Հ.Հովհաննիսյանի անվան միջնակարգ դպրոց» ՊՈԱԿ | E24: =+'Հավելված N 2'!D27 -> -13320.6
D25: «Արտենիի թիվ 2 հիմնական դպրոց» ՊՈԱԿ | E25: =+'Հավելված N 2'!D28 -> -9181
D26: ՀՀ Տավուշի մարզպետարան | E26: =+E28 -> 0
D27: այդ թվում` ըստ ուղղությունների
D28: ՀՀ Տավուշի մարզ | E28: =SUM(E29:E30) -> 0
D29: «Այգեձորի միջնակարգ դպրոց» ՊՈԱԿ | E29: =+'Հավելված N 2'!D30 -> 1400.3
D30: «Գետահովիտի միջնակարգ դպրոց» ՊՈԱԿ | E30: =+'Հավելված N 2'!D31 -> -1400.3

Sheet Հավելված N 4
F1: Հավելված N 4
F2: ՀՀ կառավարության 2022 թվականի
F3: ______________ ի ___Ն որոշման
A6: ՀԱՅԱՍՏԱՆԻ ՀԱՆՐԱՊԵՏՈՒԹՅԱՆ ԿԱՌԱՎԱՐՈՒԹՅԱՆ 2021 ԹՎԱԿԱՆԻ ԴԵԿՏԵՄԲԵՐԻ 23-Ի N 2121-Ն ՈՐՈՇՄԱՆ N 5 ՀԱՎԵԼՎԱԾԻ N 7 ԱՂՅՈՒՍԱԿՈՒՄ ԿԱՏԱՐՎՈՂ ԼՐԱՑՈՒՄՆԵՐԸ
G7: հազ. դրամներով
A8: Ծրագրային դասիչը | C8: Բյուջետային հատկացումների գլխավոր կարգադրիչների, ծրագրերի, միջոցառումների և միջոցառումները կատարող պետական մարմինների անվանումները | F8: Միջոցառումները կատարող պետական մարմինների և դրամաշնորհ ստացող տնտեսվարող սուբյեկտների անվանումները | G8: Ցուցանիշների փոփոխությունը (ավելացումները նշված են դրական նշանով)
A9: Ծրագիր | B9: Միջոցառում | G9: Տարի
A10: ՀՀ կրթության, գիտության, մշակույթի և սպորտի նախարարություն | G10: =+G11 -> 81307.6
A11: 1183 | B11: Ապահով դպրոց | G11: =+G12 -> 81307.6
B12: 32001 | C12: Կրթական օբյեկտների շենքային պայմանների բարելավում | G12: =+G13 -> 81307.6
F13: ՀՀ Արագածոտնի մարզպետարան | G13: =SUM(G14:G20) -> 81307.6
F14: «Ակունքի միջնակարգ դպրոց» ՊՈԱԿ | G14: =-'Հավելված N 3'!E19 -> 11140.7
F15: «Աշտարակի Սմբատ Շահազիզի անվան հ. 2 հիմնական դպրոց» ՊՈԱԿ | G15: =-'Հավելված N 3'!E20 -> 9975.3
F16: «Դավթաշենի Ա.Վարդանյանի անվան միջնակարգ դպրոց» ՊՈԱԿ | G16: =-'Հավելված N 3'!E21 -> 13332
F17: «Փարպիի Ղազար Փարպեցու անվան միջնակարգ դպրոց» ՊՈԱԿ | G17: =-'Հավելված N 3'!E22 -> 14551
F18: «Արտենիի թիվ 1 միջնակարգ դպրոց» ՊՈԱԿ | G18: =-'Հավելված N 3'!E23 -> 9807
F19: «Ներքին Սասնաշենի Հ.Հովհաննիսյանի անվան միջնակարգ դպրոց» ՊՈԱԿ | G19: =-'Հավելված N 3'!E24 -> 13320.6
F20: «Արտենիի հիմնական դպրոց» ՊՈԱԿ | G20: =-'Հավելված N 3'!E25 -> 9181

Sheet Հավելված N 5
H1: Հավելված N 5
H2: ՀՀ կառավարության 2022 թվականի
H3: ______________ ի ___Ն որոշման
A6: ՀԱՅԱՍՏԱՆԻ ՀԱՆՐԱՊԵՏՈՒԹՅԱՆ ԿԱՌԱՎԱՐՈՒԹՅԱՆ 2021 ԹՎԱԿԱՆԻ ԴԵԿՏԵՄԲԵՐԻ 23-Ի N 2121-Ն ՈՐՈՇՄԱՆ N 10 ՀԱՎԵԼՎԱԾՈՒՄ ԿԱՏԱՐՎՈՂ ՓՈՓՈԽՈՒԹՅՈՒՆԸ ԵՎ ԼՐԱՑՈՒՄԸ
A8: Կոդը | B8: Անվանումը | E8: Գնման ձևը | F8: Չափման միավորը | G8: Միավորի գինը | H8: Ցուցանիշների փոփոխությունը (ավելացումները նշված են դրական նշանով, իսկ նվազեցումները՝ փակագծերում)
H9: Քանակը | I9: Գումարը (հազար դրամ)
A10: 1 | B10: 2 | E10: 3 | F10: 4 | G10: 5 | H10: 6 | I10: 7
A11: ՀՀ Տավուշի մարզպետարան | I11: =+I12 -> 0
A12: Բաժին N 09 | B12: Խումբ N 06 | C12: Դաս N 01 | D12: Կրթությանը տրամադրվող օժանդակ ծառայություններ | I12: =+I13 -> 0
A13: 1183-32001 | B13: Կրթական օբյեկտների շենքային պայմանների բարելավում | I13: =+I14 -> 0
B14: ՄԱՍ II. ԱՇԽԱՏԱՆՔՆԵՐ | I14: =SUM(I15:I20) -> 0
A15: 45611300-3 | B15: այլ շենքերի, շինությունների հիմնանորոգում | E15: ԳՀ | F15: դրամ | I15: -1400.3
A20: 45331100-505 | B20: կենտրոնական ջեռուցման համակարգի տեղադրման աշխատանքներ | E20: ՀԲՄ | F20: դրամ | I20: 1400.3
