Workbook
Name a: #REF!
Name a: #REF!
Name a: #REF!
Name AgencyCode: #REF!
Name AgencyCode: #REF!
Name AgencyCode: #REF!
Name AgencyCode: #REF!
Name AgencyCode: #REF!
Name AgencyName: #REF!
Name AgencyName: #REF!
Name AgencyName: #REF!
Name AgencyName: #REF!
Name AgencyName: #REF!
Name davit: #REF!
Name davit: #REF!
Name davit: #REF!
Name davit: #REF!
Name Functional1: #REF!
Name Functional1: #REF!
Name Functional1: #REF!
Name Functional1: #REF!
Name Functional1: #REF!
Name ggg: #REF!
Name ggg: #REF!
Name ggg: #REF!
Name ggg: #REF!
Name PANature: #REF!
Name PANature: #REF!
Name PANature: #REF!
Name PANature: #REF!
Name PANature: #REF!
Name PAType: #REF!
Name PAType: #REF!
Name PAType: #REF!
Name PAType: #REF!
Name PAType: #REF!
Name Performance2: #REF!
Name Performance2: #REF!
Name Performance2: #REF!
Name Performance2: #REF!
Name Performance2: #REF!
Name PerformanceType: #REF!
Name PerformanceType: #REF!
Name PerformanceType: #REF!
Name PerformanceType: #REF!
Name PerformanceType: #REF!
Name Հավելված: #REF!
Name Հավելված: #REF!
Name Հավելված: #REF!
Name Հավելված: #REF!
Name Մաս: #REF!
Name Մաս: #REF!
Name Մաս: #REF!
Name Մաս: #REF!
Name շախմատիստ: #REF!
Name շախմատիստ: #REF!
Name շախմատիստ: #REF!
Name շախմատիստ: #REF!

Sheet Հավելված N 1
C1: Հավելված N 1
C2: ՀՀ կառավարության 2022 թվականի
C3: ______________ ի ___Ն որոշման
A6: «ՀԱՅԱUՏԱՆԻ ՀԱՆՐԱՊԵՏՈՒԹՅԱՆ 2022 ԹՎԱԿԱՆԻ ՊԵՏԱԿԱՆ ԲՅՈՒՋԵԻ ՄԱUԻՆ» ՀԱՅԱUՏԱՆԻ ՀԱՆՐԱՊԵՏՈՒԹՅԱՆ OՐԵՆՔԻ N 1 ՀԱՎԵԼՎԱԾԻ N 2 ԱՂՅՈՒՍԱԿՈՒՄ ԿԱՏԱՐՎՈՂ ՎԵՐԱԲԱՇԽՈՒՄԸ ԵՎ ՀԱՅԱՍՏԱՆԻ ՀԱՆՐԱՊԵՏՈՒԹՅԱՆ ԿԱՌԱՎԱՐՈՒԹՅԱՆ 2021 ԹՎԱԿԱՆԻ ԴԵԿՏԵՄԲԵՐԻ 23-Ի N 2121-Ն ՈՐՈՇՄԱՆ N 5 ՀԱՎԵԼՎԱԾԻ N 1 ԱՂՅՈՒՍԱԿՈՒՄ ԿԱՏԱՐՎՈՂ ՓՈՓՈԽՈՒԹՅՈՒՆԸ ԵՎ ԼՐԱՑՈՒՄՆԵՐԸ
D9: հազ. դրամներով
A10: Ծրագրային դասիչը | C10: Բյուջետային հատկացումների գլխավոր կարգադրիչների, ծրագրերի և միջոցառումների անվանումները | D10: Ցուցանիշների փոփոխությունը (ավելացումները նշված են դրական նշանով, իսկ նվազեցումները՝ փակագծերում)
A11: Ծրագիր | B11: Միջոցառում | D11: Տարի
A12: 1192 | C12: ԸՆԴԱՄԵՆԸ | D12: =+D14+D281 -> 0
C13: այդ թվում
C14: ՀՀ ԿՐԹՈՒԹՅԱՆ, ԳԻՏՈՒԹՅԱՆ, ՄՇԱԿՈՒՅԹԻ ԵՎ ՍՊՈՐՏԻ ՆԱԽԱՐԱՐՈՒԹՅՈՒՆ | D14: =+D16+D35+D60+D79+D122+D135+D148+D161+D180+D193+D236+D255+D268 -> 0
A15: 1041 | C15: Ծրագրի անվանումը`
C16: Մեծ նվաճումների սպորտ | D16: =+D23+D29 -> -9366.7
C17: Ծրագրի նպատակը`
C18: Նպաստել Հայաստանում մեծ սպորտի շարունակական զարգացմանը և միջազգային հարթակներում ՀՀ դիրքի բարելավմանը
C19: Վերջնական արդյունքի նկարագրությունը`
C20: ՀՀ առաջնությունների ընդլայնում, միջազգային սպորտային միջոցառումներին մասնակցության և նվաճումների ապահովում
C21: Ծրագրի միջոցառումներ
B22: 11003 | C22: Միջոցառման անվանումը`
C23: Ադապտիվ սպորտին առնչվող ծառայություններ | D23: =+'Հավելված N 2'!G23 -> -7051.9
C24: Միջոցառման նկարագրությունը`
C25: Հաշմանդամային մարզական ՀԿ-ի կողմից միջազգային մրցաշարերին մարզիկների նախապատրաստում և մասնակցության ապահովում և ՀՀ առաջնությունների և այլ մարզական միջոցառումների անցկացում
C26: Միջոցառման տեսակը
C27: Ծառայությունների մատուցում
B28: 11034 | C28: Միջոցառման անվանումը`
C29: 2022 թ. Երևանում կայանալիք բռնցքամարտի Եվրոպայի առաջնության անցկացման ապահովում | D29: =+'Հավելված N 2'!G32 -> -2314.8
C30: Միջոցառման նկարագրությունը`
C31: 2022 թ. Երևանում կայանալիք բռնցքամարտի Եվրոպայի առաջնության կազմակերպման և անցկացման ապահովում
C32: Միջոցառման տեսակը
C33: Ծառայությունների մատուցում
A34: 1045 | C34: Ծրագրի անվանումը`
C35: Նախնական (արհեստագործական) և միջին մասնագիտական կրթություն | D35: =+D42+D48+D54 -> -37454.3
C36: Ծրագրի նպատակը`
C37: Աշխատաշուկայի արդի պահանջներին համապատասխան նախնական մասնագիտական (արհեստագործական) և միջին մասնագիտական կրթության որակավորում ունեցող մասնագետների պատրաստում, կրթության մատչելիության ապահովում:
C38: Վերջնական արդյունքի նկարագրությունը`
C39: Նախնական (արհեստագործական) և միջին մասնագիտական կրթության գրավչության բարձրացում, մատչելի և մրցունակ նախնական (արհեստագործական) և միջին մասնագիտական կրթության ապահովում
C40: Ծրագրի միջոցառումներ
B41: 12001 | C41: Միջոցառման անվանումը`
C42: Նախնական մասնագիտական (արհեստագործական) կրթություն ստացող ուսանողների կրթաթոշակ | D42: =+'Հավելված N 2'!G250 -> -46174.2
C43: Միջոցառման նկարագրությունը`
C44: Նախնական մասնագիտական (արհեստագործական) կրթություն ստացող ուսանողներին կրթաթոշակի տրամադրում
C45: Միջոցառման տեսակը
C46: Տրանսֆերտների տրամադրում
B47: 12004 | C47: Միջոցառման անվանումը`
C48: Միջին մասնագիտական կրթության գծով ուսանողական նպաստների տրամադրում | D48: =+'Հավելված N 2'!G265 -> -54586.7
C49: Միջոցառման նկարագրությունը`
C50: Միջին մասնագիտական կրթության գծով ուսանողական նպաստների տրամադրում
C51: Միջոցառման տեսակը
C52: Տրանսֆերտների տրամադրում
B53: 32004 | C53: Միջոցառման անվանումը`
C54: Նախնական մասնագիտական (արհեստագործական) և միջին մասնագիտական ուսումնական հաստատություններում ուսումնարտադրական բազայով ապահովում | D54: =+'Հավելված N 2'!G299 -> 63306.6
C55: Միջոցառման նկարագրությունը`
C56: ՆՄՄԿՈՒ հաստատություններում ուսումնարտադրական բազայով ապահովման աշխատանքների իրականացում
C57: Միջոցառման տեսակը
C58: Այլ պետական կազմակերպությունների կողմից օգտագործվող ոչ ֆինանսական ակտիվների հետ գործառնություններ
A59: 1056 | C59: Ծրագրի անվանումը`
C60: Կինեմատոգրաֆիայի ծրագիր | D60: =+D67+D73 -> -3767.4
C61: Ծրագրի նպատակը`
C62: Կինոարվեստի և կինոարտադրության զարգացմանն աջակցություն, հայկական ավանդույթների շարունակականության ապահովում և կինոարվեստի հանրահռչակում
C63: Վերջնական արդյունքի նկարագրությունը`
C64: Կինոարտադրության ընդլայնում և տարածում, հասարակության կինոհաղորդակցության բարելավում
C65: Ծրագրի միջոցառումներ
B66: 11003 | C66: Միջոցառման անվանումը`
C67: Ազգային կինոծրագրերի իրականացում | D67: =+'Հավելված N 2'!G199 -> -2465
C68: Միջոցառման նկարագրությունը`
C69: Խաղարկային և մուլտիպլիկացիոն կինոնկարների արտադրության ապահովում
C70: Միջոցառման տեսակը
C71: Ծառայությունների մատուցում
B72: 11005 | C72: Միջոցառման անվանումը`
C73: Աջակցություն կինոարվեստին | D73: =+'Հավելված N 2'!G98 -> -1302.4
C74: Միջոցառման նկարագրությունը`
C75: Կինոարվեստի հանրահռչակում, տարածում, մատչելիության ապահովում
C76: Միջոցառման տեսակը
C77: Ծառայությունների մատուցում
A78: 1075 | C78: Ծրագրի անվանումը`
C79: Մշակութային ժառանգության ծրագիր | D79: =+D86+D92+D98+D104+D110+D116 -> 189104.8
C80: Ծրագրի նպատակը`
C81: Մշակութային ժառանգության պահպանում, օգտագործում, համալրում և հանրահռչակում
C82: Վերջնական արդյունքի նկարագրությունը`
C83: Մշակութային ժառանգության շարունակական պահպանում, մշակութային զբոսաշրջության զարգացում և խթանում
C84: Ծրագրի միջոցառումներ
B85: 11004 | C85: Միջոցառման անվանումը`
C86: Թանգարանային ծառայություններ և ցուցահանդեսներ | D86: =+'Հավելված N 2'!G49 -> -5875.9
C87: Միջոցառման նկարագրությունը`
C88: Թանգարանային նմուշների պահպանություն, ցուցահանդեսների կազմակերպում, մասնագետների վերապատրաստում
C89: Միջոցառման տեսակը
C90: Ծառայությունների մատուցում
B91: 11005 | C91: Միջոցառման անվանումը`
C92: Աջակցություն ոչ նյութական մշակութային ժառանգության պահպանմանը | D92: =+'Հավելված N 2'!G112 -> -3056.8
C93: Միջոցառման նկարագրությունը`
C94: Անցյալում ստեղծված, պահպանվող, կիրառվող և բանավոր ճանապարհով փոխանցվող ավանդական մշակութային արժեքների ամբողջության պահպանությանն ուղղված ծառայություններ
C95: Միջոցառման տեսակը
C96: Ծառայությունների մատուցում
B97: 21001 | C97: Միջոցառման անվանումը`
C98: Հուշարձանների ամրակայում, նորոգում և վերականգնում | D98: =+'Հավելված N 2'!G214 -> 29335.3
C99: Միջոցառման նկարագրությունը`
C100: Հուշարձանների գիտանախագծային փաստաթղթերի կազմում, հրատապ ուսումնասիրում, վավերագրման և ուսումնասիրման աշխատանքներ, հետախուզում և հնագիտական պեղում, ամրակայում, նորոգում և վերականգնում
C101: Միջոցառման տեսակը
C102: Հանրության կողմից անմիջականորեն օգտագործվող ակտիվների հետ կապված միջոցառումներ
B103: 32001 | C103: Միջոցառման անվանումը`
C104: Ներդրումներ թանգարանների և պատկերասրահների հիմնանորոգման համար | D104: =+'Հավելված N 2'!G59 -> 19292.2
...

Sheet Հավելված N 2
F1: Հավելված N 2
F2: ՀՀ կառավարության 2022 թվականի
F3: ______________ ի ___Ն որոշման
A5: ՀԱՅԱՍՏԱՆԻ ՀԱՆՐԱՊԵՏՈՒԹՅԱՆ ԿԱՌԱՎԱՐՈՒԹՅԱՆ 2021 ԹՎԱԿԱՆԻ ԴԵԿՏԵՄԲԵՐԻ 23-Ի N2121-Ն ՈՐՈՇՄԱՆ N 3 ԵՎ N 4 ՀԱՎԵԼՎԱԾՆԵՐՈՒՄ ԿԱՏԱՐՎՈՂ ՓՈՓՈԽՈՒԹՅՈՒՆԸ ԵՎ ԼՐԱՑՈՒՄՆԵՐԸ
G7: հազ. դրամներով
A8: Գործառական դասիչը | D8: Ծրագրային դասիչը | F8: Բյուջետային հատկացումների գլխավոր կարգադրիչների, ծրագրերի, միջոցառումների և միջոցառումները կատարող պետական մարմինների անվանումները | G8: Ցուցանիշների փոփոխությունը (ավելացումները նշված են դրական նշանով, իսկ նվազեցումները՝ փակագծերում)
A9: Բաժին | B9: Խումբ | C9: Դաս | D9: Ծրագիր | E9: Միջոցառում | G9: Տարի
F10: ԸՆԴԱՄԵՆԸ | G10: =+G12+G393 -> 0
F11: այդ թվում
F12: ՀՀ ԿՐԹՈՒԹՅԱՆ, ԳԻՏՈՒԹՅԱՆ, ՄՇԱԿՈՒՅԹԻ ԵՎ ՍՊՈՐՏԻ ՆԱԽԱՐԱՐՈՒԹՅՈՒՆ | G12: =+G13+G240 -> 0
A13: 08 | F13: ՀԱՆԳԻՍՏ, ՄՇԱԿՈՒՅԹ ԵՎ ԿՐՈՆ | G13: =+G15+G41+G223 -> 153390.5
F14: այդ թվում`
B15: 01 | F15: Հանգստի և սպորտի ծառայություններ | G15: =+G17 -> -9366.7
F16: այդ թվում`
C17: 01 | F17: Հանգստի և սպորտի ծառայություններ | G17: =+G19 -> -9366.7
F18: այդ թվում`
F19: ՀՀ կրթության, գիտության, մշակույթի և սպորտի նախարարություն | G19: =+G21 -> -9366.7
F20: այդ թվում`
D21: 1041 | E21: Մեծ նվաճումների սպորտ | G21: =+G23+G32 -> -9366.7
F22: այդ թվում`
E23: 11003 | F23: Ադապտիվ սպորտին առնչվող ծառայություններ | G23: =+G25 -> -7051.9
F24: այդ թվում` ըստ կատարողների
F25: ՀՀ կրթության, գիտության, մշակույթի և սպորտի նախարարություն | G25: =+G27 -> -7051.9
F26: այդ թվում՝ բյուջետային ծախսերի տնտեսագիտական դասակարգման հոդվածներ
F27: ԸՆԴԱՄԵՆԸ ԾԱԽՍԵՐ | G27: =+G28 -> -7051.9
F28: ԸՆԹԱՑԻԿ ԾԱԽՍԵՐ | G28: =+G29 -> -7051.9
F29: ԴՐԱՄԱՇՆՈՐՀՆԵՐ | G29: =+G30 -> -7051.9
F30: Ընթացիկ դրամաշնորհներ պետական հատվածի այլ մակարդակներին | G30: =+G31 -> -7051.9
F31: - Այլ ընթացիկ դրամաշնորհներ | G31: =+'Հավելված N 5'!G12 -> -7051.9
E32: 11034 | F32: 2022 թ. Երևանում կայանալիք բռնցքամարտի Եվրոպայի առաջնության անցկացման ապահովում | G32: =+G34 -> -2314.8
F33: այդ թվում` ըստ կատարողների
F34: ՀՀ կրթության, գիտության, մշակույթի և սպորտի նախարարություն | G34: =+G36 -> -2314.8
F35: այդ թվում՝ բյուջետային ծախսերի տնտեսագիտական դասակարգման հոդվածներ
F36: ԸՆԴԱՄԵՆԸ ԾԱԽՍԵՐ | G36: =+G37 -> -2314.8
F37: ԸՆԹԱՑԻԿ ԾԱԽՍԵՐ | G37: =+G38 -> -2314.8
F38: ԴՐԱՄԱՇՆՈՐՀՆԵՐ | G38: =+G39 -> -2314.8
F39: Ընթացիկ դրամաշնորհներ պետական հատվածի այլ մակարդակներին | G39: =+G40 -> -2314.8
F40: - Այլ ընթացիկ դրամաշնորհներ | G40: =+'Հավելված N 5'!G15 -> -2314.8
B41: 02 | F41: Մշակութային ծառայություններ | G41: =+G43+G77+G92+G193+G208 -> 178818.9
F42: այդ թվում`
C43: 02 | F43: Թանգարաններ և ցուցասրահներ | G43: =+G45 -> 93726.3
F44: այդ թվում`
F45: ՀՀ կրթության, գիտության, մշակույթի և սպորտի նախարարություն | G45: =+G47 -> 93726.3
F46: այդ թվում`
D47: 1075 | E47: Մշակութային ժառանգության ծրագիր | G47: =+G49+G59+G68 -> 93726.3
F48: այդ թվում`
E49: 11004 | F49: Թանգարանային ծառայություններ և ցուցահանդեսներ | G49: =+G51 -> -5875.9
F50: այդ թվում` ըստ կատարողների
F51: ՀՀ կրթության, գիտության, մշակույթի և սպորտի նախարարություն | G51: =+G53 -> -5875.9
F52: այդ թվում՝ բյուջետային ծախսերի տնտեսագիտական դասակարգման հոդվածներ
F53: ԸՆԴԱՄԵՆԸ ԾԱԽՍԵՐ | G53: =+G54 -> -5875.9
F54: ԸՆԹԱՑԻԿ ԾԱԽՍԵՐ | G54: =+G55 -> -5875.9
F55: ԴՐԱՄԱՇՆՈՐՀՆԵՐ | G55: =+G56 -> -5875.9
F56: ԸՆԹԱՑԻԿ ԴՐԱՄԱՇՆՈՐՀՆԵՐ ՊԵՏԱԿԱՆ ՀԱՏՎԱԾԻ ԱՅԼ ՄԱԿԱՐԴԱԿՆԵՐԻՆ | G56: =+G57+G58 -> -5875.9
F57: - Ընթացիկ դրամաշնորհներ պետական և համայնքային ոչ առևտրային կազմակերպություններին | G57: -5761.2
F58: - Այլ ընթացիկ դրամաշնորհներ | G58: -114.7
E59: 32001 | F59: Ներդրումներ թանգարանների և պատկերասրահների հիմնանորոգման համար | G59: =+G61 -> 19292.2
F60: այդ թվում` ըստ կատարողների
F61: ՀՀ կրթության, գիտության, մշակույթի և սպորտի նախարարություն | G61: =+G63 -> 19292.2
F62: այդ թվում՝ բյուջետային ծախսերի տնտեսագիտական դասակարգման հոդվածներ
F63: ԸՆԴԱՄԵՆԸ ԾԱԽՍԵՐ | G63: =+G64 -> 19292.2
F64: ԸՆԹԱՑԻԿ ԾԱԽՍԵՐ | G64: =+G65 -> 19292.2
F65: ԴՐԱՄԱՇՆՈՐՀՆԵՐ | G65: =+G66 -> 19292.2
F66: ԿԱՊԻՏԱԼ ԴՐԱՄԱՇՆՈՐՀՆԵՐ ՊԵՏԱԿԱՆ ՀԱՏՎԱԾԻ ԱՅԼ ՄԱԿԱՐԴԱԿՆԵՐԻՆ | G66: =+G67 -> 19292.2
F67: - Կապիտալ դրամաշնորհներ պետական և համայնքային ոչ առևտրային կազմակերպություններին | G67: =+'Հավելված N 5'!G52 -> 19292.2
E68: 32008 | F68: Թանգարանների և պատկերասրահների գույքային և տեխնիկական հագեցվածության բարելավում | G68: =+G70 -> 80310
F69: այդ թվում` ըստ կատարողների
F70: ՀՀ կրթության, գիտության, մշակույթի և սպորտի նախարարություն | G70: =+G72 -> 80310
F71: այդ թվում՝ բյուջետային ծախսերի տնտեսագիտական դասակարգման հոդվածներ
F72: ԸՆԴԱՄԵՆԸ ԾԱԽՍԵՐ | G72: =+G73 -> 80310
F73: ԸՆԹԱՑԻԿ ԾԱԽՍԵՐ | G73: =+G74 -> 80310
F74: ԴՐԱՄԱՇՆՈՐՀՆԵՐ | G74: =+G75 -> 80310
F75: ԿԱՊԻՏԱԼ ԴՐԱՄԱՇՆՈՐՀՆԵՐ ՊԵՏԱԿԱՆ ՀԱՏՎԱԾԻ ԱՅԼ ՄԱԿԱՐԴԱԿՆԵՐԻՆ | G75: =+G76 -> 80310
F76: - Կապիտալ դրամաշնորհներ պետական և համայնքային ոչ առևտրային կազմակերպություններին | G76: =+'Հավելված N 5'!G54 -> 80310
C77: 04 | F77: Այլ մշակութային կազմակերպություններ | G77: =+G79 -> 69100
F78: այդ թվում`
F79: ՀՀ կրթության, գիտության, մշակույթի և սպորտի նախարարություն | G79: =+G83 -> 69100
F80: այդ թվում`
D81: 1075 | E81: Մշակութային ժառանգության ծրագիր | G81: =+G83 -> 69100
F82: այդ թվում`
E83: 32009 | F83: Պատմամշակութային ժառանգության ոլորտի կազմակերպությունների գույքային ապահովվածության բարելավում | G83: =+G85 -> 69100
F84: այդ թվում` ըստ կատարողների
F85: ՀՀ կրթության, գիտության, մշակույթի և սպորտի նախարարություն | G85: =+G87 -> 69100
F86: այդ թվում՝ բյուջետային ծախսերի տնտեսագիտական դասակարգման հոդվածներ
F87: ԸՆԴԱՄԵՆԸ ԾԱԽՍԵՐ | G87: =+G88 -> 69100
F88: ԸՆԹԱՑԻԿ ԾԱԽՍԵՐ | G88: =+G89 -> 69100
F89: ԴՐԱՄԱՇՆՈՐՀՆԵՐ | G89: =+G90 -> 69100
F90: ԿԱՊԻՏԱԼ ԴՐԱՄԱՇՆՈՐՀՆԵՐ ՊԵՏԱԿԱՆ ՀԱՏՎԱԾԻ ԱՅԼ ՄԱԿԱՐԴԱԿՆԵՐԻՆ | G90: =+G91 -> 69100
F91: - Կապիտալ դրամաշնորհներ պետական և համայնքային ոչ առևտրային կազմակերպություններին | G91: =+'Հավելված N 5'!G56 -> 69100
C92: 05 | F92: Արվեստ | G92: =+G94 -> -10877.7
F93: այդ թվում`
F94: ՀՀ կրթության, գիտության, մշակույթի և սպորտի նախարարություն | G94: =+G96+G110+G122+G133 -> -10877.7
F95: այդ թվում`
D96: 1056 | E96: Կինեմատոգրաֆիայի ծրագիր | G96: =+G98 -> -1302.4
F97: այդ թվում`
E98: 11005 | F98: Աջակցություն կինոարվեստին | G98: =+G100 -> -1302.4
F99: այդ թվում` ըստ կատարողների
F100: ՀՀ կրթության, գիտության, մշակույթի և սպորտի նախարարություն | G100: =+G102 -> -1302.4
F101: այդ թվում՝ բյուջետային ծախսերի տնտեսագիտական դասակարգման հոդվածներ
F102: ԸՆԴԱՄԵՆԸ ԾԱԽՍԵՐ | G102: =+G103 -> -1302.4
...

Sheet Հավելված N 3
F1: Հավելված N 3
F2: ՀՀ կառավարության 2022 թվականի
F3: ______________ ի ___Ն որոշման
A5: «ՀԱՅԱUՏԱՆԻ ՀԱՆՐԱՊԵՏՈՒԹՅԱՆ 2022 ԹՎԱԿԱՆԻ ՊԵՏԱԿԱՆ ԲՅՈՒՋԵԻ ՄԱUԻՆ» ՀԱՅԱUՏԱՆԻ ՀԱՆՐԱՊԵՏՈՒԹՅԱՆ OՐԵՆՔԻ N 1 ՀԱՎԵԼՎԱԾԻ N 3 ԱՂՅՈՒՍԱԿՈՒՄ ԿԱՏԱՐՎՈՂ ՓՈՓՈԽՈՒԹՅՈՒՆԸ
H8: հազ. դրամներով
A9: Ծրագրային դասիչ | C9: Բյուջետային գլխավոր կարգադրիչների, ծրագրերի, միջոցառումների և ուղղությունների անվանումները | D9: Ընդամենը | E9: Ցուցանիշների փոփոխությունը (նվազեցումները նշված են փակագծերում)
A10: Ծրագիր | B10: Միջոցառում | E10: Կառուցման աշխատանքներ | F10: Վերակառուցման, վերանորոգման և վերականգնման աշխատանքներ | G10: Նախագծահե- տազոտական, գեոդեզիա- քարտեզագրա- կան աշխա- տանքներ | H10: Ոչ ֆինանսական այլ ակտիվների ձեռքբերում
C11: ԸՆԴԱՄԵՆԸ | D11: =SUM(E11:H11) -> -467118 | E11: =+E13 -> 0 | F11: =+F13 -> 0 | G11: =+G13 -> 0 | H11: =+H13 -> -467118
C12: այդ թվում՝
C13: ՀՀ ԿՐԹՈՒԹՅԱՆ, ԳԻՏՈՒԹՅԱՆ, ՄՇԱԿՈՒՅԹԻ ԵՎ ՍՊՈՐՏԻ ՆԱԽԱՐԱՐՈՒԹՅՈՒՆ | D13: =SUM(E13:H13) -> -467118 | E13: =+E15+E21 -> 0 | F13: =+F15+F21 -> 0 | G13: =+G15+G21 -> 0 | H13: =+H15+H21 -> -467118
C14: այդ թվում`
A15: 1045 | B15: 32004 | C15: Նախնական մասնագիտական (արհեստագործական) և միջին մասնագիտական ուսումնական հաստատություններում ուսումնարտադրական բազայով ապահովում | D15: =+E15+F15+G15+H15 -> -177513.9 | E15: =+E17+E19 -> 0 | F15: =+F17+F19 -> 0 | G15: =+G17+G19 -> 0 | H15: =+H17+H19 -> -177513.9
C16: այդ թվում`
C17: ՀՀ Լոռու մարզ | D17: =SUM(E17:H17) -> -121155.2 | E17: =+E18 -> 0 | F17: =+F18 -> 0 | G17: =+G18 -> 0 | H17: =+H18 -> -121155.2
C18: ք. Վանաձորի գյուղատնտեսական պետական քոլեջ ՊՈԱԿ | D18: =+E18+F18+G18+H18 -> -121155.2 | H18: =+'Հավելված N 8'!I33+'Հավելված N 8'!I34+'Հավելված N 8'!I35+'Հավելված N 8'!I36+'Հավելված N 8'!I37+'Հավելված N 8'!I43+'Հավելված N 8'!I44 -> -121155.2
C19: ՀՀ Շիրակի մարզ | D19: =SUM(E19:H19) -> -56358.7 | E19: =+E20 -> 0 | F19: =+F20 -> 0 | G19: =+G20 -> 0 | H19: =+H20 -> -56358.7
C20: «Գյումրու N 4 արհեստագործական պետական ուսումնարան» ՊՈԱԿ | D20: =+E20+F20+G20+H20 -> -56358.7 | H20: =+'Հավելված N 8'!I38+'Հավելված N 8'!I39+'Հավելված N 8'!I40+'Հավելված N 8'!I41+'Հավելված N 8'!I42 -> -56358.7
A21: 1168 | B21: 32007 | C21: Թատերահամերգային կազմակերպությունների նյութատեխնիկական բազայի համալրում | D21: =+E21+F21+G21+H21 -> -289604.1 | E21: =+E23 -> 0 | F21: =+F23 -> 0 | G21: =+G23 -> 0 | H21: =+H23 -> -289604.1
C22: այդ թվում`
C23: Երևան քաղաք | D23: =SUM(E23:H23) -> -289604.1 | E23: =+E24+E25 -> 0 | F23: =+F24+F25 -> 0 | G23: =+G24+G25 -> 0 | H23: =+H24+H25 -> -289604.1
C24: «Հայաստանի երգի պետական թատրոն» ՊՈԱԿ | D24: =+E24+F24+G24+H24 -> -3497 | H24: =+'Հավելված N 8'!I26+'Հավելված N 8'!I27 -> -3497
C25: «Հ.Պարոնյանի անվան երաժշտական կոմեդիայի պետական թատրոն» ՊՈԱԿ | D25: =+E25+F25+G25+H25 -> -286107.1 | H25: =+'Հավելված N 8'!I28+'Հավելված N 8'!I29 -> -286107.1

Sheet Հավելված N 4
D1: Հավելված N 4
D2: ՀՀ կառավարության 2022 թվականի
D3: ______________ ի ___Ն որոշման
B5: ՀԱՅԱՍՏԱՆԻ ՀԱՆՐԱՊԵՏՈՒԹՅԱՆ ԿԱՌԱՎԱՐՈՒԹՅԱՆ 2021 ԹՎԱԿԱՆԻ ԴԵԿՏԵՄԲԵՐԻ 23-Ի N 2121-Ն ՈՐՈՇՄԱՆ N 5 ՀԱՎԵԼՎԱԾԻ N 2 ԱՂՅՈՒՍԱԿՈՒՄ ԿԱՏԱՐՎՈՂ ՓՈՓՈԽՈՒԹՅՈՒՆԸ
E8: հազ. դրամներով
B9: Ծրագրային դասիչ | D9: Բյուջետային գլխավոր կարգադրիչների, ծրագրերի, միջոցառումների, միջոցառումները կատարող պետական մարմինների և ուղղությունների անվանումները | E9: Ցուցանիշների փոփոխությունը (նվազեցումները նշված են փակագծերում)
B10: Ծրագիր | C10: Միջոցառում | E10: Տարի
D12: ՀՀ ԿՐԹՈՒԹՅԱՆ, ԳԻՏՈՒԹՅԱՆ, ՄՇԱԿՈՒՅԹԻ ԵՎ ՍՊՈՐՏԻ ՆԱԽԱՐԱՐՈՒԹՅՈՒՆ | E12: =+E14+E22 -> -467118
D13: այդ թվում՝
B14: 1045 | C14: 32004 | D14: Նախնական մասնագիտական (արհեստագործական) և միջին մասնագիտական ուսումնական հաստատություններում ուսումնարտադրական բազայով ապահովում | E14: =+E16 -> -177513.9
D15: այդ թվում` ըստ կատարողների
D16: ՀՀ կրթության, գիտության, մշակույթի և սպորտի նախարարություն | E16: =+E18+E20 -> -177513.9
D17: այդ թվում` ըստ ուղղությունների
D18: ՀՀ Լոռու մարզ | E18: =+E19 -> -121155.2
D19: ք. Վանաձորի գյուղատնտեսական պետական քոլեջ ՊՈԱԿ | E19: =+'Հավելված N 3'!D18 -> -121155.2
D20: ՀՀ Շիրակի մարզ | E20: =+E21 -> -56358.7
D21: «Գյումրու N 4 արհեստագործական պետական ուսումնարան» ՊՈԱԿ | E21: =+'Հավելված N 3'!D20 -> -56358.7
B22: 1168 | C22: 32007 | D22: Թատերահամերգային կազմակերպությունների նյութատեխնիկական բազայի համալրում | E22: =+E24 -> -289604.1
D23: այդ թվում` ըստ կատարողների
D24: ՀՀ կրթության, գիտության, մշակույթի և սպորտի նախարարություն | E24: =+E26 -> -289604.1
D25: այդ թվում` ըստ ուղղությունների
D26: Երևան քաղաք | E26: =+E27+E28 -> -289604.1
D27: «Հայաստանի երգի պետական թատրոն» ՊՈԱԿ | E27: =+'Հավելված N 3'!D24 -> -3497
D28: «Հ.Պարոնյանի անվան երաժշտական կոմեդիայի պետական թատրոն» ՊՈԱԿ | E28: =+'Հավելված N 3'!D25 -> -286107.1

Sheet Հավելված N 5
F1: Հավելված N 5
F2: ՀՀ կառավարության 2022 թվականի
F3: ______________ ի ___Ն որոշման
A6: ՀԱՅԱՍՏԱՆԻ ՀԱՆՐԱՊԵՏՈՒԹՅԱՆ ԿԱՌԱՎԱՐՈՒԹՅԱՆ 2021 ԹՎԱԿԱՆԻ ԴԵԿՏԵՄԲԵՐԻ 23-Ի N 2121-Ն ՈՐՈՇՄԱՆ N 5 ՀԱՎԵԼՎԱԾԻ N 7 ԱՂՅՈՒՍԱԿՈՒՄ ԿԱՏԱՐՎՈՂ ԼՐԱՑՈՒՄՆԵՐԸ
G7: հազ. դրամներով
A8: Ծրագրային դասիչը | C8: Բյուջետային հատկացումների գլխավոր կարգադրիչների, ծրագրերի, միջոցառումների և միջոցառումները կատարող պետական մարմինների անվանումները | F8: Միջոցառումները կատարող պետական մարմինների և դրամաշնորհ ստացող տնտեսվարող սուբյեկտների անվանումները | G8: Ցուցանիշների փոփոխությունը (ավելացումները նշված են դրական նշանով, իսկ նվազեցումները՝ փակագծերում)
A9: Ծրագիր | B9: Միջոցառում | G9: Տարի
A10: ՀՀ կրթության, գիտության, մշակույթի և սպորտի նախարարություն | G10: =+G11+G16+G22+G27+G58+G61+G66+G70+G73+G107+G113 -> 706905.6
A11: 1041 | B11: Մեծ նվաճումների սպորտ | G11: =+G12+G14 -> -9366.7
B12: 11003 | C12: Ադապտիվ սպորտին առնչվող ծառայություններ | F12: ՀՀ կրթության, գիտության, մշակույթի և սպորտի նախարարություն | G12: =+G13 -> -7051.9
F13: «Հայաստանի ազգային պարալիմպիկ կոմիտե» ՀԿ | G13: -7051.9
B14: 11034 | C14: 2022 թ. Երևանում կայանալիք բռնցքամարտի Եվրոպայի առաջնության անցկացման ապահովում | F14: ՀՀ կրթության, գիտության, մշակույթի և սպորտի նախարարություն | G14: =+G15 -> -2314.8
F15: «Ֆակտորի Փրոդաքշն» ՍՊԸ | G15: -2314.8
A16: 1045 | B16: Նախնական (արհեստագործական) և միջին մասնագիտական կրթություն | G16: =+G17 -> 240820.5
B17: 32004 | C17: Նախնական մասնագիտական (արհեստագործական) և միջին մասնագիտական ուսումնական հաստատություններում ուսումնարտադրական բազայով ապահովում | F17: ՀՀ կրթության, գիտության, մշակույթի և սպորտի նախարարություն | G17: =SUM(G18:G21) -> 240820.5
F18: «Երևանի պետական տեխնոլոգիական քոլեջ» ՊՈԱԿ | G18: 9923.8
F19: «Վանաձորի Մ.Թավրիզյանի անվան արվեստի պետական քոլեջ» ՊՈԱԿ | G19: 18017.8
F20: Վանաձորի գյուղատնտեսական պետական քոլեջ հիմնադրամ | G20: =121155.2+35365 -> 156520.2
F21: «Գյումրու N 4 արհեստագործական պետական ուսումնարան» ՊՈԱԿ | G21: 56358.7
A22: 1056 | B22: Կինեմատոգրաֆիայի ծրագիր | G22: =+G23+G25 -> -2675.6
B23: 11003 | C23: Ազգային կինոծրագրերի իրականացում | F23: ՀՀ կրթության, գիտության, մշակույթի և սպորտի նախարարություն | G23: =+G24 -> -2465
F24: «Հայաստանի ազգային կինոկենտրոն» ՊՈԱԿ | G24: -2465
B25: 11005 | C25: Աջակցություն կինոարվեստին | F25: ՀՀ կրթության, գիտության, մշակույթի և սպորտի նախարարություն | G25: =SUM(G26:G26) -> -210.6
F26: Մրցույթով ընտրված կազմակերպություն | G26: -210.6
A27: 1075 | B27: Մշակութային ժառանգության ծրագիր | G27: =+G28+G46+G50+G52+G54+G56 -> 189104.8
B28: 11004 | C28: Թանգարանային ծառայություններ և ցուցահանդեսներ | G28: =+G30 -> -5875.9
D29: այդ թվում՝ ըստ ուղղությունների
F30: ՀՀ կրթության, գիտության, մշակույթի և սպորտի նախարարություն | G30: =SUM(G31:G45) -> -5875.9
F31: «Հայաստանի ազգային պատկերասրահ» ՊՈԱԿ | G31: -1784.1
F32: «Հայաստանի պատմության թանգարան» ՊՈԱԿ | G32: -120.6
F33: «Ե.Չարենցի անվան գրականության և արվեստի թանգարան» ՊՈԱԿ | G33: -477.8
F34: «Հովհաննես Շարամբեյանի անվան ժողովրդական ստեղծագործության կենտրոն» ՊՈԱԿ | G34: -280.9
F35: «Ռուսական արվեստի թանգարան /պրոֆ. Ա.Աբրահամյանի հավաքածու/» ՊՈԱԿ | G35: -99.7
F36: «Հ.Թումանյանի թանգարան» ՊՈԱԿ | G36: -145.7
F37: «Ե.Չարենցի տուն-թանգարան» ՊՈԱԿ | G37: -8.1
F38: «Ա.Իսահակյանի տուն-թանգարան» ՊՈԱԿ | G38: -43.7
F39: «Ա.Խաչատրյանի տուն-թանգարան» ՊՈԱԿ | G39: -4
F40: «Հայ և ռուս ժողովուրդների բարեկամության թանգարան» ՊՈԱԿ | G40: -16.7
F41: «Ս.Փարաջանովի թանգարան» ՊՈԱԿ | G41: -491.1
F42: «Պատմամշակութային արգելոց-թանգարանների և պատմական միջավայրի պահպանության ծառայություն» ՊՈԱԿ | G42: -111.3
... F44: «Սարդարապատի հերոսամարտի հուշահամալիր, Հայոց ազգագրության և ազատագրական պայքարի պատմության ազգային թանգարան» ՊՈԱԿ | G44: -1041.6
E45: Աջակցություն նոր ցուցադրությունների և ցուցահանդեսների կազմակերպմանը, միջոցառումների իրականացմանը, կադրերի վերապատրաստում | F45: Մրցույթով ընտրված կազմակերպություն | G45: -1208.7
B46: 11005 | C46: Աջակցություն ոչ նյութական մշակութային ժառանգության պահպանմանը | F46: ՀՀ կրթության, գիտության, մշակույթի և սպորտի նախարարություն | G46: =SUM(G48:G49) -> -3056.8
D47: այդ թվում՝ ըստ ուղղությունների
E48: Ոչ նյութական մշակութային ժառանգության պահպանում, ժողովրդական ստեղծագործության և արհեստագործության զարգացում, փառատոների կազմակերպում | F48: Մրցույթով ընտրված կազմակերպություն | G48: -2749.4
E49: Ոչ նյութական մշակութային ժառանգության միջազգային հանրահռչակում | F49: «Հայաստանի ազգային պատկերասրահ» ՊՈԱԿ, «Հայաստանի պատմության թանգարան» ՊՈԱԿ, «Ե.Չարենցի անվան գրականության և արվեստի թանգարան» ՊՈԱԿ, «Հովհաննես Շարամբեյանի անվան ժողովրդական ստեղծագործության կենտրոն» ՊՈԱԿ, «Ռուսական արվեստի թանգարան /պրոֆ. Ա. Աբրահամյանի հավաքածու/» ՊՈԱԿ, «Մ.Սարյանի տուն-թանգարան» ՊՈԱԿ, «Հ.Թումանյանի թանգարան» ՊՈԱԿ, «Ե.Չարենցի տուն-թանգարան» ՊՈԱԿ, «Ա.Սպենդիարյանի տուն-թանգարան» ՊՈԱԿ, «Ա.Իսահակյանի տուն-թանգարան» ՊՈԱԿ, «Ա.Խաչատրյանի տուն-թանգարան» ՊՈԱԿ, «Հայ և ռուս ժողովրդների բարեկամության թանգարան» ՊՈԱԿ, «Երվանդ Քոչարի թանգարան» ՊՈԱԿ, «Ս.Փարաջանովի թանգարան» ՊՈԱԿ, ««Հրազդանի երկրագիտական թանգարան» ՊՈԱԿ, «Օրբելի եղբայրների տուն-թանգարան» ՊՈԱԿ, «Ն.Ադոնցի անվան Սիսիանի պատմության թանգարան» ՊՈԱԿ, «Պատմամշակութային արգելոց-թանգարանների և պատմական միջավայրի պահպանության ծառայություն» ՊՈԱԿ, «Կոմիտասի թանգարան-ինստիտուտ» ՊՈԱԿ, «Խ. Աբովյանի տուն-թանգարան» ՊՈԱԿ, «Սարդարապատի հերոսամարտի հուշահամալիր, Հայոց ազգագրության և ազատագրական պայքարի պատմության ազգային թանգարան» ՊՈԱԿ | G49: -307.4
B50: 21001 | C50: Հուշարձանների ամրակայում, նորոգում և վերականգնում | F50: ՀՀ կրթության, գիտության, մշակույթի և սպորտի նախարարություն | G50: =+G51 -> 29335.3
F51: «Պատմամշակութային արգելոց-թանգարանների և պատմական միջավայրի պահպանության ծառայություն» ՊՈԱԿ | G51: 29335.3
B52: 32001 | C52: Ներդրումներ թանգարանների և պատկերասրահների հիմնանորոգման համար | F52: ՀՀ կրթության, գիտության, մշակույթի և սպորտի նախարարություն | G52: =+G53 -> 19292.2
F53: «Հայաստանի ազգային պատկերասրահ» ՊՈԱԿ | G53: 19292.2
B54: 32008 | C54: Թանգարանների և պատկերասրահների գույքային և տեխնիկական հագեցվածության բարելավում | F54: ՀՀ կրթության, գիտության, մշակույթի և սպորտի նախարարություն | G54: =+G55 -> 80310
F55: «Հայաստանի ազգային պատկերասրահ» ՊՈԱԿ | G55: 80310
B56: 32009 | C56: Պատմամշակութային ժառանգության ոլորտի կազմակերպությունների գույքային ապահովվածության բարելավում | F56: ՀՀ կրթության, գիտության, մշակույթի և սպորտի նախարարություն | G56: =+G57 -> 69100
F57: «Մշակութային արժեքների փորձագիտական կենտրոն» ՊՈԱԿ | G57: 69100
A58: 1111 | B58: Բարձրագույն և հետբուհական մասնագիտական կրթության ծրագիր | G58: =+G59 -> 7743.6
B59: 32003 | C59: Բարձրագույն ուսումնական հաստատությունների և ««Զեյթուն» ուսանողկան ավան» հիմնադրամի նյութատեխնիկական բազայի համալրում և գույքով ապահովում | F59: ՀՀ կրթության, գիտության, մշակույթի և սպորտի նախարարություն | G59: =+G60 -> 7743.6
F60: «Երևանի թատրոնի և կինոյի պետական ինստիտուտ» ՊՈԱԿ | G60: 7743.6
A61: 1124 | B61: Գրահրատարակչության և գրադարանների ծրագիր | G61: =+G62 -> -9226
B62: 11005 | C62: Աջակցություն գրականության հանրահռչակմանը, գրական ծրագրերին և գրքերի միջազգային ցուցահանդեսներին մասնակցությանը | F62: ՀՀ կրթության, գիտության, մշակույթի և սպորտի նախարարություն | G62: =SUM(G64:G65) -> -9226
D63: այդ թվում՝ ըստ ուղղությունների
E64: Գրքերի միջազգային ցուցահանդեսներին և նախագծերին մասնակցություն | F64: «Հայաստանի ազգային գրադարան» ՊՈԱԿ, «Խնկո-Ապոր անվան ազգային մանկական գրադարան» ՊՈԱԿ | G64: -9225
E65: Աջակցություն գրականության հանրահռչակմանը և գրական ծրագրերին | F65: «Խաչատուր Աբովյանի տուն-թանգարան» ՊՈԱԿ | G65: -1
A66: 1130 | B66: Կրթության, գիտության, մշակույթի և սպորտի բնագավառի պետական քաղաքականության մշակում, ծրագրերի համակարգում և մոնիտորինգ | G66: =+G67 -> 24138.5
B67: 32001 | C67: ՀՀ կրթության, գիտության, մշակույթի և սպորտի բնագավառում օժանդակ ծրագրեր իրականացնող կազմակերպությունների շենքային պայմանների և գույքային հագեցվածության բարելավում | F67: ՀՀ կրթության, գիտության, մշակույթի և սպորտի նախարարություն | G67: =SUM(G68:G69) -> 24138.5
F68: «Հանրապետական մանկավարժահոգեբանական կենտրոն» ՊՈԱԿ | G68: 15179
F69: ՀՀ ԳԱԱ «Ա. Թախտաջյանի անվան Բուսաբանության ինստիտուտ» ՊՈԱԿ | G69: =8219.5+740 -> 8959.5
A70: 1148 | B70: Արտադպրոցական դաստիարակության ծրագիր | G70: =+G71 -> -12225.1
B71: 11013 | C71: «Դասական երաժշտություն «Դաս A» | F71: ՀՀ կրթության, գիտության, մշակույթի և սպորտի նախարարություն | G71: =+G72 -> -12225.1
F72: «Հայաստանի պետական սիմֆոնիկ նվագախումբ» ՊՈԱԿ | G72: -12225.1
A73: 1168 | B73: Արվեստների ծրագիր | G73: =+G74+G76+G78+G91+G100+G104 -> 292311.6
B74: 11001 | C74: Օպերային և բալետային արվեստի ներկայացումներ | F74: ՀՀ կրթության, գիտության, մշակույթի և սպորտի նախարարություն | G74: =+G75 -> -15472.8
F75: «Ա.Սպենդիարյանի անվան օպերայի և բալետի ազգային ակադեմիական թատրոն» ՊՈԱԿ | G75: -15472.8
B76: 11002 | C76: Ազգային ակադեմիական թատերարվեստի ներկայացումներ | F76: ՀՀ կրթության, գիտության, մշակույթի և սպորտի նախարարություն | G76: =+G77 -> -1346.5
F77: «Գ.Սունդուկյանի անվան ազգային ակադեմիական թատրոն» ՊՈԱԿ | G77: -1346.5
B78: 11003 | C78: Թատերական ներկայացումներ | F78: ՀՀ կրթության, գիտության, մշակույթի և սպորտի նախարարություն | G78: =SUM(G79:G90) -> -31022.1
F79: «Հ.Պարոնյանի անվան երաժշտական կոմեդիայի պետական թատրոն» ՊՈԱԿ | G79: -1048.6
F80: «Կ.Ստանիսլավսկու անվան պետական ռուսական դրամատիկական թատրոն» ՊՈԱԿ | G80: -188.9
F81: «Գյումրու Վ.Աճեմյանի անվան պետական դրամատիկական թատրոն» ՊՈԱԿ | G81: -17.5
F82: «Երևանի Հ.Թումանյանի անվան պետական տիկնիկային թատրոն» ՊՈԱԿ | G82: -279
F83: «Արտաշատի Ա.Խարազյանի անվան պետական դրամատիկական թատրոն» ՊՈԱԿ | G83: -35
F84: «Երևանի կամերային պետական թատրոն» ՊՈԱԿ | G84: -1779.5
F85: «Սոս Սարգսյանի անվան համազգային թատրոն» ՊՈԱԿ | G85: -300.2
F86: «Գորիսի Վ.Վաղարշյանի անվան պետական դրամատիկական թատրոն» ՊՈԱԿ | G86: -78.9
F87: «Երևանի խամաճիկների պետական թատրոն» ՊՈԱԿ | G87: -46.3
F88: «Արմեն Մազմանյանի անվան բեմարվեստի ազգային փորձարարական «Գոյ» կենտրոն» ՊՈԱԿ | G88: -340.7
F89: «Երևանի մնջախաղի պետական թատրոն» ՊՈԱԿ | G89: -151.5
F90: «Խորեոգրաֆիայի պետական թատրոն» ՊՈԱԿ | G90: -26756
B91: 11005 | C91: Մշակութային միջոցառումների իրականացում | F91: ՀՀ կրթության, գիտության, մշակույթի և սպորտի նախարարություն | G91: =+G93+G95+G97+G99 -> -160373.7
D92: այդ թվում՝ ըստ ուղղությունների և միջոցառումների անվանումների
E93: Աջակցություն երաժշտարվեստին | G93: =+G94 -> -10000
E94: «Կոմիտաս» միջազգային գիտաժողով-փառատոն | F94: «Կոմիտասի թանգարան-ինստիտուտ» ՊՈԱԿ | G94: -10000
E95: Աջակցություն պարարվեստին | G95: =+G96 -> -60000
E96: «Զարկ ֆեստ» (Յարխուշտա) փառատոն | F96: «Թ. Ալթունյանի անվան երգի-պարի պետական համույթ» ՊՈԱԿ | G96: -60000
E97: Աջակցություն կրթամշակութային նախագծերին | G97: =+G98 -> -84373.7
E98: Բաժանորդային համակարգի ծրագիր | F98: «Հայաստանի ազգային պատկերասրահ», «Հայաստանի պատմության թանգարան», «Ե.Չարենցի անվան գրականության և արվեստի թանգարան», «Հովհաննես Շարամբեյանի անվան ժողովրդական ստեղծագործության կենտրոն», «Ռուսական արվեստի թանգարան /պրոֆ. Ա. Աբրահամյանի հավաքածու/», «Մ.Սարյանի տուն-թանգարան», «Հ.Թումանյանի թանգարան», «Ե.Չարենցի տուն-թանգարան», «Ա.Սպենդիարյանի տուն-թանգարան», «Ա.Իսահակյանի տուն-թանգարան», «Ա.Խաչատրյանի տուն-թանգարան», «Հայ և ռուս ժողովրդների բարեկամության թանգարան», «Երվանդ Քոչարի թանգարան», «Ս.Փարաջանովի թանգարան», «Հրազդանի երկրագիտական թանգարան», «Օրբելի եղբայրների տուն-թանգարան», «Ն.Ադոնցի անվան Սիսիանի պատմության թանգարան», «Պատմամշակութային արգելոց-թանգարանների և պատմական միջավայրի պահպանության ծառայություն», «Կոմիտասի թանգարան-ինստիտուտ», «Խ. Աբովյանի տուն-թանգարան»,«Սարդարապատի հերոսամարտի հուշահամալիր, Հայոց ազգագրության և ազատագրական պայքարի պատմության ազգային թանգարան» , «Ստեփանավանի մշակույթի և ժամանցի կենտրոն», «Ա.Սպենդիարյանի անվան օպերայի և բալետի ազգային ակադեմիական թատրոն», «Գ.Սունդուկյանի անվան ազգային ակադեմիական թատրոն», «Հ.Պարոնյանի անվան երաժշտական կոմեդիայի պետական թատրոն», «Կ.Ստանիսլավսկու անվան պետական ռուսական դրամատիկական թատրոն», «Գյումրու Վ.Աճեմյանի անվան պետական դրամատիկական թատրոն», «Վանաձորի Հ.Աբելյանի անվան պետական դրամատիկական թատրոն», «Երևանի Հ.Թումանյանի անվան պետական տիկնիկային թատրոն»,, «Երևանի խամաճիկների պետական թատրոն», «Երևանի կամերային պետական թատրոն», «Արմեն Մազմանյանի անվան բեմարվեստի ազգային փորձարարական «Գոյ» կենտրոն», «Երևանի մնջախաղի պետական թատրոն», «Խորեոգրաֆիայի պետական թատրոն», «Արտաշատի Ա.Խարազյանի անվան պետական դրամատիկական թատրոն», «Սոս Սարգսյանի անվան համազգային թատրոն», «Գորիսի Վ.Վաղարշյանի անվ.պետական դրամատիկական թատրոն», «Հայաստանի ազգային ֆիլհարմոնիկ նվագախումբ», «Հայաստանի պետական սիմֆոնիկ նվագախումբ», «Կամերային երաժշտության ազգային կենտրոն», «Հայաստանի պետական ֆիլհարմոնիա», «Թ.Ալթունյանի անվան երգի-պարի պետական համույթ», «Հայաստանի պարի պետական անսամբլ», «Հայաստանի պարարվեստի «Բարեկամություն» պետական համույթ», «Հայաստանի էստրադային ջազ նվագախումբ», «Հայաստանի երգի պետական թատրոն»,«Կոմիտասի անվան ազգային քառյակ», «Հայաստանի պետական ազգային ակադեմիական երգչախումբ» ՊՈԱԿ-ներ | G98: =-83770.7-603 -> -84373.7
E99: Աջակցություն պետական և ազգային տոներին նվիրված նախագծերին | F99: «Հայաստանի ազգային գրադարան», «Խնկո-Ապոր անվան ազգային մանկական գրադարան»,«Վ.Պետրոսյանի անվան Արագածոտնի մարզային գրադարան», «Օ.Չուբարյանի անվան Արարատի մարզային գրադարան», «Արմավիրի մարզային գրադարան», «Վ.Պետրոսյանի անվան Գեղարքունիքի մարզային գրադարան», «Կոտայքի մարզային գրադարան», «Շիրակի մարզային գրադարան», «Սյունիքի մարզային գրադարան», «Տավուշի մարզային գրադարան», «Լոռու մարզային գրադարան», «Վայոց Ձորի մարզային գրադարան», «Հայաստանի ազգային պատկերասրահ», «Հայաստանի պատմության թանգարան», «Ե.Չարենցի անվան գրականության և արվեստի թանգարան», «Հովհաննես Շարամբեյանի անվան ժողովրդական ստեղծագործության կենտրոն», «Ռուսական արվեստի թանգարան /պրոֆ. Ա.Աբրահամյանի հավաքածու/», «Մ.Սարյանի տուն-թանգարան», «Հ.Թումանյանի թանգարան», «Ե.Չարենցի տուն-թանգարան», «Ա.Սպենդիարյանի տուն-թանգարան», «Ա.Իսահակյանի տուն-թանգարան», «Ա.Խաչատրյանի տուն-թանգարան», «Հայ և ռուս ժողովրդների բարեկամության թանգարան», «Երվանդ Քոչարի թանգարան», «Ս.Փարաջանովի թանգարան», «Հրազդանի երկրագիտական թանգարան», «Օրբելի եղբայրների տուն-թանգարան», «Ն.Ադոնցի անվան Սիսիանի պատմության թանգարան», «Պատմամշակութային արգելոց-թանգարանների և պատմական միջավայրի պահպանության ծառայություն», «Կոմիտասի թանգարան-ինստիտուտ», «Խ.Աբովյանի տուն-թանգարան», «Սարդարապատի հերոսամարտի հուշահամալիր, Հայոց ազգագրության և ազատագրական պայքարի պատմության ազգային թանգարան», «Ստեփանավանի մշակույթի և ժամանցի կենտրոն», «Մշակութային արժեքների փորձագիտական կենտրոն», «Ա.Սպենդիարյանի անվան օպերայի և բալետի ազգային ակադեմիական թատրոն», «Գ.Սունդուկյանի անվան ազգային ակադեմիական թատրոն», «Հ.Պարոնյանի անվան երաժշտական կոմեդիայի պետական թատրոն», «Կ.Ստանիսլավսկու անվան պետական ռուսական դրամատիկական թատրոն», «Գյումրու Վ.Աճեմյանի անվան պետական դրամատիկական թատրոն», «Վանաձորի Հ.Աբելյանի անվան պետական դրամատիկական թատրոն», «Երևանի Հ.Թումանյանի անվան պետական տիկնիկային թատրոն», «Երևանի խամաճիկների պետական թատրոն», «Երևանի կամերային պետական թատրոն», «Արմեն Մազմանյանի անվան բեմարվեստի ազգային փորձարարական «Գոյ» կենտրոն», «Երևանի մնջախաղի պետական թատրոն», «Խորեոգրաֆիայի պետական թատրոն», «Արտաշատի Ա.Խարազյանի անվան պետական դրամատիկական թատրոն», «Սոս Սարգսյանի անվան համազգային թատրոն», «Գորիսի Վ.Վաղարշյանի անվ.պետական դրամատիկական թատրոն», «Հայաստանի ազգային ֆիլհարմոնիկ նվագախումբ», «Հայաստանի պետական սիմֆոնիկ նվագախումբ», «Կամերային երաժշտության ազգային կենտրոն», «Հայաստանի պետական ֆիլհարմոնիա», «Թ.Ալթունյանի անվան երգի-պարի պետական համույթ», «Հայաստանի պարի պետական անսամբլ», «Հայաստանի պարարվեստի «Բարեկամություն» պետական համույթ», «Հայաստանի էստրադային ջազ նվագախումբ», «Հայաստանի երգի պետական թատրոն», «Կոմիտասի անվան ազգային քառյակ», «Հայաստանի պետական ազգային ակադեմիական երգչախումբ», «Հայաստանի ազգային կինոկենտրոն», «Փաստավավերագրական ֆիլմերի «Հայկ» կինաստուդիա», «Պատմամշակութային ժառանգության գիտահետազոտական կենտրոն», «Երևանի Պ.Չայկովսկու անվան միջնակարգ երաժշտական մասնագիտական դպրոց», «Երևանի պարարվեստի պետական քոլեջ», «Երեխաների հատուկ ստեղծագործական կենտրոն» ՊՈԱԿ-ներ | G99: -6000
B100: 32001 | C100: Ներդրումներ թատրոնների շենքերի կապիտալ վերանորոգման համար | F100: ՀՀ կրթության, գիտության, մշակույթի և սպորտի նախարարություն | G100: =SUM(G101:G103) -> 210319.6
F101: «Ալ. Սպենդիարյանի անվան օպերայի և բալետի ազգային ակադեմիական թատրոն» ՊՈԱԿ | G101: 13918.2
F102: «Գ. Սունդուկյանի անվան ազգային թատրոն» ՊՈԱԿ | G102: =138491.7 -> 138491.7
F103: «Հայաստանի ազգային ֆիլհարմոնիկ նվագախումբ» ՊՈԱԿ | G103: =57909.7 -> 57909.7
...

Sheet Հավելված N 6
C1: Հավելված N 6
C2: ՀՀ կառավարության 2022 թվականի
C3: ______________ ի ___Ն որոշման
B5: ՀԱՅԱՍՏԱՆԻ ՀԱՆՐԱՊԵՏՈՒԹՅԱՆ ԿԱՌԱՎԱՐՈՒԹՅԱՆ 2021 ԹՎԱԿԱՆԻ ԴԵԿՏԵՄԲԵՐԻ 23-Ի N 2121-Ն ՈՐՈՇՄԱՆ N 9 ՀԱՎԵԼՎԱԾԻ NN 9.13 ԵՎ 9.47 ԱՂՅՈՒՍԱԿՆԵՐՈՒՄ ԿԱՏԱՐՎՈՂ ՓՈՓՈԽՈՒԹՅՈՒՆՆԵՐԸ ԵՎ ԼՐԱՑՈՒՄՆԵՐԸ
A7: Աղյուսակ 9․13
C8: ՀՀ կրթության, գիտության, մշակույթի և սպորտի նախարարություն
B9: ՄԱՍ 2. ՊԵՏԱԿԱՆ ՄԱՐՄՆԻ ԳԾՈՎ ԱՐԴՅՈՒՆՔԱՅԻՆ (ԿԱՏԱՐՈՂԱԿԱՆ) ՑՈՒՑԱՆԻՇՆԵՐԸ
B12: Ծրագրի դասիչը | C12: Ծրագրի անվանումը
B13: 1041 | C13: Մեծ նվաճումների սպորտ
B15: Ծրագրի միջոցառումները
B16: Ծրագրի դասիչը՝ | C16: 1041 | D16: Ցուցանիշների փոփոխությունը (նվազեցումները նշված են փակագծերում)
B17: Միջոցառման դասիչը՝ | C17: 11003 | D17: Տարի
B18: Միջոցառման անվանումը` | C18: Ադապտիվ սպորտին առնչվող ծառայություններ
B19: Նկարագրությունը` | C19: Հաշմանդամային մարզական ՀԿ-ի կողմից միջազգային մրցաշարերին մարզիկների նախապատրաստում և մասնակցության ապահովում և ՀՀ առաջնությունների և այլ մարզական միջոցառումների անցկացում
B20: Միջոցառման տեսակը` | C20: Ծառայությունների մատուցում
B21: Ծառայությունը մատուցող կազմակերպությունների անվանումը | C21: Մասնագիտացված կազմակերպություններ
B22: Արդյունքի չափորոշիչներ
B23: Միջոցառումների քանակ, հատ | D23: -1
B24: Մասնակիցների թիվ, մարդ, այդ թվում՛ | D24: -6
B25: իգական սեռի | D25: -1
B26: արական սեռի | D26: -5
B27: Միջազգային միջոցառումների քանակ, հատ | D27: -1
B28: Միջոցառման վրա կատարվող ծախսը (հազար դրամ) | D28: =+'Հավելված N 1'!D23 -> -7051.9
B30: Ծրագրի միջոցառումները
B31: Ծրագրի դասիչը՝ | C31: 1041 | D31: Ցուցանիշների փոփոխությունը (նվազեցումները նշված են փակագծերում)
B32: Միջոցառման դասիչը՝ | C32: 11034 | D32: Տարի
B33: Միջոցառման անվանումը` | C33: 2022 թ. Երևանում կայանալիք բռնցքամարտի Եվրոպայի առաջնության անցկացման ապահովում
B34: Նկարագրությունը` | C34: 2022 թ. Երևանում կայանալիք բռնցքամարտի Եվրոպայի առաջնության կազմակերպման և անցկացման ապահովում
B35: Միջոցառման տեսակը` | C35: Ծառայությունների մատուցում
B36: Ծառայությունը մատուցող կազմակերպությունների անվանումը | C36: Մասնագիտացված կազմակերպություններ
B37: Արդյունքի չափորոշիչներ
B38: Միջոցառման վրա կատարվող ծախսը (հազար դրամ) | D38: =+'Հավելված N 1'!D29 -> -2314.8
B40: Ծրագրի դասիչը | C40: Ծրագրի անվանումը
B41: 1045 | C41: Նախնական (արհեստագործական) և միջին մասնագիտական կրթություն
B43: Ծրագրի միջոցառումները
B44: Ծրագրի դասիչը՝ | C44: 1045 | D44: Ցուցանիշների փոփոխությունը (նվազեցումները նշված են փակագծերում)
B45: Միջոցառման դասիչը՝ | C45: 12001 | D45: Տարի
B46: Միջոցառման անվանումը` | C46: Նախնական մասնագիտական (արհեստագործական) կրթություն ստացող ուսանողների կրթաթոշակ
B47: Նկարագրությունը` | C47: Նախնական մասնագիտական (արհեստագործական) կրթություն ստացող ուսանողներին կրթաթոշակի տրամադրում
B48: Միջոցառման տեսակը` | C48: Տրանսֆերտների տրամադրում
B49: Շահառուների ընտրության չափորոշիչները՛ | C49: Արհեստագործական ոլորտում կրթաթոշակ ստացող ուսանողներ
B50: Արդյունքի չափորոշիչներ
B51: Կրթաթոշակ ստացող ուսանողների թիվ, մարդ | D51: -810
B52: Միջոցառման վրա կատարվող ծախսը (հազար դրամ) | D52: =+'Հավելված N 1'!D42 -> -46174.2
B54: Ծրագրի միջոցառումները
B55: Ծրագրի դասիչը՝ | C55: 1045 | D55: Ցուցանիշների փոփոխությունը (նվազեցումները նշված են փակագծերում)
B56: Միջոցառման դասիչը՝ | C56: 12004 | D56: Տարի
B57: Միջոցառման անվանումը` | C57: Միջին մասնագիտական կրթության գծով ուսանողական նպաստների տրամադրում
B58: Նկարագրությունը` | C58: Միջին մասնագիտական կրթության գծով ուսանողական նպաստների տրամադրում
B59: Միջոցառման տեսակը` | C59: Տրանսֆերտների տրամադրում
B60: Շահառուների ընտրության չափորոշիչները՛ | C60: Միջին մասնագիտական կրթություն ստացող ուսանողներ
B61: Արդյունքի չափորոշիչներ
B62: Ուսանողական նպաստ ստացող ուսանողների թիվը, մարդ | D62: -157
B63: Միջոցառման վրա կատարվող ծախսը (հազար դրամ) | D63: =+'Հավելված N 1'!D48 -> -54586.7
B65: Ծրագրի միջոցառումները
B66: Ծրագրի դասիչը՝ | C66: 1045 | D66: Ցուցանիշների փոփոխությունը (ավելացումները նշված են դրական նշանով)
B67: Միջոցառման դասիչը՝ | C67: 32004 | D67: Տարի
B68: Միջոցառման անվանումը՝ | C68: Նախնական մասնագիտական (արհեստագործական) և միջին մասնագիտական ուսումնական հաստատություններում ուսումնարտադրական բազայով ապահովում
B69: Նկարագրությունը՝ | C69: ՆՄՄԿՈՒ հաստատություններում ուսումնարտադրական բազայով ապահովման աշխատանքների իրականացում
B70: Միջոցառման տեսակը՝ | C70: Այլ պետական կազմակերպությունների կողմից օգտագործվող ոչ ֆինանսական ակտիվների հետ գործառնություններ
B71: Ակտիվն օգտագործող կազմակերպությունների անվանումները | C71: Նախնական մասնագիտական (արհեստագործական) և միջին մասնագիտական ուսումնական հաստատություններ
B72: Արդյունքի չափորոշիչներ
B73: ՆՄՄԿՈՒ հաստատությունների քանակ, որտեղ կատարվում են ներդրումները, հատ_x000D_ | D73: 2
B74: Միջոցառման վրա կատարվող ծախսը (հազար դրամ) | D74: =+'Հավելված N 1'!D54 -> 63306.6
B76: Ծրագրի դասիչը | C76: Ծրագրի անվանումը
B77: 1056 | C77: Կինեմատոգրաֆիայի ծրագիր
B79: Ծրագրի միջոցառումները
B80: Ծրագրի դասիչը՝ | C80: 1056 | D80: Ցուցանիշների փոփոխությունը (նվազեցումները նշված են փակագծերում)
B81: Միջոցառման դասիչը՝ | C81: 11003 | D81: Տարի
B82: Միջոցառման անվանումը` | C82: Ազգային կինոծրագրերի իրականացում
B83: Նկարագրությունը` | C83: Խաղարկային և մուլտիպլիկացիոն կինոնկարների արտադրության ապահովում
B84: Միջոցառման տեսակը` | C84: Ծառայությունների մատուցում
B85: Ծառայությունը մատուցող կազմակերպության անվանումը | C85: Մասնագիտացված կազմակերպություն
B86: Արդյունքի չափորոշիչներ
B87: Միջոցառման վրա կատարվող ծախսը (հազար դրամ) | D87: =+'Հավելված N 1'!D67 -> -2465
B89: Ծրագրի միջոցառումները
B90: Ծրագրի դասիչը՝ | C90: 1056 | D90: Ցուցանիշների փոփոխությունը (նվազեցումները նշված են փակագծերում)
B91: Միջոցառման դասիչը՝ | C91: 11005 | D91: Տարի
B92: Միջոցառման անվանումը` | C92: Աջակցություն կինոարվեստին
B93: Նկարագրությունը` | C93: Կինոարվեստի հանրահռչակում, տարածում, մատչելիության ապահովում
B94: Միջոցառման տեսակը` | C94: Ծառայությունների մատուցում
B95: Ծառայությունը մատուցող կազմակերպության անվանումը | C95: ՀՀ կրթության, գիտության, մշակույթի և սպորտի նախարարությունՄասնագիտացված կազմակերպություններ
B96: Արդյունքի չափորոշիչներ
B97: Միջազգային կինոնախագծերին անհատների մասնակցություն, քանակ | D97: -1
B98: Միջոցառման վրա կատարվող ծախսը (հազար դրամ) | D98: =+'Հավելված N 1'!D73 -> -1302.4
B100: Ծրագրի դասիչը | C100: Ծրագրի անվանումը
B101: 1075 | C101: Մշակութային ժառանգության ծրագիր
B103: Ծրագրի միջոցառումները
B104: Ծրագրի դասիչը՝ | C104: 1075 | D104: Ցուցանիշների փոփոխությունը (նվազեցումները նշված են փակագծերում)
B105: Միջոցառման դասիչը՝ | C105: 11004 | D105: Տարի
B106: Միջոցառման անվանումը` | C106: Թանգարանային ծառայություններ և ցուցահանդեսներ
B107: Նկարագրությունը` | C107: Թանգարանային նմուշների պահպանություն, ցուցահանդեսների կազմակերպում, մասնագետների վերապատրաստում
B108: Միջոցառման տեսակը` | C108: Ծառայությունների մատուցում
B109: Ծառայությունը մատուցող կազմակերպության անվանումը | C109: Մասնագիտացված կազմակերպություններ
B110: Արդյունքի չափորոշիչներ
B111: Միջոցառման վրա կատարվող ծախսը (հազար դրամ) | D111: =+'Հավելված N 1'!D86 -> -5875.9
B113: Ծրագրի միջոցառումները
B114: Ծրագրի դասիչը՝ | C114: 1075 | D114: Ցուցանիշների փոփոխությունը (նվազեցումները նշված են փակագծերում)
B115: Միջոցառման դասիչը՝ | C115: 11005 | D115: Տարի
B116: Միջոցառման անվանումը` | C116: Աջակցություն ոչ նյութական մշակութային ժառանգության պահպանմանը
...

Sheet Հավելված N 7
C1: Հավելված N 7
C2: ՀՀ կառավարության 2022 թվականի
C3: ______________ ի ___Ն որոշման
B6: ՀԱՅԱՍՏԱՆԻ ՀԱՆՐԱՊԵՏՈՒԹՅԱՆ ԿԱՌԱՎԱՐՈՒԹՅԱՆ 2021 ԹՎԱԿԱՆԻ ԴԵԿՏԵՄԲԵՐԻ 23-Ի N 2121-Ն ՈՐՈՇՄԱՆ N 9.1 ՀԱՎԵԼՎԱԾԻ NN 9.1.14, 9.1.42 ԵՎ 9.1.58 ԱՂՅՈՒՍԱԿՆԵՐՈՒՄ ԿԱՏԱՐՎՈՂ ՓՈՓՈԽՈՒԹՅՈՒՆՆԵՐԸ ԵՎ ԼՐԱՑՈՒՄՆԵՐԸ
A9: Աղյուսակ 9․1.14
C10: ՀՀ կրթության, գիտության, մշակույթի և սպորտի նախարարություն
B11: ՄԱՍ 1. ՊԵՏԱԿԱՆ ՄԱՐՄՆԻ ԳԾՈՎ ԱՐԴՅՈՒՆՔԱՅԻՆ (ԿԱՏԱՐՈՂԱԿԱՆ) ՑՈՒՑԱՆԻՇՆԵՐԸ
B14: Ծրագրի դասիչը | C14: Ծրագրի անվանումը
B15: 1041 | C15: Մեծ նվաճումների սպորտ
B17: Ծրագրի միջոցառումները
B18: Ծրագրի դասիչը՝ | C18: 1041 | D18: Ցուցանիշների փոփոխությունը (նվազեցումները նշված են փակագծերում)
B19: Միջոցառման դասիչը՝ | C19: 11003 | D19: Տարի
B20: Միջոցառման անվանումը` | C20: Ադապտիվ սպորտին առնչվող ծառայություններ
B21: Նկարագրությունը` | C21: Հաշմանդամային մարզական ՀԿ-ի կողմից միջազգային մրցաշարերին մարզիկների նախապատրաստում և մասնակցության ապահովում և ՀՀ առաջնությունների և այլ մարզական միջոցառումների անցկացում
B22: Միջոցառման տեսակը` | C22: Ծառայությունների մատուցում
B23: Ծառայությունը մատուցող կազմակերպությունների անվանումը | C23: Մասնագիտացված կազմակերպություններ
B24: Արդյունքի չափորոշիչներ
B25: Միջոցառումների քանակ, հատ | D25: -1
B26: Մասնակիցների թիվ, մարդ, այդ թվում՛ | D26: -6
B27: իգական սեռի | D27: -1
B28: արական սեռի | D28: -5
B29: Միջազգային միջոցառումների քանակ, հատ | D29: -1
B30: Միջոցառման վրա կատարվող ծախսը (հազար դրամ) | D30: =+'Հավելված N 2'!G25 -> -7051.9
B32: Ծրագրի միջոցառումները
B33: Ծրագրի դասիչը՝ | C33: 1041 | D33: Ցուցանիշների փոփոխությունը (նվազեցումները նշված են փակագծերում)
B34: Միջոցառման դասիչը՝ | C34: 11034 | D34: Տարի
B35: Միջոցառման անվանումը` | C35: 2022 թ. Երևանում կայանալիք բռնցքամարտի Եվրոպայի առաջնության անցկացման ապահովում
B36: Նկարագրությունը` | C36: 2022 թ. Երևանում կայանալիք բռնցքամարտի Եվրոպայի առաջնության կազմակերպման և անցկացման ապահովում
B37: Միջոցառման տեսակը` | C37: Ծառայությունների մատուցում
B38: Ծառայությունը մատուցող կազմակերպությունների անվանումը | C38: Մասնագիտացված կազմակերպություններ
B39: Արդյունքի չափորոշիչներ
B40: Միջոցառման վրա կատարվող ծախսը (հազար դրամ) | D40: =+'Հավելված N 2'!G34 -> -2314.8
B42: Ծրագրի դասիչը | C42: Ծրագրի անվանումը
B43: 1045 | C43: Նախնական (արհեստագործական) և միջին մասնագիտական կրթություն
B45: Ծրագրի միջոցառումները
B46: Ծրագրի դասիչը՝ | C46: 1045 | D46: Ցուցանիշների փոփոխությունը (նվազեցումները նշված են փակագծերում)
B47: Միջոցառման դասիչը՝ | C47: 12001 | D47: Տարի
B48: Միջոցառման անվանումը` | C48: Նախնական մասնագիտական (արհեստագործական) կրթություն ստացող ուսանողների կրթաթոշակ
B49: Նկարագրությունը` | C49: Նախնական մասնագիտական (արհեստագործական) կրթություն ստացող ուսանողներին կրթաթոշակի տրամադրում
B50: Միջոցառման տեսակը` | C50: Տրանսֆերտների տրամադրում
B51: Շահառուների ընտրության չափորոշիչները՛ | C51: Արհեստագործական ոլորտում կրթաթոշակ ստացող ուսանողներ
B52: Արդյունքի չափորոշիչներ
B53: Կրթաթոշակ ստացող ուսանողների թիվ, մարդ | D53: -810
B54: Միջոցառման վրա կատարվող ծախսը (հազար դրամ) | D54: =+'Հավելված N 2'!G252 -> -46174.2
B56: Ծրագրի միջոցառումները
B57: Ծրագրի դասիչը՝ | C57: 1045 | D57: Ցուցանիշների փոփոխությունը (նվազեցումները նշված են փակագծերում)
B58: Միջոցառման դասիչը՝ | C58: 12004 | D58: Տարի
B59: Միջոցառման անվանումը` | C59: Միջին մասնագիտական կրթության գծով ուսանողական նպաստների տրամադրում
B60: Նկարագրությունը` | C60: Միջին մասնագիտական կրթության գծով ուսանողական նպաստների տրամադրում
B61: Միջոցառման տեսակը` | C61: Տրանսֆերտների տրամադրում
B62: Շահառուների ընտրության չափորոշիչները՛ | C62: Միջին մասնագիտական կրթություն ստացող ուսանողներ
B63: Արդյունքի չափորոշիչներ
B64: Ուսանողական նպաստ ստացող ուսանողների թիվը, մարդ | D64: -157
B65: Միջոցառման վրա կատարվող ծախսը (հազար դրամ) | D65: =+'Հավելված N 2'!G267 -> -54586.7
B67: Ծրագրի միջոցառումները
B68: Ծրագրի դասիչը՝ | C68: 1045 | D68: Ցուցանիշների փոփոխությունը (ավելացումները նշված են դրական նշանով)
B69: Միջոցառման դասիչը՝ | C69: 32004 | D69: Տարի
B70: Միջոցառման անվանումը՝ | C70: Նախնական մասնագիտական (արհեստագործական) և միջին մասնագիտական ուսումնական հաստատություններում ուսումնարտադրական բազայով ապահովում
B71: Նկարագրությունը՝ | C71: ՆՄՄԿՈՒ հաստատություններում ուսումնարտադրական բազայով ապահովման աշխատանքների իրականացում
B72: Միջոցառման տեսակը՝ | C72: Այլ պետական կազմակերպությունների կողմից օգտագործվող ոչ ֆինանսական ակտիվների հետ գործառնություններ
B73: Ակտիվն օգտագործող կազմակերպությունների անվանումները | C73: Նախնական մասնագիտական (արհեստագործական) և միջին մասնագիտական ուսումնական հաստատություններ
B74: Արդյունքի չափորոշիչներ
B75: ՆՄՄԿՈՒ հաստատությունների քանակ, որտեղ կատարվում են ներդրումները, հատ_x000D_ | D75: 2
B76: Միջոցառման վրա կատարվող ծախսը (հազար դրամ) | D76: =+'Հավելված N 2'!G301 -> 63306.6
B78: Ծրագրի դասիչը | C78: Ծրագրի անվանումը
B79: 1056 | C79: Կինեմատոգրաֆիայի ծրագիր
B81: Ծրագրի միջոցառումները
B82: Ծրագրի դասիչը՝ | C82: 1056 | D82: Ցուցանիշների փոփոխությունը (նվազեցումները նշված են փակագծերում)
B83: Միջոցառման դասիչը՝ | C83: 11003 | D83: Տարի
B84: Միջոցառման անվանումը` | C84: Ազգային կինոծրագրերի իրականացում
B85: Նկարագրությունը` | C85: Խաղարկային և մուլտիպլիկացիոն կինոնկարների արտադրության ապահովում
B86: Միջոցառման տեսակը` | C86: Ծառայությունների մատուցում
B87: Ծառայությունը մատուցող կազմակերպության անվանումը | C87: Մասնագիտացված կազմակերպություն
B88: Արդյունքի չափորոշիչներ
B89: Միջոցառման վրա կատարվող ծախսը (հազար դրամ) | D89: =+'Հավելված N 2'!G201 -> -2465
B91: Ծրագրի միջոցառումները
B92: Ծրագրի դասիչը՝ | C92: 1056 | D92: Ցուցանիշների փոփոխությունը (նվազեցումները նշված են փակագծերում)
B93: Միջոցառման դասիչը՝ | C93: 11005 | D93: Տարի
B94: Միջոցառման անվանումը` | C94: Աջակցություն կինոարվեստին
B95: Նկարագրությունը` | C95: Կինոարվեստի հանրահռչակում, տարածում, մատչելիության ապահովում
B96: Միջոցառման տեսակը` | C96: Ծառայությունների մատուցում
B97: Ծառայությունը մատուցող կազմակերպության անվանումը | C97: ՀՀ կրթության, գիտության, մշակույթի և սպորտի նախարարությունՄասնագիտացված կազմակերպություններ
B98: Արդյունքի չափորոշիչներ
B99: Միջազգային կինոնախագծերին անհատների մասնակցություն, քանակ | D99: -1
B100: Միջոցառման վրա կատարվող ծախսը (հազար դրամ) | D100: =+'Հավելված N 2'!G100 -> -1302.4
B102: Ծրագրի դասիչը | C102: Ծրագրի անվանումը
B103: 1075 | C103: Մշակութային ժառանգության ծրագիր
B105: Ծրագրի միջոցառումները
B106: Ծրագրի դասիչը՝ | C106: 1075 | D106: Ցուցանիշների փոփոխությունը (նվազեցումները նշված են փակագծերում)
B107: Միջոցառման դասիչը՝ | C107: 11004 | D107: Տարի
B108: Միջոցառման անվանումը` | C108: Թանգարանային ծառայություններ և ցուցահանդեսներ
B109: Նկարագրությունը` | C109: Թանգարանային նմուշների պահպանություն, ցուցահանդեսների կազմակերպում, մասնագետների վերապատրաստում
B110: Միջոցառման տեսակը` | C110: Ծառայությունների մատուցում
B111: Ծառայությունը մատուցող կազմակերպության անվանումը | C111: Մասնագիտացված կազմակերպություններ
B112: Արդյունքի չափորոշիչներ
B113: Միջոցառման վրա կատարվող ծախսը (հազար դրամ) | D113: =+'Հավելված N 2'!G51 -> -5875.9
B115: Ծրագրի միջոցառումները
B116: Ծրագրի դասիչը՝ | C116: 1075 | D116: Ցուցանիշների փոփոխությունը (նվազեցումները նշված են փակագծերում)
B117: Միջոցառման դասիչը՝ | C117: 11005 | D117: Տարի
B118: Միջոցառման անվանումը` | C118: Աջակցություն ոչ նյութական մշակութային ժառանգության պահպանմանը
...

Sheet Հավելված N 8
H1: Հավելված N 8
H2: ՀՀ կառավարության 2022 թվականի
H3: ______________ ի ___Ն որոշման
A5: ՀԱՅԱՍՏԱՆԻ ՀԱՆՐԱՊԵՏՈՒԹՅԱՆ ԿԱՌԱՎԱՐՈՒԹՅԱՆ 2021 ԹՎԱԿԱՆԻ ԴԵԿՏԵՄԲԵՐԻ 23-Ի N 2121-Ն ՈՐՈՇՄԱՆ N 10 ՀԱՎԵԼՎԱԾՈՒՄ ԿԱՏԱՐՎՈՂ ՓՈՓՈԽՈՒԹՅՈՒՆՆԵՐԸ
A7: Կոդը | B7: Անվանումը | E7: Գնման ձևը | F7: Չափման միավորը | G7: Միավորի գինը | H7: Ցուցանիշների փոփոխությունը (նվազեցումները նշված են փակագծերում)
H8: Քանակը | I8: Գումարը (հազար դրամ)
A9: 1 | B9: 2 | E9: 3 | F9: 4 | G9: 5 | H9: 6 | I9: 7
A10: ՀՀ կրթության, գիտության, մշակույթի և սպորտի նախարարություն | I10: =+I11+I23+I30+I45 -> -511378.9
A11: Բաժին N 08 | B11: Խումբ N 04 | C11: Դաս N 01 | D11: Երիտասարդական ծրագրեր | I11: =+I12 -> -16061.7
A12: 1115-11001 | B12: Երիտասարդական պետական քաղաքականությանն ուղղված ծրագրեր և միջոցառումներ | I12: =+I13 -> -16061.7
B13: ՄԱՍ III. ԾԱՌԱՅՈՒԹՅՈՒՆՆԵՐ | I13: =SUM(I14:I22) -> -16061.7
A14: 64211340-1 | B14: էլեկտրոնային տեղեկատվական ծառայություններ | E14: ԷԱՃ | F14: դրամ | G14: 9200000 | H14: -1 | I14: -9200
A15: 79951100-1 | B15: միջոցառումների հետ կապված ծառայություններ | E15: ԷԱՃ | F15: դրամ | I15: -556
A16: 79951100-2 | B16: միջոցառումների հետ կապված ծառայություններ | E16: ԷԱՃ | F16: դրամ | I16: -1112
A17: 79951100-3 | B17: միջոցառումների հետ կապված ծառայություններ | E17: ԷԱՃ | F17: դրամ | I17: -920
A18: 79951100-4 | B18: միջոցառումների հետ կապված ծառայություններ | E18: ԷԱՃ | F18: դրամ | I18: -5
A19: 79951100-5 | B19: միջոցառումների հետ կապված ծառայություններ | E19: ԷԱՃ | F19: դրամ | I19: -821.7
A20: 80521100-1 | B20: ուսուցման ծրագրերի հետ կապված ծառայություններ | E20: ԷԱՃ | F20: դրամ | I20: -1462.8
A21: 92221100-1 | B21: հեռուստատեսային արտադրանքի հետ կապված ծառայություններ | E21: ԷԱՃ | F21: դրամ | I21: -1181
A22: 63511100-2 | B22: ճամփորդությունների կազմակերպման ծառայություններ | E22: ԳՀ | F22: դրամ | I22: -803.2
A23: Բաժին N 08 | B23: Խումբ N 05 | C23: Դաս N 01 | D23: Արվեստ | I23: =+I24 -> -289604.1
A24: 1168-32007 | B24: Թատերահամերգային կազմակերպությունների նյութատեխնիկական բազայի համալրում | I24: =+I25 -> -289604.1
B25: ՄԱՍ I. ԱՊՐԱՆՔՆԵՐ | I25: =SUM(I26:I29) -> -289604.1
A26: 39111140-7 | B26: աթոռներ | E26: ԷԱՃ | F26: հատ | G26: 40000 | H26: -80 | I26: =+H26*G26/1000 -> -3200
A27: 39111140-8 | B27: աթոռներ | E27: ԷԱՃ | F27: հատ | G27: 5940 | H27: -50 | I27: =+H27*G27/1000 -> -297
A28: 31521700-4 | B28: թատրոնի բեմի լուսային համակարգ | E28: ԷԱՃ | F28: լրակազմ | G28: 177482100 | H28: -1 | I28: -177482.1
A29: 32331610-2 | B29: թատրոնի բեմի ձայնային համակարգ | E29: ԷԱՃ | F29: լրակազմ | G29: 108625000 | H29: -1 | I29: -108625
A30: Բաժին N 09 | B30: Խումբ N 06 | C30: Դաս N 01 | D30: Կրթությանը տրամադրվող օժանդակ ծառայություններ | I30: =+I31 -> -177513.9
A31: 1045-32004 | B31: Նախնական մասնագիտական (արհեստագործական) և միջին մասնագիտական ուսումնական հաստատություններում ուսումնարտադրական բազայով ապահովում | I31: =+I32 -> -177513.9
B32: ՄԱՍ I. ԱՊՐԱՆՔՆԵՐ | I32: =SUM(I33:I44) -> -177513.9
A33: 80491120-1 | B33: ուսումնական լսարան | E33: ԳՀ | F33: լրակազմ | G33: 12061381 | H33: -1 | I33: -12061.3
A34: 80491120-2 | B34: ուսումնական լսարան | E34: ԳՀ | F34: լրակազմ | G34: 6860548 | H34: -1 | I34: -6860.5
A35: 80491120-3 | B35: ուսումնական լսարան | E35: ԳՀ | F35: լրակազմ | G35: 5833800 | H35: -1 | I35: -5833.8
A36: 80491120-5 | B36: ուսումնական լսարան | E36: ԳՀ | F36: լրակազմ | G36: 20091607 | H36: -1 | I36: -20091.6
A37: 80491120-6 | B37: ուսումնական լսարան | E37: ԳՀ | F37: լրակազմ | G37: 20464970 | H37: -1 | I37: -20464.9
A38: 80491120-8 | B38: ուսումնական լսարան | E38: ԳՀ | F38: լրակազմ | G38: 10649533 | H38: -1 | I38: -10649.5
A39: 80491120-13 | B39: ուսումնական լսարան | E39: ԳՀ | F39: լրակազմ | G39: 9915396 | H39: -1 | I39: -9915.3
A40: 80491120-14 | B40: ուսումնական լսարան | E40: ԳՀ | F40: լրակազմ | G40: 7074450 | H40: -1 | I40: -7074.4
A41: 80491120-15 | B41: ուսումնական լսարան | E41: ԳՀ | F41: լրակազմ | G41: 15911250 | H41: -1 | I41: -15911.2
A42: 80491120-16 | B42: ուսումնական լսարան | E42: ԳՀ | F42: լրակազմ | G42: 12808364 | H42: -1 | I42: -12808.3
A43: 80491110-1 | B43: ուսումնական արհեստանոց | E43: ԳՀ | F43: լրակազմ | G43: 12411409 | H43: -1 | I43: -12411.4
A44: 80491110-2 | B44: ուսումնական արհեստանոց | E44: ԳՀ | F44: լրակազմ | G44: 43431747 | H44: -1 | I44: -43431.7
A45: Բաժին N 09 | B45: Խումբ N 08 | C45: Դաս N 01 | D45: Կրթություն (այլ դասերին չպատկանող) | I45: =+I46 -> -28199.2
A46: 1130-11001 | B46: Կրթության, գիտության, մշակույթի և սպորտի բնագավառի պետական քաղաքականության մշակման, ծրագրերի համակարգման և մոնիտորինգի ծառայություններ | I46: =+I47 -> -28199.2
B47: ՄԱՍ III. ԾԱՌԱՅՈՒԹՅՈՒՆՆԵՐ | I47: =SUM(I48:I56) -> -28199.2
A48: 79631400-1 | B48: մասնագիտական կողմնորոշման ծառայություններ | E48: ԷԱՃ | F48: դրամ | I48: -28199.2

Sheet Հավելված N 9
C1: Հավելված N 9
C2: ՀՀ կառավարության 2022 թվականի
C3: ______________ ի ___Ն որոշման
A6: «ՀԱՅԱUՏԱՆԻ ՀԱՆՐԱՊԵՏՈՒԹՅԱՆ 2022 ԹՎԱԿԱՆԻ ՊԵՏԱԿԱՆ ԲՅՈՒՋԵԻ ՄԱUԻՆ» ՀԱՅԱUՏԱՆԻ ՀԱՆՐԱՊԵՏՈՒԹՅԱՆ OՐԵՆՔԻ N 6 ՀԱՎԵԼՎԱԾՈՒՄ ԿԱՏԱՐՎՈՂ ՓՈՓՈԽՈՒԹՅՈՒՆՆԵՐԸ
B7: հազար դրամներով
B8: ԲԳԿ/Միջոցառում | C8: Ցուցանիշների փոփոխությունը (նվազեցումները նշված են փակագծերում)
C9: Ընդամենը
B10: ԸՆԴԱՄԵՆԸ | C10: =+C12 -> -230214.8
B11: այդ թվում՝
A12: 6 | B12: ՀՀ կրթության, գիտության, մշակույթի և սպորտի նախարարություն | C12: =SUM(C14:C16) -> -230214.8
B13: այդ թվում`
A14: 6.3 | B14: Թանգարանների և պատկերասրահների գույքային և տեխնիկական հագեցվածության բարելավում | C14: =-'Հավելված N 1'!D104 -> -19292.2
A15: 6.7 | B15: Ներդրումներ թատրոնների շենքերի կապիտալ վերանորոգման համար | C15: =-'Հավելված N 1'!D224 -> -210319.6
A16: 6.8 | B16: Թատերահամերգային կազմակերպությունների նյութատեխնիկական բազայի համալրում | C16: =-'Հավելված N 1'!D230 -> -603

Sheet Հավելված N 10
G1: Հավելված N 10
G2: ՀՀ կառավարության 2022 թվականի
G3: ______________ ի ___Ն որոշման
A6: ՀԱՅԱՍՏԱՆԻ ՀԱՆՐԱՊԵՏՈՒԹՅԱՆ 2022 ԹՎԱԿԱՆԻ ՊԵՏԱԿԱՆ ԲՅՈՒՋԵՈՎ ՆԱԽԱՏԵՍՎԱԾ՝ ՀԱՅԱՍՏԱՆԻ ՀԱՆՐԱՊԵՏՈՒԹՅԱՆ ԿԱՌԱՎԱՐՈՒԹՅԱՆ ՊԱՀՈՒՍՏԱՅԻՆ ՖՈՆԴԻՑ ՀԱՏԿԱՑՈՒՄՆԵՐ ԿԱՏԱՐԵԼՈՒ ՎԵՐԱԲԵՐՅԱԼ
G9: հազ. դրամներով
A10: Գործառական դասիչը | D10: Ծրագրային դասիչը | F10: Բյուջետային հատկացումների գլխավոր կարգադրիչների, ծրագրերի, միջոցառումների և միջոցառումները կատարող պետական մարմինների անվանումները | G10: Ցուցանիշների փոփոխությունը (ավելացումները նշված են դրական նշանով, իսկ նվազեցումները՝ փակագծերում)
A11: Բաժին | B11: Խումբ | C11: Դաս | D11: Ծրագիր | E11: Միջոցառում | G11: Տարի
F12: ԸՆԴԱՄԵՆԸ | G12: =+G34+G14 -> 0
F13: այդ թվում
F14: ՀՀ ԿԱՌԱՎԱՐՈՒԹՅՈՒՆ | G14: =+G15 -> -31882.1
A15: 11 | F15: ՀԻՄՆԱԿԱՆ ԲԱԺԻՆՆԵՐԻՆ ՉԴԱՍՎՈՂ ՊԱՀՈՒՍՏԱՅԻՆ ՖՈՆԴԵՐ | G15: =+G17 -> -31882.1
F16: այդ թվում`
B17: 01 | F17: ՀՀ կառավարության և համայնքների պահուստային ֆոնդ | G17: =+G19 -> -31882.1
F18: այդ թվում`
C19: 01 | F19: ՀՀ կառավարության պահուստային ֆոնդ | G19: =+G21 -> -31882.1
F20: այդ թվում`
F21: ՀՀ կառավարություն | G21: =+G23 -> -31882.1
F22: այդ թվում`
D23: 1139 | E23: ՀՀ կառավարության պահուստային ֆոնդ | F23: ՀՀ կառավարության պահուստային ֆոնդ | G23: =+G25 -> -31882.1
F24: այդ թվում`
E25: 11001 | F25: ՀՀ կառավարության պահուստային ֆոնդ | G25: =+G27 -> -31882.1
F26: այդ թվում` ըստ կատարողների
F27: ՀՀ կառավարություն | G27: =+G29 -> -31882.1
F28: այդ թվում` բյուջետային ծախսերի տնտեսագիտական դասակարգման հոդվածներ
F29: ԸՆԴԱՄԵՆԸ ԾԱԽՍԵՐ | G29: =+G30 -> -31882.1
F30: ԸՆԹԱՑԻԿ ԾԱԽՍԵՐ | G30: =+G31 -> -31882.1
F31: ԱՅԼ ԾԱԽՍԵՐ | G31: =+G32 -> -31882.1
F32: Պահուստային միջոցներ | G32: =+'Հավելված N 2'!G419 -> -31882.1
F34: ՀՀ ԿՐԹՈՒԹՅԱՆ, ԳԻՏՈՒԹՅԱՆ, ՄՇԱԿՈՒՅԹԻ ԵՎ ՍՊՈՐՏԻ ՆԱԽԱՐԱՐՈՒԹՅՈՒՆ | G34: =+G35 -> 31882.1
A35: 09 | F35: ԿՐԹՈՒԹՅՈՒՆ | G35: =+G37+G54 -> 31882.1
F36: այդ թվում`
B37: 06 | F37: Կրթությանը տրամադրվող օժանդակ ծառայություններ | G37: =+G39 -> 7743.6
F38: այդ թվում`
C39: 01 | F39: Կրթությանը տրամադրվող օժանդակ ծառայություններ | G39: =+G41 -> 7743.6
F40: այդ թվում`
F41: ՀՀ կրթության, գիտության, մշակույթի և սպորտի նախարարություն | G41: =+G43+G63+G74+G101+G112+G124 -> 7743.6
F42: այդ թվում՝
D43: 1111 | E43: Բարձրագույն և հետբուհական մասնագիտական կրթության ծրագիր | G43: =+G45 -> 7743.6
F44: այդ թվում`
E45: 32003 | F45: Բարձրագույն ուսումնական հաստատությունների և ««Զեյթուն» ուսանողկան ավան» հիմնադրամի նյութատեխնիկական բազայի համալրում և գույքով ապահովում | G45: =+G47 -> 7743.6
F46: այդ թվում` ըստ կատարողների
F47: ՀՀ կրթության, գիտության, մշակույթի և սպորտի նախարարություն | G47: =G49 -> 7743.6
F48: այդ թվում՝ բյուջետային ծախսերի տնտեսագիտական դասակարգման հոդվածներ
F49: ԸՆԴԱՄԵՆԸ ԾԱԽՍԵՐ | G49: =+G50 -> 7743.6
F50: ԸՆԹԱՑԻԿ ԾԱԽՍԵՐ | G50: =G51 -> 7743.6
F51: ԴՐԱՄԱՇՆՈՐՀՆԵՐ | G51: =+G52 -> 7743.6
F52: ԿԱՊԻՏԱԼ ԴՐԱՄԱՇՆՈՐՀՆԵՐ ՊԵՏԱԿԱՆ ՀԱՏՎԱԾԻ ԱՅԼ ՄԱԿԱՐԴԱԿՆԵՐԻՆ | G52: =+G53 -> 7743.6
F53: - Կապիտալ դրամաշնորհներ պետական և համայնքային ոչ առևտրային կազմակերպություններին | G53: =+'Հավելված N 2'!G323 -> 7743.6
B54: 08 | F54: Կրթություն (այլ դասերին չպատկանող) | G54: =+G56 -> 24138.5
F55: այդ թվում`
C56: 01 | F56: Կրթություն (այլ դասերին չպատկանող) | G56: =+G58 -> 24138.5
F57: այդ թվում`
F58: ՀՀ կրթության, գիտության, մշակույթի և սպորտի նախարարություն | G58: =+G60 -> 24138.5
F59: այդ թվում`
D60: 1130 | E60: Կրթության, գիտության, մշակույթի և սպորտի բնագավառի պետական քաղաքականության մշակում, ծրագրերի համակարգում և մոնիտորինգ | G60: =+G62 -> 24138.5
F61: այդ թվում`
E62: 32001 | F62: ՀՀ կրթության, գիտության, մշակույթի և սպորտի բնագավառում օժանդակ ծրագրեր իրականացնող կազմակերպությունների շենքային պայմանների բարելավում | G62: =+G64 -> 24138.5
F63: այդ թվում` ըստ կատարողների
F64: ՀՀ կրթության, գիտության, մշակույթի և սպորտի նախարարություն | G64: =+G66 -> 24138.5
F65: այդ թվում՝ բյուջետային ծախսերի տնտեսագիտական դասակարգման հոդվածներ
F66: ԸՆԴԱՄԵՆԸ ԾԱԽՍԵՐ | G66: =+G67 -> 24138.5
F67: ԸՆԹԱՑԻԿ ԾԱԽՍԵՐ | G67: =+G68 -> 24138.5
F68: ԴՐԱՄԱՇՆՈՐՀՆԵՐ | G68: =+G69 -> 24138.5
F69: ԿԱՊԻՏԱԼ ԴՐԱՄԱՇՆՈՐՀՆԵՐ ՊԵՏԱԿԱՆ ՀԱՏՎԱԾԻ ԱՅԼ ՄԱԿԱՐԴԱԿՆԵՐԻՆ | G69: =+G70 -> 24138.5
F70: - Կապիտալ դրամաշնորհներ պետական և համայնքային ոչ առևտրային կազմակերպություններին | G70: =+'Հավելված N 2'!G391 -> 24138.5
