Workbook
Name a: #REF!
Name a: #REF!
Name a: #REF!
Name AgencyCode: #REF!
Name AgencyCode: #REF!
Name AgencyCode: #REF!
Name AgencyCode: #REF!
Name AgencyCode: #REF!
Name AgencyName: #REF!
Name AgencyName: #REF!
Name AgencyName: #REF!
Name AgencyName: #REF!
Name AgencyName: #REF!
Name davit: #REF!
Name davit: #REF!
Name davit: #REF!
Name davit: #REF!
Name Functional1: #REF!
Name Functional1: #REF!
Name Functional1: #REF!
Name Functional1: #REF!
Name Functional1: #REF!
Name ggg: #REF!
Name ggg: #REF!
Name ggg: #REF!
Name ggg: #REF!
Name PANature: #REF!
Name PANature: #REF!
Name PANature: #REF!
Name PANature: #REF!
Name PANature: #REF!
Name PAType: #REF!
Name PAType: #REF!
Name PAType: #REF!
Name PAType: #REF!
Name PAType: #REF!
Name Performance2: #REF!
Name Performance2: #REF!
Name Performance2: #REF!
Name Performance2: #REF!
Name Performance2: #REF!
Name PerformanceType: #REF!
Name PerformanceType: #REF!
Name PerformanceType: #REF!
Name PerformanceType: #REF!
Name PerformanceType: #REF!
Name Հավելված: #REF!
Name Հավելված: #REF!
Name Հավելված: #REF!
Name Հավելված: #REF!
Name Մաս: #REF!
Name Մաս: #REF!
Name Մաս: #REF!
Name Մաս: #REF!
Name շախմատիստ: #REF!
Name շախմատիստ: #REF!
Name շախմատիստ: #REF!
Name շախմատիստ: #REF!

Sheet Հավելված N 1
C1: Հավելված N 1
C2: ՀՀ կառավարության 2022 թվականի
C3: ______________ ի ___Ն որոշման
A6: «ՀԱՅԱUՏԱՆԻ ՀԱՆՐԱՊԵՏՈՒԹՅԱՆ 2022 ԹՎԱԿԱՆԻ ՊԵՏԱԿԱՆ ԲՅՈՒՋԵԻ ՄԱUԻՆ» ՀԱՅԱUՏԱՆԻ ՀԱՆՐԱՊԵՏՈՒԹՅԱՆ OՐԵՆՔԻ N 1 ՀԱՎԵԼՎԱԾԻ N 2 ԱՂՅՈՒՍԱԿՈՒՄ ԿԱՏԱՐՎՈՂ ՎԵՐԱԲԱՇԽՈՒՄԸ ԵՎ ՀԱՅԱՍՏԱՆԻ ՀԱՆՐԱՊԵՏՈՒԹՅԱՆ ԿԱՌԱՎԱՐՈՒԹՅԱՆ 2021 ԹՎԱԿԱՆԻ ԴԵԿՏԵՄԲԵՐԻ 23-Ի N 2121-Ն ՈՐՈՇՄԱՆ N 5 ՀԱՎԵԼՎԱԾԻ N 1 ԱՂՅՈՒՍԱԿՈՒՄ ԿԱՏԱՐՎՈՂ ՓՈՓՈԽՈՒԹՅՈՒՆԸ ԵՎ ԼՐԱՑՈՒՄՆԵՐԸ
D9: հազ. դրամներով
A10: Ծրագրային դասիչը | C10: Բյուջետային հատկացումների գլխավոր կարգադրիչների, ծրագրերի և միջոցառումների անվանումները | D10: Ցուցանիշների փոփոխությունը (ավելացումները նշված են դրական նշանով, իսկ նվազեցումները՝ փակագծերում)
A11: Ծրագիր | B11: Միջոցառում | D11: Տարի
A12: 1192 | C12: ԸՆԴԱՄԵՆԸ | D12: =+D14+D281 -> 0
C13: այդ թվում
C14: ՀՀ ԿՐԹՈՒԹՅԱՆ, ԳԻՏՈՒԹՅԱՆ, ՄՇԱԿՈՒՅԹԻ ԵՎ ՍՊՈՐՏԻ ՆԱԽԱՐԱՐՈՒԹՅՈՒՆ | D14: =+D16+D35+D60+D79+D122+D135+D148+D161+D180+D193+D236+D255+D268 -> 0
A15: 1041 | C15: Ծրագրի անվանումը`
C16: Մեծ նվաճումների սպորտ | D16: =+D23+D29 -> -9366.7
C17: Ծրագրի նպատակը`
C18: Նպաստել Հայաստանում մեծ սպորտի շարունակական զարգացմանը և միջազգային հարթակներում ՀՀ դիրքի բարելավմանը
C19: Վերջնական արդյունքի նկարագրությունը`
C20: ՀՀ առաջնությունների ընդլայնում, միջազգային սպորտային միջոցառումներին մասնակցության և նվաճումների ապահովում
C21: Ծրագրի միջոցառումներ
B22: 11003 | C22: Միջոցառման անվանումը`
C23: Ադապտիվ սպորտին առնչվող ծառայություններ | D23: =+'Հավելված N 2'!G23 -> -7051.9
C24: Միջոցառման նկարագրությունը`
C25: Հաշմանդամային մարզական ՀԿ-ի կողմից միջազգային մրցաշարերին մարզիկների նախապատրաստում և մասնակցության ապահովում և ՀՀ առաջնությունների և այլ մարզական միջոցառումների անցկացում
C26: Միջոցառման տեսակը
C27: Ծառայությունների մատուցում
B28: 11034 | C28: Միջոցառման անվանումը`
C29: 2022 թ. Երևանում կայանալիք բռնցքամարտի Եվրոպայի առաջնության անցկացման ապահովում | D29: =+'Հավելված N 2'!G32 -> -2314.8
C30: Միջոցառման նկարագրությունը`
C31: 2022 թ. Երևանում կայանալիք բռնցքամարտի Եվրոպայի առաջնության կազմակերպման և անցկացման ապահովում
C32: Միջոցառման տեսակը
C33: Ծառայությունների մատուցում
A34: 1045 | C34: Ծրագրի անվանումը`
C35: Նախնական (արհեստագործական) և միջին մասնագիտական կրթություն | D35: =+D42+D48+D54 -> -37454.3
C36: Ծրագրի նպատակը`
C37: Աշխատաշուկայի արդի պահանջներին համապատասխան նախնական մասնագիտական (արհեստագործական) և միջին մասնագիտական կրթության որակավորում ունեցող մասնագետների պատրաստում, կրթության մատչելիության ապահովում:
C38: Վերջնական արդյունքի նկարագրությունը`
C39: Նախնական (արհեստագործական) և միջին մասնագիտական կրթության գրավչության բարձրացում, մատչելի և մրցունակ նախնական (արհեստագործական) և միջին մասնագիտական կրթության ապահովում
C40: Ծրագրի միջոցառումներ
B41: 12001 | C41: Միջոցառման անվանումը`
C42: Նախնական մասնագիտական (արհեստագործական) կրթություն ստացող ուսանողների կրթաթոշակ | D42: =+'Հավելված N 2'!G250 -> -46174.2
C43: Միջոցառման նկարագրությունը`
C44: Նախնական մասնագիտական (արհեստագործական) կրթություն ստացող ուսանողներին կրթաթոշակի տրամադրում
...

Sheet Հավելված N 2
F1: Հավելված N 2
F2: ՀՀ կառավարության 2022 թվականի
F3: ______________ ի ___Ն որոշման
A5: ՀԱՅԱՍՏԱՆԻ ՀԱՆՐԱՊԵՏՈՒԹՅԱՆ ԿԱՌԱՎԱՐՈՒԹՅԱՆ 2021 ԹՎԱԿԱՆԻ ԴԵԿՏԵՄԲԵՐԻ 23-Ի N2121-Ն ՈՐՈՇՄԱՆ N 3 ԵՎ N 4 ՀԱՎԵԼՎԱԾՆԵՐՈՒՄ ԿԱՏԱՐՎՈՂ ՓՈՓՈԽՈՒԹՅՈՒՆԸ ԵՎ ԼՐԱՑՈՒՄՆԵՐԸ
G7: հազ. դրամներով
A8: Գործառական դասիչը | D8: Ծրագրային դասիչը | F8: Բյուջետային հատկացումների գլխավոր կարգադրիչների, ծրագրերի, միջոցառումների և միջոցառումները կատարող պետական մարմինների անվանումները | G8: Ցուցանիշների փոփոխությունը (ավելացումները նշված են դրական նշանով, իսկ նվազեցումները՝ փակագծերում)
A9: Բաժին | B9: Խումբ | C9: Դաս | D9: Ծրագիր | E9: Միջոցառում | G9: Տարի
F10: ԸՆԴԱՄԵՆԸ | G10: =+G12+G393 -> 0
F11: այդ թվում
F12: ՀՀ ԿՐԹՈՒԹՅԱՆ, ԳԻՏՈՒԹՅԱՆ, ՄՇԱԿՈՒՅԹԻ ԵՎ ՍՊՈՐՏԻ ՆԱԽԱՐԱՐՈՒԹՅՈՒՆ | G12: =+G13+G240 -> 0
A13: 08 | F13: ՀԱՆԳԻՍՏ, ՄՇԱԿՈՒՅԹ ԵՎ ԿՐՈՆ | G13: =+G15+G41+G223 -> 153390.5
F14: այդ թվում`
B15: 01 | F15: Հանգստի և սպորտի ծառայություններ | G15: =+G17 -> -9366.7
F16: այդ թվում`
C17: 01 | F17: Հանգստի և սպորտի ծառայություններ | G17: =+G19 -> -9366.7
F18: այդ թվում`
F19: ՀՀ կրթության, գիտության, մշակույթի և սպորտի նախարարություն | G19: =+G21 -> -9366.7
F20: այդ թվում`
D21: 1041 | E21: Մեծ նվաճումների սպորտ | G21: =+G23+G32 -> -9366.7
F22: այդ թվում`
E23: 11003 | F23: Ադապտիվ սպորտին առնչվող ծառայություններ | G23: =+G25 -> -7051.9
F24: այդ թվում` ըստ կատարողների
F25: ՀՀ կրթության, գիտության, մշակույթի և սպորտի նախարարություն | G25: =+G27 -> -7051.9
F26: այդ թվում՝ բյուջետային ծախսերի տնտեսագիտական դասակարգման հոդվածներ
F27: ԸՆԴԱՄԵՆԸ ԾԱԽՍԵՐ | G27: =+G28 -> -7051.9
F28: ԸՆԹԱՑԻԿ ԾԱԽՍԵՐ | G28: =+G29 -> -7051.9
F29: ԴՐԱՄԱՇՆՈՐՀՆԵՐ | G29: =+G30 -> -7051.9
F30: Ընթացիկ դրամաշնորհներ պետական հատվածի այլ մակարդակներին | G30: =+G31 -> -7051.9
F31: - Այլ ընթացիկ դրամաշնորհներ | G31: =+'Հավելված N 5'!G12 -> -7051.9
E32: 11034 | F32: 2022 թ. Երևանում կայանալիք բռնցքամարտի Եվրոպայի առաջնության անցկացման ապահովում | G32: =+G34 -> -2314.8
F33: այդ թվում` ըստ կատարողների
F34: ՀՀ կրթության, գիտության, մշակույթի և սպորտի նախարարություն | G34: =+G36 -> -2314.8
F35: այդ թվում՝ բյուջետային ծախսերի տնտեսագիտական դասակարգման հոդվածներ
F36: ԸՆԴԱՄԵՆԸ ԾԱԽՍԵՐ | G36: =+G37 -> -2314.8
F37: ԸՆԹԱՑԻԿ ԾԱԽՍԵՐ | G37: =+G38 -> -2314.8
F38: ԴՐԱՄԱՇՆՈՐՀՆԵՐ | G38: =+G39 -> -2314.8
F39: Ընթացիկ դրամաշնորհներ պետական հատվածի այլ մակարդակներին | G39: =+G40 -> -2314.8
F40: - Այլ ընթացիկ դրամաշնորհներ | G40: =+'Հավելված N 5'!G15 -> -2314.8
B41: 02 | F41: Մշակութային ծառայություններ | G41: =+G43+G77+G92+G193+G208 -> 178818.9
F42: այդ թվում`
...

Sheet Հավելված N 3
F1: Հավելված N 3
F2: ՀՀ կառավարության 2022 թվականի
F3: ______________ ի ___Ն որոշման
A5: «ՀԱՅԱUՏԱՆԻ ՀԱՆՐԱՊԵՏՈՒԹՅԱՆ 2022 ԹՎԱԿԱՆԻ ՊԵՏԱԿԱՆ ԲՅՈՒՋԵԻ ՄԱUԻՆ» ՀԱՅԱUՏԱՆԻ ՀԱՆՐԱՊԵՏՈՒԹՅԱՆ OՐԵՆՔԻ N 1 ՀԱՎԵԼՎԱԾԻ N 3 ԱՂՅՈՒՍԱԿՈՒՄ ԿԱՏԱՐՎՈՂ ՓՈՓՈԽՈՒԹՅՈՒՆԸ
H8: հազ. դրամներով
A9: Ծրագրային դասիչ | C9: Բյուջետային գլխավոր կարգադրիչների, ծրագրերի, միջոցառումների և ուղղությունների անվանումները | D9: Ընդամենը | E9: Ցուցանիշների փոփոխությունը (նվազեցումները նշված են փակագծերում)
A10: Ծրագիր | B10: Միջոցառում | E10: Կառուցման աշխատանքներ | F10: Վերակառուցման, վերանորոգման և վերականգնման աշխատանքներ | G10: Նախագծահե- տազոտական, գեոդեզիա- քարտեզագրա- կան աշխա- տանքներ | H10: Ոչ ֆինանսական այլ ակտիվների ձեռքբերում
C11: ԸՆԴԱՄԵՆԸ | D11: =SUM(E11:H11) -> -467118 | E11: =+E13 -> 0 | F11: =+F13 -> 0 | G11: =+G13 -> 0 | H11: =+H13 -> -467118
C12: այդ թվում՝
C13: ՀՀ ԿՐԹՈՒԹՅԱՆ, ԳԻՏՈՒԹՅԱՆ, ՄՇԱԿՈՒՅԹԻ ԵՎ ՍՊՈՐՏԻ ՆԱԽԱՐԱՐՈՒԹՅՈՒՆ | D13: =SUM(E13:H13) -> -467118 | E13: =+E15+E21 -> 0 | F13: =+F15+F21 -> 0 | G13: =+G15+G21 -> 0 | H13: =+H15+H21 -> -467118
C14: այդ թվում`
A15: 1045 | B15: 32004 | C15: Նախնական մասնագիտական (արհեստագործական) և միջին մասնագիտական ուսումնական հաստատություններում ուսումնարտադրական բազայով ապահովում | D15: =+E15+F15+G15+H15 -> -177513.9 | E15: =+E17+E19 -> 0 | F15: =+F17+F19 -> 0 | G15: =+G17+G19 -> 0 | H15: =+H17+H19 -> -177513.9
C16: այդ թվում`
C17: ՀՀ Լոռու մարզ | D17: =SUM(E17:H17) -> -121155.2 | E17: =+E18 -> 0 | F17: =+F18 -> 0 | G17: =+G18 -> 0 | H17: =+H18 -> -121155.2
C18: ք. Վանաձորի գյուղատնտեսական պետական քոլեջ ՊՈԱԿ | D18: =+E18+F18+G18+H18 -> -121155.2 | H18: =+'Հավելված N 8'!I33+'Հավելված N 8'!I34+'Հավելված N 8'!I35+'Հավելված N 8'!I36+'Հավելված N 8'!I37+'Հավելված N 8'!I43+'Հավելված N 8'!I44 -> -121155.2
C19: ՀՀ Շիրակի մարզ | D19: =SUM(E19:H19) -> -56358.7 | E19: =+E20 -> 0 | F19: =+F20 -> 0 | G19: =+G20 -> 0 | H19: =+H20 -> -56358.7
C20: «Գյումրու N 4 արհեստագործական պետական ուսումնարան» ՊՈԱԿ | D20: =+E20+F20+G20+H20 -> -56358.7 | H20: =+'Հավելված N 8'!I38+'Հավելված N 8'!I39+'Հավելված N 8'!I40+'Հավելված N 8'!I41+'Հավելված N 8'!I42 -> -56358.7
A21: 1168 | B21: 32007 | C21: Թատերահամերգային կազմակերպությունների նյութատեխնիկական բազայի համալրում | D21: =+E21+F21+G21+H21 -> -289604.1 | E21: =+E23 -> 0 | F21: =+F23 -> 0 | G21: =+G23 -> 0 | H21: =+H23 -> -289604.1
C22: այդ թվում`
C23: Երևան քաղաք | D23: =SUM(E23:H23) -> -289604.1 | E23: =+E24+E25 -> 0 | F23: =+F24+F25 -> 0 | G23: =+G24+G25 -> 0 | H23: =+H24+H25 -> -289604.1
C24: «Հայաստանի երգի պետական թատրոն» ՊՈԱԿ | D24: =+E24+F24+G24+H24 -> -3497 | H24: =+'Հավելված N 8'!I26+'Հավելված N 8'!I27 -> -3497
C25: «Հ.Պարոնյանի անվան երաժշտական կոմեդիայի պետական թատրոն» ՊՈԱԿ | D25: =+E25+F25+G25+H25 -> -286107.1 | H25: =+'Հավելված N 8'!I28+'Հավելված N 8'!I29 -> -286107.1

Sheet Հավելված N 4
D1: Հավելված N 4
D2: ՀՀ կառավարության 2022 թվականի
D3: ______________ ի ___Ն որոշման
B5: ՀԱՅԱՍՏԱՆԻ ՀԱՆՐԱՊԵՏՈՒԹՅԱՆ ԿԱՌԱՎԱՐՈՒԹՅԱՆ 2021 ԹՎԱԿԱՆԻ ԴԵԿՏԵՄԲԵՐԻ 23-Ի N 2121-Ն ՈՐՈՇՄԱՆ N 5 ՀԱՎԵԼՎԱԾԻ N 2 ԱՂՅՈՒՍԱԿՈՒՄ ԿԱՏԱՐՎՈՂ ՓՈՓՈԽՈՒԹՅՈՒՆԸ
E8: հազ. դրամներով
B9: Ծրագրային դասիչ | D9: Բյուջետային գլխավոր կարգադրիչների, ծրագրերի, միջոցառումների, միջոցառումները կատարող պետական մարմինների և ուղղությունների անվանումները | E9: Ցուցանիշների փոփոխությունը (նվազեցումները նշված են փակագծերում)
B10: Ծրագիր | C10: Միջոցառում | E10: Տարի
D12: ՀՀ ԿՐԹՈՒԹՅԱՆ, ԳԻՏՈՒԹՅԱՆ, ՄՇԱԿՈՒՅԹԻ ԵՎ ՍՊՈՐՏԻ ՆԱԽԱՐԱՐՈՒԹՅՈՒՆ | E12: =+E14+E22 -> -467118
D13: այդ թվում՝
B14: 1045 | C14: 32004 | D14: Նախնական մասնագիտական (արհեստագործական) և միջին մասնագիտական ուսումնական հաստատություններում ուսումնարտադրական բազայով ապահովում | E14: =+E16 -> -177513.9
D15: այդ թվում` ըստ կատարողների
D16: ՀՀ կրթության, գիտության, մշակույթի և սպորտի նախարարություն | E16: =+E18+E20 -> -177513.9
D17: այդ թվում` ըստ ուղղությունների
D18: ՀՀ Լոռու մարզ | E18: =+E19 -> -121155.2
D19: ք. Վանաձորի գյուղատնտեսական պետական քոլեջ ՊՈԱԿ | E19: =+'Հավելված N 3'!D18 -> -121155.2
D20: ՀՀ Շիրակի մարզ | E20: =+E21 -> -56358.7
D21: «Գյումրու N 4 արհեստագործական պետական ուսումնարան» ՊՈԱԿ | E21: =+'Հավելված N 3'!D20 -> -56358.7
B22: 1168 | C22: 32007 | D22: Թատերահամերգային կազմակերպությունների նյութատեխնիկական բազայի համալրում | E22: =+E24 -> -289604.1
D23: այդ թվում` ըստ կատարողների
D24: ՀՀ կրթության, գիտության, մշակույթի և սպորտի նախարարություն | E24: =+E26 -> -289604.1
D25: այդ թվում` ըստ ուղղությունների
D26: Երևան քաղաք | E26: =+E27+E28 -> -289604.1
D27: «Հայաստանի երգի պետական թատրոն» ՊՈԱԿ | E27: =+'Հավելված N 3'!D24 -> -3497
D28: «Հ.Պարոնյանի անվան երաժշտական կոմեդիայի պետական թատրոն» ՊՈԱԿ | E28: =+'Հավելված N 3'!D25 -> -286107.1

Sheet Հավելված N 5
F1: Հավելված N 5
F2: ՀՀ կառավարության 2022 թվականի
F3: ______________ ի ___Ն որոշման
A6: ՀԱՅԱՍՏԱՆԻ ՀԱՆՐԱՊԵՏՈՒԹՅԱՆ ԿԱՌԱՎԱՐՈՒԹՅԱՆ 2021 ԹՎԱԿԱՆԻ ԴԵԿՏԵՄԲԵՐԻ 23-Ի N 2121-Ն ՈՐՈՇՄԱՆ N 5 ՀԱՎԵԼՎԱԾԻ N 7 ԱՂՅՈՒՍԱԿՈՒՄ ԿԱՏԱՐՎՈՂ ԼՐԱՑՈՒՄՆԵՐԸ
G7: հազ. դրամներով
A8: Ծրագրային դասիչը | C8: Բյուջետային հատկացումների գլխավոր կարգադրիչների, ծրագրերի, միջոցառումների և միջոցառումները կատարող պետական մարմինների անվանումները | F8: Միջոցառումները կատարող պետական մարմինների և դրամաշնորհ ստացող տնտեսվարող սուբյեկտների անվանումները | G8: Ցուցանիշների փոփոխությունը (ավելացումները նշված են դրական նշանով, իսկ նվազեցումները՝ փակագծերում)
A9: Ծրագիր | B9: Միջոցառում | G9: Տարի
A10: ՀՀ կրթության, գիտության, մշակույթի և սպորտի նախարարություն | G10: =+G11+G16+G22+G27+G58+G61+G66+G70+G73+G107+G113 -> 706905.6
A11: 1041 | B11: Մեծ նվաճումների սպորտ | G11: =+G12+G14 -> -9366.7
B12: 11003 | C12: Ադապտիվ սպորտին առնչվող ծառայություններ | F12: ՀՀ կրթության, գիտության, մշակույթի և սպորտի նախարարություն | G12: =+G13 -> -7051.9
F13: «Հայաստանի ազգային պարալիմպիկ կոմիտե» ՀԿ | G13: -7051.9
B14: 11034 | C14: 2022 թ. Երևանում կայանալիք բռնցքամարտի Եվրոպայի առաջնության անցկացման ապահովում | F14: ՀՀ կրթության, գիտության, մշակույթի և սպորտի նախարարություն | G14: =+G15 -> -2314.8
F15: «Ֆակտորի Փրոդաքշն» ՍՊԸ | G15: -2314.8
A16: 1045 | B16: Նախնական (արհեստագործական) և միջին մասնագիտական կրթություն | G16: =+G17 -> 240820.5
B17: 32004 | C17: Նախնական մասնագիտական (արհեստագործական) և միջին մասնագիտական ուսումնական հաստատություններում ուսումնարտադրական բազայով ապահովում | F17: ՀՀ կրթության, գիտության, մշակույթի և սպորտի նախարարություն | G17: =SUM(G18:G21) -> 240820.5
F18: «Երևանի պետական տեխնոլոգիական քոլեջ» ՊՈԱԿ | G18: 9923.8
F19: «Վանաձորի Մ.Թավրիզյանի անվան արվեստի պետական քոլեջ» ՊՈԱԿ | G19: 18017.8
F20: Վանաձորի գյուղատնտեսական պետական քոլեջ հիմնադրամ | G20: =121155.2+35365 -> 156520.2
F21: «Գյումրու N 4 արհեստագործական պետական ուսումնարան» ՊՈԱԿ | G21: 56358.7
A22: 1056 | B22: Կինեմատոգրաֆիայի ծրագիր | G22: =+G23+G25 -> -2675.6
B23: 11003 | C23: Ազգային կինոծրագրերի իրականացում | F23: ՀՀ կրթության, գիտության, մշակույթի և սպորտի նախարարություն | G23: =+G24 -> -2465
F24: «Հայաստանի ազգային կինոկենտրոն» ՊՈԱԿ | G24: -2465
B25: 11005 | C25: Աջակցություն կինոարվեստին | F25: ՀՀ կրթության, գիտության, մշակույթի և սպորտի նախարարություն | G25: =SUM(G26:G26) -> -210.6
F26: Մրցույթով ընտրված կազմակերպություն | G26: -210.6
A27: 1075 | B27: Մշակութային ժառանգության ծրագիր | G27: =+G28+G46+G50+G52+G54+G56 -> 189104.8
B28: 11004 | C28: Թանգարանային ծառայություններ և ցուցահանդեսներ | G28: =+G30 -> -5875.9
D29: այդ թվում՝ ըստ ուղղությունների
F30: ՀՀ կրթության, գիտության, մշակույթի և սպորտի նախարարություն | G30: =SUM(G31:G45) -> -5875.9
F31: «Հայաստանի ազգային պատկերասրահ» ՊՈԱԿ | G31: -1784.1
F32: «Հայաստանի պատմության թանգարան» ՊՈԱԿ | G32: -120.6
F33: «Ե.Չարենցի անվան գրականության և արվեստի թանգարան» ՊՈԱԿ | G33: -477.8
F34: «Հովհաննես Շարամբեյանի անվան ժողովրդական ստեղծագործության կենտրոն» ՊՈԱԿ | G34: -280.9
F35: «Ռուսական արվեստի թանգարան /պրոֆ. Ա.Աբրահամյանի հավաքածու/» ՊՈԱԿ | G35: -99.7
F36: «Հ.Թումանյանի թանգարան» ՊՈԱԿ | G36: -145.7
F37: «Ե.Չարենցի տուն-թանգարան» ՊՈԱԿ | G37: -8.1
F38: «Ա.Իսահակյանի տուն-թանգարան» ՊՈԱԿ | G38: -43.7
F39: «Ա.Խաչատրյանի տուն-թանգարան» ՊՈԱԿ | G39: -4
F40: «Հայ և ռուս ժողովուրդների բարեկամության թանգարան» ՊՈԱԿ | G40: -16.7
F41: «Ս.Փարաջանովի թանգարան» ՊՈԱԿ | G41: -491.1
F42: «Պատմամշակութային արգելոց-թանգարանների և պատմական միջավայրի պահպանության ծառայություն» ՊՈԱԿ | G42: -111.3
...

Sheet Հավելված N 6
C1: Հավելված N 6
C2: ՀՀ կառավարության 2022 թվականի
C3: ______________ ի ___Ն որոշման
B5: ՀԱՅԱՍՏԱՆԻ ՀԱՆՐԱՊԵՏՈՒԹՅԱՆ ԿԱՌԱՎԱՐՈՒԹՅԱՆ 2021 ԹՎԱԿԱՆԻ ԴԵԿՏԵՄԲԵՐԻ 23-Ի N 2121-Ն ՈՐՈՇՄԱՆ N 9 ՀԱՎԵԼՎԱԾԻ NN 9.13 ԵՎ 9.47 ԱՂՅՈՒՍԱԿՆԵՐՈՒՄ ԿԱՏԱՐՎՈՂ ՓՈՓՈԽՈՒԹՅՈՒՆՆԵՐԸ ԵՎ ԼՐԱՑՈՒՄՆԵՐԸ
A7: Աղյուսակ 9․13
C8: ՀՀ կրթության, գիտության, մշակույթի և սպորտի նախարարություն
B9: ՄԱՍ 2. ՊԵՏԱԿԱՆ ՄԱՐՄՆԻ ԳԾՈՎ ԱՐԴՅՈՒՆՔԱՅԻՆ (ԿԱՏԱՐՈՂԱԿԱՆ) ՑՈՒՑԱՆԻՇՆԵՐԸ
B12: Ծրագրի դասիչը | C12: Ծրագրի անվանումը
B13: 1041 | C13: Մեծ նվաճումների սպորտ
B15: Ծրագրի միջոցառումները
B16: Ծրագրի դասիչը՝ | C16: 1041 | D16: Ցուցանիշների փոփոխությունը (նվազեցումները նշված են փակագծերում)
B17: Միջոցառման դասիչը՝ | C17: 11003 | D17: Տարի
B18: Միջոցառման անվանումը` | C18: Ադապտիվ սպորտին առնչվող ծառայություններ
B19: Նկարագրությունը` | C19: Հաշմանդամային մարզական ՀԿ-ի կողմից միջազգային մրցաշարերին մարզիկների նախապատրաստում և մասնակցության ապահովում և ՀՀ առաջնությունների և այլ մարզական միջոցառումների անցկացում
B20: Միջոցառման տեսակը` | C20: Ծառայությունների մատուցում
B21: Ծառայությունը մատուցող կազմակերպությունների անվանումը | C21: Մասնագիտացված կազմակերպություններ
B22: Արդյունքի չափորոշիչներ
B23: Միջոցառումների քանակ, հատ | D23: -1
B24: Մասնակիցների թիվ, մարդ, այդ թվում՛ | D24: -6
B25: իգական սեռի | D25: -1
B26: արական սեռի | D26: -5
B27: Միջազգային միջոցառումների քանակ, հատ | D27: -1
B28: Միջոցառման վրա կատարվող ծախսը (հազար դրամ) | D28: =+'Հավելված N 1'!D23 -> -7051.9
B30: Ծրագրի միջոցառումները
B31: Ծրագրի դասիչը՝ | C31: 1041 | D31: Ցուցանիշների փոփոխությունը (նվազեցումները նշված են փակագծերում)
B32: Միջոցառման դասիչը՝ | C32: 11034 | D32: Տարի
B33: Միջոցառման անվանումը` | C33: 2022 թ. Երևանում կայանալիք բռնցքամարտի Եվրոպայի առաջնության անցկացման ապահովում
B34: Նկարագրությունը` | C34: 2022 թ. Երևանում կայանալիք բռնցքամարտի Եվրոպայի առաջնության կազմակերպման և անցկացման ապահովում
B35: Միջոցառման տեսակը` | C35: Ծառայությունների մատուցում
B36: Ծառայությունը մատուցող կազմակերպությունների անվանումը | C36: Մասնագիտացված կազմակերպություններ
B37: Արդյունքի չափորոշիչներ
B38: Միջոցառման վրա կատարվող ծախսը (հազար դրամ) | D38: =+'Հավելված N 1'!D29 -> -2314.8
B40: Ծրագրի դասիչը | C40: Ծրագրի անվանումը
B41: 1045 | C41: Նախնական (արհեստագործական) և միջին մասնագիտական կրթություն
B43: Ծրագրի միջոցառումները
B44: Ծրագրի դասիչը՝ | C44: 1045 | D44: Ցուցանիշների փոփոխությունը (նվազեցումները նշված են փակագծերում)
B45: Միջոցառման դասիչը՝ | C45: 12001 | D45: Տարի
B46: Միջոցառման անվանումը` | C46: Նախնական մասնագիտական (արհեստագործական) կրթություն ստացող ուսանողների կրթաթոշակ
B47: Նկարագրությունը` | C47: Նախնական մասնագիտական (արհեստագործական) կրթություն ստացող ուսանողներին կրթաթոշակի տրամադրում
B48: Միջոցառման տեսակը` | C48: Տրանսֆերտների տրամադրում
...

Sheet Հավելված N 7
C1: Հավելված N 7
C2: ՀՀ կառավարության 2022 թվականի
C3: ______________ ի ___Ն որոշման
B6: ՀԱՅԱՍՏԱՆԻ ՀԱՆՐԱՊԵՏՈՒԹՅԱՆ ԿԱՌԱՎԱՐՈՒԹՅԱՆ 2021 ԹՎԱԿԱՆԻ ԴԵԿՏԵՄԲԵՐԻ 23-Ի N 2121-Ն ՈՐՈՇՄԱՆ N 9.1 ՀԱՎԵԼՎԱԾԻ NN 9.1.14, 9.1.42 ԵՎ 9.1.58 ԱՂՅՈՒՍԱԿՆԵՐՈՒՄ ԿԱՏԱՐՎՈՂ ՓՈՓՈԽՈՒԹՅՈՒՆՆԵՐԸ ԵՎ ԼՐԱՑՈՒՄՆԵՐԸ
A9: Աղյուսակ 9․1.14
C10: ՀՀ կրթության, գիտության, մշակույթի և սպորտի նախարարություն
B11: ՄԱՍ 1. ՊԵՏԱԿԱՆ ՄԱՐՄՆԻ ԳԾՈՎ ԱՐԴՅՈՒՆՔԱՅԻՆ (ԿԱՏԱՐՈՂԱԿԱՆ) ՑՈՒՑԱՆԻՇՆԵՐԸ
B14: Ծրագրի դասիչը | C14: Ծրագրի անվանումը
B15: 1041 | C15: Մեծ նվաճումների սպորտ
B17: Ծրագրի միջոցառումները
B18: Ծրագրի դասիչը՝ | C18: 1041 | D18: Ցուցանիշների փոփոխությունը (նվազեցումները նշված են փակագծերում)
B19: Միջոցառման դասիչը՝ | C19: 11003 | D19: Տարի
B20: Միջոցառման անվանումը` | C20: Ադապտիվ սպորտին առնչվող ծառայություններ
B21: Նկարագրությունը` | C21: Հաշմանդամային մարզական ՀԿ-ի կողմից միջազգային մրցաշարերին մարզիկների նախապատրաստում և մասնակցության ապահովում և ՀՀ առաջնությունների և այլ մարզական միջոցառումների անցկացում
B22: Միջոցառման տեսակը` | C22: Ծառայությունների մատուցում
B23: Ծառայությունը մատուցող կազմակերպությունների անվանումը | C23: Մասնագիտացված կազմակերպություններ
B24: Արդյունքի չափորոշիչներ
B25: Միջոցառումների քանակ, հատ | D25: -1
B26: Մասնակիցների թիվ, մարդ, այդ թվում՛ | D26: -6
B27: իգական սեռի | D27: -1
B28: արական սեռի | D28: -5
B29: Միջազգային միջոցառումների քանակ, հատ | D29: -1
B30: Միջոցառման վրա կատարվող ծախսը (հազար դրամ) | D30: =+'Հավելված N 2'!G25 -> -7051.9
B32: Ծրագրի միջոցառումները
B33: Ծրագրի դասիչը՝ | C33: 1041 | D33: Ցուցանիշների փոփոխությունը (նվազեցումները նշված են փակագծերում)
B34: Միջոցառման դասիչը՝ | C34: 11034 | D34: Տարի
B35: Միջոցառման անվանումը` | C35: 2022 թ. Երևանում կայանալիք բռնցքամարտի Եվրոպայի առաջնության անցկացման ապահովում
B36: Նկարագրությունը` | C36: 2022 թ. Երևանում կայանալիք բռնցքամարտի Եվրոպայի առաջնության կազմակերպման և անցկացման ապահովում
B37: Միջոցառման տեսակը` | C37: Ծառայությունների մատուցում
B38: Ծառայությունը մատուցող կազմակերպությունների անվանումը | C38: Մասնագիտացված կազմակերպություններ
B39: Արդյունքի չափորոշիչներ
B40: Միջոցառման վրա կատարվող ծախսը (հազար դրամ) | D40: =+'Հավելված N 2'!G34 -> -2314.8
B42: Ծրագրի դասիչը | C42: Ծրագրի անվանումը
B43: 1045 | C43: Նախնական (արհեստագործական) և միջին մասնագիտական կրթություն
B45: Ծրագրի միջոցառումները
B46: Ծրագրի դասիչը՝ | C46: 1045 | D46: Ցուցանիշների փոփոխությունը (նվազեցումները նշված են փակագծերում)
B47: Միջոցառման դասիչը՝ | C47: 12001 | D47: Տարի
B48: Միջոցառման անվանումը` | C48: Նախնական մասնագիտական (արհեստագործական) կրթություն ստացող ուսանողների կրթաթոշակ
B49: Նկարագրությունը` | C49: Նախնական մասնագիտական (արհեստագործական) կրթություն ստացող ուսանողներին կրթաթոշակի տրամադրում
B50: Միջոցառման տեսակը` | C50: Տրանսֆերտների տրամադրում
...

Sheet Հավելված N 8
H1: Հավելված N 8
H2: ՀՀ կառավարության 2022 թվականի
H3: ______________ ի ___Ն որոշման
A5: ՀԱՅԱՍՏԱՆԻ ՀԱՆՐԱՊԵՏՈՒԹՅԱՆ ԿԱՌԱՎԱՐՈՒԹՅԱՆ 2021 ԹՎԱԿԱՆԻ ԴԵԿՏԵՄԲԵՐԻ 23-Ի N 2121-Ն ՈՐՈՇՄԱՆ N 10 ՀԱՎԵԼՎԱԾՈՒՄ ԿԱՏԱՐՎՈՂ ՓՈՓՈԽՈՒԹՅՈՒՆՆԵՐԸ
A7: Կոդը | B7: Անվանումը | E7: Գնման ձևը | F7: Չափման միավորը | G7: Միավորի գինը | H7: Ցուցանիշների փոփոխությունը (նվազեցումները նշված են փակագծերում)
H8: Քանակը | I8: Գումարը (հազար դրամ)
A9: 1 | B9: 2 | E9: 3 | F9: 4 | G9: 5 | H9: 6 | I9: 7
A10: ՀՀ կրթության, գիտության, մշակույթի և սպորտի նախարարություն | I10: =+I11+I23+I30+I45 -> -511378.9
A11: Բաժին N 08 | B11: Խումբ N 04 | C11: Դաս N 01 | D11: Երիտասարդական ծրագրեր | I11: =+I12 -> -16061.7
A12: 1115-11001 | B12: Երիտասարդական պետական քաղաքականությանն ուղղված ծրագրեր և միջոցառումներ | I12: =+I13 -> -16061.7
B13: ՄԱՍ III. ԾԱՌԱՅՈՒԹՅՈՒՆՆԵՐ | I13: =SUM(I14:I22) -> -16061.7
A14: 64211340-1 | B14: էլեկտրոնային տեղեկատվական ծառայություններ | E14: ԷԱՃ | F14: դրամ | G14: 9200000 | H14: -1 | I14: -9200
A15: 79951100-1 | B15: միջոցառումների հետ կապված ծառայություններ | E15: ԷԱՃ | F15: դրամ | I15: -556
A16: 79951100-2 | B16: միջոցառումների հետ կապված ծառայություններ | E16: ԷԱՃ | F16: դրամ | I16: -1112
A17: 79951100-3 | B17: միջոցառումների հետ կապված ծառայություններ | E17: ԷԱՃ | F17: դրամ | I17: -920
A18: 79951100-4 | B18: միջոցառումների հետ կապված ծառայություններ | E18: ԷԱՃ | F18: դրամ | I18: -5
A19: 79951100-5 | B19: միջոցառումների հետ կապված ծառայություններ | E19: ԷԱՃ | F19: դրամ | I19: -821.7
A20: 80521100-1 | B20: ուսուցման ծրագրերի հետ կապված ծառայություններ | E20: ԷԱՃ | F20: դրամ | I20: -1462.8
A21: 92221100-1 | B21: հեռուստատեսային արտադրանքի հետ կապված ծառայություններ | E21: ԷԱՃ | F21: դրամ | I21: -1181
A22: 63511100-2 | B22: ճամփորդությունների կազմակերպման ծառայություններ | E22: ԳՀ | F22: դրամ | I22: -803.2
A23: Բաժին N 08 | B23: Խումբ N 05 | C23: Դաս N 01 | D23: Արվեստ | I23: =+I24 -> -289604.1
A24: 1168-32007 | B24: Թատերահամերգային կազմակերպությունների նյութատեխնիկական բազայի համալրում | I24: =+I25 -> -289604.1
B25: ՄԱՍ I. ԱՊՐԱՆՔՆԵՐ | I25: =SUM(I26:I29) -> -289604.1
A26: 39111140-7 | B26: աթոռներ | E26: ԷԱՃ | F26: հատ | G26: 40000 | H26: -80 | I26: =+H26*G26/1000 -> -3200
A27: 39111140-8 | B27: աթոռներ | E27: ԷԱՃ | F27: հատ | G27: 5940 | H27: -50 | I27: =+H27*G27/1000 -> -297
A28: 31521700-4 | B28: թատրոնի բեմի լուսային համակարգ | E28: ԷԱՃ | F28: լրակազմ | G28: 177482100 | H28: -1 | I28: -177482.1
A29: 32331610-2 | B29: թատրոնի բեմի ձայնային համակարգ | E29: ԷԱՃ | F29: լրակազմ | G29: 108625000 | H29: -1 | I29: -108625
A30: Բաժին N 09 | B30: Խումբ N 06 | C30: Դաս N 01 | D30: Կրթությանը տրամադրվող օժանդակ ծառայություններ | I30: =+I31 -> -177513.9
A31: 1045-32004 | B31: Նախնական մասնագիտական (արհեստագործական) և միջին մասնագիտական ուսումնական հաստատություններում ուսումնարտադրական բազայով ապահովում | I31: =+I32 -> -177513.9
B32: ՄԱՍ I. ԱՊՐԱՆՔՆԵՐ | I32: =SUM(I33:I44) -> -177513.9
A33: 80491120-1 | B33: ուսումնական լսարան | E33: ԳՀ | F33: լրակազմ | G33: 12061381 | H33: -1 | I33: -12061.3
A34: 80491120-2 | B34: ուսումնական լսարան | E34: ԳՀ | F34: լրակազմ | G34: 6860548 | H34: -1 | I34: -6860.5
A35: 80491120-3 | B35: ուսումնական լսարան | E35: ԳՀ | F35: լրակազմ | G35: 5833800 | H35: -1 | I35: -5833.8
A36: 80491120-5 | B36: ուսումնական լսարան | E36: ԳՀ | F36: լրակազմ | G36: 20091607 | H36: -1 | I36: -20091.6
A37: 80491120-6 | B37: ուսումնական լսարան | E37: ԳՀ | F37: լրակազմ | G37: 20464970 | H37: -1 | I37: -20464.9
A38: 80491120-8 | B38: ուսումնական լսարան | E38: ԳՀ | F38: լրակազմ | G38: 10649533 | H38: -1 | I38: -10649.5
A39: 80491120-13 | B39: ուսումնական լսարան | E39: ԳՀ | F39: լրակազմ | G39: 9915396 | H39: -1 | I39: -9915.3
A40: 80491120-14 | B40: ուսումնական լսարան | E40: ԳՀ | F40: լրակազմ | G40: 7074450 | H40: -1 | I40: -7074.4
A41: 80491120-15 | B41: ուսումնական լսարան | E41: ԳՀ | F41: լրակազմ | G41: 15911250 | H41: -1 | I41: -15911.2
A42: 80491120-16 | B42: ուսումնական լսարան | E42: ԳՀ | F42: լրակազմ | G42: 12808364 | H42: -1 | I42: -12808.3
...

Sheet Հավելված N 9
C1: Հավելված N 9
C2: ՀՀ կառավարության 2022 թվականի
C3: ______________ ի ___Ն որոշման
A6: «ՀԱՅԱUՏԱՆԻ ՀԱՆՐԱՊԵՏՈՒԹՅԱՆ 2022 ԹՎԱԿԱՆԻ ՊԵՏԱԿԱՆ ԲՅՈՒՋԵԻ ՄԱUԻՆ» ՀԱՅԱUՏԱՆԻ ՀԱՆՐԱՊԵՏՈՒԹՅԱՆ OՐԵՆՔԻ N 6 ՀԱՎԵԼՎԱԾՈՒՄ ԿԱՏԱՐՎՈՂ ՓՈՓՈԽՈՒԹՅՈՒՆՆԵՐԸ
B7: հազար դրամներով
B8: ԲԳԿ/Միջոցառում | C8: Ցուցանիշների փոփոխությունը (նվազեցումները նշված են փակագծերում)
C9: Ընդամենը
B10: ԸՆԴԱՄԵՆԸ | C10: =+C12 -> -230214.8
B11: այդ թվում՝
A12: 6 | B12: ՀՀ կրթության, գիտության, մշակույթի և սպորտի նախարարություն | C12: =SUM(C14:C16) -> -230214.8
B13: այդ թվում`
A14: 6.3 | B14: Թանգարանների և պատկերասրահների գույքային և տեխնիկական հագեցվածության բարելավում | C14: =-'Հավելված N 1'!D104 -> -19292.2
A15: 6.7 | B15: Ներդրումներ թատրոնների շենքերի կապիտալ վերանորոգման համար | C15: =-'Հավելված N 1'!D224 -> -210319.6
A16: 6.8 | B16: Թատերահամերգային կազմակերպությունների նյութատեխնիկական բազայի համալրում | C16: =-'Հավելված N 1'!D230 -> -603

Sheet Հավելված N 10
G1: Հավելված N 10
G2: ՀՀ կառավարության 2022 թվականի
G3: ______________ ի ___Ն որոշման
A6: ՀԱՅԱՍՏԱՆԻ ՀԱՆՐԱՊԵՏՈՒԹՅԱՆ 2022 ԹՎԱԿԱՆԻ ՊԵՏԱԿԱՆ ԲՅՈՒՋԵՈՎ ՆԱԽԱՏԵՍՎԱԾ՝ ՀԱՅԱՍՏԱՆԻ ՀԱՆՐԱՊԵՏՈՒԹՅԱՆ ԿԱՌԱՎԱՐՈՒԹՅԱՆ ՊԱՀՈՒՍՏԱՅԻՆ ՖՈՆԴԻՑ ՀԱՏԿԱՑՈՒՄՆԵՐ ԿԱՏԱՐԵԼՈՒ ՎԵՐԱԲԵՐՅԱԼ
G9: հազ. դրամներով
A10: Գործառական դասիչը | D10: Ծրագրային դասիչը | F10: Բյուջետային հատկացումների գլխավոր կարգադրիչների, ծրագրերի, միջոցառումների և միջոցառումները կատարող պետական մարմինների անվանումները | G10: Ցուցանիշների փոփոխությունը (ավելացումները նշված են դրական նշանով, իսկ նվազեցումները՝ փակագծերում)
A11: Բաժին | B11: Խումբ | C11: Դաս | D11: Ծրագիր | E11: Միջոցառում | G11: Տարի
F12: ԸՆԴԱՄԵՆԸ | G12: =+G34+G14 -> 0
F13: այդ թվում
F14: ՀՀ ԿԱՌԱՎԱՐՈՒԹՅՈՒՆ | G14: =+G15 -> -31882.1
A15: 11 | F15: ՀԻՄՆԱԿԱՆ ԲԱԺԻՆՆԵՐԻՆ ՉԴԱՍՎՈՂ ՊԱՀՈՒՍՏԱՅԻՆ ՖՈՆԴԵՐ | G15: =+G17 -> -31882.1
F16: այդ թվում`
B17: 01 | F17: ՀՀ կառավարության և համայնքների պահուստային ֆոնդ | G17: =+G19 -> -31882.1
F18: այդ թվում`
C19: 01 | F19: ՀՀ կառավարության պահուստային ֆոնդ | G19: =+G21 -> -31882.1
F20: այդ թվում`
F21: ՀՀ կառավարություն | G21: =+G23 -> -31882.1
F22: այդ թվում`
D23: 1139 | E23: ՀՀ կառավարության պահուստային ֆոնդ | F23: ՀՀ կառավարության պահուստային ֆոնդ | G23: =+G25 -> -31882.1
F24: այդ թվում`
E25: 11001 | F25: ՀՀ կառավարության պահուստային ֆոնդ | G25: =+G27 -> -31882.1
F26: այդ թվում` ըստ կատարողների
F27: ՀՀ կառավարություն | G27: =+G29 -> -31882.1
F28: այդ թվում` բյուջետային ծախսերի տնտեսագիտական դասակարգման հոդվածներ
F29: ԸՆԴԱՄԵՆԸ ԾԱԽՍԵՐ | G29: =+G30 -> -31882.1
F30: ԸՆԹԱՑԻԿ ԾԱԽՍԵՐ | G30: =+G31 -> -31882.1
F31: ԱՅԼ ԾԱԽՍԵՐ | G31: =+G32 -> -31882.1
F32: Պահուստային միջոցներ | G32: =+'Հավելված N 2'!G419 -> -31882.1
F34: ՀՀ ԿՐԹՈՒԹՅԱՆ, ԳԻՏՈՒԹՅԱՆ, ՄՇԱԿՈՒՅԹԻ ԵՎ ՍՊՈՐՏԻ ՆԱԽԱՐԱՐՈՒԹՅՈՒՆ | G34: =+G35 -> 31882.1
A35: 09 | F35: ԿՐԹՈՒԹՅՈՒՆ | G35: =+G37+G54 -> 31882.1
F36: այդ թվում`
B37: 06 | F37: Կրթությանը տրամադրվող օժանդակ ծառայություններ | G37: =+G39 -> 7743.6
F38: այդ թվում`
C39: 01 | F39: Կրթությանը տրամադրվող օժանդակ ծառայություններ | G39: =+G41 -> 7743.6
F40: այդ թվում`
F41: ՀՀ կրթության, գիտության, մշակույթի և սպորտի նախարարություն | G41: =+G43+G63+G74+G101+G112+G124 -> 7743.6
F42: այդ թվում՝
D43: 1111 | E43: Բարձրագույն և հետբուհական մասնագիտական կրթության ծրագիր | G43: =+G45 -> 7743.6
F44: այդ թվում`
E45: 32003 | F45: Բարձրագույն ուսումնական հաստատությունների և ««Զեյթուն» ուսանողկան ավան» հիմնադրամի նյութատեխնիկական բազայի համալրում և գույքով ապահովում | G45: =+G47 -> 7743.6
...
