Workbook

Sheet 1
D1: Հավելված N 1
D2: ՀՀ կառավարության 2022 թվականի
D3: -ի N -Ն որոշման
A4: «ՀԱՅԱՍՏԱՆԻ ՀԱՆՐԱՊԵՏՈՒԹՅԱՆ 2022 ԹՎԱԿԱՆԻ ՊԵՏԱԿԱՆ ԲՅՈՒՋԵԻ ՄԱՍԻՆ» ՀԱՅԱՍՏԱՆԻ ՀԱՆՐԱՊԵՏՈՒԹՅԱՆ ՕՐԵՆՔԻ N 1 ՀԱՎԵԼՎԱԾԻ N 2 ԱՂՅՈՒՍԱԿՈՒՄ ԿԱՏԱՐՎՈՂ ՎԵՐԱԲԱՇԽՈՒՄԸ, ՓՈՓՈԽՈՒԹՅՈՒՆՆԵՐԸ , ՀԱՅԱՍՏԱՆԻ ՀԱՆՐԱՊԵՏՈՒԹՅԱՆ ԿԱՌԱՎԱՐՈՒԹՅԱՆ 2021 ԹՎԱԿԱՆԻ ԴԵԿՏԵՄԲԵՐԻ 23-Ի N 2121-Ն ՈՐՈՇՄԱՆ N 5 ՀԱՎԵԼՎԱԾԻ N 1 ԱՂՅՈՒՍԱԿՈՒՄ ԿԱՏԱՐՎՈՂ ՓՈՓՈԽՈՒԹՅՈՒՆՆԵՐԸ
D6: (հազ. դրամ)
A7: Ծրագրային դասիչը | C7: Բյուջետային գլխավոր կարգադրիչների, ծրագրերի և միջոցառումների անվանումները | D7: Ցուցանիշների փոփոխությունը (ավելացումները նշված են դրական նշանով, իսկ նվազեցումները՝ փակագծերում)
A8: Ծրագիր | B8: Միջոցառում | D8: Տարի
C9: ԸՆԴԱՄԵՆԸ | D9: =D10 -> 0
C10: ՀՀ տարածքային կառավարման և ենթակառուցվածքների նախարարություն | D10: =D11+D24 -> 0
A11: 1004 | C11: Ծրագրի անվանումը` | D11: =D18 -> -8130
C12: Ոռոգման համակարգի առողջացում
C13: Ծրագրի նպատակը`
C14: Ոռոգման ծառայությունների հասանելիության և մատչելիության ապահովում
C15: Վերջնական արդյունքի նկարագրությունը`
C16: Ոռոգման ջրի մատակարարման արդյունավետության և հասանելիության բարելավում՝ կորուստների կրճատում
A17: Ծրագրի միջոցառումներ
B18: 31007 | C18: Միջոցառման անվանումը` | D18: ='3'!G22 -> -8130
C19: Ջրային տնտեսության հիդրոտեխնիկական սարքավորումների տեղադրման աշխատանքներ
C20: Միջոցառման նկարագրությունը`
C21: Ոռոգման համակարգերի ջրանցքների բաժանարար կետերը SCADA համակարգով հագեցած ջրաչափական սարքավորումներով կահավորում
C22: Միջոցառման տեսակը
C23: Պետական մարմինների կողմից օգտագործվող ոչ ֆինանսական ակտիվների հետ գործառնություններ
A24: 1109 | C24: Ծրագրի անվանումը` | D24: =D31 -> 8130
C25: Ջրային տնտեսության ոլորտում ծրագրերի համակարգում և մոնիտորինգ
C26: Ծրագրի նպատակը`
C27: Ջրային տնտեսության ոլորտում պետական արդյունավետ ծրագրերի մշակման և իրականացման ապահովում
C28: Վերջնական արդյունքի նկարագրությունը`
C29: Ջրային տնտեսության ոլորտում իրականացվող ծրագրերի ազդեցության և արդյունավետության բարելավում
A30: Ծրագրի միջոցառումներ
B31: 11001 | C31: Միջոցառման անվանումը` | D31: ='3'!G41 -> 8130
C32: Ջրային տնտեսության ոլորտում պետական քաղաքականության մշակում, ծրագրերի համակարգում և մոնիտորինգ
C33: Միջոցառման նկարագրությունը`
C34: Ոլորտի քաղաքականության խորհրդատվության, կոմիտեի իրավասության տակ ընկնող ծառայությունների ու ծրագրերի համակարգման ծառայություններ
C35: Միջոցառման տեսակը
C36: Ծառայությունների մատուցում

Sheet 2
A1: Հավելված N 2
A2: ՀՀ կառավարության 2022 թվականի
A3: -ի N -Ն որոշման
A4: «ՀԱՅԱՍՏԱՆԻ ՀԱՆՐԱՊԵՏՈՒԹՅԱՆ 2022 ԹՎԱԿԱՆԻ ՊԵՏԱԿԱՆ ԲՅՈՒՋԵԻ ՄԱՍԻՆ» ՀԱՅԱՍՏԱՆԻ ՀԱՆՐԱՊԵՏՈՒԹՅԱՆ ՕՐԵՆՔԻ N 1 ՀԱՎԵԼՎԱԾԻ N 3 ԱՂՅՈՒՍԱԿՈՒՄ ԿԱՏԱՐՎՈՂ ՓՈՓՈԽՈՒԹՅՈՒՆՆԵՐԸ
G5: (հազ. դրամ)
A6: Ծրագրային դասիչ | C6: Բյուջետային գլխավոր կարգադրիչների, ծրագրերի, միջոցառումների և ուղղությունների անվանումները | D6: Ցուցանիշների փոփոխությունը (նվազեցումները նշված են փակագծերում)
D7: Ընդամենը, | E7: այդ թվում՝
A8: Ծրագիր | B8: Միջոցառում | E8: Կառուցման աշխատանքներ | F8: Վերակառուցման, վերանորոգման և վերականգնման աշխատանքներ | G8: Նախագծահե- տազոտական, գեոդեզիա- քարտեզագրա- կան աշխա- տանքներ | H8: Ոչ ֆինանսական այլ ակտիվների ձեռքբերում
C9: ԸՆԴԱՄԵՆԸ | D9: =SUM(E9:H9) -> -8130 | E9: =E11 -> -8130 | F9: =F11 -> 0 | G9: =G11 -> 0 | H9: =H11 -> 0
C10: այդ թվում՝
C11: ՀՀ ՏԱՐԱԾՔԱՅԻՆ ԿԱՌԱՎԱՐՄԱՆ ԵՎ ԵՆԹԱԿԱՌՈՒՑՎԱԾՔՆԵՐԻ ՆԱԽԱՐԱՐՈՒԹՅՈՒՆ | D11: =SUM(E11:H11) -> -8130 | E11: =E13 -> -8130 | F11: =F13 -> 0 | G11: =G13 -> 0 | H11: =H13 -> 0
C12: այդ թվում`
A13: 1004 | B13: 31007 | C13: Ջրային տնտեսության հիդրոտեխնիկական սարքավորումների տեղադրման աշխատանքներ | D13: =SUM(E13:H13) -> -8130 | E13: ='4'!D13 -> -8130

Sheet 3
G1: Հավելված N 3
A2: ՀՀ կառավարության 2022 թվականի
A3: -ի N -Ն որոշման
A4: ՀԱՅԱՍՏԱՆԻ ՀԱՆՐԱՊԵՏՈՒԹՅԱՆ ԿԱՌԱՎԱՐՈՒԹՅԱՆ 2021 ԹՎԱԿԱՆԻ ԴԵԿՏԵՄԲԵՐԻ 23-Ի N 2121-Ն ՈՐՈՇՄԱՆ N 3 ԵՎ N 4 ՀԱՎԵԼՎԱԾՆԵՐՈՒՄ ԿԱՏԱՐՎՈՂ ՓՈՓՈԽՈՒԹՅՈՒՆՆԵՐԸ
G6: (հազ. դրամ)
A7: Գործառական դասիչը | D7: Ծրագրային դասիչը | F7: Բյուջետային ծախսերի գործառական դասակարգման բաժինների, խմբերի և դասերի, բյուջետային ծրագրերի միջոցառումների, բյուջետային հատկացումների գլխավոր կարգադրիչների անվանումները | G7: Ցուցանիշների փոփոխությունը (ավելացումները նշված են դրական նշանով, իսկ նվազեցումները՝ փակագծերում)
G8: Տարի
A9: Բաժին | B9: Խումբ | C9: Դաս | D9: Ծրագիր | E9: Միջոցառում
F10: ԸՆԴԱՄԵՆԸ ԾԱԽՍԵՐ | G10: =G12+G31 -> 0
F11: այդ թվում`
A12: 04 | F12: ՏՆՏԵՍԱԿԱՆ ՀԱՐԱԲԵՐՈՒԹՅՈՒՆՆԵՐ | G12: =G14 -> -8130
F13: այդ թվում`
B14: 02 | F14: Գյուղատնտեսություն, անտառային տնտեսություն, ձկնորսություն և որսորդություն | G14: =G16 -> -8130
F15: այդ թվում`
C16: 04 | F16: Ոռոգում | G16: =G18 -> -8130
F17: այդ թվում`
F18: ՀՀ տարածքային կառավարման և ենթակառուցվածքների նախարարություն | G18: =G20 -> -8130
F19: այդ թվում`
D20: 1004 | F20: Ոռոգման համակարգի առողջացում | G20: =G22 -> -8130
F21: այդ թվում`
E22: 31007 | F22: Ջրային տնտեսության հիդրոտեխնիկական սարքավորումների տեղադրման աշխատանքներ | G22: =G26 -> -8130
F23: այդ թվում` ըստ կատարողների
F24: ՀՀ տարածքային կառավարման և ենթակառուցվածքների նախարարության ջրային կոմիտե | G24: =G26 -> -8130
F25: այդ թվում` բյուջետային ծախսերի տնտեսագիտական դասակարգման հոդվածներ
F26: ԸՆԴԱՄԵՆԸ ԾԱԽՍԵՐ | G26: =G27 -> -8130
F27: ՈՉ ՖԻՆԱՆՍԱԿԱՆ ԱԿՏԻՎՆԵՐԻ ԳԾՈՎ ԾԱԽՍԵՐ | G27: =G28 -> -8130
F28: ՀԻՄՆԱԿԱՆ ՄԻՋՈՑՆԵՐ | G28: =G29 -> -8130
F29: ՇԵՆՔԵՐ ԵՎ ՇԻՆՈՒԹՅՈՒՆՆԵՐ | G29: =G30 -> -8130
F30: - Շենքերի և շինությունների շինարարություն | G30: ='4'!D13 -> -8130
A31: 06 | F31: ԲՆԱԿԱՐԱՆԱՅԻՆ ՇԻՆԱՐԱՐՈՒԹՅՈՒՆ ԵՎ ԿՈՄՈՒՆԱԼ ԾԱՌԱՅՈՒԹՅՈՒՆՆԵՐ | G31: =G33 -> 8130
F32: այդ թվում`
B33: 03 | F33: Ջրամատակարարում | G33: =G35 -> 8130
F34: այդ թվում`
C35: 01 | F35: Ջրամատակարարում | G35: =G37 -> 8130
F36: այդ թվում`
F37: ՀՀ տարածքային կառավարման և ենթակառուցվածքների նախարարություն | G37: =G39 -> 8130
F38: այդ թվում`
D39: 1109 | F39: Ջրային տնտեսության ոլորտում ծրագրերի համակարգում և մոնիտորինգ | G39: =G41 -> 8130
F40: այդ թվում`
E41: 11001 | F41: Ջրային տնտեսության ոլորտում պետական քաղաքականության մշակում, ծրագրերի համակարգում և մոնիտորինգ | G41: =G43 -> 8130
...

Sheet 4
A1: Հավելված N 4
A2: ՀՀ կառավարության 2022 թվականի
A3: -ի N -Ն որոշման
A4: ՀԱՅԱՍՏԱՆԻ ՀԱՆՐԱՊԵՏՈՒԹՅԱՆ ԿԱՌԱՎԱՐՈՒԹՅԱՆ 2021 ԹՎԱԿԱՆԻ ԴԵԿՏԵՄԲԵՐԻ 23-Ի N 2121-Ն ՈՐՈՇՄԱՆ N 5 ՀԱՎԵԼՎԱԾԻ N 2 ԱՂՅՈՒՍԱԿՈՒՄ ԿԱՏԱՐՎՈՂ ՓՈՓՈԽՈՒԹՅՈՒՆՆԵՐԸ
D5: (հազ. դրամ)
A6: Ծրագրային դասիչ | C6: Բյուջետային գլխավոր կարգադրիչների, ծրագրերի, միջոցառումների, միջոցառումները կատարող պետական մարմինների և ուղղությունների անվանումները | D6: Ցուցանիշների փոփոխությունը (նվազեցումները նշված են փակագծերում)
D7: Տարի
A8: Ծրագիր | B8: Միջոցառում
C9: ԸՆԴԱՄԵՆԸ | D9: =D11 -> -8130
C10: այդ թվում՝
C11: ՀՀ ՏԱՐԱԾՔԱՅԻՆ ԿԱՌԱՎԱՐՄԱՆ ԵՎ ԵՆԹԱԿԱՌՈՒՑՎԱԾՔՆԵՐԻ ՆԱԽԱՐԱՐՈՒԹՅՈՒՆ | D11: =D13 -> -8130
C12: այդ թվում`
A13: 1004 | B13: 31007 | C13: Ջրային տնտեսության հիդրոտեխնիկական սարքավորումների տեղադրման աշխատանքներ | D13: -8130

Sheet 5-1
C1: Հավելված N 5
C2: ՀՀ կառավարության 2022 թվականի
C3: -ի N -Ն որոշման
C4: Աղյուսակ 1
A5: ՀԱՅԱՍՏԱՆԻ ՀԱՆՐԱՊԵՏՈՒԹՅԱՆ ԿԱՌԱՎԱՐՈՒԹՅԱՆ 2021 ԹՎԱԿԱՆԻ ԴԵԿՏԵՄԲԵՐԻ 23-Ի N 2121-Ն ՈՐՈՇՄԱՆ N 9 ՀԱՎԵԼՎԱԾԻ N 9.7 ԱՂՅՈՒՍԱԿՈՒՄ ԿԱՏԱՐՎՈՂ ՓՈՓՈԽՈՒԹՅՈՒՆՆԵՐԸ
C7: Աղյուսակ 9.7
A8: ՀՀ տարածքային կառավարման և ենթակառուցվածքների նախարարություն
A9: Ծրագրի դասիչը | B9: Ծրագրի անվանումը
A10: 1004 | B10: Ոռոգման համակարգի առողջացում
A11: Ծրագրի միջոցառումները
A14: Ծրագրի դասիչը` | B14: 1004 | C14: Ցուցանիշների փոփոխությունը (նվազեցումները նշված են փակագծերում)
A15: Միջոցառման դասիչը` | B15: 31007 | C15: Տարի
A16: Միջոցառման անվանումը` | B16: Ջրային տնտեսության հիդրոտեխնիկական սարքավորումների տեղադրման աշխատանքներ
A17: Նկարագրությունը` | B17: Ոռոգման համակարգերի ջրանցքների բաժանարար կետերը SCADA համակարգով հագեցած ջրաչափական սարքավորումներով կահավորում
A18: Միջոցառման տեսակը` | B18: Պետական մարմինների կողմից օգտագործվող ոչ ֆինանսական ակտիվների հետ գործառնություններ
A19: Միջոցառումն իրականացնողի անվանումը | B19: ՀՀ ՏԿԵՆ ջրային կոմիտե
A20: Արդյունքի չափորոշիչներ
A21: Միջոցառման վրա կատարվող ծախսը (հազար դրամ) | C21: ='1'!D18 -> -8130
A24: Ծրագրի դասիչը | B24: Ծրագրի անվանումը
A25: 1109 | B25: Ջրային տնտեսության ոլորտում ծրագրերի համակարգում և մոնիտորինգ
A26: Ծրագրի միջոցառումները
A27: Ծրագրի դասիչը` | B27: 1109 | C27: Ցուցանիշների փոփոխությունը (ավելացումները նշված են դրական նշանով)
A28: Միջոցառման դասիչը` | B28: 11001 | C28: Տարի
A29: Միջոցառման անվանումը` | B29: Ջրային տնտեսության ոլորտում պետական քաղաքականության մշակում, ծրագրերի համակարգում և մոնիտորինգ
A30: Նկարագրությունը` | B30: Ոլորտի քաղաքականության խորհրդատվության, կոմիտեի իրավասության տակ ընկնող ծառայությունների ու ծրագրերի համակարգման ծառայություններ
A31: Միջոցառման տեսակը` | B31: Ծառայությունների մատուցում
A32: Միջոցառումն իրականացնողի անվանումը | B32: ՀՀ ՏԿԵՆ Ջրային կոմիտե
A33: Արդյունքի չափորոշիչներ
A34: Միջոցառման վրա կատարվող ծախսը (հազար դրամ) | C34: ='1'!D31 -> 8130

Sheet 5-2
C1: Աղյուսակ 2
A2: ՀԱՅԱՍՏԱՆԻ ՀԱՆՐԱՊԵՏՈՒԹՅԱՆ ԿԱՌԱՎԱՐՈՒԹՅԱՆ 2021 ԹՎԱԿԱՆԻ ԴԵԿՏԵՄԲԵՐԻ 23-Ի N 2121-Ն ՈՐՈՇՄԱՆ N 9.1 ՀԱՎԵԼՎԱԾԻ N 9.1.26 ԱՂՅՈՒՍԱԿՈՒՄ ԿԱՏԱՐՎՈՂ ՓՈՓՈԽՈՒԹՅՈՒՆՆԵՐԸ
C3: Աղյուսակ 9.1.26
A4: ՀՀ տարածքային կառավարման և ենթակառուցվածքների նախարարության ջրային կոմիտե
A5: Ծրագրի դասիչը | B5: Ծրագրի անվանումը
A6: 1004 | B6: Ոռոգման համակարգի առողջացում
A7: Ծրագրի միջոցառումները
A9: Ծրագրի դասիչը` | B9: 1004 | C9: Ցուցանիշների փոփոխությունը (նվազեցումները նշված են փակագծերում)
A10: Միջոցառման դասիչը` | B10: 31007 | C10: Տարի
A11: Միջոցառման անվանումը` | B11: Ջրային տնտեսության հիդրոտեխնիկական սարքավորումների տեղադրման աշխատանքներ
A12: Նկարագրությունը` | B12: Ոռոգման համակարգերի ջրանցքների բաժանարար կետերը SCADA համակարգով հագեցած ջրաչափական սարքավորումներով կահավորում
A13: Միջոցառման տեսակը` | B13: Պետական մարմինների կողմից օգտագործվող ոչ ֆինանսական ակտիվների հետ գործառնություններ
A14: Միջոցառումն իրականացնողի անվանումը | B14: ՀՀ ՏԿԵՆ ջրային կոմիտե
A15: Արդյունքի չափորոշիչներ
A16: Միջոցառման վրա կատարվող ծախսը (հազար դրամ) | C16: ='5-1'!C21 -> -8130
A19: Ծրագրի դասիչը | B19: Ծրագրի անվանումը
A20: 1109 | B20: Ջրային տնտեսության ոլորտում ծրագրերի համակարգում և մոնիտորինգ
A21: Ծրագրի միջոցառումները
A22: Ծրագրի դասիչը` | B22: 1109 | C22: Ցուցանիշների փոփոխությունը (ավելացումները նշված են դրական նշանով)
A23: Միջոցառման դասիչը` | B23: 11001 | C23: Տարի
A24: Միջոցառման անվանումը` | B24: Ջրային տնտեսության ոլորտում պետական քաղաքականության մշակում, ծրագրերի համակարգում և մոնիտորինգ
A25: Նկարագրությունը` | B25: Ոլորտի քաղաքականության խորհրդատվության, կոմիտեի իրավասության տակ ընկնող ծառայությունների ու ծրագրերի համակարգման ծառայություններ
A26: Միջոցառման տեսակը` | B26: Ծառայությունների մատուցում
A27: Միջոցառումն իրականացնողի անվանումը | B27: ՀՀ ՏԿԵՆ Ջրային կոմիտե
A28: Արդյունքի չափորոշիչներ
A29: Միջոցառման վրա կատարվող ծախսը (հազար դրամ) | C29: ='5-1'!C34 -> 8130

Sheet 6
A1: Հավելված N 6
A2: ՀՀ կառավարության 2022 թվականի
A3: -ի N -Ն որոշման
A5: ՀՀ ԿԱՌԱՎԱՐՈՒԹՅԱՆ 2021 ԹՎԱԿԱՆԻ ԴԵԿՏԵՄԲԵՐԻ 23-Ի N 2121-Ն ՈՐՈՇՄԱՆ N 10 ՀԱՎԵԼՎԱԾՈՒՄ ԿԱՏԱՐՎՈՂ ՓՈՓՈԽՈՒԹՅՈՒՆԸ ԵՎ ԼՐԱՑՈՒՄՆԵՐԸ
A7: Կոդը | B7: Անվանումը | C7: Գնման ձևը | D7: Չափի միավորը | E7: Ցուցանիշների փոփոխությունը (ավելացումները նշված են դրական նշանով, իսկ նվազեցումները՝ փակագծերում)
E8: Միավորի գինը | F8: քանակը | G8: գումարը (հազ. դրամ)
A9: ՀՀ տարածքային կառավարման և ենթակառուցվածքների նախարարության ջրային կոմիտե | G9: =G11+G15 -> -8000
A10: Բաժին N 04 | B10: Խումբ N 02 | C10: Դաս N 04 | D10: Ոռոգում
A11: 1004 31007 | B11: Ջրային տնտեսության հիդրոտեխնիկական սարքավորումների տեղադրման աշխատանքներ | G11: =G13 -> -8130
B12: ՄԱՍ II ԱՇԽԱՏԱՆՔՆԵՐ
A13: 45241152/525 | B13: շինարարական աշխատանքներ հիդրոմեխանիկական կառույցների համար | C13: ԲՄ | D13: դրամ | G13: -8130
A14: Բաժին N 06 | B14: Խումբ N 03 | C14: Դաս N 01 | D14: Ջրամատակարարում
A15: 1109 11001 | B15: Ջրային տնտեսության ոլորտում պետական քաղաքականության մշակում, ծրագրերի համակարգում և մոնիտորինգ | G15: =+G16 -> 130
B16: ՄԱՍ III ԾԱՌԱՅՈՒԹՅՈՒՆՆԵՐ | G16: =G17 -> 130
A17: 66511170/2 | B17: փոխադրամիջոցների հետ կապված ապահովագրական ծառայություններ | C17: ՄԱ | D17: դրամ | G17: 130
