Workbook
Name _tab10: #REF!
Name _tab10: #REF!
Name _tab10: #REF!
Name _tab11: #REF!
Name _tab11: #REF!
Name _tab11: #REF!
Name _tab12: #REF!
Name _tab12: #REF!
Name _tab12: #REF!
Name _tab13: #REF!
Name _tab13: #REF!
Name _tab14: #REF!
Name _tab14: #REF!
Name _tab15: #REF!
Name _tab15: #REF!
Name _tab16: #REF!
Name _tab16: #REF!
Name _tab17: #REF!
Name _tab17: #REF!
Name _tab18: #REF!
Name _tab18: #REF!
Name _tab19: #REF!
Name _tab19: #REF!
Name _tab20: #REF!
Name _tab20: #REF!
Name _tab21: #REF!
Name _tab21: #REF!
Name _tab22: #REF!
Name _tab22: #REF!
Name _tab23: #REF!
Name _tab23: #REF!
Name _tab24: #REF!
Name _tab24: #REF!
Name _tab5: #REF!
Name _tab5: #REF!
Name _tab6: #REF!
Name _tab6: #REF!
Name _tab7: #REF!
Name _tab7: #REF!
Name _tab8: #REF!
Name _tab8: #REF!
Name _tab9: #REF!
Name _tab9: #REF!
Name AgencyCode: #REF!
Name AgencyCode: #REF!
Name AgencyCode: #REF!
Name AgencyCode: #REF!
Name AgencyName: #REF!
Name AgencyName: #REF!
Name AgencyName: #REF!
Name åû: #REF!
Name davit: #REF!
Name davit: #REF!
Name davit: #REF!
Name Functional1: #REF!
Name Functional1: #REF!
Name Functional1: #REF!
Name ggg: #REF!
Name ggg: #REF!
Name ggg: #REF!

Sheet Հ1
E2: Հավելված N 1
E3: ՀՀ կառավարության 2022 թվականի
E4: ______________ ի ___Ն որոշման
B6: «ՀԱՅԱՍՏԱՆԻ ՀԱՆՐԱՊԵՏՈՒԹՅԱՆ 2022 ԹՎԱԿԱՆԻ ՊԵՏԱԿԱՆ ԲՅՈՒՋԵԻ ՄԱՍԻՆ» ՕՐԵՆՔԻ N 1 ՀԱՎԵԼՎԱԾԻ N 2 ԱՂՅՈՒՍԱԿՈՒՄ ՎԵՐԱԲԱՇԽՈՒՄ ԵՎ ՀԱՅԱՍՏԱՆԻ ՀԱՆՐԱՊԵՏՈՒԹՅԱՆ ԿԱՌԱՎԱՐՈՒԹՅԱՆ 2021 ԹՎԱԿԱՆԻ ԴԵԿՏԵՄԲԵՐԻ 23-Ի N 2121-Ն ՈՐՈՇՄԱՆ N 5 ՀԱՎԵԼՎԱԾԻ N 1 ԱՂՅՈՒՍԱԿՈՒՄ ԿԱՏԱՐՎՈՂ ՓՈՓՈԽՈՒԹՅՈՒՆՆԵՐԸ ԵՎ ԼՐԱՑՈՒՄՆԵՐԸ
E8: հազար դրամ
B9: Ծրագրային դասիչը | D9: Բյուջետային հատկացումների գլխավոր կարգադրիչների, ծրագրերի և միջոցառումների անվանումները | E9: Ցուցանիշների փոփոխությունը (Ավելացումները նշված են դրական նշանով, իսկ նվազեցումները` փակագծերում)
B10: Ծրագիր | C10: Միջոցառում | E10: Տարի
C11: ԸՆԴԱՄԵՆԸ | E11: =+E12 -> 0
D12: ՀՀ տարածքային կառավարման և ենթակառուցվածքների նախարարություն | E12: =+E69+E13+E56 -> 0
B13: 1004 | D13: Ծրագրի անվանումը` | E13: =E20+E26+E32+E38+E44+E50 -> -334710.19
D14: Ոռոգման համակարգի առողջացում
D15: Ծրագրի նպատակը`
D16: Ոռոգման ծառայությունների հասանելիության և մատչելիության ապահովում
D17: Վերջնական արդյունքի նկարագրությունը`
D18: Ոռոգման ջրի մատակարարման արդյունավետության և հասանելիության բարելավում՝ կորուստների կրճատում
B19: Ծրագրի միջոցառումներ
C20: 11015 | D20: Միջոցառման անվանումը` | E20: =+Հ3!G72 -> -2500
D21: Շրջակա միջավայրի վրա ազդեցության գնահատման ծառայությունների փաթեթի ձեռքբերում
D22: Միջոցառման նկարագրությունը`
D23: Ոռոգման համակարգում շրջակա միջավայրի վրա ազդեցության գնահատման ծառայությունների ձեռքբերում
D24: Միջոցառման տեսակը
D25: Ծառայությունների մատուցում
C26: 31002 | D26: Միջոցառման անվանումը` | E26: =+Հ2!D13 -> -25079.056
D27: Ոռոգման համակարգերի հիմնանորոգում
D28: Միջոցառման նկարագրությունը`
D29: Ոռոգման համակարգերի հիմնանորոգում
D30: Միջոցառման տեսակը
D31: Պետական մարմինների կողմից օգտագործվող ոչ ֆինանսական ակտիվների հետ գործառնություններ
C32: 31009 | D32: Միջոցառման անվանումը` | E32: =+Հ2!D17 -> -132573
D33: Օրվա կարգավորման ջրավազանների կառուցում և վերակառուցում
D34: Միջոցառման նկարագրությունը`
D35: Օրվա կարգավորման ջրավազանների կառուցման և վերակառուցման համար նախագծերի և աշխատանքների ձեռք բերում
D36: Միջոցառման տեսակը
D37: Պետական մարմինների կողմից օգտագործվող ոչ ֆինանսական ակտիվների հետ գործառնություններ
C38: 31012 | D38: Միջոցառման անվանումը` | E38: =+Հ2!D18 -> -39727.486
D39: Գետերի և հեղեղատարների տեղամասերի ամրացման և մաքրման աշխատանքներ
D40: Միջոցառման նկարագրությունը`
D41: Գետերի և հեղեղատարների տեղամասերի ամրացման և մաքրման համար նախագծերի և աշխատանքների ձեռքբերում
D42: Միջոցառման տեսակը
D43: Պետական մարմինների կողմից օգտագործվող ոչ ֆինանսական ակտիվների հետ գործառնություններ
C44: 31014 | D44: Միջոցառման անվանումը` | E44: =+Հ2!D21 -> -58641.648
D45: Ջրամբարների վերականգնման և վերազինման աշխատանքներ
D46: Միջոցառման նկարագրությունը`
D47: Ջրամբարների վերականգնման և վերազինման համար նախագծերի և աշխատանքների ձեռքբերում
D48: Միջոցառման տեսակը
D49: Պետական մարմինների կողմից օգտագործվող ոչ ֆինանսական ակտիվների հետ գործառնություններ
C50: 31020 | D50: Միջոցառման անվանումը` | E50: =+Հ2!D24 -> -76189
D51: Ոռոգման համակարգերի կառուցում
D52: Միջոցառման նկարագրությունը`
D53: Ոռոգման համակարգերի կառուցման համար նախագծերի և աշխատանքների ձեռքբերում
D54: Միջոցառման տեսակը
D55: Պետական մարմինների կողմից օգտագործվող ոչ ֆինանսական ակտիվների հետ գործառնություններ
B56: 1157 | D56: Ծրագրի անվանումը` | E56: =+E64 -> -65000
D57: Քաղաքային զարգացում
D58: Ծրագրի նպատակը`
D59: Քաղաքային ենթակառուցվածքների զարգացում
D60: Վերջնական արդյունքի նկարագրությունը`
D61: Քաղաքային ենթակառուցվածքների արդիականացում և բարելավում
D62: Ծրագրի միջոցառումներ
C63: 12025 | D63: Միջոցառման անվանումը`
D64: Երևանի տարածքում ճանապարհային երթևեկության կարգավորման գծով պետության կողմից համայնքի ղեկավարին պատվիրակված լիազորությունների իրականացում | E64: -65000
D65: Միջոցառման նկարագրությունը`
D66: Երևանի տարածքում ճանապարհային երթևեկության կարգավորման ճանապարհային գծանշումների, երթևեկության նշանների և լուսացույցերի տեղադրման աշխատանքների իրականացում
D67: Միջոցառման տեսակը
D68: Տրանսֆերտների տրամադրում
B69: 1212 | D69: Ծրագրի անվանումը՝ | E69: =+E77+E82 -> 399710.19
D70: Տարածքային զարգացում
D71: Ծրագրի նպատակը՝
D72: Տարածքային համաչափ զարգացման խթանում
D73: Վերջնական արդյունքի նկարագրությունը՝
D74: ՀՀ համայնքների կառավարման արդյունավետության բարձրացում և տնտեսական գործունեության խթանում
D75: Ծրագրի միջոցառումներ
C76: 12007 | D76: Միջոցառման անվանումը`
D77: ՀՀ մարզերին սուբվենցիաների տրամադրում՛ ենթակառուցվածքների զարգացման նպատակով | E77: =-E82-E64-E50-E44-E38-E32-E26-E20 -> 18079.49
D78: Միջոցառման նկարագրությունը`
D79: ՀՀ մարզերին սուբվենցիաների տրամադրում՛ ենթակառուցվածքների զարգացման նպատակով
D80: Միջոցառման տեսակը
D81: Տրանսֆերտների տրամադրում
C82: 12025 | D82: Միջոցառման անվանումը` | E82: =+Հ3!G32 -> 381630.7
D83: Մարզերում առաջնահերթ լուծում պահանջող հիմնախնդիրների լուծում
D84: Միջոցառման նկարագրությունը`
D85: Մարզերում առաջնահերթ լուծում պահանջող ծրագրերի իրականացում, որի արդյունքում լուծում կտրվի բնակչության և համայնքների սոցիալական նշանակություն ունեցող հիմնախնդիրներին:
D86: Միջոցառման տեսակը
D87: Տրանսֆերտների տրամադրում
B90: ՀԱՅԱՍՏԱՆԻ ՀԱՆՐԱՊԵՏՈՒԹՅԱՆ
B91: ՎԱՐՉԱՊԵՏԻ ԱՇԽԱՏԱԿԱԶՄԻ
C92: ՂԵԿԱՎԱՐ ՝ Ա. ՀԱՐՈՒԹՅՈՒՆՅԱՆ

Sheet Հ2
A1: Հավելված N 2
A2: ՀՀ կառավարության 2022 թվականի
A3: -ի N -Ն որոշման
A4: «ՀԱՅԱՍՏԱՆԻ ՀԱՆՐԱՊԵՏՈՒԹՅԱՆ 2022 ԹՎԱԿԱՆԻ ՊԵՏԱԿԱՆ ԲՅՈՒՋԵԻ ՄԱՍԻՆ» ՀԱՅԱՍՏԱՆԻ ՀԱՆՐԱՊԵՏՈՒԹՅԱՆ ՕՐԵՆՔԻ N 1 ՀԱՎԵԼՎԱԾԻ N 3 ԱՂՅՈՒՍԱԿՈՒՄ ԿԱՏԱՐՎՈՂ ՓՈՓՈԽՈՒԹՅՈՒՆՆԵՐԸ
G5: (հազ. դրամ)
A6: Ծրագրային դասիչ | C6: Բյուջետային գլխավոր կարգադրիչների, ծրագրերի, միջոցառումների և ուղղությունների անվանումները | D6: Ցուցանիշների փոփոխությունը (նվազեցումները նշված են փակագծերում)
D7: Ընդամենը, | E7: այդ թվում՝
A8: Ծրագիր | B8: Միջոցառում | E8: Կառուցման աշխատանքներ | F8: Վերակառուցման, վերանորոգման և վերականգնման աշխատանքներ | G8: Նախագծահե- տազոտական, գեոդեզիա- քարտեզագրա- կան աշխա- տանքներ | H8: Ոչ ֆինանսական այլ ակտիվների ձեռքբերում
C9: ԸՆԴԱՄԵՆԸ | D9: =SUM(E9:H9) -> -332210.19 | E9: =E11 -> -76189 | F9: =F11 -> -123448.19 | G9: =G11 -> -132573 | H9: =H11 -> 0
C10: այդ թվում՝
C11: ՀՀ ՏԱՐԱԾՔԱՅԻՆ ԿԱՌԱՎԱՐՄԱՆ ԵՎ ԵՆԹԱԿԱՌՈՒՑՎԱԾՔՆԵՐԻ ՆԱԽԱՐԱՐՈՒԹՅՈՒՆ | D11: =SUM(E11:H11) -> -332210.19 | E11: =E13+E17+E18+E21+E24 -> -76189 | F11: =F13+F17+F18+F21+F24 -> -123448.19 | G11: =G13+G17+G18+G21+G24 -> -132573 | H11: =H13+H17+H18+H21+H24 -> 0
C12: այդ թվում`
A13: 1004 | B13: 31002 | C13: Ոռոգման համակարգերի հիմնանորոգում | D13: =SUM(E13:H13) -> -25079.056 | E13: =SUM(E15:E16) -> 0 | F13: =SUM(F15:F16) -> -25079.056 | G13: =SUM(G15:G16) -> 0 | H13: =SUM(H15:H16) -> 0
C14: այդ թվում`
C15: Մասիսի տարածաշրջանի ինքնաշատրվոնղ հորերի փականներով և ջրաչափերով կահավորելու աշխատանքներ | D15: =SUM(E15:H15) -> -37981.956 | E15: 0 | F15: ='[1]6'!G16 -> -37981.956 | G15: 0 | H15: 0
C16: ՀՀ Արագածոտնի մարզի Թալինի ջրանցքի ձախ ճյուղի հիմնանորոգման աշխատանքներ | D16: =SUM(E16:H16) -> 12902.9 | E16: 0 | F16: ='[1]6'!G17 -> 12902.9 | G16: 0 | H16: 0
A17: 1004 | B17: 31009 | C17: Օրվա կարգավորման ջրավազանների կառուցում և վերակառուցում | D17: =SUM(E17:H17) -> -132573 | E17: 0 | F17: 0 | G17: ='[1]6'!G19 -> -132573 | H17: 0
A18: 1004 | B18: 31012 | C18: Գետերի և հեղեղատարների տեղամասերի ամրացման և մաքրման աշխատանքներ | D18: =SUM(E18:H18) -> -39727.486 | E18: =E20 -> 0 | F18: =F20 -> -39727.486 | G18: =G20 -> 0 | H18: =H20 -> 0
C19: այդ թվում`
C20: Գետիկ հունի մաքրում շուրջ 1600 մ և ափերի ամրացում շուրջ 150 մ Ճամբարակ խոշորացված համայնքի Մարտունի գյուղի տարածքում | D20: =SUM(E20:H20) -> -39727.486 | E20: 0 | F20: ='[1]6'!G32 -> -39727.486 | G20: 0 | H20: 0
A21: 1004 | B21: 31014 | C21: Ջրամբարների վերականգնման և վերազինման աշխատանքներ | D21: =SUM(E21:H21) -> -58641.648 | E21: 0 | F21: =SUM(F23:F23) -> -58641.648 | G21: =SUM(G23:G23) -> 0 | H21: 0
C22: այդ թվում`
C23: Ապարանի ջրամբարի վերանորոգում | D23: =SUM(E23:H23) -> -58641.648 | E23: 0 | F23: ='[1]6'!G26 -> -58641.648 | G23: 0 | H23: 0
A24: 1004 | B24: 31020 | C24: Ոռոգման համակարգերի կառուցում | D24: =SUM(E24:H24) -> -76189 | E24: =E26 -> -76189 | F24: =F26 -> 0 | G24: =G26 -> 0 | H24: =H26 -> 0
C25: այդ թվում`
C26: Երևանի Բուսաբանական այգու ոռոգման ցանցի կառուցում՝ Սարկավագի փողոցի ջրանցքից մինչև Բուսաբանական այգու պարսպի հատված | D26: =SUM(E26:H26) -> -76189 | E26: ='[1]6'!G29 -> -76189 | F26: 0 | G26: 0 | H26: 0

Sheet 2
E1: Հավելված N 2
E2: ՀՀ կառավարության 2022 թվականի
E3: -------------- ի N ---- -Ն որոշման
B6: «ՀԱՅԱՍՏԱՆԻ ՀԱՆՐԱՊԵՏՈՒԹՅԱՆ 2022 ԹՎԱԿԱՆԻ ՊԵՏԱԿԱՆ ԲՅՈՒՋԵԻ ՄԱՍԻՆ» ՕՐԵՆՔԻ N 1 ՀԱՎԵԼՎԱԾԻ N 8 ԱՂՅՈՒՍԱԿՈՒՄ ԿԱՏԱՐՎՈՂ ՓՈՓՈԽՈՒԹՅՈՒՆԸ
D8: հազար դրամ
A9: Ծրագրային դասիչը | C9: Ծրագրերի և միջոցառումների անվանումները | D9: Պետական մարմինների անվանումները | E9: Ցուցանիշների փոփոխությունը (նվազեցումները նշված են փակագծերում)
A10: Ծրագիր | B10: Միջոցառում | E10: Գումարը
C11: ԸՆԴԱՄԵՆԸ | E11: =+E12 -> #REF!
A12: 1212 | C12: Տարածքային զարգացում | E12: =+E13 -> #REF!
B13: 12003 | C13: Պետական աջակցություն սահմանամերձ համայնքներին | D13: =+Հ3!#REF! -> #REF! | E13: =+Հ3!#REF! -> #REF!
A15: ՀԱՅԱՍՏԱՆԻ ՀԱՆՐԱՊԵՏՈՒԹՅԱՆ
A16: ՎԱՐՉԱՊԵՏԻ ԱՇԽԱՏԱԿԱԶՄԻ
B17: ՂԵԿԱՎԱՐ ՝ Ա. ՀԱՐՈՒԹՅՈՒՆՅԱՆ

Sheet Հ3
G1: Հավելված N3
F2: ՀՀ կառավարության 2022 թվականի
F3: ______________ ի ___Ն որոշման
A6: ՀԱՅԱՍՏԱՆԻ ՀԱՆՐԱՊԵՏՈՒԹՅԱՆ ԿԱՌԱՎԱՐՈՒԹՅԱՆ 2021 ԹՎԱԿԱՆԻ ԴԵԿՏԵՄԲԵՐԻ 23-Ի N 2121-Ն ՈՐՈՇՄԱՆ NN 3 ԵՎ 4 ՀԱՎԵԼՎԱԾՆԵՐՈՒՄ ԿԱՏԱՐՎՈՂ ՓՈՓՈԽՈՒԹՅՈՒՆՆԵՐԸ ԵՎ ԼՐԱՑՈՒՄՆԵՐԸ
G8: հազար դրամ
A9: Գործառական դասիչը | D9: Ծրագրային դասիչը | F9: Բյուջետային ծախսերի գործառական դասակարգման բաժինների, խմբերի և դասերի, բյուջետային ծրագրերի, միջոցառումների բյուջետային հատկացումնեյի գլխավոր կարգադրիչների անվանումները | G9: Ցուցանիշների փոփոխությունը (Ավելացումները նշված են դրական նշանով, իսկ նվազեցումները` փակագծերում)
A10: Բաժին | B10: Խումբ | C10: Դաս | D10: Ծրագիր | E10: Միջոցառում | G10: Տարի
F11: ԸՆԴԱՄԵՆԸ | G11: =+G12 -> 0
F12: ՀՀ տարածքային կառավարման և ենթակառուցվածքների նախարարություն | G12: =+G13+G62 -> 0
A13: 01 | F13: ԸՆԴՀԱՆՈՒՐ ԲՆՈՒՅԹԻ ՀԱՆՐԱՅԻՆ ԾԱՌԱՅՈՒԹՅՈՒՆՆԵՐ | G13: =+G15 -> 399710.19
F14: այդ թվում`
B15: 08 | F15: Կառավարության տարբեր մակարդակների միջև իրականացվող ընդհանուր բնույթի տրանսֆերտներ | G15: =G17 -> 399710.19
F16: այդ թվում՝
C17: 01 | F17: Կառավարության տարբեր մակարդակների միջև իրականացվող ընդհանուր բնույթի տրանսֆերտներ | G17: =G19 -> 399710.19
F18: այդ թվում`
F19: ՀՀ տարածքային կառավարման և ենթակառուցվածքների նախարարություն | G19: =+G21 -> 399710.19
F20: այդ թվում`
D21: 1212 | F21: Տարածքային զարգացում | G21: =G32+G23 -> 399710.19
F22: այդ թվում`
E23: 12007 | F23: ՀՀ մարզերին սուբվենցիաների տրամադրում՛ ենթակառուցվածքների զարգացման նպատակով | G23: =+G25 -> 18079.49
F24: այդ թվում` ըստ կատարողների
F25: ՀՀ կառավարություն | G25: =+G27 -> 18079.49
F26: այդ թվում` բյուջետային ծախսերի տնտեսագիտական դասակարգման հոդվածներ
F27: ԸՆԴԱՄԵՆԸ ԾԱԽՍԵՐ | G27: =+G28 -> 18079.49
F28: ԸՆԹԱՑԻԿ ԾԱԽՍԵՐ | G28: =+G29 -> 18079.49
F29: ԴՐԱՄԱՇՆՈՐՀՆԵՐ | G29: =+G30 -> 18079.49
F30: Կապիտալ դրամաշնորհներ պետական հատվածի այլ մակարդակներին | G30: =+G31 -> 18079.49
F31: - Կապիտալ սուբվենցիաներ համայնքներին | G31: =-G117-G108-G99-G90-G81-G72-G55-G48-G41-G34-G134 -> 18079.49
E32: 12025 | F32: Մարզերում առաջնահերթ լուծում պահանջող հիմնախնդիրների լուծում | G32: =+G34+G41+G48+G55 -> 381630.7
F33: այդ թվում`ըստ կատարողների
F34: Գեղարքունիքի մարզպետարան | G34: =+G36 -> 29886.5
F35: այդ թվում` բյուջետային ծախսերի տնտեսագիտական դասակարգման հոդվածներ
F36: ԸՆԴԱՄԵՆԸ ԾԱԽՍԵՐ | G36: =+G37 -> 29886.5
F37: ԸՆԹԱՑԻԿ ԾԱԽՍԵՐ | G37: =+G38 -> 29886.5
F38: ՍՈՑԻԱԼԱԿԱՆ ՆՊԱՍՏՆԵՐ ԵՎ ԿԵՆՍԱԹՈՇԱԿՆԵՐ | G38: =+G39 -> 29886.5
F39: ՍՈՑԻԱԼԱԿԱՆ ՕԳՆՈՒԹՅԱՆ ԴՐԱՄԱԿԱՆ ԱՐՏԱՀԱՅՏՈՒԹՅԱՄԲ ՆՊԱՍՏՆԵՐ (ԲՅՈՒՋԵԻՑ) | G39: =+G40 -> 29886.5
F40: Այլ նպաստներ բյուջեից | G40: 29886.5
F41: Վայոց ձորի մարզպետարան | G41: =+G43 -> 13118
F42: այդ թվում` բյուջետային ծախսերի տնտեսագիտական դասակարգման հոդվածներ
F43: ԸՆԴԱՄԵՆԸ ԾԱԽՍԵՐ | G43: =+G44 -> 13118
F44: ԸՆԹԱՑԻԿ ԾԱԽՍԵՐ | G44: =+G45 -> 13118
F45: ՍՈՑԻԱԼԱԿԱՆ ՆՊԱՍՏՆԵՐ ԵՎ ԿԵՆՍԱԹՈՇԱԿՆԵՐ | G45: =+G46 -> 13118
F46: ՍՈՑԻԱԼԱԿԱՆ ՕԳՆՈՒԹՅԱՆ ԴՐԱՄԱԿԱՆ ԱՐՏԱՀԱՅՏՈՒԹՅԱՄԲ ՆՊԱՍՏՆԵՐ (ԲՅՈՒՋԵԻՑ) | G46: =+G47 -> 13118
F47: Այլ նպաստներ բյուջեից | G47: 13118
F48: Սյունիքի մարզպետարան | G48: =+G50 -> 326885.2
F49: այդ թվում` բյուջետային ծախսերի տնտեսագիտական դասակարգման հոդվածներ
F50: ԸՆԴԱՄԵՆԸ ԾԱԽՍԵՐ | G50: =+G51 -> 326885.2
F51: ԸՆԹԱՑԻԿ ԾԱԽՍԵՐ | G51: =+G52 -> 326885.2
F52: ՍՈՑԻԱԼԱԿԱՆ ՆՊԱՍՏՆԵՐ ԵՎ ԿԵՆՍԱԹՈՇԱԿՆԵՐ | G52: =+G53 -> 326885.2
F53: ՍՈՑԻԱԼԱԿԱՆ ՕԳՆՈՒԹՅԱՆ ԴՐԱՄԱԿԱՆ ԱՐՏԱՀԱՅՏՈՒԹՅԱՄԲ ՆՊԱՍՏՆԵՐ (ԲՅՈՒՋԵԻՑ) | G53: =+G54 -> 326885.2
F54: Այլ նպաստներ բյուջեից | G54: 326885.2
F55: Տավուշի մարզպետարան | G55: =+G57 -> 11741
F56: այդ թվում` բյուջետային ծախսերի տնտեսագիտական դասակարգման հոդվածներ
F57: ԸՆԴԱՄԵՆԸ ԾԱԽՍԵՐ | G57: =+G58 -> 11741
F58: ԸՆԹԱՑԻԿ ԾԱԽՍԵՐ | G58: =+G59 -> 11741
F59: ՍՈՑԻԱԼԱԿԱՆ ՆՊԱՍՏՆԵՐ ԵՎ ԿԵՆՍԱԹՈՇԱԿՆԵՐ | G59: =+G60 -> 11741
F60: ՍՈՑԻԱԼԱԿԱՆ ՕԳՆՈՒԹՅԱՆ ԴՐԱՄԱԿԱՆ ԱՐՏԱՀԱՅՏՈՒԹՅԱՄԲ ՆՊԱՍՏՆԵՐ (ԲՅՈՒՋԵԻՑ) | G60: =+G61 -> 11741
F61: Այլ նպաստներ բյուջեից | G61: 11741
A62: 04 | F62: ՏՆՏԵՍԱԿԱՆ ՀԱՐԱԲԵՐՈՒԹՅՈՒՆՆԵՐ | G62: =G64+G126 -> -399710.19
F63: այդ թվում`
B64: 02 | F64: Գյուղատնտեսություն, անտառային տնտեսություն, ձկնորսություն և որսորդություն | G64: =G66 -> -334710.19
F65: այդ թվում`
C66: 04 | F66: Ոռոգում | G66: =G68 -> -334710.19
F67: այդ թվում`
F68: ՀՀ տարածքային կառավարման և ենթակառուցվածքների նախարարություն | G68: =G70 -> -334710.19
F69: այդ թվում`
D70: 1004 | F70: Ոռոգման համակարգի առողջացում | G70: =G72+G81+G90+G99+G108+G117 -> -334710.19
F71: այդ թվում`
E72: 11015 | F72: Շրջակա միջավայրի վրա ազդեցության գնահատման ծառայությունների փաթեթի ձեռքբերում | G72: =G76 -> -2500
F73: այդ թվում` ըստ կատարողների
F74: ՀՀ տարածքային կառավարման և ենթակառուցվածքների նախարարության ջրային կոմիտե | G74: =G76 -> -2500
F75: այդ թվում` բյուջետային ծախսերի տնտեսագիտական դասակարգման հոդվածներ
F76: ԸՆԴԱՄԵՆԸ ԾԱԽՍԵՐ | G76: =G77 -> -2500
F77: ԸՆԹԱՑԻԿ ԾԱԽՍԵՐ | G77: =G78 -> -2500
F78: ԾԱՌԱՅՈՒԹՅՈՒՆՆԵՐԻ ԵՎ ԱՊՐԱՆՔՆԵՐԻ ՁԵՌՔԲԵՐՈՒՄ | G78: =G79 -> -2500
F79: Այլ մասնագիտական ծառայությունների ձեռքբերում | G79: =G80 -> -2500
F80: - Մասնագիտական ծառայություններ | G80: -2500
E81: 31002 | F81: Ոռոգման համակարգերի հիմնանորոգում | G81: =G83 -> -25079.056
F82: այդ թվում` ըստ կատարողների
F83: ՀՀ տարածքային կառավարման և ենթակառուցվածքների նախարարության ջրային կոմիտե | G83: =G85 -> -25079.056
F84: այդ թվում` բյուջետային ծախսերի տնտեսագիտական դասակարգման հոդվածներ
F85: ԸՆԴԱՄԵՆԸ ԾԱԽՍԵՐ | G85: =G86 -> -25079.056
F86: ՈՉ ՖԻՆԱՆՍԱԿԱՆ ԱԿՏԻՎՆԵՐԻ ԳԾՈՎ ԾԱԽՍԵՐ | G86: =G87 -> -25079.056
F87: ՀԻՄՆԱԿԱՆ ՄԻՋՈՑՆԵՐ | G87: =G88 -> -25079.056
F88: ՇԵՆՔԵՐ ԵՎ ՇԻՆՈՒԹՅՈՒՆՆԵՐ | G88: =G89 -> -25079.056
F89: - Շենքերի և շինությունների կապիտալ վերանորոգում | G89: =+Հ2!D13 -> -25079.056
E90: 31009 | F90: Օրվա կարգավորման ջրավազանների կառուցում և վերակառուցում | G90: =G92 -> -132573
F91: այդ թվում` ըստ կատարողների
F92: ՀՀ տարածքային կառավարման և ենթակառուցվածքների նախարարության ջրային կոմիտե | G92: =G94 -> -132573
F93: այդ թվում` բյուջետային ծախսերի տնտեսագիտական դասակարգման հոդվածներ
F94: ԸՆԴԱՄԵՆԸ ԾԱԽՍԵՐ | G94: =G95 -> -132573
F95: ՈՉ ՖԻՆԱՆՍԱԿԱՆ ԱԿՏԻՎՆԵՐԻ ԳԾՈՎ ԾԱԽՍԵՐ | G95: =G96 -> -132573
F96: ՀԻՄՆԱԿԱՆ ՄԻՋՈՑՆԵՐ | G96: =G97 -> -132573
F97: ԱՅԼ ՀԻՄՆԱԿԱՆ ՄԻՋՈՑՆԵՐ | G97: =G98 -> -132573
F98: - Նախագծահետազոտական ծախսեր | G98: =+Հ2!D17 -> -132573
E99: 31012 | F99: Գետերի և հեղեղատարների տեղամասերի ամրացման և մաքրման աշխատանքներ | G99: =G101 -> -39727.486
F100: այդ թվում` ըստ կատարողների
F101: ՀՀ տարածքային կառավարման և ենթակառուցվածքների նախարարության ջրային կոմիտե | G101: =G103 -> -39727.486
F102: այդ թվում` բյուջետային ծախսերի տնտեսագիտական դասակարգման հոդվածներ
F103: ԸՆԴԱՄԵՆԸ ԾԱԽՍԵՐ | G103: =G104 -> -39727.486
...

Sheet Հ4
D1: Հավելված N4
D2: ՀՀ կառավարության 2022 թվականի
D3: -------------- ի N ---- -Ն որոշման
A5: «ՀԱՅԱՍՏԱՆԻ ՀԱՆՐԱՊԵՏՈՒԹՅԱՆ 2022 ԹՎԱԿԱՆԻ ՊԵՏԱԿԱՆ ԲՅՈՒՋԵԻ ՄԱՍԻՆ» ՕՐԵՆՔԻ N 1 ՀԱՎԵԼՎԱԾԻ N 7 ԱՂՅՈՒՍԱԿՈՒՄ ԵՎ ՀԱՅԱՍՏԱՆԻ ՀԱՆՐԱՊԵՏՈՒԹՅԱՆ ԿԱՌԱՎԱՐՈՒԹՅԱՆ 2021 ԹՎԱԿԱՆԻ ԴԵԿՏԵՄԲԵՐԻ 23-Ի N 2121-Ն ՈՐՈՇՄԱՆ N 5 ՀԱՎԵԼՎԱԾԻ N 6 ԱՂՅՈՒՍԱԿՈՒՄ ԿԱՏԱՐՎՈՂ ԼՐԱՑՈՒՄՆԵՐԸ
D6: հազար դրամ
A7: Ծրագրային դասիչը | C7: Բյուջետային հատկացումների գլխավոր կարգադրիչների, ծրագրերի, միջոցառումների և միջոցառումները կատարող պետական մարմինների անվանումները | D7: Ցուցանիշների փոփոխությունը (ավելացումները նշված են դրական նշանով)
A8: Ծրագիր | B8: Միջոցառում | D8: Տարի
C9: ԸՆԴԱՄԵՆԸ | D9: =+D11 -> 18079.49
C10: այդ թվում
C11: Կապիտալ սուբվենցիաներ համայնքներին | D11: =+D13 -> 18079.49
C12: այդ թվում`
C13: ՀՀ տարածքային կառավարման և ենթակառուցվածքների նախարարություն | D13: =+D15 -> 18079.49
C14: այդ թվում`
A15: 1212 | C15: Տարածքային զարգացում | D15: =+D17 -> 18079.49
C16: այդ թվում`
B17: 12007 | C17: ՀՀ մարզերին սուբվենցիաների տրամադրում՝ ենթակառուցվածքների զարգացման նպատակով | D17: =+D19 -> 18079.49
C18: այդ թվում` ըստ կատարողների
C19: ՀՀ կառավարություն | D19: =+Հ3!G31 -> 18079.49

Sheet Հ 5
A1: Հավելված N 5
A2: ՀՀ կառավարության 2022 թվականի
A3: -ի N -Ն որոշման
A4: ՀԱՅԱՍՏԱՆԻ ՀԱՆՐԱՊԵՏՈՒԹՅԱՆ ԿԱՌԱՎԱՐՈՒԹՅԱՆ 2021 ԹՎԱԿԱՆԻ ԴԵԿՏԵՄԲԵՐԻ 23-Ի N 2121-Ն ՈՐՈՇՄԱՆ N 5 ՀԱՎԵԼՎԱԾԻ N 2 ԱՂՅՈՒՍԱԿՈՒՄ ԿԱՏԱՐՎՈՂ ՓՈՓՈԽՈՒԹՅՈՒՆՆԵՐԸ
D5: (հազ. դրամ)
A6: Ծրագրային դասիչ | C6: Բյուջետային գլխավոր կարգադրիչների, ծրագրերի, միջոցառումների, միջոցառումները կատարող պետական մարմինների և ուղղությունների անվանումները | D6: Ցուցանիշների փոփոխությունը (Նվազեցումները նշված են փակագծերում)
D7: Տարի
A8: Ծրագիր | B8: Միջոցառում
C9: ԸՆԴԱՄԵՆԸ | D9: =D11 -> -332210.19
C10: այդ թվում՝
C11: ՀՀ ՏԱՐԱԾՔԱՅԻՆ ԿԱՌԱՎԱՐՄԱՆ ԵՎ ԵՆԹԱԿԱՌՈՒՑՎԱԾՔՆԵՐԻ ՆԱԽԱՐԱՐՈՒԹՅՈՒՆ | D11: =D13+D19+D22+D27+D32 -> -332210.19
C12: այդ թվում`
A13: 1004 | B13: 31002 | C13: Ոռոգման համակարգերի հիմնանորոգում | D13: =D15 -> -25079.056
C14: այդ թվում` ըստ կատարողների
C15: ՀՀ տարածքային կառավարման և ենթակառուցվածքների նախարարության ջրային կոմիտե | D15: =D17+D18 -> -25079.056
C16: այդ թվում` ըստ ուղղությունների
C17: Մասիսի տարածաշրջանի ինքնաշատրվոնղ հորերի փականներով և ջրաչափերով կահա-վորելու աշխատանքներ | D17: ='[1]2'!F15 -> -37981.956
C18: ՀՀ Արագածոտնի մարզի Թալինի ջրանցքի ձախ ճյուղի հիմնանորոգման աշխատանքներ | D18: ='[1]2'!F16 -> 12902.9
A19: 1004 | B19: 31009 | C19: Օրվա կարգավորման ջրավազանների կառուցում և վերակառուցում | D19: =D21 -> -132573
C20: այդ թվում` ըստ կատարողների
C21: ՀՀ տարածքային կառավարման և ենթակառուցվածքների նախարարության ջրային կոմիտե | D21: ='[1]2'!D17 -> -132573
A22: 1004 | B22: 31012 | C22: Գետերի և հեղեղատարների տեղամասերի ամրացման և մաքրման աշխատանքներ | D22: =D24 -> -39727.486
C23: այդ թվում` ըստ կատարողների
C24: ՀՀ տարածքային կառավարման և ենթակառուցվածքների նախարարության ջրային կոմիտե | D24: =D26 -> -39727.486
C25: այդ թվում` ըստ ուղղությունների
C26: Գետիկ հունի մաքրում շուրջ 1600 մ և ափերի ամրացում շուրջ 150 մ Ճամբարակ խոշորացված համայնքի Մարտունի գյուղի տարածքում | D26: ='[1]2'!F20 -> -39727.486
A27: 1004 | B27: 31014 | C27: Ջրամբարների վերականգնման և վերազինման աշխատանքներ | D27: =D29 -> -58641.648
C28: այդ թվում` ըստ կատարողների
C29: ՀՀ տարածքային կառավարման և ենթակառուցվածքների նախարարության ջրային կոմիտե | D29: =D31 -> -58641.648
C30: այդ թվում` ըստ ուղղությունների
C31: Ապարանի ջրամբարի վերանորոգում | D31: ='[1]2'!D23 -> -58641.648
A32: 1004 | B32: 31020 | C32: ='[2]2'!C13 -> Ոռոգման համակարգերի կառուցում | D32: =D34 -> -76189
C33: այդ թվում` ըստ կատարողների
C34: ՀՀ տարածքային կառավարման և ենթակառուցվածքների նախարարության ջրային կոմիտե | D34: =D36 -> -76189
C35: այդ թվում` ըստ ուղղությունների
C36: ='[2]2'!C15 -> Երևանի Բուսաբանական այգու ոռոգման ցանցի կառուցում՝ Սարկավագի փողոցի ջրանցքից մինչև Բուսաբանական այգու պարսպի հատված | D36: ='[1]6'!G27 -> -76189

Sheet Հ 6
D2: Հավելված N6
D3: ՀՀ կառավարության 2022 թվականի
D4: ______________ ի ___Ն որոշման
A7: ՀԱՅԱՍՏԱՆԻ ՀԱՆՐԱՊԵՏՈՒԹՅԱՆ ԿԱՌԱՎԱՐՈՒԹՅԱՆ 2021 ԹՎԱԿԱՆԻ ԴԵԿՏԵՄԲԵՐԻ 23-Ի N 2121-Ն ՈՐՈՇՄԱՆ N 9 ՀԱՎԵԼՎԱԾԻ N 9.7 ԱՂՅՈՒՍԱԿՈՒՄ ԿԱՏԱՐՎՈՂ ՓՈՓՈԽՈՒԹՅՈՒՆՆԵՐԸ ԵՎ ԼՐԱՑՈՒՄՆԵՐԸ
A8: ՀՀ տարածքային կառավարման և ենթակառուցվածքների նախարարություն
B10: ՄԱՍ 2. ՊԵՏԱԿԱՆ ՄԱՐՄՆԻ ԳԾՈՎ ԱՐԴՅՈՒՆՔԱՅԻՆ (ԿԱՏԱՐՈՂԱԿԱՆ) ՑՈՒՑԱՆԻՇՆԵՐԸ
B13: Ծրագրի դասիչը | C13: Ծրագրի անվանումը
B14: 1004 | C14: Ոռոգման համակարգի առողջացում
B16: Ծրագրի միջոցառումները
B17: Ծրագրի դասիչը` | C17: 1004 | D17: Ցուցանիշների փոփոխությունը (նվազեցումները նշված են փակագծերում)
B18: Միջոցառման դասիչը` | C18: 11015 | D18: Տարի
B19: Միջոցառման անվանումը` | C19: Շրջակա միջավայրի վրա ազդեցության գնահատման ծառայությունների փաթեթի ձեռքբերում
B20: Նկարագրությունը` | C20: Ոռոգման համակարգում շրջակա միջավայրի վրա ազդեցության գնահատման ծառայությունների ձեռքբերում
B21: Միջոցառման տեսակը` | C21: Ծառայությունների մատուցում
B22: Միջոցառումն իրականացնողի անվանումը | C22: ՀՀ ՏԿԵՆ ջրային կոմիտե
B23: Արդյունքի չափորոշիչներ
B24: Շրջակա միջավայրի վրա ազդեցության գնահատման ծառայությունների ձեռքբերման փաթեթ,հատ | D24: -1
B25: Միջոցառման վրա կատարվող ծախսը (հազար դրամ) | D25: -2500
B27: Ծրագրի դասիչը` | C27: 1004 | D27: Ցուցանիշների փոփոխությունը (նվազեցումները նշված են փակագծերում)
B29: Միջոցառման դասիչը` | C29: 31002 | D29: Տարի
B30: Միջոցառման անվանումը` | C30: Ոռոգման համակարգերի հիմնանորոգում
B31: Նկարագրությունը` | C31: Ոռոգման համակարգերի հիմնանորոգում
B32: Միջոցառման տեսակը` | C32: Պետական մարմինների կողմից օգտագործվող ոչ ֆինանսական ակտիվների հետ գործառնություններ
B33: Ակտիվն օգտագործող կազմակերպության(ների) անվանում(ները)՛ | C33: ՀՀ ՏԿԵՆ ջրային կոմիտե
B34: Արդյունքի չափորոշիչներ
B35: Վերականգնվող ինքնաշատրվանվող հորեր, հատ | D35: -90
B36: Միջոցառման վրա կատարվող ծախսը (հազար դրամ) | D36: =+Հ3!G81 -> -25079.056
B38: Ծրագրի դասիչը` | C38: 1004 | D38: Ցուցանիշների փոփոխությունը (նվազեցումները նշված են փակագծերում)
B40: Միջոցառման դասիչը` | C40: 31009 | D40: Տարի
B41: Միջոցառման անվանումը` | C41: Օրվա կարգավորման ջրավազանների կառուցում և վերակառուցում
B42: Նկարագրությունը` | C42: Օրվա կարգավորման ջրավազանների կառուցման և վերակառուցման համար նախագծերի և աշխատանքների ձեռք բերում
B43: Միջոցառման տեսակը` | C43: Պետական մարմինների կողմից օգտագործվող ոչ ֆինանսական ակտիվների հետ գործառնություններ
B44: Ակտիվն օգտագործող կազմակերպության(ների) անվանում(ները)՛ | C44: ՀՀ ՏԿԵՆ ջրային կոմիտե
B45: Արդյունքի չափորոշիչներ
B46: Նախագծանախահաշվային փաստաթղթեր, հատ | D46: -31
B47: Միջոցառման վրա կատարվող ծախսը (հազար դրամ) | D47: =+Հ3!G90 -> -132573
B49: Ծրագրի դասիչը` | C49: 1004 | D49: Ցուցանիշների փոփոխությունը (նվազեցումները նշված են փակագծերում)
B51: Միջոցառման դասիչը` | C51: 31012 | D51: Տարի
B52: Միջոցառման անվանումը` | C52: Գետերի և հեղեղատարների տեղամասերի ամրացման և մաքրման աշխատանքներ
B53: Նկարագրությունը` | C53: Գետերի և հեղեղատարների տեղամասերի ամրացման և մաքրման համար նախագծերի և աշխատանքների ձեռքբերում
B54: Միջոցառման տեսակը` | C54: Պետական մարմինների կողմից օգտագործվող ոչ ֆինանսական ակտիվների հետ գործառնություններ
B55: Ակտիվն օգտագործող կազմակերպության(ների) անվանում(ները)՛ | C55: ՀՀ ՏԿԵՆ ջրային կոմիտե
B56: Արդյունքի չափորոշիչներ
B57: Գետերի հուների մաքրում, մ | D57: -800
B58: Հենապատերի վերականգնում և ամրացում, մ | D58: -75
B59: Միջոցառման վրա կատարվող ծախսը (հազար դրամ) | D59: =+Հ3!G99 -> -39727.486
B61: Ծրագրի դասիչը` | C61: 1004 | D61: Ցուցանիշների փոփոխությունը (նվազեցումները նշված են փակագծերում)
B63: Միջոցառման դասիչը` | C63: 31014 | D63: Տարի
B64: Միջոցառման անվանումը` | C64: Ջրամբարների վերականգնման և վերազինման աշխատանքներ
B65: Նկարագրությունը` | C65: Ջրամբարների վերականգնման և վերազինման համար նախագծերի և աշխատանքների ձեռքբերում
B66: Միջոցառման տեսակը` | C66: Պետական մարմինների կողմից օգտագործվող ոչ ֆինանսական ակտիվների հետ գործառնություններ
B67: Ակտիվն օգտագործող կազմակերպության(ների) անվանում(ները)՛ | C67: Ոռոգման համակարգի ընկերություններ
B68: Արդյունքի չափորոշիչներ
B69: Վերականգնվող ջրամբարներ, հատ | D69: -1
B70: Միջոցառման վրա կատարվող ծախսը (հազար դրամ) | D70: =+Հ3!G108 -> -58641.648
B72: Ծրագրի դասիչը` | C72: 1004 | D72: Ցուցանիշների փոփոխությունը (նվազեցումները նշված են փակագծերում)
B74: Միջոցառման դասիչը` | C74: 31020 | D74: Տարի
B75: Միջոցառման անվանումը` | C75: Ոռոգման համակարգերի կառուցում
B76: Նկարագրությունը` | C76: Ոռոգման համակարգերի կառուցման համար նախագծերի և աշխատանքների ձեռքբերում
B77: Միջոցառման տեսակը` | C77: Պետական մարմինների կողմից օգտագործվող ոչ ֆինանսական ակտիվների հետ գործառնություններ
B78: Ակտիվն օգտագործող կազմակերպության(ների) անվանում(ները)՛ | C78: ՀՀ ՏԿԵՆ ջրային կոմիտե
B79: Արդյունքի չափորոշիչներ
B80: Պոլիէթիլենային խողովակի տեղադրում Փ500x19մմ, գմ | D80: -747
B81: Միջոցառման վրա կատարվող ծախսը (հազար դրամ) | D81: =+Հ3!G117 -> -76189
B84: Ծրագրի դասիչը | C84: Ծրագրի անվանումը
B85: 1157 | C85: Քաղաքային զարգացում
B87: Ծրագրի դասիչը` | C87: 1157 | D87: Ցուցանիշների փոփոխությունը (նվազեցումները նշված են փակագծերում)
B88: Միջոցառման դասիչը` | C88: 12025 | D88: Տարի
B89: Միջոցառման անվանումը` | C89: Երևանի տարածքում ճանապարհային երթևեկության կարգավորման գծով պետության կողմից համայնքի ղեկավարին պատվիրակված լիազորությունների իրականացում
B90: Նկարագրությունը` | C90: Երևանի տարածքում ճանապարհային երթևեկության կարգավորման ճանապարհային գծանշումների, երթևեկության նշանների և լուսացույցերի տեղադրման աշխատանքների իրականացում
B91: Միջոցառման տեսակը` | C91: Տրանսֆերտների տրամադրում
B92: Շահառուների ընտրության չափանիշները | C92: ՀՀ բնակչություն
B93: Արդյունքի չափորոշիչներ
B94: Միջոցառման վրա կատարվող ծախսը (հազար դրամ) | D94: =+Հ3!G134 -> -65000
B97: Ծրագրի դասիչը | C97: Ծրագրի անվանումը
B98: 1212 | C98: Տարածքային զարգացում
B100: Ծրագրի միջոցառումները
B102: Ծրագրի դասիչը` | C102: 1212 | D102: Ցուցանիշների փոփոխությունը (ավելացումները նշված են դրական նշանով)
B103: Միջոցառման դասիչը` | C103: 12007 | D103: Տարի
B104: Միջոցառման անվանումը` | C104: ՀՀ մարզերին սուբվենցիաների տրամադրում՛ ենթակառուցվածքների զարգացման նպատակով
B105: Նկարագրությունը` | C105: ՀՀ մարզերին սուբվենցիաների տրամադրում՛ ենթակառուցվածքների զարգացման նպատակով
B106: Միջոցառման տեսակը` | C106: Տրանսֆերտների տրամադրում
B107: Միջոցառումն իրականացնողի անվանումը | C107: ՀՀ համայնքներ
B108: Արդյունքի չափորոշիչներ
B109: Միջոցառման վրա կատարվող ծախսը (հազար դրամ) | D109: =+Հ4!D19 -> 18079.49
B111: Ծրագրի դասիչը` | C111: 1212 | D111: Ցուցանիշների փոփոխությունը (Ավելացումները նշված են դրական նշանով)
B112: Միջոցառման դասիչը` | C112: 12025 | D112: Տարի
B113: Միջոցառման անվանումը` | C113: Մարզերում առաջնահերթ լուծում պահանջող հիմնախնդիրների լուծում
B114: Նկարագրությունը` | C114: Մարզերում առաջնահերթ լուծում պահանջող ծրագրերի իրականացում, որի արդյունքում լուծում կտրվի բնակչության և համայնքների սոցիալական նշանակություն ունեցող հիմնախնդիրներին
B115: Միջոցառման տեսակը` | C115: Տրանսֆերտների տրամադրում
B116: Շահառուների ընտրության չափանիշները` | C116: Համայնքներ
B117: Արդյունքի չափորոշիչներ
B118: Միջոցառման վրա կատարվող ծախսը (հազար դրամ) | D118: =+Հ3!G32 -> 381630.7
B123: ՀԱՅԱՍՏԱՆԻ ՀԱՆՐԱՊԵՏՈՒԹՅԱՆ
B124: ՎԱՐՉԱՊԵՏԻ ԱՇԽԱՏԱԿԱԶՄԻ
B125: ՂԵԿԱՎԱՐ | D125: Ա. ՀԱՐՈՒԹՅՈՒՆՅԱՆ

Sheet Հ 7
D1: Հավելված N7
D2: ՀՀ կառավարության 2022 թվականի
D3: -------------- ի N ---- -Ն որոշման
B6: ՀԱՅԱՍՏԱՆԻ ՀԱՆՐԱՊԵՏՈՒԹՅԱՆ ԿԱՌԱՎԱՐՈՒԹՅԱՆ 2021 ԹՎԱԿԱՆԻ ԴԵԿՏԵՄԲԵՐԻ 23-Ի N 2121-Ն ՈՐՈՇՄԱՆ N 9.1 ՀԱՎԵԼՎԱԾԻ NN 9.1.8, 9.1.26, 9.1.52, 9.1.56, 9.1.57, 9.1.58 ԵՎ 9.1.57 ԱՂՅՈՒՍԱԿՆԵՐՈՒՄ ԿԱՏԱՐՎՈՂ ՓՈՓՈԽՈՒԹՅՈՒՆՆԵՐԸ ԵՎ ԼՐԱՑՈՒՄՆԵՐԸ
D8: Աղյուսակ 9.1.8
B9: ՀՀ տարածքային կառավարման և ենթակառուցվածքների նախարարություն
B11: Ծրագրի դասիչը | C11: Ծրագրի անվանումը
B12: 1157 | C12: Քաղաքային զարգացում
B14: Ծրագրի միջոցառումները
B15: Ծրագրի դասիչը` | C15: 1157 | D15: Ցուցանիշների փոփոխությունը (նվազեցումները նշված են փակագծերում)
B16: Միջոցառման դասիչը` | C16: 12025 | D16: Տարի
B17: Միջոցառման անվանումը` | C17: Երևանի տարածքում ճանապարհային երթևեկության կարգավորման գծով պետության կողմից համայնքի ղեկավարին պատվիրակված լիազորությունների իրականացում
B18: Նկարագրությունը` | C18: Երևանի տարածքում ճանապարհային երթևեկության կարգավորման ճանապարհային գծանշումների, երթևեկության նշանների և լուսացույցերի տեղադրման աշխատանքների իրականացում
B19: Միջոցառման տեսակը` | C19: Տրանսֆերտների տրամադրում
B20: Շահառուների ընտրության չափանիշները | C20: ՀՀ բնակչություն
B21: Արդյունքի չափորոշիչներ
B22: Միջոցառման վրա կատարվող ծախսը (հազար դրամ) | D22: =+'Հ 6'!D94 -> -65000
D25: Աղյուսակ 9.1.26
B26: ՀՀ տարածքային կառավարման և ենթակառուցվածքների նախարարության ջրային կոմիտե
B28: Ծրագրի դասիչը | C28: Ծրագրի անվանումը
B29: 1004 | C29: Ոռոգման համակարգի առողջացում
B31: Ծրագրի միջոցառումները
B32: Ծրագրի դասիչը` | C32: 1004 | D32: Ցուցանիշների փոփոխությունը (նվազեցումները նշված են փակագծերում)
B33: Միջոցառման դասիչը` | C33: 11015 | D33: Տարի
B34: Միջոցառման անվանումը` | C34: Շրջակա միջավայրի վրա ազդեցության գնահատման ծառայությունների փաթեթի ձեռքբերում
B35: Նկարագրությունը` | C35: Ոռոգման համակարգում շրջակա միջավայրի վրա ազդեցության գնահատման ծառայությունների ձեռքբերում
B36: Միջոցառման տեսակը` | C36: Ծառայությունների մատուցում
B37: Միջոցառումն իրականացնողի անվանումը | C37: ՀՀ ՏԿԵՆ ջրային կոմիտե
B38: Արդյունքի չափորոշիչներ
B39: Շրջակա միջավայրի վրա ազդեցության գնահատման ծառայությունների ձեռքբերման փաթեթ,հատ | D39: -1
B40: Միջոցառման վրա կատարվող ծախսը (հազար դրամ) | D40: -2500
B42: Ծրագրի դասիչը` | C42: 1004 | D42: Ցուցանիշների փոփոխությունը (նվազեցումները նշված են փակագծերում)
B44: Միջոցառման դասիչը` | C44: 31002 | D44: Տարի
B45: Միջոցառման անվանումը` | C45: Ոռոգման համակարգերի հիմնանորոգում
B46: Նկարագրությունը` | C46: Ոռոգման համակարգերի հիմնանորոգում
B47: Միջոցառման տեսակը` | C47: Պետական մարմինների կողմից օգտագործվող ոչ ֆինանսական ակտիվների հետ գործառնություններ
B48: Ակտիվն օգտագործող կազմակերպության(ների) անվանում(ները)՛ | C48: ՀՀ ՏԿԵՆ ջրային կոմիտե
B49: Արդյունքի չափորոշիչներ
B50: Վերականգնվող ինքնաշատրվանվող հորեր, հատ | D50: -90
B51: Միջոցառման վրա կատարվող ծախսը (հազար դրամ) | D51: =+'Հ 6'!D36 -> -25079.056
B53: Ծրագրի դասիչը` | C53: 1004 | D53: Ցուցանիշների փոփոխությունը (նվազեցումները նշված են փակագծերում)
B55: Միջոցառման դասիչը` | C55: 31009 | D55: Տարի
B56: Միջոցառման անվանումը` | C56: Օրվա կարգավորման ջրավազանների կառուցում և վերակառուցում
B57: Նկարագրությունը` | C57: Օրվա կարգավորման ջրավազանների կառուցման և վերակառուցման համար նախագծերի և աշխատանքների ձեռք բերում
B58: Միջոցառման տեսակը` | C58: Պետական մարմինների կողմից օգտագործվող ոչ ֆինանսական ակտիվների հետ գործառնություններ
B59: Ակտիվն օգտագործող կազմակերպության(ների) անվանում(ները)՛ | C59: ՀՀ ՏԿԵՆ ջրային կոմիտե
B60: Արդյունքի չափորոշիչներ
B61: Նախագծանախահաշվային փաստաթղթեր, հատ | D61: -31
B62: Միջոցառման վրա կատարվող ծախսը (հազար դրամ) | D62: =+'Հ 6'!D47 -> -132573
B64: Ծրագրի դասիչը` | C64: 1004 | D64: Ցուցանիշների փոփոխությունը (նվազեցումները նշված են փակագծերում)
B66: Միջոցառման դասիչը` | C66: 31012 | D66: Տարի
B67: Միջոցառման անվանումը` | C67: Գետերի և հեղեղատարների տեղամասերի ամրացման և մաքրման աշխատանքներ
B68: Նկարագրությունը` | C68: Գետերի և հեղեղատարների տեղամասերի ամրացման և մաքրման համար նախագծերի և աշխատանքների ձեռքբերում
B69: Միջոցառման տեսակը` | C69: Պետական մարմինների կողմից օգտագործվող ոչ ֆինանսական ակտիվների հետ գործառնություններ
B70: Ակտիվն օգտագործող կազմակերպության(ների) անվանում(ները)՛ | C70: ՀՀ ՏԿԵՆ ջրային կոմիտե
B71: Արդյունքի չափորոշիչներ
B72: Գետերի հուների մաքրում, մ | D72: -800
B73: Հենապատերի վերականգնում և ամրացում, մ | D73: -75
B74: Միջոցառման վրա կատարվող ծախսը (հազար դրամ) | D74: =+'Հ 6'!D59 -> -39727.486
B76: Ծրագրի դասիչը` | C76: 1004 | D76: Ցուցանիշների փոփոխությունը (նվազեցումները նշված են փակագծերում)
B78: Միջոցառման դասիչը` | C78: 31014 | D78: Տարի
B79: Միջոցառման անվանումը` | C79: Ջրամբարների վերականգնման և վերազինման աշխատանքներ
B80: Նկարագրությունը` | C80: Ջրամբարների վերականգնման և վերազինման համար նախագծերի և աշխատանքների ձեռքբերում
B81: Միջոցառման տեսակը` | C81: Պետական մարմինների կողմից օգտագործվող ոչ ֆինանսական ակտիվների հետ գործառնություններ
B82: Ակտիվն օգտագործող կազմակերպության(ների) անվանում(ները)՛ | C82: Ոռոգման համակարգի ընկերություններ
B83: Արդյունքի չափորոշիչներ
B84: Վերականգնվող ջրամբարներ, հատ | D84: -1
B85: Միջոցառման վրա կատարվող ծախսը (հազար դրամ) | D85: =+'Հ 6'!D70 -> -58641.648
B87: Ծրագրի դասիչը` | C87: 1004 | D87: Ցուցանիշների փոփոխությունը (նվազեցումները նշված են փակագծերում)
B89: Միջոցառման դասիչը` | C89: 31020 | D89: Տարի
B90: Միջոցառման անվանումը` | C90: Ոռոգման համակարգերի կառուցում
B91: Նկարագրությունը` | C91: Ոռոգման համակարգերի կառուցման համար նախագծերի և աշխատանքների ձեռքբերում
B92: Միջոցառման տեսակը` | C92: Պետական մարմինների կողմից օգտագործվող ոչ ֆինանսական ակտիվների հետ գործառնություններ
B93: Ակտիվն օգտագործող կազմակերպության(ների) անվանում(ները)՛ | C93: ՀՀ ՏԿԵՆ ջրային կոմիտե
B94: Արդյունքի չափորոշիչներ
B95: Պոլիէթիլենային խողովակի տեղադրում Փ500x19մմ, գմ | D95: -747
B96: Միջոցառման վրա կատարվող ծախսը (հազար դրամ) | D96: =+'Հ 6'!D81 -> -76189
D98: Աղյուսակ 9.1.52
B99: ՀՀ Գեղարքունիքի մարզպետարան
B101: ՄԱՍ 1. ՊԵՏԱԿԱՆ ՄԱՐՄՆԻ ԳԾՈՎ ԱՐԴՅՈՒՆՔԱՅԻՆ (ԿԱՏԱՐՈՂԱԿԱՆ) ՑՈՒՑԱՆԻՇՆԵՐԸ
B103: Ծրագրի դասիչը | C103: Ծրագրի անվանումը
B104: 1212 | C104: Տարածքային զարգացում
B106: Ծրագրի միջոցառումները
B107: Ծրագրի դասիչը` | C107: 1212 | D107: Ցուցանիշների փոփոխությունը (Ավելացումները նշված են դրական նշանով)
B108: =+'Հ 6'!B112 -> Միջոցառման դասիչը` | C108: =+'Հ 6'!C112 -> 12025 | D108: Տարի
B109: =+'Հ 6'!B113 -> Միջոցառման անվանումը` | C109: =+'Հ 6'!C113 -> Մարզերում առաջնահերթ լուծում պահանջող հիմնախնդիրների լուծում
B110: =+'Հ 6'!B114 -> Նկարագրությունը` | C110: =+'Հ 6'!C114 -> Մարզերում առաջնահերթ լուծում պահանջող ծրագրերի իրականացում, որի արդյունքում լուծում կտրվի բնակչության և համայնքների սոցիալական նշանակություն ունեցող հիմնախնդիրներին
B111: =+'Հ 6'!B115 -> Միջոցառման տեսակը` | C111: =+'Հ 6'!C115 -> Տրանսֆերտների տրամադրում
B112: =+'Հ 6'!B116 -> Շահառուների ընտրության չափանիշները` | C112: =+'Հ 6'!C116 -> Համայնքներ
B113: Արդյունքի չափորոշիչներ
B114: Միջոցառման վրա կատարվող ծախսը (հազար դրամ) | D114: =+Հ3!G34 -> 29886.5
D116: Աղյուսակ 9.1.56
C117: ՀՀ Սյունիքի մարզպետարան
B119: ՄԱՍ 1. ՊԵՏԱԿԱՆ ՄԱՐՄՆԻ ԳԾՈՎ ԱՐԴՅՈՒՆՔԱՅԻՆ (ԿԱՏԱՐՈՂԱԿԱՆ) ՑՈՒՑԱՆԻՇՆԵՐԸ
B121: Ծրագրի դասիչը | C121: Ծրագրի անվանումը
B122: 1212 | C122: Տարածքային զարգացում
B124: Ծրագրի միջոցառումները
B125: Ծրագրի դասիչը` | C125: 1212 | D125: Ցուցանիշների փոփոխությունը (Ավելացումները նշված են դրական նշանով)
B126: Միջոցառման դասիչը` | C126: 12025 | D126: Տարի
B127: Միջոցառման անվանումը` | C127: Մարզերում առաջնահերթ լուծում պահանջող հիմնախնդիրների լուծում
...

Sheet Հ 8
A1: Հավելված N 8
A2: ՀՀ կառավարության 2022 թվականի
A3: -ի N -Ն որոշման
A5: ՀՀ ԿԱՌԱՎԱՐՈՒԹՅԱՆ 2021 ԹՎԱԿԱՆԻ ԴԵԿՏԵՄԲԵՐԻ 23-Ի N 2121-Ն ՈՐՈՇՄԱՆ N 10 ՀԱՎԵԼՎԱԾՈՒՄ ԿԱՏԱՐՎՈՂ ՓՈՓՈԽՈՒԹՅՈՒՆՆԵՐԸ
A7: Կոդը | B7: Անվանումը | C7: Գնման ձևը | D7: Չափի միավորը | E7: Ցուցանիշների փոփոխությունը (նվազեցումները նշված են փակագծերում)
E8: Միավորի գինը | F8: քանակը | G8: գումարը (հազ. դրամ)
A9: ՀՀ տարածքային կառավարման և ենթակառուցվածքների նախարարության ջրային կոմիտե | G9: =G11+G15+G19+G24+G27+G30 -> -334710.19
A10: Բաժին N 04 | B10: Խումբ N 02 | C10: Դաս N 04 | D10: Ոռոգում
A11: 1004 11015 | B11: Շրջակա միջավայրի վրա ազդեցության գնահատման ծառայությունների փաթեթի ձեռքբերում | G11: =G13 -> -2500
B12: ՄԱՍ III ԾԱՌԱՅՈՒԹՅՈՒՆՆԵՐ
A13: 71311260/502 | B13: շրջակա միջավայրի վրա ազդեցության գնահատման (ՇՄԱԳ) ծառայություններ շինարարության համար | E13: 0 | F13: 0 | G13: -2500
A14: 1004 31002 | B14: Ոռոգման համակարգերի հիմնանորոգում
B15: ՄԱՍ II ԱՇԽԱՏԱՆՔ | G15: =G16+G17 -> -25079.056
A16: 45231132/7 | B16: ջրատարների վերականգնման շինարարական աշխատանքներ | C16: ՀԲՄ | D16: դրամ | E16: 0 | F16: 0 | G16: -37981.956 | K16: Մասիս ջրաչափ
A17: 45231132/5 | B17: ջրատարների վերականգնման շինարարական աշխատանքներ | C17: ԲՄ | D17: դրամ | E17: 0 | F17: 0 | G17: 12902.9 | K17: Թալին ձախ ճյուղ
A18: 1004 31009 | B18: Օրվա կարգավորման ջրավազանների կառուցում և վերակառուցում
B19: ՄԱՍ III ԾԱՌԱՅՈՒԹՅՈՒՆՆԵՐ | G19: =G20+G21+G22+G23 -> -132573 | K19: ՕԿՋ
A20: 71241200/2 | B20: նախագծերի պատրաստում, ծախսերի գնահատում | C20: ԵՄ | D20: դրամ | E20: 0 | F20: 0 | G20: -16380
A21: 71241200/4 | B21: նախագծերի պատրաստում, ծախսերի գնահատում | C21: ԵՄ | D21: դրամ | E21: 0 | F21: 0 | G21: -63000
A22: 71241200/3 | B22: նախագծերի պատրաստում, ծախսերի գնահատում | C22: ԵՄ | D22: դրամ | E22: 0 | F22: 0 | G22: -36750
A23: 71241200/5 | B23: նախագծերի պատրաստում, ծախսերի գնահատում | C23: ԵՄ | D23: դրամ | E23: 0 | F23: 0 | G23: -16443
A24: 1004 31014 | B24: Ջրամբարների վերականգնման և վերազինման աշխատանքներ | G24: =G26 -> -58641.648
B25: ՄԱՍ II ԱՇԽԱՏԱՆՔ
A26: 45611300/8 | B26: այլ շենքերի, շինությունների հիմնանորոգում | C26: ՀԲՄ | D26: դրամ | E26: 0 | F26: 0 | G26: -58641.648 | K26: Ապարան ջր.
A27: 1004 31020 | B27: Ոռոգման համակարգերի կառուցում | G27: =G29 -> -76189
B28: ՄԱՍ II ԱՇԽԱՏԱՆՔ
A29: 45231126/502 | B29: ոռոգման խողովակաշարերի կառուցման աշխատանքներ | C29: ՀԲՄ | D29: դրամ | E29: 0 | F29: 0 | G29: -76189 | K29: Բուսաբանական
A30: 1004 31012 | B30: Գետերի և հեղեղատարների տեղամասերի ամրացման և մաքրման աշխատանքներ | G30: =G32 -> -39727.486
B31: ՄԱՍ II ԱՇԽԱՏԱՆՔՆԵՐ
A32: 45241133/510 | B32: գետերի ափերի պաշտպանության աշխատանքներ | C32: ԲՄ | D32: դրամ | E32: 0 | F32: 0 | G32: -39727.486 | K32: Գետիկ գետ
