Workbook
Name _tab10: #REF!
Name _tab10: #REF!
Name _tab11: #REF!
Name _tab11: #REF!
Name _tab12: #REF!
Name _tab12: #REF!
Name _tab13: #REF!
Name _tab13: #REF!
Name _tab14: #REF!
Name _tab14: #REF!
Name _tab15: #REF!
Name _tab15: #REF!
Name _tab16: #REF!
Name _tab16: #REF!
Name _tab17: #REF!
Name _tab17: #REF!
Name _tab18: #REF!
Name _tab18: #REF!
Name _tab19: #REF!
Name _tab19: #REF!
Name _tab20: #REF!
Name _tab20: #REF!
Name _tab21: #REF!
Name _tab21: #REF!
Name _tab22: #REF!
Name _tab22: #REF!
Name _tab23: #REF!
Name _tab23: #REF!
Name _tab24: #REF!
Name _tab24: #REF!
Name _tab5: #REF!
Name _tab5: #REF!
Name _tab6: #REF!
Name _tab6: #REF!
Name _tab7: #REF!
Name _tab7: #REF!
Name _tab8: #REF!
Name _tab8: #REF!
Name _tab9: #REF!
Name _tab9: #REF!
Name AgencyCode: #REF!
Name AgencyCode: #REF!
Name AgencyCode: #REF!
Name AgencyName: #REF!
Name AgencyName: #REF!
Name AgencyName: #REF!
Name davit: #REF!
Name davit: #REF!
Name davit: #REF!
Name Functional1: #REF!
Name Functional1: #REF!
Name Functional1: #REF!
Name ggg: #REF!
Name ggg: #REF!
Name ggg: #REF!
Name PANature: #REF!
Name PANature: #REF!
Name PANature: #REF!
Name par_count: #REF!,#REF!,#REF!,#REF!,#REF!,#REF!,#REF!,#REF!,#REF!,#REF!,#REF!,#REF!,#REF!,#REF!,#REF!
Name par_count: #REF!,#REF!,#REF!,#REF!,#REF!,#REF!,#REF!,#REF!,#REF!,#REF!,#REF!,#REF!,#REF!,#REF!,#REF!

Sheet 1
E2: Հավելված N 1
E3: ՀՀ կառավարության 2022 թվականի
E4: ______________ ի ___Ն որոշման
B6: «ՀԱՅԱՍՏԱՆԻ ՀԱՆՐԱՊԵՏՈՒԹՅԱՆ 2022 ԹՎԱԿԱՆԻ ՊԵՏԱԿԱՆ ԲՅՈՒՋԵԻ ՄԱՍԻՆ» ՕՐԵՆՔԻ N 1 ՀԱՎԵԼՎԱԾԻ N 2 ԱՂՅՈՒՍԱԿՈՒՄ ՎԵՐԱԲԱՇԽՈՒՄ ԵՎ ՀԱՅԱՍՏԱՆԻ ՀԱՆՐԱՊԵՏՈՒԹՅԱՆ ԿԱՌԱՎԱՐՈՒԹՅԱՆ 2021 ԹՎԱԿԱՆԻ ԴԵԿՏԵՄԲԵՐԻ 23-Ի N 2121-Ն ՈՐՈՇՄԱՆ N 5 ՀԱՎԵԼՎԱԾԻ N 1 ԱՂՅՈՒՍԱԿՈՒՄ ԿԱՏԱՐՎՈՂ ՓՈՓՈԽՈՒԹՅՈՒՆՆԵՐԸ ԵՎ ԼՐԱՑՈՒՄՆԵՐԸ
E8: հազար դրամ
B9: Ծրագրային դասիչը | D9: Բյուջետային հատկացումների գլխավոր կարգադրիչների, ծրագրերի և միջոցառումների անվանումները | E9: Ցուցանիշների փոփոխությունը (Ավելացումները նշված են դրական նշանով, իսկ նվազեցումները` փակագծերում)
B10: Ծրագիր | C10: Միջոցառում | E10: Տարի
C11: ԸՆԴԱՄԵՆԸ | E11: =+E12 -> 0
D12: ՀՀ տարածքային կառավարման և ենթակառուցվածքների նախարարություն | E12: =+E13 -> 0
B13: 1212 | D13: Ծրագրի անվանումը՝ | E13: =+E20+E26 -> 0
D14: Տարածքային զարգացում
D15: Ծրագրի նպատակը՝
D16: Տարածքային համաչափ զարգացման խթանում
D17: Վերջնական արդյունքի նկարագրությունը՝
D18: ՀՀ համայնքների կառավարման արդյունավետության բարձրացում և տնտեսական գործունեության խթանում
D19: Ծրագրի միջոցառումներ
C20: 12003 | D20: Միջոցառման անվանումը` | E20: =+'3'!G21 -> -3215.4
D21: Պետական աջակցություն սահմանամերձ համայնքներին
D22: Միջոցառման նկարագրությունը`
D23: Ծրագրի իրականացմամբ ապահովվում է «Սահմանամերձ համայնքների սոցիալական աջակցության մասին» ՀՀ օրենքի կիրարկումը
D24: Միջոցառման տեսակը
D25: Տրանսֆերտների տրամադրում
C26: 12025 | D26: Միջոցառման անվանումը` | E26: =+'3'!G30 -> 3215.4
D27: Մարզերում առաջնահերթ լուծում պահանջող հիմնախնդիրների լուծում
D28: Միջոցառման նկարագրությունը`
D29: Մարզերում առաջնահերթ լուծում պահանջող ծրագրերի իրականացում, որի արդյունքում լուծում կտրվի բնակչության և համայնքների սոցիալական նշանակություն ունեցող հիմնախնդիրներին:
D30: Միջոցառման տեսակը
D31: Տրանսֆերտների տրամադրում
B34: ՀԱՅԱՍՏԱՆԻ ՀԱՆՐԱՊԵՏՈՒԹՅԱՆ
B35: ՎԱՐՉԱՊԵՏԻ ԱՇԽԱՏԱԿԱԶՄԻ
C36: ՂԵԿԱՎԱՐ ՝ Ա. ՀԱՐՈՒԹՅՈՒՆՅԱՆ

Sheet 2
E1: Հավելված N 2
E2: ՀՀ կառավարության 2022 թվականի
E3: -------------- ի N ---- -Ն որոշման
B6: «ՀԱՅԱՍՏԱՆԻ ՀԱՆՐԱՊԵՏՈՒԹՅԱՆ 2022 ԹՎԱԿԱՆԻ ՊԵՏԱԿԱՆ ԲՅՈՒՋԵԻ ՄԱՍԻՆ» ՕՐԵՆՔԻ N 1 ՀԱՎԵԼՎԱԾԻ N 8 ԱՂՅՈՒՍԱԿՈՒՄ ԿԱՏԱՐՎՈՂ ՓՈՓՈԽՈՒԹՅՈՒՆԸ
D8: հազար դրամ
A9: Ծրագրային դասիչը | C9: Ծրագրերի և միջոցառումների անվանումները | D9: Պետական մարմինների անվանումները | E9: Ցուցանիշների փոփոխությունը (նվազեցումները նշված են փակագծերում)
A10: Ծրագիր | B10: Միջոցառում | E10: Գումարը
C11: ԸՆԴԱՄԵՆԸ | E11: =+E12 -> -3215.4
A12: 1212 | C12: Տարածքային զարգացում | E12: =+E13 -> -3215.4
B13: 12003 | C13: Պետական աջակցություն սահմանամերձ համայնքներին | D13: =+'3'!F23 -> Գեղարքունիքի մարզպետարան | E13: =+'3'!G29 -> -3215.4
A15: ՀԱՅԱՍՏԱՆԻ ՀԱՆՐԱՊԵՏՈՒԹՅԱՆ
A16: ՎԱՐՉԱՊԵՏԻ ԱՇԽԱՏԱԿԱԶՄԻ
B17: ՂԵԿԱՎԱՐ ՝ Ա. ՀԱՐՈՒԹՅՈՒՆՅԱՆ

Sheet 3
G1: Հավելված N3
F2: ՀՀ կառավարության 2022 թվականի
F3: ______________ ի ___Ն որոշման
A6: ՀԱՅԱՍՏԱՆԻ ՀԱՆՐԱՊԵՏՈՒԹՅԱՆ ԿԱՌԱՎԱՐՈՒԹՅԱՆ 2021 ԹՎԱԿԱՆԻ ԴԵԿՏԵՄԲԵՐԻ 23-Ի N 2121-Ն ՈՐՈՇՄԱՆ NN 3 ԵՎ 4 ՀԱՎԵԼՎԱԾՆԵՐՈՒՄ ԿԱՏԱՐՎՈՂ ՓՈՓՈԽՈՒԹՅՈՒՆՆԵՐԸ ԵՎ ԼՐԱՑՈՒՄՆԵՐԸ
G8: հազար դրամ
A9: Գործառական դասիչը | D9: Ծրագրային դասիչը | F9: Բյուջետային ծախսերի գործառական դասակարգման բաժինների, խմբերի և դասերի, բյուջետային ծրագրերի, միջոցառումների բյուջետային հատկացումնեյի գլխավոր կարգադրիչների անվանումները | G9: Ցուցանիշների փոփոխությունը (Ավելացումները նշված են դրական նշանով, իսկ նվազեցումները` փակագծերում)
A10: Բաժին | B10: Խումբ | C10: Դաս | D10: Ծրագիր | E10: Միջոցառում | G10: Տարի
F11: ԸՆԴԱՄԵՆԸ | G11: =+G12 -> 0
A12: 01 | F12: ԸՆԴՀԱՆՈՒՐ ԲՆՈՒՅԹԻ ՀԱՆՐԱՅԻՆ ԾԱՌԱՅՈՒԹՅՈՒՆՆԵՐ | G12: =+G14 -> 0
F13: այդ թվում`
B14: 08 | F14: Կառավարության տարբեր մակարդակների միջև իրականացվող ընդհանուր բնույթի տրանսֆերտներ | G14: =G16 -> 0
F15: այդ թվում՝
C16: 01 | F16: Կառավարության տարբեր մակարդակների միջև իրականացվող ընդհանուր բնույթի տրանսֆերտներ | G16: =G18 -> 0
F17: այդ թվում`
F18: ՀՀ տարածքային կառավարման և ենթակառուցվածքների նախարարություն | G18: =+G19 -> 0
D19: 1212 | F19: Տարածքային զարգացում | G19: =+G21+G30 -> 0
F20: այդ թվում`
E21: 12003 | F21: Պետական աջակցություն սահմանամերձ համայնքներին | G21: =G23 -> -3215.4
F22: այդ թվում` ըստ կատարողների
F23: Գեղարքունիքի մարզպետարան | G23: =G25 -> -3215.4
F24: այդ թվում` բյուջետային ծախսերի տնտեսագիտական դասակարգման հոդվածներ
F25: ԸՆԴԱՄԵՆԸ ԾԱԽՍԵՐ | G25: =G26 -> -3215.4
F26: ԸՆԹԱՑԻԿ ԾԱԽՍԵՐ | G26: =G28 -> -3215.4
F27: ՍՈՑԻԱԼԱԿԱՆ ՆՊԱՍՏՆԵՐ ԵՎ ԿԵՆՍԱԹՈՇԱԿՆԵՐ
F28: Սոցիալական օգնության դրամական արտահայտությամբ նպաստներ (բյուջեից) | G28: =G29 -> -3215.4
F29: - Այլ նպաստներ բյուջեից | G29: =-G38-G45 -> -3215.4
E30: 12025 | F30: Մարզերում առաջնահերթ լուծում պահանջող հիմնախնդիրների լուծում | G30: =+G32+G39 -> 3215.4
F31: այդ թվում`ըստ կատարողների
F32: Գեղարքունիքի մարզպետարան | G32: =+G34 -> 20215.4
F33: այդ թվում` բյուջետային ծախսերի տնտեսագիտական դասակարգման հոդվածներ
F34: ԸՆԴԱՄԵՆԸ ԾԱԽՍԵՐ | G34: =+G35 -> 20215.4
F35: ԸՆԹԱՑԻԿ ԾԱԽՍԵՐ | G35: =+G36 -> 20215.4
F36: ՍՈՑԻԱԼԱԿԱՆ ՆՊԱՍՏՆԵՐ ԵՎ ԿԵՆՍԱԹՈՇԱԿՆԵՐ | G36: =+G37 -> 20215.4
F37: ՍՈՑԻԱԼԱԿԱՆ ՕԳՆՈՒԹՅԱՆ ԴՐԱՄԱԿԱՆ ԱՐՏԱՀԱՅՏՈՒԹՅԱՄԲ ՆՊԱՍՏՆԵՐ (ԲՅՈՒՋԵԻՑ) | G37: =+G38 -> 20215.4
F38: Այլ նպաստներ բյուջեից | G38: 20215.4
F39: Վայոց ձորի մարզպետարան | G39: =+G41 -> -17000
F40: այդ թվում` բյուջետային ծախսերի տնտեսագիտական դասակարգման հոդվածներ
F41: ԸՆԴԱՄԵՆԸ ԾԱԽՍԵՐ | G41: =+G42 -> -17000
F42: ԸՆԹԱՑԻԿ ԾԱԽՍԵՐ | G42: =+G43 -> -17000
F43: ՍՈՑԻԱԼԱԿԱՆ ՆՊԱՍՏՆԵՐ ԵՎ ԿԵՆՍԱԹՈՇԱԿՆԵՐ | G43: =+G44 -> -17000
F44: ՍՈՑԻԱԼԱԿԱՆ ՕԳՆՈՒԹՅԱՆ ԴՐԱՄԱԿԱՆ ԱՐՏԱՀԱՅՏՈՒԹՅԱՄԲ ՆՊԱՍՏՆԵՐ (ԲՅՈՒՋԵԻՑ) | G44: =+G45 -> -17000
F45: Այլ նպաստներ բյուջեից | G45: -17000
B50: ՀԱՅԱՍՏԱՆԻ ՀԱՆՐԱՊԵՏՈՒԹՅԱՆ
B51: ՎԱՐՉԱՊԵՏԻ ԱՇԽԱՏԱԿԱԶՄԻ
B52: ՂԵԿԱՎԱՐ | F52: Ա. ՀԱՐՈՒԹՅՈՒՆՅԱՆ

Sheet 4
D2: Հավելված N4
D3: ՀՀ կառավարության 2022 թվականի
D4: ______________ ի ___Ն որոշման
A7: ՀԱՅԱՍՏԱՆԻ ՀԱՆՐԱՊԵՏՈՒԹՅԱՆ ԿԱՌԱՎԱՐՈՒԹՅԱՆ 2021 ԹՎԱԿԱՆԻ ԴԵԿՏԵՄԲԵՐԻ 23-Ի N 2121-Ն ՈՐՈՇՄԱՆ N 9 ՀԱՎԵԼՎԱԾԻ N 9.7 ԱՂՅՈՒՍԱԿՈՒՄ ԿԱՏԱՐՎՈՂ ՓՈՓՈԽՈՒԹՅՈՒՆՆԵՐԸ ԵՎ ԼՐԱՑՈՒՄՆԵՐԸ
A8: ՀՀ տարածքային կառավարման և ենթակառուցվածքների նախարարություն
A10: ՄԱՍ 2. ՊԵՏԱԿԱՆ ՄԱՐՄՆԻ ԳԾՈՎ ԱՐԴՅՈՒՆՔԱՅԻՆ (ԿԱՏԱՐՈՂԱԿԱՆ) ՑՈՒՑԱՆԻՇՆԵՐԸ
B12: Ծրագրի դասիչը | C12: Ծրագրի անվանումը
B13: 1212 | C13: Տարածքային զարգացում
B15: Ծրագրի դասիչը` | C15: 1212 | D15: Ցուցանիշների փոփոխությունը (Ավելացումները նշված են դրական նշանով)
B16: Միջոցառման դասիչը` | C16: 12025 | D16: Տարի
B17: Միջոցառման անվանումը` | C17: Մարզերում առաջնահերթ լուծում պահանջող հիմնախնդիրների լուծում
B18: Նկարագրությունը` | C18: Մարզերում առաջնահերթ լուծում պահանջող ծրագրերի իրականացում, որի արդյունքում լուծում կտրվի բնակչության և համայնքների սոցիալական նշանակություն ունեցող հիմնախնդիրներին
B19: Միջոցառման տեսակը` | C19: Տրանսֆերտների տրամադրում
B20: Շահառուների ընտրության չափանիշները` | C20: Համայնքներ
B21: Արդյունքի չափորոշիչներ
B22: Միջոցառման վրա կատարվող ծախսը (հազար դրամ) | D22: =-D31 -> 3215.4
B24: Ծրագրի դասիչը՝ | C24: 1212 | D24: Ցուցանիշների փոփոխությունը (Նվազեցումները նշված են փակագծերում)
B25: Միջոցառման դասիչը՝ | C25: 12003 | D25: Տարի
B26: Միջոցառման անվանումը՝ | C26: Պետական աջակցություն սահմանամերձ համայնքներին
B27: Նկարագրությունը՝ | C27: Ծրագրի իրականացմամբ ապահովվում է «Սահմանամերձ համայնքների սոցիալական աջակցության մասին» ՀՀ օրենքի կիրարկումը
B28: Միջոցառման տեսակը՝ | C28: Տրանսֆերտների տրամադրում
B29: Միջոցառումն իրականացնողի անվանումը | C29: ՀՀ կառավարության 2014 թվականի դեկտեմբերի 18-ի N1444-Ն որոշման համաձայն
B30: Արդյունքի չափորոշիչներ
B31: Միջոցառման վրա կատարվող ծախսը (հազար դրամ) | D31: =+'3'!G21 -> -3215.4
B35: ՀԱՅԱՍՏԱՆԻ ՀԱՆՐԱՊԵՏՈՒԹՅԱՆ
B36: ՎԱՐՉԱՊԵՏԻ ԱՇԽԱՏԱԿԱԶՄԻ
B37: ՂԵԿԱՎԱՐ | D37: Ա. ՀԱՐՈՒԹՅՈՒՆՅԱՆ

Sheet 5
D1: Հավելված N5
D2: ՀՀ կառավարության 2022 թվականի
D3: -------------- ի N ---- -Ն որոշման
B6: ՀԱՅԱՍՏԱՆԻ ՀԱՆՐԱՊԵՏՈՒԹՅԱՆ ԿԱՌԱՎԱՐՈՒԹՅԱՆ 2021 ԹՎԱԿԱՆԻ ԴԵԿՏԵՄԲԵՐԻ 23-Ի N 2121-Ն ՈՐՈՇՄԱՆ N 9.1 ՀԱՎԵԼՎԱԾԻ NN 9.1.52 ԵՎ 9.1.57 ԱՂՅՈՒՍԱԿՆԵՐՈՒՄ ԿԱՏԱՐՎՈՂ ՓՈՓՈԽՈՒԹՅՈՒՆՆԵՐԸ ԵՎ ԼՐԱՑՈՒՄՆԵՐԸ
D8: Աղյուսակ 9.1.52
B9: ՀՀ Գեղարքունիքի մարզպետարան
B11: ՄԱՍ 1. ՊԵՏԱԿԱՆ ՄԱՐՄՆԻ ԳԾՈՎ ԱՐԴՅՈՒՆՔԱՅԻՆ (ԿԱՏԱՐՈՂԱԿԱՆ) ՑՈՒՑԱՆԻՇՆԵՐԸ
B13: Ծրագրի դասիչը | C13: Ծրագրի անվանումը
B14: 1212 | C14: Տարածքային զարգացում
B16: Ծրագրի միջոցառումները
B18: Ծրագրի դասիչը` | C18: 1212 | D18: Ցուցանիշների փոփոխությունը (Նվազեցումները նշված են փակագծերում)
B19: Միջոցառման դասիչը` | C19: 12003 | D19: Տարի
B20: Միջոցառման անվանումը` | C20: Պետական աջակցություն սահմանամերձ համայնքներին
B21: Նկարագրությունը` | C21: Ծրագրի իրականացմամբ ապահովվում է «Սահմանամերձ համայնքների սոցիալական աջակցության մասին» ՀՀ օրենքի կիրարկումը
B22: Միջոցառման տեսակը` | C22: Տրանսֆերտների տրամադրում
B23: Շահառուների ընտրության չափորոշիչները՛ | C23: ՀՀ կառավարության 2014 թվականի դեկտեմբերի 18-ի N1444-Ն որոշման համաձայն
B24: Արդյունքի չափորոշիչներ
B25: Միջոցառման վրա կատարվող ծախսը (հազար դրամ) | D25: =+'3'!G21 -> -3215.4
B27: Ծրագրի դասիչը` | C27: 1212 | D27: Ցուցանիշների փոփոխությունը (Ավելացումները նշված են դրական նշանով)
B28: =+'4'!B16 -> Միջոցառման դասիչը` | C28: =+'4'!C16 -> 12025 | D28: Տարի
B29: =+'4'!B17 -> Միջոցառման անվանումը` | C29: =+'4'!C17 -> Մարզերում առաջնահերթ լուծում պահանջող հիմնախնդիրների լուծում
B30: =+'4'!B18 -> Նկարագրությունը` | C30: =+'4'!C18 -> Մարզերում առաջնահերթ լուծում պահանջող ծրագրերի իրականացում, որի արդյունքում լուծում կտրվի բնակչության և համայնքների սոցիալական նշանակություն ունեցող հիմնախնդիրներին
B31: =+'4'!B19 -> Միջոցառման տեսակը` | C31: =+'4'!C19 -> Տրանսֆերտների տրամադրում
B32: =+'4'!B20 -> Շահառուների ընտրության չափանիշները` | C32: =+'4'!C20 -> Համայնքներ
B33: Արդյունքի չափորոշիչներ
B34: Միջոցառման վրա կատարվող ծախսը (հազար դրամ) | D34: =+'3'!G32 -> 20215.4
D36: Աղյուսակ 9.1.57
B37: ՀՀ Վայոց ձորի մարզպետարան
B39: ՄԱՍ 1. ՊԵՏԱԿԱՆ ՄԱՐՄՆԻ ԳԾՈՎ ԱՐԴՅՈՒՆՔԱՅԻՆ (ԿԱՏԱՐՈՂԱԿԱՆ) ՑՈՒՑԱՆԻՇՆԵՐԸ
B41: Ծրագրի դասիչը | C41: Ծրագրի անվանումը
B42: 1212 | C42: Տարածքային զարգացում
B44: Ծրագրի միջոցառումները
B46: Ծրագրի դասիչը` | C46: 1212 | D46: Ցուցանիշների փոփոխությունը (Նվազեցումները նշված են փակագծերում)
B47: Միջոցառման դասիչը` | C47: 12025 | D47: Տարի
B48: Միջոցառման անվանումը` | C48: Մարզերում առաջնահերթ լուծում պահանջող հիմնախնդիրների լուծում
B49: Նկարագրությունը` | C49: Մարզերում առաջնահերթ լուծում պահանջող ծրագրերի իրականացում, որի արդյունքում լուծում կտրվի բնակչության և համայնքների սոցիալական նշանակություն ունեցող հիմնախնդիրներին
B50: Միջոցառման տեսակը` | C50: Տրանսֆերտների տրամադրում
B51: Շահառուների ընտրության չափանիշները` | C51: Համայնքներ
B52: Արդյունքի չափորոշիչներ
B53: Միջոցառման վրա կատարվող ծախսը (հազար դրամ) | D53: =+'3'!G39 -> -17000
B56: ՀԱՅԱՍՏԱՆԻ ՀԱՆՐԱՊԵՏՈՒԹՅԱՆ
B57: ՎԱՐՉԱՊԵՏԻ ԱՇԽԱՏԱԿԱԶՄԻ
B58: ՂԵԿԱՎԱՐ | D58: Ա. ՀԱՐՈՒԹՅՈՒՆՅԱՆ
