Workbook
Name _tab10: #REF!
Name _tab11: #REF!
Name _tab12: #REF!
Name _tab13: #REF!
Name _tab14: #REF!
Name _tab15: #REF!
Name _tab16: #REF!
Name _tab17: #REF!
Name _tab18: #REF!
Name _tab19: #REF!
Name _tab20: #REF!
Name _tab21: #REF!
Name _tab22: #REF!
Name _tab23: #REF!
Name _tab24: #REF!
Name _tab5: #REF!
Name _tab6: #REF!
Name _tab7: #REF!
Name _tab8: #REF!
Name _tab9: #REF!
Name par_count: #REF!,#REF!,#REF!,#REF!,#REF!,#REF!,#REF!,#REF!,#REF!,#REF!,#REF!,#REF!,#REF!,#REF!,#REF!
Name par_qual: #REF!,#REF!,#REF!,#REF!,#REF!
Name par_time: #REF!,#REF!,#REF!,#REF!
Name par2.12s: #REF!
Name par2.4s: #REF!,#REF!,#REF!,#REF!,#REF!,#REF!,#REF!,#REF!,#REF!,#REF!,#REF!,#REF!,#REF!,#REF!,#REF!,#REF!
Name par2.5s: #REF!,#REF!
Name par2.6s: #REF!,#REF!,#REF!,#REF!
Name par2.7s: #REF!,#REF!
Name par2.9s: #REF!,#REF!,#REF!,#REF!,#REF!,#REF!,#REF!,#REF!,#REF!,#REF!,#REF!,#REF!,#REF!,#REF!,#REF!,#REF!
Name par4.10s: #REF!,#REF!
Name par4.11d: #REF!,#REF!,#REF!,#REF!,#REF!
Name par4.12d: #REF!
Name par4.13s: #REF!
Name par4.14: #REF!,#REF!,#REF!,#REF!,#REF!,#REF!
Name par4.15: #REF!,#REF!,#REF!
Name par4.16: #REF!,#REF!,#REF!
Name par4.17: #REF!,#REF!,#REF!,#REF!
Name par4.18d: #REF!,#REF!
Name par4.19s: #REF!
Name par4.20f: #REF!
Name par4.21f: #REF!
Name par4.22: #REF!
Name par4.4: #REF!
Name par4.5: #REF!
Name par4.6s: #REF!
Name par4.7s: #REF!
Name par4.8: #REF!,#REF!,#REF!,#REF!,#REF!
Name par4.9: #REF!,#REF!,#REF!,#REF!,#REF!,#REF!
Name par5.1: #REF!,#REF!
Name par5.3: #REF!,#REF!,#REF!,#REF!,#REF!,#REF!
Name par5.4: #REF!,#REF!,#REF!,#REF!,#REF!
Name par5.5: #REF!
Name par5.6: #REF!,#REF!
Name program: #REF!,#REF!,#REF!,#REF!,#REF!,#REF!,#REF!,#REF!,#REF!,#REF!,#REF!,#REF!,#REF!,#REF!,#REF!,#REF!,#REF!,#REF!,#REF!,#REF!

Sheet 1
D1: Հավելված № 1
D2: ՀՀ կառավարության 2022 թվականի
D3: -------------- ի № ---- -Ն որոշման
A5: «ՀԱՅԱՍՏԱՆԻ ՀԱՆՐԱՊԵՏՈՒԹՅԱՆ 2022 ԹՎԱԿԱՆԻ ՊԵՏԱԿԱՆ ԲՅՈՒՋԵԻ ՄԱՍԻՆ» ՕՐԵՆՔԻ N 1 ՀԱՎԵԼՎԱԾԻ N 7 ԱՂՅՈՒՍԱԿՈՒՄ ԵՎ ՀԱՅԱՍՏԱՆԻ ՀԱՆՐԱՊԵՏՈՒԹՅԱՆ ԿԱՌԱՎԱՐՈՒԹՅԱՆ 2021 ԹՎԱԿԱՆԻ ԴԵԿՏԵՄԲԵՐԻ 23-Ի N 2121-Ն ՈՐՈՇՄԱՆ N 5 ՀԱՎԵԼՎԱԾԻ N 6 ԱՂՅՈՒՍԱԿՈՒՄ ԿԱՏԱՐՎՈՂ ՓՈՓՈԽՈՒԹՅՈՒՆԸ ԵՎ ԼՐԱՑՈՒՄՆԵՐԸ
D6: հազար դրամ
A7: Ծրագրային դասիչը | C7: Բյուջետային հատկացումների գլխավոր կարգադրիչների, ծրագրերի, միջոցառումների և միջոցառումները կատարող պետական մարմինների անվանումները | D7: Ցուցանիշների փոփոխությունը (ավելացումները նշված են դրական նշանով, իսկ նվազեցումները` փակագծերում)
A8: Ծրագիր | B8: Միջոցառում | D8: Տարի
C9: ԸՆԴԱՄԵՆԸ | D9: =+D11 -> 0
C10: այդ թվում
C11: Կապիտալ սուբվենցիաներ համայնքներին | D11: =+D13 -> 0
C12: այդ թվում`
C13: ՀՀ տարածքային կառավարման և ենթակառուցվածքների նախարարություն | D13: =+D15 -> 0
C14: այդ թվում`
A15: 1212 | C15: Տարածքային զարգացում | D15: =+D17 -> 0
C16: այդ թվում`
B17: 12007 | C17: ՀՀ մարզերին սուբվենցիաների տրամադրում՝ ենթակառուցվածքների զարգացման նպատակով | D17: 0
C18: այդ թվում` ըստ կատարողների
C19: ՀՀ կառավարություն | D19: =-(D20+D27+D30+D44+D81+D111+D120+D126+D141+D150) -> -2149094.2
C20: ՀՀ Արագածոտնի մարզպետարան | D20: =D22+D23+D24+D25+D26 -> 369157.3
C21: այդ թվում` ըստ ուղղությունների
C22: Ապարան համայնքի Մելիքգյուղ, Թթուջուր և Ձորագլուխ բն․ գազիֆիկացում | D22: 203489.2
C23: Ապարան համայնքի Ապարան քաղաքի մի շարք փողոցների ասֆալտապատման աշխատանքներ, գյուղական բնակավայրերի մի շարք փողոցների ասֆալտապատման աշխատանքներ և Ապարան քաղաքի բակային տարածքների ասֆալտապատաման աշխատանքներ | D23: 72127.1
C24: Արագածավան համայնքի Արագածավան բնակավայրի «Առողջության կենտրոն» ՀՈԱԿ-ի մասնակի վերանորոգման աշխատանքներ | D24: 3760.5
C25: Թալին համայնքի Թալին քաղաքի տարածքում պուրակի կառուցում | D25: 13134.9
C26: Թալին համայնքի Թալին քաղաքի Մ․ Գորկու Դավթաշեն բնակ․ ասֆալտբետոնե ծածկույթի հիմնանորոգման աշխատանքներ | D26: 76645.6
C27: ՀՀ Արարատի մարզպետարան | D27: =D29 -> -120
C28: այդ թվում` ըստ ուղղությունների
C29: Վեդի համայնքի Վեդի քաղաքային բնակավայրի փողոցներում կոյուղագծի կառուցում | D29: -120
C30: ՀՀ Արմավիրի մարզպետարան | D30: =D32+D33+D34+D35+D36+D37+D38+D39+D40++D41+D42+D43 -> 338283.1
C31: այդ թվում` ըստ ուղղությունների
C32: Արմավիր համայնքի թիվ 2 մանկապարտեզ ՀՈԱԿ-ի հիմնանորոգում, թիվ 3 և թիվ 7 մանկապարտեզ ՀՈԱԿ-ների ջեռուցման համակարգերի կառուցում, գազաֆիկացում, հին դռների և պատուհանների նորով փոխարինում, Մյասնիկյան գյուղի մանկապարտեզ ՀՈԱԿ-ի ջեռուցման համակարգի կառուցում և սանհանգույցի վերանորոգում, Լուկաշին գյուղի մանկապարտեզ ՀՈԱԿ-ի ջեռուցման համակարգի կառուցում, Սարդարապատ գյուղի մանկապարտեզ ՀՈԱԿ-ի հիմնանորոգում, գազաֆիկացում և ջեռուցման համակարգի կառուցում/թիվ 3 և թիվ 7 մանկապարտեզ ՀՈԱԿ-ների ջեռուցման համակարգերի կառուցում, գազաֆիկացում, հին դռների և պատուհանների նորով փոխարինում և Լուկաշին գյուղի մանկապարտեզ ՀՈԱԿ-ի ջեռուցման համակարգի կառուցում/ | D32: 43710.2
C33: Բաղրամյան համայնքի Բաղրամյան բնակավայրի Արցախի 37/1 հասցեի բազմաբնակարան շենքի տանիքի վերանորոգում, Լեռնագոգ բնակավայրի 5-րդ փողոցի 5 հարկանի շենքի տանիքի հիմնանորոգում, Դալարիկ բնակավայրի 13 բազմաբնակարան շենքի տանիքի վերակառուցում, Դալարիկ բնակավայրի Բաղրամյան 18 բազմաբնակարան բնակելի շենքի տանիքի հիմնանորոգում/Լեռնագոգ բնակավայրի 5-րդ փողոցի 5 հարկանի շենքի տանիքի հիմնանորոգում և Դալարիկ բնակավայրի 13 բազմաբնակարան շենքի տանիքի վերակառուցում, Դալարիկ բնակավայրի Բաղրամյան 18 բազմաբնակարան բնակելի շենքի տանիքի հիմնանորոգում/ | D33: 23101.9
C34: Մեծամոր համայնքի .Մեծամոր, և Արազափ մշակույթի տների վերանորոգում, Նոր Կեսարիա մշակույթի տան ջեռուցման համակարգի կառուցում, Մրգաշատ բնակավայրի երաժշտական դպրոցի վերանորոգում և ջեռուցոման համակարգի կառուցում, Նալբանդյան բնակավայրերում երաժշտական դպրոցի ջեռուցման համակարգի կառուցում | D34: 7074.4
C35: Մեծամոր համայնքի Գետաշեն բնակավայրի փողոցների ց/ճնշման գազատարի կառուցում, Շենավան, Վարդանաշեն, Այգեշատ, Նոր Արմավիր, Եղեգնուտ, Ակնալիճ բնակավայրերի գազաֆիկացում/Գետաշեն,Շենավան և Նոր Արմավիր բնակավայրի գազիֆիկացում/ | D35: 58051.1
C36: Մեծամոր համայնքի Մարգարա բնակավայրի փողոցների գազամատակարարում, Ջանֆիդա, Փշատավան բնակավայրերի գազաֆիկացում/Մարգարա բնակավայրի գազիֆիկացում/ | D36: 19769.6
C37: Փարաքար համայնքի Փարաքար, Այգեկ և Բաղրամյան բնակավայրերի փողոցների ասֆալտապատում /Այգեկ և Բաղրամյան բնակավայրերի փողոցների ասֆալտապատում/ | D37: 54167.7
C38: Փարաքար համայնքի Բաղրամյան բնակավայրի Այգեգործներիփողոցի,Թումանյան փողոցի Շիրազի փողոցի, Պտղունք բնակավայրի Ագաթանգեղոս փողոցի, Մուսալեռ բնակավայրի Տիգրան Մեծ փողոցի, Մերձավան բնակավայրի 1-ին, 2-րդ, 3-րդ և 4-րդ փողոցների և Այգեկ բնակավայրի 2-րդ և 3-րդ փողոցների, Փարաքար բնակավայրի Արցախի թաղամասի և Մհեր Մկրտչյան փողոցի գազաֆիկացում | D38: 20651.8
C39: Խոյ համայնքի Ծաղկալանջ բնակավայրի խմելու ջրի ցանցի հիմնանորոգում /վերակառուցում//Ծաղկալանջ բնակավայրի խմելու ջրի ցանցի հիմնանորոգում/ | D39: 58335
C40: Խոյ համայնքի խորքային հորերի հիմնանորոգում (Արագած N-1, N-2, Արշալույս N-1, N-2, N-3, N-4, N-5, N-6, N-7, N-8, Գեղակերտ N-1, Հայթաղ N-1, N-2, N-3, Մրգաստան N-1, Ծաղկունք N-1, N-2, Ծաղկալանջ N-2, Ծիածան N-1) և Ծիածան բնակավայրի ներտնտեսային ոռոգման ջրագծերի կառուցում» /Ծաղկալանջ/ | D40: 36951
C41: Խոյ համայնքի Աղավնատուն գյուղի Բ.Ներսիսյան 2-րդ նրբ., Ս.Վիրաբյան, Երիտասարդական 3-րդ, Հարավ-Արևելյան 2-րդ փողոցների, Արշալույս գյուղի 27, 28, 29, 32-րդ փողոցների և Մոնթեավան գյուղի 1-ին և 7-րդ փողոցների գազիֆիկացում/Աղավնատուն բնակավայրի փողոցների գազիֆիկացում/ | D41: 27292.9
C42: Փարաքար համայնքի Վ.Սարգսյան թաղամասի կոյուղագծի կառուցում և Էրեբունի փողոցի կոյուղագծի նորոգման աշխատանքներ | D42: -8545.4
C43: Արևաշատ համայնքի մանկապարտեզի կառուցում | D43: -2277.1
C44: ՀՀ Գեղարքունիքի մարզպետարան | D44: =D46+D47+D48+D50+D51+D52+D53+D54+D55+D56+D57+D49+D58+D59+D60+D61+D63+D62+D64+D65+D66+D67+D68+D69+D70+D71+D72+D74+D73+D75+D76+D77+D78+D79+D80 -> 179136.02
C45: այդ թվում` ըստ ուղղությունների
C46: Մարտունի համայնքի Մարտունի համայնքային կենտրոնի գարեգին Նժդեհ, Կոմիտաս, Գետափնյա 2, Կարապետյան փողոցների, Արծվանիստ, Ծովինար, Վարդենիկ, Զոլաքար, Գեղհովիտ, Գեղհովիտ բնակավայրի Լեռնակերտ տարածքի,Ն. Գետաշեն, Վ. Գետաշեն, Լիճք, Ծակքար, Ձորագյուղ, Վարդաձոր, Երանոս բնակավայրերում տարբեր փողոցների երթևեկելի հատվածների ասֆալտապատում, ինչպես նաև Ծակքար բնակավայրի 6-րդ և 10-րդ փողոցները միացնող կամրջի կառուցում /Ծակքար բնակավայրի 6-րդ և 10-րդ փողոցները միացնող կամրջի կառուցում | D46: 11476
C47: Մարտունի համայնքի Վարդենիկ բնակավայրի բանավան թաղամասի թիվ 1 մանկապարտեզի հիմնանորոգում, Երանոս բնակավայրի 3-րդ մսուր մանկապարտեզի հիմնանորոգում և ցանկապատի կառուցում, ինչպես նաև Ծովինար բնակավայրի մանկապարտեզի խաղահրապարակի և կոյուղագծի կառուցում /Ծովինար/ | D47: 32692.6
C48: Մարտունի համայնքի Զոլաքար, Աստղաձոր, Վաղաշեն, Լիճք, Ձորագյուղ, Երանոս բնակավայրերում խմելու ջրագծերի համակարգերի կառուցում և վերանորոգում /Աստղաձոր/ | D48: 7663.9
C49: Մարտունի համայնքի Մարտունի, Ձորագյուղ, Ներքին Գետաշեն, Գեղհովիտ, Աստղաձոր, Զոլաքար և Վարդենիկ բնակավայրերում գազի գծերի կառուցում /Մարտունի, Վարդենիկ/ | D49: 26406.7
C50: Ճամբարակ համայնքի Ճամբարակ քաղաքի Զ. Անդրանիկ, Նարեկացի, Գարդման, Տ. Պետրոսյան, Արցախի, Ա. Խաչատրյան փողոցների , Լեոյի նրբանցքի, Վերին Ճամբարակ թաղամասն ամբողջությամբ, Թթուջուր, Գետիկ, Դպրաբակ, Մարտունի, Այգուտ, Անտառամեջ և Կալավան բնակավայրերի լուսավորության անցկացման և Ճամբարակ համայնքի թիվ 3, թիվ5 և Թթուջրի մանկապարտեզ ՀՈԱԿ-ների , ինչպես նաև Ճամբարակի համայնքապետարանի և Վահան բնակավայրի վարչական շենքի տանիքներին արևային ֆոտովոլտային կայանների տեղադրման աշխատանքներ | D50: 58598
C51: Ճամբարակ համայնքի Ճամբարակ քաղաքի Բաղրամյան 13, Տ. Մեծի 30, Տ. Մեծի 4, Տ. Մեծի 8 և Գ. Նժդեհի 21 բազմաբնակարան բնակելի շենքերի տանիքների վերանորոգման աշխատանքներ/Գ. Նժդեհի 21,Տ. Մեծի 4 / | D51: 19877.8
C52: Ճամբարակ համայնքի թիվ 5 մանկապարտեզի 1-ին հարկի և ցանկապատի վերանորոգման ու 3-րդ մանկապարտեզի մասնաշենքի հիմնանորոգման աշխատանքներ /թիվ 5 մանկապարտեզ/ | D52: 33174.8
C53: Ճամբարակ համայնքի Ճամբարակ քաղաքի ջրամբարի արտաքին ջրագծի և ջրընդունիչի վերակառուցման, Վերին Ճամբարակ թաղամասի «Զնգզնգան աղբյուր» ջրագծի վերակառուցման, Վահան բնակավայրի արտաքին ջրագծի վերանորոգման, Այգուտ բնակավայրի արտաքին ջրագծի վերակառուցման աշխատանքներ /Վերին Ճամբարակ թաղամասի «Զնգզնգան աղբյուր» ջրագծի վերակառուցում/ | D53: 19366.6
C54: Ճամբարակ համայնքի Թթուջուր բնակավայրի համայնքային կենտրոնի վերանորոգման, Անտառամեջ բնակավայրի համայնքային կենտրոնի վերանորոգման ու տարածքի բարեկարգման և Կալավան բնակավայրի վարչական շենքի վերանորոգում /Անտառամեջ և Կալավան// | D54: 11939.7
C55: Շողակաթ համայնքի Դրախտիկ, Ջիլ և Արտանիշ բնակավայրերում խմելու ջրագծի ներքին և արտաքին ցանցի կառուցման աշխատանքներ | D55: 25545.9
C56: Սևան համայնքի Գագարին, Լճաշեն, Դդմաշեն, Գեղամավան, Զովաբեր, Չկալովկա և Ծաղկունք գյուղերի փողոցների ներքին լուսավորության ցանցի կառուցման աշխատանքներ | D56: 50557.2
C57: Ծովագյուղ համայնքի 2-րդ,3-րդ,4-րդ,6-րդ,8-րդ,12-րդ,21-րդ, 23-րդ փողոցների մասնակի, 13-րդ փողոցի 2-րդ և 3-րդ նրբանցքների, 17-րդ փողոցի 3-րդ նրբանցքի նորոգում և ասֆալտապատում | D57: 130212
... C80: Մարտունի համայնքի Արծվանիստ, Ծովինար, Վարդենիկ, Աստղաձոր, Վաղաշեն, Ն. Գետաշեն Մադինա, Ծակքար, Ձորագյուղ, Վարդաձոր, Երանոս բնակավայրերում ոռոգման համակարգերի կառուցում և նորոգում /Վարդաձոր, Ծովինար, Ներքին Գետաշեն, Արծվանիստ բնակավայրեր/ | D80: -26555.263
C81: ՀՀ Լոռու մարզպետարան | D81: =D83+D84+D85+D86+D87+D88+D89+D90+D91+D92+D93+D94+D95+D96+D97+D98+D99+D100+D101+D102+D103+D104+D105+D106+D107+D108+D109+D110 -> 573228.25
C82: այդ թվում` ըստ ուղղությունների
C83: Սպիտակ համայնքի Սարահարթ բն․ 4-րդ փող․, Լուսաղբյուր և Խնկոյան բն․ գերեզմանատուն տանող, Լեռնավան բն․ 2-րդ, Ջրաշեն բն․ 7-րդ, 1-ին փող․ 5-րդ փակուղու և 6-րդ փող․, սալարկում տուֆով և ջրահեռացման համակարգի կառուցում (Լուսաղբյուր և Լեռնավան բնակավայրեր) | D83: 16991.5
C84: Սպիտակ համայնքի Սարամեջ բնակավայրի ոռոգման ցանցի վերակառուցում, Արջահովիտ բնակավայրի ոռոգման ներքին ջրատարի կառուցում, Շենավան, Կաթնաջուր, Ծաղկաբեր, Արևաշող, Գեղասար բն․ ոռոգման համակարգերի կառուցում, Սարահարթ բն․ 10-րդ, 15-րդ և 16-րդ փող․ ոռոգման համակարգի կառուցում, Լեռնավան բնակավայրերի ջրագծերի կառուցում և ներքին ցանցավորում (Արջահովիտ, Գեղասար, Ծաղկաբեր, Կաթնաջուր, Շենավան բնակավայրեր) | D84: 67672.9
C85: Սպիտակ համայնքի Սպիտակ բնակավայրի Էստոնական և Տաշիր թաղամասերի գլխավոր ճանապարհների, Ծաղկաբեր բն․ 3-րդ փող, Լեռնանցք բն․ «Նոր գյուղի» կենտրոնական ճանապարհի սալարկում տուֆով և ջրահեռացման համակարգի կառուցում (Սպիտակ բնակավայր) | D85: 31724
C86: Լերմոնտովո համայնքի փողոցների կառուցում/նորոգում սալարկմամբ, խճապատմամբ | D86: 12426.1
C87: Ախթալա համայնքի Ճոճկան բնակավայրի ներհամայնքային ճանապարհների բարեկարգում տուֆով սալարկման միջոցով | D87: 35640
C88: Ալավերդի համայնքի Ալավերդի բն․ ճանապարհների կապիտալ վերանորոգում ասֆալտապատմամբ | D88: 52495.2
C89: Ալավերդի համայնքի Ալավերդի բն․ ԲԲՇ-ների տանիքների վերանորոգում՝ ջերմաարդիականացմամբ (տանիքների վերանորոգում) | D89: 80310
C90: Լոռի Բերդ համայնքի Ագարակ բն․ համայնքային կենտրոնի մարզադահլիճի և 2-րդ հարկի ամբողջական վերանորոգում | D90: 11643.7
C91: Վանաձոր համայնքի Աղայան փողոցի հիմնանորոգում | D91: 148351.2
C92: Վանաձոր համայնքի «Սայաթ Նովայի» անվան զբոսայգու վերակառուցում | D92: 131437.8
C93: Վանաձոր համայնքի թիվ 8 մանկապարտեզի նոր մասնաշենքի կառուցում /1-ին փուլ/ | D93: 26152.2
C94: Ստեփանավան համայնքի Ստեփանավան բն․ Խորենացի փողոցի հիմնանորոգում | D94: 69315.9
... C110: Շնող համայնքի փողոցների հիմնանորոգում | D110: -70848.234
C111: ՀՀ Կոտայքի մարզպետարան | D111: =D113+D114+D115+D116+D117+D118+D119 -> 540807.3
C112: այդ թվում` ըստ ուղղությունների
C113: Աբովյան համայնքի Բալահովիտ բնակավայրում նոր մանկապարտեզի շենքի կառուցում | D113: 71641.2
C114: Աբովյան համայնքի Ռոսիա փողոցի ասֆալտապատման և եզրզքարերի փոխարինման, Գետարգել բնակավայրի Հ Վերդյան փողոցի շենքերի հետնամասի և նոր թաղամասի, Պտղնի բնակավայրի, Արամուս բնակավայրի, Գետաշեն բնակավայրի 3-րդ թաղամասի 3-րդ փողոցի, Կամարիս բնակավայրի 7-րդ և 3-րդ փողոցների, Առինջ բնակավայրի Գետարգել վանքին միացնող Ա թաղամասի 4-րդ,5-րդ և 6-րդ փողոցների, Վերին Պտղնի բնակավարի գերեզմանների հարակից տարածքի, Կաթնաղբյուր բնակավայրի 5-րդ փողոցի 1-ին փակուղու ,Մայակովսկի բնակավայրի 2-րդ, 10-րդ, 11-րդ և 12-րդ փողոցների և Բալահովիտ բնակավայրի 2-րդ փողոցի ասալտապատման աշխատանքներ/բացի Կամարիս բնակավայրից/ | D114: 237501.2
C115: Ծաղկաձոր համայնքի Նոր թաղամասի ճանապարհի կառուցում, կապիտալ վերանորոգում | D115: 28586.9
C116: Ծաղկաձոր համայնքի 1.Աղավնաձոր գյուղի 1-ին փողոցի, Հանքավան գյուղի 3-րդ փողոցի և Փյունիկ գյուղի 1-ին փողոցի 4-րդ նրբանցքի կապիտալ վերանորոգման՝ ասֆալտապատման աշխատանքներ 2.Արտավազ գյուղի 1-ին փողոցի 2-րդ փակուղու, 1-ին փողոցի 2-րդ նրբանցքի և 2-րդ փողոցների կապիտալ վերանորոգման` ասֆալտապատման աշխատանքներ 3.Ծաղկաձոր համայնքի Մարմարիկ գյուղի 4-րդ փողոցի կապիտալ վերանորոգման՝ ասֆալտապատման աշխատանքներ /Աղավնաձոր, Փյունիկ, Արտավազդ, մարմարիկ բնակավայրերի փողոցների ասֆալտապատում/ | D116: 49529.4
C117: Ջրվեժ համայնքի Ջրվեժ և Զովք բնակավայրերի մանկապարտեզների կահավորում | D117: 13236.2
C118: Նաիրի համայնքի Եղվարդի Զորավար Անդրանիկի 1-ից 8-րդ նրբանցքների,Աբովյան, Ավտոկայան,Զաքարյան,Կնունյանց,Հովհաննիսյան,Շահումյան,Շիրակի,Աայաթ Նովայի,Սաֆարյան, Արա Գեղեցիկի և Չարենցի փողոցների, Պռոշյան բնակավայրի Մայիսյան 4-րդ նրբանցքի, Գևորգ Չաուշի 4-րդ, 5-րդ, 6-րս, 7-րդ նրբանցքների, ,Զորավան բնակավայրի 1-ին փողոցի, 2-րդ փակուղու և 10-րդ նրբանցքի Զովունի բնակավայրի 39-րդ, 38-րդ և 7-րդ փողոցների ասֆալտապատման աշխատանքներ/Եղվարդ բնակավայր/ | D118: 129568.8
C119: Հրազդան համայնքի /Կենտրոն և Միկրոշրջան թաղամասերում/, Քաղսի, Սոլակ, Լեռնանիստ և Ջրառատ գյուղերում կանգառների կառուցման և Հրազդան համայնքի երկու անվանական մուտքերի լուսավորության համակարգի կառուցման /Հրազդան համայնքի երկու անվանական մուտքերի լուսավորության համակարգի կառուցման/ | D119: 10743.6
C120: ՀՀ Շիրակի մարզպետարան | D120: =D122+D124+D123+D125 -> 155308.2
C121: այդ թվում` ըստ ուղղությունների
C122: Աշոցք խոշորացված համայնքի Արփենի, Բաշգյուղ, Փոքր Սարիար և Կրասար բնակավայրերում խմելու ջրագծերի վերանորոգման և վերակառուցման աշխատանքներ | D122: 63450.5
C123: Աշոցք համայնքի Սարագյուղ, Բավրա, Ղազանչի բնակավայրերում բնական գազի ներքին ցանցի կառուցում | D123: 31055.3
C124: Աշոցք համայնքի Աշոցք և Փոքր Սեպասար բնակավայրերում փողոցների ասֆալտապատում | D124: 31153
C125: Մարմաշեն համայնքի Շիրակ գյուղում 2 խմբասենյակով 46 երեխայի համար նախատեսված մանկապարտեզի կառուցում | D125: 29649.4
C126: ՀՀ Սյունիքի մարզպետարան | D126: =D128+D129+D130+D131+D132+D133+D134+D135+D136+D137+D138+D139+D140 -> -604730.32
C127: այդ թվում` ըստ ուղղությունների
C128: Կապան համայնքի հասարակական շենքերի (արվեստի թանգարան, Ձորք թաղամասի ակումբ, գրադարան, ՔԿԱԳ գրասենյակ) նորոգում | D128: -23512.6
C129: Կապան համայնքի Կապան քաղաքի թիվ 8 և Դավիթ Բեկ բնակավայրի ՆՈՒՀ-երի շենքերի վերանորոգում և Վարդավանք բնակավայրում այլընտրանքային ՆՈՒՀ-ի համար նախատեսվող շենքի վերանորոգում | D129: -4900.8
C130: Կապան համայնքի Աճանան բնակավայրի ոռոգման համակարգի վերակառուցում | D130: -1031.7
C131: Կապան համայնքի Սևաքար գյուղի ջրամատակարարման համակարգի վերակառուցում, Վարդավանք գյուղի ջրամատակարարման համակարգի վերակառուցում և Չափնի գյուղի ջրամատակարարման համակարգի վերակառուցում | D131: -6194.145
C132: Կապան համայնքի Կապան քաղաքի Դավիթ Բեկ հրապարակի, Ռ․ Մինասյան փողոցի մայթերի հիմնանորոգում, հենապատերի վերանորոգում, Կավարտ գետակի մի հատվածի մաքրում և հենապատի վերանորոգում, Կապան քաղաքի Թումանյան փողոցի մայթերի և աստիճանների հիմնանորոգում, հենապատերի վերանորոգում, Կապան քաղաքի Ռ․Մելիքյան փողոցի մայթերի և աստիճանների հիմնանորոգում, հենապատերի վերանորոգում, Կապան քաղաքի Հալիձոր թաղամասի մուտքի և 9, 13, 17, 18, 19 շենքերի բակերի հիմանորոգման աշխատանքներ, Կապան քաղաքի Ձորք թաղամասի հիմնական փողոցը և հարակից 4, 5, 6, 12, 13 և 15 շենքերի բակերի հիմնանորոգման աշխատանքներ, Կապան քաղաքի Բաղաբերդ թաղամասի թիվ 14, 15, 16, 18, 19, 20, 21 շենքերի բակերի նորոգման աշխատանքներ, Կապան քաղաքի Սպանդարյան փողոցի թիվ 5, 8 շենքերի բակերի նորոգման աշխատանքներ, Կապան քաղաքի Մանուկյան փ․ N 3, 5 և Թումանյան փ․ N 16, 18 շենքերի բակերի հիմնանորոգման աշխատանքներ,Կապան քաղաքի Մ․ Հարությունյան փողոցի՝ Շահումյան փողոցից մինչև ոստիկանության վարչություն հատվածի և N 10, N 12, N 14 շենքերի բակերի հիմնանորոգման աշխատանքներ, Կապան քաղաքի Շահումյան փողոցի թիվ 2, 9, 10, 11, 13, 14, 15, 17, 19, 20, 21, 23, 25, 27, 29, 31, 33, 39, 39ա շենքերի բակերի նորոգման աշխատանքներ, Կապան քաղաքի Ա․ Մանուկյան փողոցի մայթի մի հատվածի (Թումանյան, Հ․ Ավետիսյան, Ա․ Մանուկյան փողոցների հատման կամրջից մինչև Ա․ Մանուկյան 1-ին նրբանցք թիվ 2 բ/բ շենքի դիմաց) վերանորոգում, ծառատնկում, կանաչապատ տարածքների վերականգնում և բարեկարգում և Կապան համայնքի Գեղանուշ գյուղ տանող ճանապարհի վերանորոգում․ հատված կմ2+700-կմ4+565 | D132: -812.935
C133: ՀՀ Սյունիքի մարզի Կապան համայնքի հասարակական շենքերի նորոգում՝ Ծավ բնակավայրի վարչական շենքի (նախկինում գյուղապետարանի) վերանորոգում, Վերին Խոտանան գյուղում հանդիսությունների սրահի (կենցաղի տան) վերանորոգում, Չափնի գյուղում հանդիսությունների սրահի (կենցաղի տան)վերանորոգում, Շիկահող բնակավայրի ակումբի շենքի տանիքի վերանորոգում, Դավիթ Բեկ գյուղի մշակույթի տան շենքի վերականգնում, Վարդավանք գյուղի ակումբի շենքի վերանորոգում, Արծվանիկ բնակավայրի բուժկետի վերանորոգում, Թիվ 3 երաժշտական դպրոց ՀՈԱԿ-ի ջեռուցման համակարգի կառուցում, Մարմնամարզության մանկապատանեկան մարզադպրոց ՀՈԱԿ-ի շենքի վերանորոգում | D133: -10883.7
C134: Գորայք համայնքի Գորայք բն․ «Ծաղկունք», «Սաիտակ տուն» ջրաղբյուրների ջրհավաք ավազանների վերանորոգում, ՕԿՋ թիվ 1-ի քլորակայանի կառուցում, բնակավայրը սնող խմելու ջրի ջրագծի մասնակի վերանորոգում | D134: -1186.14
C135: Գորայք համայնքի Սառնակունք բն․ «Սալով», «Կոստոյի» աղբյուրների ջրհավաք ավազանների հիմնանորոգում, «Սալով» աղբյուր ջրագծի մասնակի վերանորոգում, ներբնակավայրը խմելու ջրի ջրագծի մասնակի վերանորոգում | D135: -4097.6
C136: Սիսիան համայնքի «Նար-Դոս փողոցի, Նար-Դոս – Գ. Նժդեհ ճանապարհահատվածի, Խանջյան փողոցի վերջնամասի, Րաֆֆու փողոցի մի հատվածի, Ն. Ադոնցի փակուղու, Ա. Մանուկյան փողոցի մայթերի և վաքերի, Գայի 3, 4, Խանջյան 1ա, 3ա, Հ. Ազոյան 2, 2ա, 4, 6, 8, 10 բազմաբնակարան շենքերի հարակից փողոցների, Որոտան 1, 3, 5, 7, Որոտան 2, 4, 6, 8 բազմաբնակարան շենքերի հետնամասի, Բռնակոթ բնակավայրի Վ. Ոսկանյան փողոցից դպրոց տանող ճանապարհահատվածի հիմնանորոգում», | D136: -35038.93
C137: Կապան համայնքի «Կապան քաղաքի բազմաբնակարան բնակելի շենքերի 12 նկուղային և կիսանկուղային հարկերի նորոգում ու Կապան քաղաքի բազմաբնակարան բնակելի շենքերի 16 հարթ և 9 լանջավոր տանիքների վերանորոգում | D137: -35327.47
C138: Քաջարան համայնքի Բակունց փողոցում գտնվող մինի ֆուտբոլային մարզադաշտի վերակառուցում, Բաբիկավանում, Քաջարան քաղաքի Խանջյան և Աբովյան փողոցներում խաղահրապարակների կառուցում | D138: -9744.3
...

Sheet 2
G1: Հավելված № 2
G2: ՀՀ կառավարության 2022 թվականի
G3: -------------- ի № ---- -Ն որոշման
A5: ՀԱՅԱՍՏԱՆԻ ՀԱՆՐԱՊԵՏՈՒԹՅԱՆ ԿԱՌԱՎԱՐՈՒԹՅԱՆ 2021 ԹՎԱԿԱՆԻ ԴԵԿՏԵՄԲԵՐԻ 23-Ի № 2121-Ն ՈՐՈՇՄԱՆ №№ 3 և 4 ՀԱՎԵԼՎԱԾՆԵՐՈՒՄ ԿԱՏԱՐՎՈՂ ՓՈՓՈԽՈՒԹՅՈՒՆՆԵՐԸ ԵՎ ԼՐԱՑՈՒՄՆԵՐԸ
G6: հազար դրամ
A7: Գործառական դասիչը | D7: Ծրագրային դասիչը | F7: Բյուջետային հատկացումների գլխավոր կարգադրիչների, ծրագրերի, միջոցառումների և միջոցառումները կատարող պետական մարմինների անվանումները | G7: =+'1'!D7 -> Ցուցանիշների փոփոխությունը (ավելացումները նշված են դրական նշանով, իսկ նվազեցումները` փակագծերում)
A8: բաժին | B8: խումբ | C8: դաս | D8: Ծրագիր | E8: Միջոցառում | G8: Տարի
A9: ԸՆԴԱՄԵՆԸ ԾԱԽՍԵՐ | G9: =+G10 -> 0
A10: 01 | F10: ԸՆԴՀԱՆՈՒՐ ԲՆՈՒՅԹԻ ՀԱՆՐԱՅԻՆ ԾԱՌԱՅՈՒԹՅՈՒՆՆԵՐ | G10: =+G12 -> 0
F11: այդ թվում՝
B12: 08 | F12: Կառավարության տարբեր մակարդակների միջև իրականացվող ընդհանուր բնույթի տրանսֆերտներ | G12: =+G14 -> 0
F13: այդ թվում՝
C14: 01 | F14: Կառավարության տարբեր մակարդակների միջև իրականացվող ընդհանուր բնույթի տրանսֆերտներ | G14: =+G16 -> 0
F15: այդ թվում՝
F16: ՀՀ տարածքային կառավարման և ենթակառուցվածքների նախարարություն | G16: =+G18 -> 0
F17: այդ թվում՝
D18: 1212 | F18: Տարածքային զարգացում | G18: =+G20 -> 0
F19: այդ թվում`
E20: 12007 | F20: ՀՀ մարզերին սուբվենցիաների տրամադրում՛ ենթակառուցվածքների զարգացման նպատակով_x000D_ | G20: 0
F21: այդ թվում` ըստ կատարողների
F22: ՀՀ կառավարություն | G22: =G24 -> -2149094.2
F23: այդ թվում` բյուջետային ծախսերի տնտեսագիտական դասակարգման հոդվածներ
F24: ԸՆԴԱՄԵՆԸ ԾԱԽՍԵՐ | G24: ='1'!D19 -> -2149094.2
F25: ԸՆԹԱՑԻԿ ԾԱԽՍԵՐ | G25: =G24 -> -2149094.2
F26: ԴՐԱՄԱՇՆՈՐՀՆԵՐ | G26: =G25 -> -2149094.2
F27: Կապիտալ դրամաշնորհներ պետական հատվածի այլ մակարդակներին
F28: - Կապիտալ սուբվենցիաներ համայնքներին | G28: ='1'!D19 -> -2149094.2
F29: ՀՀ Արագածոտնի մարզպետարան | G29: ='1'!D20 -> 369157.3
F30: այդ թվում` բյուջետային ծախսերի տնտեսագիտական դասակարգման հոդվածներ
F31: ԸՆԴԱՄԵՆԸ ԾԱԽՍԵՐ | G31: =G29 -> 369157.3
F32: ԸՆԹԱՑԻԿ ԾԱԽՍԵՐ | G32: =G31 -> 369157.3
F33: ԴՐԱՄԱՇՆՈՐՀՆԵՐ | G33: =G32 -> 369157.3
F34: Կապիտալ դրամաշնորհներ պետական հատվածի այլ մակարդակներին | G34: =G29 -> 369157.3
F35: - Կապիտալ սուբվենցիաներ համայնքներին | G35: =G34 -> 369157.3
F36: ՀՀ Արարատի մարզպետարան | G36: ='1'!D27 -> -120
F37: այդ թվում` բյուջետային ծախսերի տնտեսագիտական դասակարգման հոդվածներ
F38: ԸՆԴԱՄԵՆԸ ԾԱԽՍԵՐ | G38: =G40 -> -120
F39: ԸՆԹԱՑԻԿ ԾԱԽՍԵՐ | G39: =G40 -> -120
F40: ԴՐԱՄԱՇՆՈՐՀՆԵՐ | G40: =G41 -> -120
F41: Կապիտալ դրամաշնորհներ պետական հատվածի այլ մակարդակներին | G41: =+G42 -> -120
F42: - Կապիտալ սուբվենցիաներ համայնքներին | G42: ='1'!D27 -> -120
F43: ՀՀ Արմավիրի մարզպետարան | G43: ='1'!D30 -> 338283.1
F44: այդ թվում` բյուջետային ծախսերի տնտեսագիտական դասակարգման հոդվածներ
F45: ԸՆԴԱՄԵՆԸ ԾԱԽՍԵՐ | G45: =G43 -> 338283.1
F46: ԸՆԹԱՑԻԿ ԾԱԽՍԵՐ | G46: =G43 -> 338283.1
F47: ԴՐԱՄԱՇՆՈՐՀՆԵՐ | G47: =G43 -> 338283.1
F48: Կապիտալ դրամաշնորհներ պետական հատվածի այլ մակարդակներին | G48: =G43 -> 338283.1
F49: - Կապիտալ սուբվենցիաներ համայնքներին | G49: =G45 -> 338283.1
F50: ՀՀ Գեղարքունիքի մարզպետարան | G50: ='1'!D44 -> 179136.02
F51: այդ թվում` բյուջետային ծախսերի տնտեսագիտական դասակարգման հոդվածներ
F52: ԸՆԴԱՄԵՆԸ ԾԱԽՍԵՐ | G52: =G50 -> 179136.02
F53: ԸՆԹԱՑԻԿ ԾԱԽՍԵՐ | G53: =G50 -> 179136.02
F54: ԴՐԱՄԱՇՆՈՐՀՆԵՐ | G54: =G52 -> 179136.02
F55: Կապիտալ դրամաշնորհներ պետական հատվածի այլ մակարդակներին | G55: =G52 -> 179136.02
F56: - Կապիտալ սուբվենցիաներ համայնքներին | G56: =G53 -> 179136.02
F57: ՀՀ Լոռու մարզպետարան | G57: ='1'!D81 -> 573228.25
F58: այդ թվում` բյուջետային ծախսերի տնտեսագիտական դասակարգման հոդվածներ
F59: ԸՆԴԱՄԵՆԸ ԾԱԽՍԵՐ | G59: =G57 -> 573228.25
F60: ԸՆԹԱՑԻԿ ԾԱԽՍԵՐ | G60: =G59 -> 573228.25
F61: ԴՐԱՄԱՇՆՈՐՀՆԵՐ | G61: =G59 -> 573228.25
F62: Կապիտալ դրամաշնորհներ պետական հատվածի այլ մակարդակներին | G62: =G61 -> 573228.25
F63: - Կապիտալ սուբվենցիաներ համայնքներին | G63: =G62 -> 573228.25
F64: ՀՀ Կոտայքի մարզպետարան | G64: ='1'!D111 -> 540807.3
F65: այդ թվում` բյուջետային ծախսերի տնտեսագիտական դասակարգման հոդվածներ
F66: ԸՆԴԱՄԵՆԸ ԾԱԽՍԵՐ | G66: =G64 -> 540807.3
F67: ԸՆԹԱՑԻԿ ԾԱԽՍԵՐ | G67: =G66 -> 540807.3
F68: ԴՐԱՄԱՇՆՈՐՀՆԵՐ | G68: =G66 -> 540807.3
F69: Կապիտալ դրամաշնորհներ պետական հատվածի այլ մակարդակներին | G69: =G68 -> 540807.3
F70: - Կապիտալ սուբվենցիաներ համայնքներին | G70: =G69 -> 540807.3
F71: ՀՀ Շիրակի մարզպետարան | G71: 155308.2
F72: այդ թվում` բյուջետային ծախսերի տնտեսագիտական դասակարգման հոդվածներ
F73: ԸՆԴԱՄԵՆԸ ԾԱԽՍԵՐ | G73: 155308.2
F74: ԸՆԹԱՑԻԿ ԾԱԽՍԵՐ | G74: 155308.2
F75: ԴՐԱՄԱՇՆՈՐՀՆԵՐ | G75: 155308.2
F76: Կապիտալ դրամաշնորհներ պետական հատվածի այլ մակարդակներին | G76: 155308.2
F77: - Կապիտալ սուբվենցիաներ համայնքներին | G77: 155308.2
F78: ՀՀ Սյունիքի մարզպետարան | G78: ='1'!D126 -> -604730.32
F79: այդ թվում` բյուջետային ծախսերի տնտեսագիտական դասակարգման հոդվածներ | G79: =G78 -> -604730.32
F80: ԸՆԴԱՄԵՆԸ ԾԱԽՍԵՐ | G80: =G79 -> -604730.32
F81: ԸՆԹԱՑԻԿ ԾԱԽՍԵՐ | G81: =G80 -> -604730.32
F82: ԴՐԱՄԱՇՆՈՐՀՆԵՐ | G82: =G81 -> -604730.32
F83: Կապիտալ դրամաշնորհներ պետական հատվածի այլ մակարդակներին | G83: =G82 -> -604730.32
F84: - Կապիտալ սուբվենցիաներ համայնքներին | G84: =G83 -> -604730.32
F86: ՀՀ Վայոց ձորի մարզպետարան | G86: 351975.7
F87: այդ թվում` բյուջետային ծախսերի տնտեսագիտական դասակարգման հոդվածներ
F88: ԸՆԴԱՄԵՆԸ ԾԱԽՍԵՐ | G88: 351975.7
F89: ԸՆԹԱՑԻԿ ԾԱԽՍԵՐ | G89: 351975.7
F90: ԴՐԱՄԱՇՆՈՐՀՆԵՐ | G90: 351975.7
F91: Կապիտալ դրամաշնորհներ պետական հատվածի այլ մակարդակներին | G91: 351975.7
F92: - Կապիտալ սուբվենցիաներ համայնքներին | G92: 351975.7
F93: ՀՀ Տավուշի մարզպետարան | G93: ='1'!D150 -> 246048.7
F94: այդ թվում` բյուջետային ծախսերի տնտեսագիտական դասակարգման հոդվածներ
F95: ԸՆԴԱՄԵՆԸ ԾԱԽՍԵՐ | G95: =G93 -> 246048.7
F96: ԸՆԹԱՑԻԿ ԾԱԽՍԵՐ | G96: =G93 -> 246048.7
F97: ԴՐԱՄԱՇՆՈՐՀՆԵՐ | G97: =G95 -> 246048.7
F98: Կապիտալ դրամաշնորհներ պետական հատվածի այլ մակարդակներին | G98: =G96 -> 246048.7
F99: - Կապիտալ սուբվենցիաներ համայնքներին | G99: =G97 -> 246048.7

Sheet 3
C1: Հավելված № 3
C2: ՀՀ կառավարության 2022 թվականի
C3: -------------- ի № ---- -Ն որոշման
A4: ՀԱՅԱՍՏԱՆԻ ՀԱՆՐԱՊԵՏՈՒԹՅԱՆ ԿԱՌԱՎԱՐՈՒԹՅԱՆ 2021 ԹՎԱԿԱՆԻ ԴԵԿՏԵՄԲԵՐԻ 23-Ի № 2121-Ն ՈՐՈՇՄԱՆ № 9 ՀԱՎԵԼՎԱԾԻ № 9.7 ԱՂՅՈՒՍԱԿՈՒՄ ԿԱՏԱՐՎՈՂ ԼՐԱՑՈՒՄԸ
A5: ՀՀ տարածքային կառավարման և ենթակառուցվածքների նախարարություն
A7: Ծրագրի դասիչը | B7: Ծրագրի անվանումը
A8: 1212 | B8: Տարածքային զարգացում
A9: Ծրագրի միջոցառումները
A11: Ծրագրի դասիչը` | B11: 1212 | C11: Ցուցանիշների փոփոխությունը (ավելացումները նշված են դրական նշանով)
A12: Միջոցառման դասիչը` | B12: 12007 | C12: Տարի
A13: Միջոցառման անվանումը` | B13: ՀՀ մարզերին սուբվենցիաների տրամադրում` ենթակառուցվածքների զարգացման նպատակով_x000D_
A14: Նկարագրությունը` | B14: ՀՀ մարզերին սուբվենցիաների տրամադրում` ենթակառուցվածքների զարգացման նպատակով
A15: Միջոցառման տեսակը` | B15: Տրանսֆերտների տրամադրում
A16: Միջոցառումն իրականացնողի անվանումը | B16: ՀՀ համայնքներ
A17: Արդյունքի չափորոշիչներ
A18: ՀՀ համայնքների թիվ, հատ | C18: ='4'!C24+'4'!C64+'4'!C84+'4'!C104+'4'!C125+'4'!C145+'4'!C185+'4'!C205 -> 31
A19: Միջոցառման վրա կատարվող ծախսը (հազար դրամ) | C19: 0

Sheet 4
C1: Հավելված № 4
C2: ՀՀ կառավարության 2022 թվականի
C3: -------------- ի № ---- -Ն որոշման
A6: ՀԱՅԱՍՏԱՆԻ ՀԱՆՐԱՊԵՏՈՒԹՅԱՆ ԿԱՌԱՎԱՐՈՒԹՅԱՆ 2021 ԹՎԱԿԱՆԻ ԴԵԿՏԵՄԲԵՐԻ 23-Ի № 2121-Ն ՈՐՈՇՄԱՆ № 9.1 ՀԱՎԵԼՎԱԾԻ № 9.1.49,9.1.50, 9.1.51, 9.1.52, 9.1.53 9.1.54,9.1.55, 9.1.56,9.1.57,9.1.58 ԵՎ 9.1.59 ԱՂՅՈՒՍԱԿՆԵՐՈՒՄ ԿԱՏԱՐՎՈՂ ՓՈՓՈԽՈՒԹՅՈՒՆԸ ԵՎ ԼՐԱՑՈՒՄՆԵՐԸ
C7: Աղյուսակ 9.1.49
A8: ՀՀ Արագածոտնի մարզպետարան
A10: ՄԱՍ 1. ՊԵՏԱԿԱՆ ՄԱՐՄՆԻ ԳԾՈՎ ԱՐԴՅՈՒՆՔԱՅԻՆ (ԿԱՏԱՐՈՂԱԿԱՆ) ՑՈՒՑԱՆԻՇՆԵՐԸ
A12: Ծրագրի դասիչը | B12: Ծրագրի անվանումը
A13: 1212 | B13: Տարածքային զարգացում
A15: Ծրագրի միջոցառումները
A17: Ծրագրի դասիչը` | B17: 1212 | C17: Ցուցանիշների փոփոխությունը (ավելացումները նշված են դրական նշանով)
A18: Միջոցառման դասիչը` | B18: 12007 | C18: Տարի
A19: Միջոցառման անվանումը` | B19: ՀՀ մարզերին սուբվենցիաների տրամադրում` ենթակառուցվածքների զարգացման նպատակով_x000D_
A20: Նկարագրությունը` | B20: ՀՀ մարզերին սուբվենցիաների տրամադրում` ենթակառուցվածքների զարգացման նպատակով
A21: Միջոցառման տեսակը` | B21: Տրանսֆերտների տրամադրում
A22: Միջոցառումն իրականացնողի անվանումը | B22: ՀՀ համայնքներ
A23: Արդյունքի չափորոշիչներ
A24: ՀՀ համայնքների թիվ, հատ | C24: 3
A25: Միջոցառման վրա կատարվող ծախսը (հազար դրամ) | C25: ='2'!G29 -> 369157.3
C27: Աղյուսակ 9.1.50
A28: ՀՀ Արարատի մարզպետարան
A30: ՄԱՍ 1. ՊԵՏԱԿԱՆ ՄԱՐՄՆԻ ԳԾՈՎ ԱՐԴՅՈՒՆՔԱՅԻՆ (ԿԱՏԱՐՈՂԱԿԱՆ) ՑՈՒՑԱՆԻՇՆԵՐԸ
A32: Ծրագրի դասիչը | B32: Ծրագրի անվանումը
A33: 1212 | B33: Տարածքային զարգացում
A35: Ծրագրի միջոցառումները
A37: Ծրագրի դասիչը` | B37: 1212 | C37: Ցուցանիշների փոփոխությունը (ավելացումները նշված են դրական նշանով)
A38: Միջոցառման դասիչը` | B38: 12007 | C38: Տարի
A39: Միջոցառման անվանումը` | B39: ՀՀ մարզերին սուբվենցիաների տրամադրում` ենթակառուցվածքների զարգացման նպատակով_x000D_
A40: Նկարագրությունը` | B40: ՀՀ մարզերին սուբվենցիաների տրամադրում` ենթակառուցվածքների զարգացման նպատակով
A41: Միջոցառման տեսակը` | B41: Տրանսֆերտների տրամադրում
A42: Միջոցառումն իրականացնողի անվանումը | B42: ՀՀ համայնքներ
A43: Արդյունքի չափորոշիչներ
A44: ՀՀ համայնքների թիվ, հատ
A45: Միջոցառման վրա կատարվող ծախսը (հազար դրամ) | C45: ='1'!D27 -> -120
C47: Աղյուսակ 9.1.51
A48: ՀՀ Արմավիրի մարզպետարան
A50: ՄԱՍ 1. ՊԵՏԱԿԱՆ ՄԱՐՄՆԻ ԳԾՈՎ ԱՐԴՅՈՒՆՔԱՅԻՆ (ԿԱՏԱՐՈՂԱԿԱՆ) ՑՈՒՑԱՆԻՇՆԵՐԸ
A52: Ծրագրի դասիչը | B52: Ծրագրի անվանումը
A53: 1212 | B53: Տարածքային զարգացում
A55: Ծրագրի միջոցառումները
A57: Ծրագրի դասիչը` | B57: 1212 | C57: Ցուցանիշների փոփոխությունը (ավելացումները նշված են դրական նշանով)
A58: Միջոցառման դասիչը` | B58: 12007 | C58: Տարի
A59: Միջոցառման անվանումը` | B59: ՀՀ մարզերին սուբվենցիաների տրամադրում` ենթակառուցվածքների զարգացման նպատակով_x000D_
A60: Նկարագրությունը` | B60: ՀՀ մարզերին սուբվենցիաների տրամադրում` ենթակառուցվածքների զարգացման նպատակով
A61: Միջոցառման տեսակը` | B61: Տրանսֆերտների տրամադրում
A62: Միջոցառումն իրականացնողի անվանումը | B62: ՀՀ համայնքներ
A63: Արդյունքի չափորոշիչներ
A64: ՀՀ համայնքների թիվ, հատ | C64: 5
A65: Միջոցառման վրա կատարվող ծախսը (հազար դրամ) | C65: ='2'!G43 -> 338283.1
C67: Աղյուսակ 9.1.52
A68: ՀՀ Գեղարքունիքի մարզպետարան
A70: ՄԱՍ 1. ՊԵՏԱԿԱՆ ՄԱՐՄՆԻ ԳԾՈՎ ԱՐԴՅՈՒՆՔԱՅԻՆ (ԿԱՏԱՐՈՂԱԿԱՆ) ՑՈՒՑԱՆԻՇՆԵՐԸ
A72: Ծրագրի դասիչը | B72: Ծրագրի անվանումը
A73: 1212 | B73: Տարածքային զարգացում
A75: Ծրագրի միջոցառումները
A77: Ծրագրի դասիչը` | B77: 1212 | C77: Ցուցանիշների փոփոխությունը (ավելացումները նշված են դրական նշանով)
A78: Միջոցառման դասիչը` | B78: 12007 | C78: Տարի
A79: Միջոցառման անվանումը` | B79: ՀՀ մարզերին սուբվենցիաների տրամադրում` ենթակառուցվածքների զարգացման նպատակով_x000D_
A80: Նկարագրությունը` | B80: ՀՀ մարզերին սուբվենցիաների տրամադրում` ենթակառուցվածքների զարգացման նպատակով
A81: Միջոցառման տեսակը` | B81: Տրանսֆերտների տրամադրում
A82: Միջոցառումն իրականացնողի անվանումը | B82: ՀՀ համայնքներ
A83: Արդյունքի չափորոշիչներ
A84: ՀՀ համայնքների թիվ, հատ | C84: 4
A85: Միջոցառման վրա կատարվող ծախսը (հազար դրամ) | C85: ='2'!G50 -> 179136.02
C87: Աղյուսակ 9.1.53
A88: ՀՀ Լոռու մարզպետարան
A90: ՄԱՍ 1. ՊԵՏԱԿԱՆ ՄԱՐՄՆԻ ԳԾՈՎ ԱՐԴՅՈՒՆՔԱՅԻՆ (ԿԱՏԱՐՈՂԱԿԱՆ) ՑՈՒՑԱՆԻՇՆԵՐԸ
A92: Ծրագրի դասիչը | B92: Ծրագրի անվանումը
A93: 1212 | B93: Տարածքային զարգացում
A95: Ծրագրի միջոցառումները
A97: Ծրագրի դասիչը` | B97: 1212 | C97: Ցուցանիշների փոփոխությունը (ավելացումները նշված են դրական նշանով)
A98: Միջոցառման դասիչը` | B98: 12007 | C98: Տարի
A99: Միջոցառման անվանումը` | B99: ՀՀ մարզերին սուբվենցիաների տրամադրում` ենթակառուցվածքների զարգացման նպատակով_x000D_
A100: Նկարագրությունը` | B100: ՀՀ մարզերին սուբվենցիաների տրամադրում` ենթակառուցվածքների զարգացման նպատակով
A101: Միջոցառման տեսակը` | B101: Տրանսֆերտների տրամադրում
A102: Միջոցառումն իրականացնողի անվանումը | B102: ՀՀ համայնքներ
A103: Արդյունքի չափորոշիչներ
A104: ՀՀ համայնքների թիվ, հատ | C104: 8
A105: Միջոցառման վրա կատարվող ծախսը (հազար դրամ) | C105: ='2'!G57 -> 573228.25
C108: Աղյուսակ 9.1.54
A109: ՀՀ Կոտայքի մարզպետարան
A111: ՄԱՍ 1. ՊԵՏԱԿԱՆ ՄԱՐՄՆԻ ԳԾՈՎ ԱՐԴՅՈՒՆՔԱՅԻՆ (ԿԱՏԱՐՈՂԱԿԱՆ) ՑՈՒՑԱՆԻՇՆԵՐԸ
A113: Ծրագրի դասիչը | B113: Ծրագրի անվանումը
A114: 1212 | B114: Տարածքային զարգացում
A116: Ծրագրի միջոցառումները
A118: Ծրագրի դասիչը` | B118: 1212 | C118: Ցուցանիշների փոփոխությունը (ավելացումները նշված են դրական նշանով)
A119: Միջոցառման դասիչը` | B119: 12007 | C119: Տարի
A120: Միջոցառման անվանումը` | B120: ՀՀ մարզերին սուբվենցիաների տրամադրում` ենթակառուցվածքների զարգացման նպատակով_x000D_
A121: Նկարագրությունը` | B121: ՀՀ մարզերին սուբվենցիաների տրամադրում` ենթակառուցվածքների զարգացման նպատակով
A122: Միջոցառման տեսակը` | B122: Տրանսֆերտների տրամադրում
A123: Միջոցառումն իրականացնողի անվանումը | B123: ՀՀ համայնքներ
A124: Արդյունքի չափորոշիչներ
A125: ՀՀ համայնքների թիվ, հատ | C125: 5
A126: Միջոցառման վրա կատարվող ծախսը (հազար դրամ) | C126: ='2'!G64 -> 540807.3
C128: Աղյուսակ 9.1.55
A129: ՀՀ Շիրակի մարզպետարան
A131: ՄԱՍ 1. ՊԵՏԱԿԱՆ ՄԱՐՄՆԻ ԳԾՈՎ ԱՐԴՅՈՒՆՔԱՅԻՆ (ԿԱՏԱՐՈՂԱԿԱՆ) ՑՈՒՑԱՆԻՇՆԵՐԸ
A133: Ծրագրի դասիչը | B133: Ծրագրի անվանումը
A134: 1212 | B134: Տարածքային զարգացում
A136: Ծրագրի միջոցառումները
...
