Workbook
Name _tab10: #REF!
Name _tab11: #REF!
Name _tab12: #REF!
Name _tab13: #REF!
Name _tab14: #REF!
Name _tab15: #REF!
Name _tab16: #REF!
Name _tab17: #REF!
Name _tab18: #REF!
Name _tab19: #REF!
Name _tab20: #REF!
Name _tab21: #REF!
Name _tab22: #REF!
Name _tab23: #REF!
Name _tab24: #REF!
Name _tab5: #REF!
Name _tab6: #REF!
Name _tab7: #REF!
Name _tab8: #REF!
Name _tab9: #REF!
Name par_count: #REF!,#REF!,#REF!,#REF!,#REF!,#REF!,#REF!,#REF!,#REF!,#REF!,#REF!,#REF!,#REF!,#REF!,#REF!
Name par_qual: #REF!,#REF!,#REF!,#REF!,#REF!
Name par_time: #REF!,#REF!,#REF!,#REF!
Name par2.12s: #REF!
Name par2.4s: #REF!,#REF!,#REF!,#REF!,#REF!,#REF!,#REF!,#REF!,#REF!,#REF!,#REF!,#REF!,#REF!,#REF!,#REF!,#REF!
Name par2.5s: #REF!,#REF!
Name par2.6s: #REF!,#REF!,#REF!,#REF!
Name par2.7s: #REF!,#REF!
Name par2.9s: #REF!,#REF!,#REF!,#REF!,#REF!,#REF!,#REF!,#REF!,#REF!,#REF!,#REF!,#REF!,#REF!,#REF!,#REF!,#REF!
Name par4.10s: #REF!,#REF!
Name par4.11d: #REF!,#REF!,#REF!,#REF!,#REF!
Name par4.12d: #REF!
Name par4.13s: #REF!
Name par4.14: #REF!,#REF!,#REF!,#REF!,#REF!,#REF!
Name par4.15: #REF!,#REF!,#REF!
Name par4.16: #REF!,#REF!,#REF!
Name par4.17: #REF!,#REF!,#REF!,#REF!
Name par4.18d: #REF!,#REF!
Name par4.19s: #REF!
Name par4.20f: #REF!
Name par4.21f: #REF!
Name par4.22: #REF!
Name par4.4: #REF!
Name par4.5: #REF!
Name par4.6s: #REF!
Name par4.7s: #REF!
Name par4.8: #REF!,#REF!,#REF!,#REF!,#REF!
Name par4.9: #REF!,#REF!,#REF!,#REF!,#REF!,#REF!
Name par5.1: #REF!,#REF!
Name par5.3: #REF!,#REF!,#REF!,#REF!,#REF!,#REF!
Name par5.4: #REF!,#REF!,#REF!,#REF!,#REF!
Name par5.5: #REF!
Name par5.6: #REF!,#REF!
Name program: #REF!,#REF!,#REF!,#REF!,#REF!,#REF!,#REF!,#REF!,#REF!,#REF!,#REF!,#REF!,#REF!,#REF!,#REF!,#REF!,#REF!,#REF!,#REF!,#REF!

Sheet 1
D1: Հավելված № 1
D2: ՀՀ կառավարության 2022 թվականի
D3: -------------- ի № ---- -Ն որոշման
A5: «ՀԱՅԱՍՏԱՆԻ ՀԱՆՐԱՊԵՏՈՒԹՅԱՆ 2022 ԹՎԱԿԱՆԻ ՊԵՏԱԿԱՆ ԲՅՈՒՋԵԻ ՄԱՍԻՆ» ՕՐԵՆՔԻ N 1 ՀԱՎԵԼՎԱԾԻ N 7 ԱՂՅՈՒՍԱԿՈՒՄ ԵՎ ՀԱՅԱՍՏԱՆԻ ՀԱՆՐԱՊԵՏՈՒԹՅԱՆ ԿԱՌԱՎԱՐՈՒԹՅԱՆ 2021 ԹՎԱԿԱՆԻ ԴԵԿՏԵՄԲԵՐԻ 23-Ի N 2121-Ն ՈՐՈՇՄԱՆ N 5 ՀԱՎԵԼՎԱԾԻ N 6 ԱՂՅՈՒՍԱԿՈՒՄ ԿԱՏԱՐՎՈՂ ՓՈՓՈԽՈՒԹՅՈՒՆԸ ԵՎ ԼՐԱՑՈՒՄՆԵՐԸ
D6: հազար դրամ
A7: Ծրագրային դասիչը | C7: Բյուջետային հատկացումների գլխավոր կարգադրիչների, ծրագրերի, միջոցառումների և միջոցառումները կատարող պետական մարմինների անվանումները | D7: Ցուցանիշների փոփոխությունը (ավելացումները նշված են դրական նշանով, իսկ նվազեցումները` փակագծերում)
A8: Ծրագիր | B8: Միջոցառում | D8: Տարի
C9: ԸՆԴԱՄԵՆԸ | D9: =+D11 -> 0
C10: այդ թվում
C11: Կապիտալ սուբվենցիաներ համայնքներին | D11: =+D13 -> 0
C12: այդ թվում`
C13: ՀՀ տարածքային կառավարման և ենթակառուցվածքների նախարարություն | D13: =+D15 -> 0
C14: այդ թվում`
A15: 1212 | C15: Տարածքային զարգացում | D15: =+D17 -> 0
C16: այդ թվում`
B17: 12007 | C17: ՀՀ մարզերին սուբվենցիաների տրամադրում՝ ենթակառուցվածքների զարգացման նպատակով | D17: 0
C18: այդ թվում` ըստ կատարողների
C19: ՀՀ կառավարություն | D19: =-(D20+D27+D30+D44+D81+D111+D120+D126+D141+D150) -> -2149094.2
C20: ՀՀ Արագածոտնի մարզպետարան | D20: =D22+D23+D24+D25+D26 -> 369157.3
C21: այդ թվում` ըստ ուղղությունների
C22: Ապարան համայնքի Մելիքգյուղ, Թթուջուր և Ձորագլուխ բն․ գազիֆիկացում | D22: 203489.2
C23: Ապարան համայնքի Ապարան քաղաքի մի շարք փողոցների ասֆալտապատման աշխատանքներ, գյուղական բնակավայրերի մի շարք փողոցների ասֆալտապատման աշխատանքներ և Ապարան քաղաքի բակային տարածքների ասֆալտապատաման աշխատանքներ | D23: 72127.1
C24: Արագածավան համայնքի Արագածավան բնակավայրի «Առողջության կենտրոն» ՀՈԱԿ-ի մասնակի վերանորոգման աշխատանքներ | D24: 3760.5
C25: Թալին համայնքի Թալին քաղաքի տարածքում պուրակի կառուցում | D25: 13134.9
C26: Թալին համայնքի Թալին քաղաքի Մ․ Գորկու Դավթաշեն բնակ․ ասֆալտբետոնե ծածկույթի հիմնանորոգման աշխատանքներ | D26: 76645.6
C27: ՀՀ Արարատի մարզպետարան | D27: =D29 -> -120
C28: այդ թվում` ըստ ուղղությունների
C29: Վեդի համայնքի Վեդի քաղաքային բնակավայրի փողոցներում կոյուղագծի կառուցում | D29: -120
C30: ՀՀ Արմավիրի մարզպետարան | D30: =D32+D33+D34+D35+D36+D37+D38+D39+D40++D41+D42+D43 -> 338283.1
C31: այդ թվում` ըստ ուղղությունների
C32: Արմավիր համայնքի թիվ 2 մանկապարտեզ ՀՈԱԿ-ի հիմնանորոգում, թիվ 3 և թիվ 7 մանկապարտեզ ՀՈԱԿ-ների ջեռուցման համակարգերի կառուցում, գազաֆիկացում, հին դռների և պատուհանների նորով փոխարինում, Մյասնիկյան գյուղի մանկապարտեզ ՀՈԱԿ-ի ջեռուցման համակարգի կառուցում և սանհանգույցի վերանորոգում, Լուկաշին գյուղի մանկապարտեզ ՀՈԱԿ-ի ջեռուցման համակարգի կառուցում, Սարդարապատ գյուղի մանկապարտեզ ՀՈԱԿ-ի հիմնանորոգում, գազաֆիկացում և ջեռուցման համակարգի կառուցում/թիվ 3 և թիվ 7 մանկապարտեզ ՀՈԱԿ-ների ջեռուցման համակարգերի կառուցում, գազաֆիկացում, հին դռների և պատուհանների նորով փոխարինում և Լուկաշին գյուղի մանկապարտեզ ՀՈԱԿ-ի ջեռուցման համակարգի կառուցում/ | D32: 43710.2
C33: Բաղրամյան համայնքի Բաղրամյան բնակավայրի Արցախի 37/1 հասցեի բազմաբնակարան շենքի տանիքի վերանորոգում, Լեռնագոգ բնակավայրի 5-րդ փողոցի 5 հարկանի շենքի տանիքի հիմնանորոգում, Դալարիկ բնակավայրի 13 բազմաբնակարան շենքի տանիքի վերակառուցում, Դալարիկ բնակավայրի Բաղրամյան 18 բազմաբնակարան բնակելի շենքի տանիքի հիմնանորոգում/Լեռնագոգ բնակավայրի 5-րդ փողոցի 5 հարկանի շենքի տանիքի հիմնանորոգում և Դալարիկ բնակավայրի 13 բազմաբնակարան շենքի տանիքի վերակառուցում, Դալարիկ բնակավայրի Բաղրամյան 18 բազմաբնակարան բնակելի շենքի տանիքի հիմնանորոգում/ | D33: 23101.9
C34: Մեծամոր համայնքի .Մեծամոր, և Արազափ մշակույթի տների վերանորոգում, Նոր Կեսարիա մշակույթի տան ջեռուցման համակարգի կառուցում, Մրգաշատ բնակավայրի երաժշտական դպրոցի վերանորոգում և ջեռուցոման համակարգի կառուցում, Նալբանդյան բնակավայրերում երաժշտական դպրոցի ջեռուցման համակարգի կառուցում | D34: 7074.4
C35: Մեծամոր համայնքի Գետաշեն բնակավայրի փողոցների ց/ճնշման գազատարի կառուցում, Շենավան, Վարդանաշեն, Այգեշատ, Նոր Արմավիր, Եղեգնուտ, Ակնալիճ բնակավայրերի գազաֆիկացում/Գետաշեն,Շենավան և Նոր Արմավիր բնակավայրի գազիֆիկացում/ | D35: 58051.1
C36: Մեծամոր համայնքի Մարգարա բնակավայրի փողոցների գազամատակարարում, Ջանֆիդա, Փշատավան բնակավայրերի գազաֆիկացում/Մարգարա բնակավայրի գազիֆիկացում/ | D36: 19769.6
C37: Փարաքար համայնքի Փարաքար, Այգեկ և Բաղրամյան բնակավայրերի փողոցների ասֆալտապատում /Այգեկ և Բաղրամյան բնակավայրերի փողոցների ասֆալտապատում/ | D37: 54167.7
C38: Փարաքար համայնքի Բաղրամյան բնակավայրի Այգեգործներիփողոցի,Թումանյան փողոցի Շիրազի փողոցի, Պտղունք բնակավայրի Ագաթանգեղոս փողոցի, Մուսալեռ բնակավայրի Տիգրան Մեծ փողոցի, Մերձավան բնակավայրի 1-ին, 2-րդ, 3-րդ և 4-րդ փողոցների և Այգեկ բնակավայրի 2-րդ և 3-րդ փողոցների, Փարաքար բնակավայրի Արցախի թաղամասի և Մհեր Մկրտչյան փողոցի գազաֆիկացում | D38: 20651.8
C39: Խոյ համայնքի Ծաղկալանջ բնակավայրի խմելու ջրի ցանցի հիմնանորոգում /վերակառուցում//Ծաղկալանջ բնակավայրի խմելու ջրի ցանցի հիմնանորոգում/ | D39: 58335
C40: Խոյ համայնքի խորքային հորերի հիմնանորոգում (Արագած N-1, N-2, Արշալույս N-1, N-2, N-3, N-4, N-5, N-6, N-7, N-8, Գեղակերտ N-1, Հայթաղ N-1, N-2, N-3, Մրգաստան N-1, Ծաղկունք N-1, N-2, Ծաղկալանջ N-2, Ծիածան N-1) և Ծիածան բնակավայրի ներտնտեսային ոռոգման ջրագծերի կառուցում» /Ծաղկալանջ/ | D40: 36951
C41: Խոյ համայնքի Աղավնատուն գյուղի Բ.Ներսիսյան 2-րդ նրբ., Ս.Վիրաբյան, Երիտասարդական 3-րդ, Հարավ-Արևելյան 2-րդ փողոցների, Արշալույս գյուղի 27, 28, 29, 32-րդ փողոցների և Մոնթեավան գյուղի 1-ին և 7-րդ փողոցների գազիֆիկացում/Աղավնատուն բնակավայրի փողոցների գազիֆիկացում/ | D41: 27292.9
...

Sheet 2
G1: Հավելված № 2
G2: ՀՀ կառավարության 2022 թվականի
G3: -------------- ի № ---- -Ն որոշման
A5: ՀԱՅԱՍՏԱՆԻ ՀԱՆՐԱՊԵՏՈՒԹՅԱՆ ԿԱՌԱՎԱՐՈՒԹՅԱՆ 2021 ԹՎԱԿԱՆԻ ԴԵԿՏԵՄԲԵՐԻ 23-Ի № 2121-Ն ՈՐՈՇՄԱՆ №№ 3 և 4 ՀԱՎԵԼՎԱԾՆԵՐՈՒՄ ԿԱՏԱՐՎՈՂ ՓՈՓՈԽՈՒԹՅՈՒՆՆԵՐԸ ԵՎ ԼՐԱՑՈՒՄՆԵՐԸ
G6: հազար դրամ
A7: Գործառական դասիչը | D7: Ծրագրային դասիչը | F7: Բյուջետային հատկացումների գլխավոր կարգադրիչների, ծրագրերի, միջոցառումների և միջոցառումները կատարող պետական մարմինների անվանումները | G7: =+'1'!D7 -> Ցուցանիշների փոփոխությունը (ավելացումները նշված են դրական նշանով, իսկ նվազեցումները` փակագծերում)
A8: բաժին | B8: խումբ | C8: դաս | D8: Ծրագիր | E8: Միջոցառում | G8: Տարի
A9: ԸՆԴԱՄԵՆԸ ԾԱԽՍԵՐ | G9: =+G10 -> 0
A10: 01 | F10: ԸՆԴՀԱՆՈՒՐ ԲՆՈՒՅԹԻ ՀԱՆՐԱՅԻՆ ԾԱՌԱՅՈՒԹՅՈՒՆՆԵՐ | G10: =+G12 -> 0
F11: այդ թվում՝
B12: 08 | F12: Կառավարության տարբեր մակարդակների միջև իրականացվող ընդհանուր բնույթի տրանսֆերտներ | G12: =+G14 -> 0
F13: այդ թվում՝
C14: 01 | F14: Կառավարության տարբեր մակարդակների միջև իրականացվող ընդհանուր բնույթի տրանսֆերտներ | G14: =+G16 -> 0
F15: այդ թվում՝
F16: ՀՀ տարածքային կառավարման և ենթակառուցվածքների նախարարություն | G16: =+G18 -> 0
F17: այդ թվում՝
D18: 1212 | F18: Տարածքային զարգացում | G18: =+G20 -> 0
F19: այդ թվում`
E20: 12007 | F20: ՀՀ մարզերին սուբվենցիաների տրամադրում՛ ենթակառուցվածքների զարգացման նպատակով_x000D_ | G20: 0
F21: այդ թվում` ըստ կատարողների
F22: ՀՀ կառավարություն | G22: =G24 -> -2149094.2
F23: այդ թվում` բյուջետային ծախսերի տնտեսագիտական դասակարգման հոդվածներ
F24: ԸՆԴԱՄԵՆԸ ԾԱԽՍԵՐ | G24: ='1'!D19 -> -2149094.2
F25: ԸՆԹԱՑԻԿ ԾԱԽՍԵՐ | G25: =G24 -> -2149094.2
F26: ԴՐԱՄԱՇՆՈՐՀՆԵՐ | G26: =G25 -> -2149094.2
F27: Կապիտալ դրամաշնորհներ պետական հատվածի այլ մակարդակներին
F28: - Կապիտալ սուբվենցիաներ համայնքներին | G28: ='1'!D19 -> -2149094.2
F29: ՀՀ Արագածոտնի մարզպետարան | G29: ='1'!D20 -> 369157.3
F30: այդ թվում` բյուջետային ծախսերի տնտեսագիտական դասակարգման հոդվածներ
F31: ԸՆԴԱՄԵՆԸ ԾԱԽՍԵՐ | G31: =G29 -> 369157.3
F32: ԸՆԹԱՑԻԿ ԾԱԽՍԵՐ | G32: =G31 -> 369157.3
F33: ԴՐԱՄԱՇՆՈՐՀՆԵՐ | G33: =G32 -> 369157.3
F34: Կապիտալ դրամաշնորհներ պետական հատվածի այլ մակարդակներին | G34: =G29 -> 369157.3
F35: - Կապիտալ սուբվենցիաներ համայնքներին | G35: =G34 -> 369157.3
F36: ՀՀ Արարատի մարզպետարան | G36: ='1'!D27 -> -120
F37: այդ թվում` բյուջետային ծախսերի տնտեսագիտական դասակարգման հոդվածներ
F38: ԸՆԴԱՄԵՆԸ ԾԱԽՍԵՐ | G38: =G40 -> -120
F39: ԸՆԹԱՑԻԿ ԾԱԽՍԵՐ | G39: =G40 -> -120
F40: ԴՐԱՄԱՇՆՈՐՀՆԵՐ | G40: =G41 -> -120
F41: Կապիտալ դրամաշնորհներ պետական հատվածի այլ մակարդակներին | G41: =+G42 -> -120
...

Sheet 3
C1: Հավելված № 3
C2: ՀՀ կառավարության 2022 թվականի
C3: -------------- ի № ---- -Ն որոշման
A4: ՀԱՅԱՍՏԱՆԻ ՀԱՆՐԱՊԵՏՈՒԹՅԱՆ ԿԱՌԱՎԱՐՈՒԹՅԱՆ 2021 ԹՎԱԿԱՆԻ ԴԵԿՏԵՄԲԵՐԻ 23-Ի № 2121-Ն ՈՐՈՇՄԱՆ № 9 ՀԱՎԵԼՎԱԾԻ № 9.7 ԱՂՅՈՒՍԱԿՈՒՄ ԿԱՏԱՐՎՈՂ ԼՐԱՑՈՒՄԸ
A5: ՀՀ տարածքային կառավարման և ենթակառուցվածքների նախարարություն
A7: Ծրագրի դասիչը | B7: Ծրագրի անվանումը
A8: 1212 | B8: Տարածքային զարգացում
A9: Ծրագրի միջոցառումները
A11: Ծրագրի դասիչը` | B11: 1212 | C11: Ցուցանիշների փոփոխությունը (ավելացումները նշված են դրական նշանով)
A12: Միջոցառման դասիչը` | B12: 12007 | C12: Տարի
A13: Միջոցառման անվանումը` | B13: ՀՀ մարզերին սուբվենցիաների տրամադրում` ենթակառուցվածքների զարգացման նպատակով_x000D_
A14: Նկարագրությունը` | B14: ՀՀ մարզերին սուբվենցիաների տրամադրում` ենթակառուցվածքների զարգացման նպատակով
A15: Միջոցառման տեսակը` | B15: Տրանսֆերտների տրամադրում
A16: Միջոցառումն իրականացնողի անվանումը | B16: ՀՀ համայնքներ
A17: Արդյունքի չափորոշիչներ
A18: ՀՀ համայնքների թիվ, հատ | C18: ='4'!C24+'4'!C64+'4'!C84+'4'!C104+'4'!C125+'4'!C145+'4'!C185+'4'!C205 -> 31
A19: Միջոցառման վրա կատարվող ծախսը (հազար դրամ) | C19: 0

Sheet 4
C1: Հավելված № 4
C2: ՀՀ կառավարության 2022 թվականի
C3: -------------- ի № ---- -Ն որոշման
A6: ՀԱՅԱՍՏԱՆԻ ՀԱՆՐԱՊԵՏՈՒԹՅԱՆ ԿԱՌԱՎԱՐՈՒԹՅԱՆ 2021 ԹՎԱԿԱՆԻ ԴԵԿՏԵՄԲԵՐԻ 23-Ի № 2121-Ն ՈՐՈՇՄԱՆ № 9.1 ՀԱՎԵԼՎԱԾԻ № 9.1.49,9.1.50, 9.1.51, 9.1.52, 9.1.53 9.1.54,9.1.55, 9.1.56,9.1.57,9.1.58 ԵՎ 9.1.59 ԱՂՅՈՒՍԱԿՆԵՐՈՒՄ ԿԱՏԱՐՎՈՂ ՓՈՓՈԽՈՒԹՅՈՒՆԸ ԵՎ ԼՐԱՑՈՒՄՆԵՐԸ
C7: Աղյուսակ 9.1.49
A8: ՀՀ Արագածոտնի մարզպետարան
A10: ՄԱՍ 1. ՊԵՏԱԿԱՆ ՄԱՐՄՆԻ ԳԾՈՎ ԱՐԴՅՈՒՆՔԱՅԻՆ (ԿԱՏԱՐՈՂԱԿԱՆ) ՑՈՒՑԱՆԻՇՆԵՐԸ
A12: Ծրագրի դասիչը | B12: Ծրագրի անվանումը
A13: 1212 | B13: Տարածքային զարգացում
A15: Ծրագրի միջոցառումները
A17: Ծրագրի դասիչը` | B17: 1212 | C17: Ցուցանիշների փոփոխությունը (ավելացումները նշված են դրական նշանով)
A18: Միջոցառման դասիչը` | B18: 12007 | C18: Տարի
A19: Միջոցառման անվանումը` | B19: ՀՀ մարզերին սուբվենցիաների տրամադրում` ենթակառուցվածքների զարգացման նպատակով_x000D_
A20: Նկարագրությունը` | B20: ՀՀ մարզերին սուբվենցիաների տրամադրում` ենթակառուցվածքների զարգացման նպատակով
A21: Միջոցառման տեսակը` | B21: Տրանսֆերտների տրամադրում
A22: Միջոցառումն իրականացնողի անվանումը | B22: ՀՀ համայնքներ
A23: Արդյունքի չափորոշիչներ
A24: ՀՀ համայնքների թիվ, հատ | C24: 3
A25: Միջոցառման վրա կատարվող ծախսը (հազար դրամ) | C25: ='2'!G29 -> 369157.3
C27: Աղյուսակ 9.1.50
A28: ՀՀ Արարատի մարզպետարան
A30: ՄԱՍ 1. ՊԵՏԱԿԱՆ ՄԱՐՄՆԻ ԳԾՈՎ ԱՐԴՅՈՒՆՔԱՅԻՆ (ԿԱՏԱՐՈՂԱԿԱՆ) ՑՈՒՑԱՆԻՇՆԵՐԸ
A32: Ծրագրի դասիչը | B32: Ծրագրի անվանումը
A33: 1212 | B33: Տարածքային զարգացում
A35: Ծրագրի միջոցառումները
A37: Ծրագրի դասիչը` | B37: 1212 | C37: Ցուցանիշների փոփոխությունը (ավելացումները նշված են դրական նշանով)
A38: Միջոցառման դասիչը` | B38: 12007 | C38: Տարի
A39: Միջոցառման անվանումը` | B39: ՀՀ մարզերին սուբվենցիաների տրամադրում` ենթակառուցվածքների զարգացման նպատակով_x000D_
A40: Նկարագրությունը` | B40: ՀՀ մարզերին սուբվենցիաների տրամադրում` ենթակառուցվածքների զարգացման նպատակով
A41: Միջոցառման տեսակը` | B41: Տրանսֆերտների տրամադրում
A42: Միջոցառումն իրականացնողի անվանումը | B42: ՀՀ համայնքներ
A43: Արդյունքի չափորոշիչներ
A44: ՀՀ համայնքների թիվ, հատ
A45: Միջոցառման վրա կատարվող ծախսը (հազար դրամ) | C45: ='1'!D27 -> -120
C47: Աղյուսակ 9.1.51
A48: ՀՀ Արմավիրի մարզպետարան
A50: ՄԱՍ 1. ՊԵՏԱԿԱՆ ՄԱՐՄՆԻ ԳԾՈՎ ԱՐԴՅՈՒՆՔԱՅԻՆ (ԿԱՏԱՐՈՂԱԿԱՆ) ՑՈՒՑԱՆԻՇՆԵՐԸ
A52: Ծրագրի դասիչը | B52: Ծրագրի անվանումը
A53: 1212 | B53: Տարածքային զարգացում
A55: Ծրագրի միջոցառումները
...
