Workbook
Name AgencyCode: #REF!
Name AgencyCode: #REF!
Name AgencyCode: #REF!
Name AgencyCode: #REF!
Name AgencyCode: #REF!
Name AgencyCode: #REF!
Name AgencyCode: #REF!
Name AgencyCode: #REF!
Name AgencyName: #REF!
Name AgencyName: #REF!
Name AgencyName: #REF!
Name AgencyName: #REF!
Name AgencyName: #REF!
Name åû: #REF!
Name åû: #REF!
Name åû: #REF!
Name davit: #REF!
Name davit: #REF!
Name davit: #REF!
Name Functional1: #REF!
Name Functional1: #REF!
Name Functional1: #REF!
Name Functional1: #REF!
Name Functional1: #REF!
Name ggg: #REF!
Name ggg: #REF!
Name ggg: #REF!
Name mas: #REF!
Name mas: #REF!
Name mas: #REF!
Name mass: #REF!
Name mass: #REF!
Name mass: #REF!
Name PANature: #REF!
Name PANature: #REF!
Name PANature: #REF!
Name PANature: #REF!
Name PANature: #REF!
Name PAType: #REF!
Name PAType: #REF!
Name PAType: #REF!
Name PAType: #REF!
Name PAType: #REF!
Name Performance2: #REF!
Name Performance2: #REF!
Name Performance2: #REF!
Name Performance2: #REF!
Name Performance2: #REF!
Name PerformanceType: #REF!
Name PerformanceType: #REF!
Name PerformanceType: #REF!
Name PerformanceType: #REF!
Name PerformanceType: #REF!
Name x: #REF!
Name x: #REF!
Name x: #REF!
Name x: #REF!
Name Հավելված: #REF!
Name Հավելված: #REF!
Name Հավելված: #REF!

Sheet 1.
B1: Հավելված N 1
B2: ՀՀ կառավարության 2022 թվականի
B3: ______________ ի ___Ն որոշման
A5: «ՀԱՅԱՍՏԱՆԻ ՀԱՆՐԱՊԵՏՈՒԹՅԱՆ 2022 ԹՎԱԿԱՆԻ ՊԵՏԱԿԱՆ ԲՅՈՒՋԵԻ ՄԱՍԻՆ» ՕՐԵՆՔԻ N 2 ՀՈԴՎԱԾԻ ԱՂՅՈՒՍԱԿՈՒՄ ԿԱՏԱՐՎՈՂ ՓՈՓՈԽՈՒԹՅՈՒՆՆԵՐԸ
B7: հազար դրամներով
B8: Ցուցանիշների փոփոխությունը (նվազեցումները նշված են փակագծերում)
A9: 1. Եկամուտների գծով | B9: =+'2.'!B12 -> -1143997.1
A10: 2. Ծախսերի գծով | B10: =+'7.'!E9 -> -1798997.1
A11: 3. Դեֆիցիտը (պակասուրդը) | B11: =-B9+B10 -> -655000

Sheet 2.
B1: Հավելված N 2
B2: ՀՀ կառավարության 2022 թվականի
B3: ______________ ի ___Ն որոշման
A5: «ՀԱՅԱՍՏԱՆԻ ՀԱՆՐԱՊԵՏՈՒԹՅԱՆ 2022 ԹՎԱԿԱՆԻ ՊԵՏԱԿԱՆ ԲՅՈՒՋԵԻ ՄԱՍԻՆ» ՕՐԵՆՔԻ N 6 ՀՈԴՎԱԾԻ ԱՂՅՈՒՍԱԿՈՒՄ ԵՎ ՀԱՅԱՍՏԱՆԻ ՀԱՆՐԱՊԵՏՈՒԹՅԱՆ ԿԱՌԱՎԱՐՈՒԹՅԱՆ 2021 ԹՎԱԿԱՆԻ ԴԵԿՏԵՄԲԵՐԻ 23-Ի N 2121-Ն ՈՐՈՇՄԱՆ N 2 ՀԱՎԵԼՎԱԾՈՒՄ ԿԱՏԱՐՎՈՂ ՓՈՓՈԽՈՒԹՅՈՒՆՆԵՐԸ
B9: հազար դրամներով
A10: Եկամտատեսակ | B10: Ցուցանիշների փոփոխությունը (նվազեցումները նշված են փակագծերում)
B11: Տարի
A12: ՊԵՏԱԿԱՆ ԲՅՈՒՋԵԻ ԵԿԱՄՈՒՏՆԵՐ | B12: =+B14 -> -1143997.1
A13: այդ թվում`
A14: Պաշտոնական դրամաշնորհներ | B14: =+'10.'!F11 -> -1143997.1

Sheet 3.
B1: Հավելված N 3
B2: ՀՀ կառավարության 2022 թվականի
B3: ______________ ի ___Ն որոշման
A5: ՀԱՅԱՍՏԱՆԻ ՀԱՆՐԱՊԵՏՈՒԹՅԱՆ ԿԱՌԱՎԱՐՈՒԹՅԱՆ 2021 ԹՎԱԿԱՆԻ ԴԵԿՏԵՄԲԵՐԻ 23-Ի N 2121-Ն ՈՐՈՇՄԱՆ N 1 ՀԱՎԵԼՎԱԾԻ N 1 ԱՂՅՈՒՍԱԿՈՒՄ ԿԱՏԱՐՎՈՂ ՓՈՓՈԽՈՒԹՅՈՒՆՆԵՐԸ
B7: հազ. դրամ
A8: Պետական բյուջեի դեֆիցիտի ֆինանսավորման աղբյուրներն ու դրանց տարրերի անվանումները | B8: Ցուցանիշների փոփոխությունը (ավելացումները նշված են դրական նշանով, իսկ նվազեցումները` փակագծերում)
B9: Տարի
A10: ԸՆԴԱՄԵՆԸ | B10: =+B12+B20 -> -655000
A11: այդ թվում՝
A12: Ա.Ներքին աղբյուրներ-ընդամենը | B12: =+B14 -> 1856070.5
A13: այդ թվում՝
A14: 2. Ֆինանսական զուտ ակտիվներ | B14: =+B16+B17 -> 1856070.5
A15: այդ թվում՝
A16: 2.3. Ելքերի ֆինանսավորմանն ուղղվող միջոցներ | B16: =+'5.'!F11 -> -276467
A17: 2.4. Վարկերի և փոխատվությունների տրամադրում | B17: =+B18+B19 -> 2132537.5
A18: - Արտաքին աղբյուրների աջակցությամբ իրականացվող նպատակային ծրագրերի շրջանակներում ենթավարկերի տրամադրում այդ ծրագրերում ներգրաված տնտեսվարող սուբյեկտներին | B18: =-'5.'!D11 -> 2132537.5
A19: - Բյուջետային վարկերի տրամադրում տնտեսվարող սուբյեկտներին | B19: 0
A20: Բ. Արտաքին աղբյուրներ - ընդամենը | B20: =+B22 -> -2511070.5
A21: այդ թվում
A22: 1. Փոխառու զուտ միջոցներ | B22: =+B24 -> -2511070.5
A23: այդ թվում՝
A24: 1.1. Վարկերի և փոխատվությունների ստացում | B24: =+B26 -> -2511070.5
A25: որից`
A26: նպատակային վարկերի գծով | B26: =+'9.'!F11+'5.'!E11 -> -2511070.5

Sheet 4.
E1: Հավելված N 4
E2: ՀՀ կառավարության 2022 թվականի
E3: ______________ ի ___Ն որոշման
B5: ՀԱՅԱՍՏԱՆԻ ՀԱՆՐԱՊԵՏՈՒԹՅԱՆ ԿԱՌԱՎԱՐՈՒԹՅԱՆ 2021 ԹՎԱԿԱՆԻ ԴԵԿՏԵՄԲԵՐԻ 23-Ի N 2121-Ն ՈՐՈՇՄԱՆ N 1 ՀԱՎԵԼՎԱԾԻ N 2 ԱՂՅՈՒՍԱԿՈՒՄ ԿԱՏԱՐՎՈՂ ՓՈՓՈԽՈՒԹՅՈՒՆՆԵՐԸ
E6: հազ. դրամ
B7: Ծրագրային դասիչ | D7: Բյուջետային գլխավոր կարգադրիչների, ծրագրերի և միջոցառումների անվանումները | E7: Ցուցանիշների փոփոխությունը (ավելացումները նշված են դրական նշանով, իսկ նվազեցումները` փակագծերում)
B8: Ծրագիր | C8: Միջոցառում | E8: Տարի
D9: ԸՆԴԱՄԵՆԸ այդ թվում | E9: =+E10 -> -2132537.5
D10: ՀՀ տարածքային կառավարման և ենթակառուցվածքների նախարարություն | E10: =+E11+E19+E31 -> -2132537.5
B11: 1040 | D11: Ծրագրի անվանումը՝ Կոշտ թափոնների կառավարում | E11: =E15 -> -1078772
D12: Ծրագրի նպատակը՝ Կենցաղային թափոնների արդյունավետ կառավարում սոցիալական և բնապահպանական խնդիրների լուծում
D13: Վերջնական արդյունքի նկարագրությունը՝ Կենցաղային թափոնների արդյունավետ կառավարում
B14: Ֆինանսական ակտիվների կառավարման միջոցառումներ
C15: 42001 | D15: Միջոցառման անվանումը՝ Վերակառուցման և զարգացման եվրոպական բանկի աջակցությամբ իրականացվող Կոտայքի և Գեղարքունիքի մարզերի կոշտ թափոնների կառավարման ծրագրի շրջանակներում ենթավարկի տրամադրում «Կոտայքի և Գեղարքունիքի Կոշտ կենցաղային թափոնների կառավարում» ՍՊԸ-ին | E15: ='5.'!D16 -> -1078772
D16: Միջոցառման նկարագրությունը՝ Կոշտ թափոնների կառավարման համակարգի բարելավում և նոր աղբավայրի ստեղծում
D17: Միջոցառման տեսակը՝
D18: Վարկերի տրամադրում
B19: 1157 | D19: Ծրագրի անվանումը՝ Քաղաքային զարգացում | E19: =+E27+E23 -> -955235.5
D20: Ծրագրի նպատակը՝ Քաղաքային ենթակառուցվածքների զարգացում
D21: Վերջնական արդյունքի նկարագրությունը՝ Քաղաքային ենթակառուցվածքների արդիականացում և բարելավում
B22: Ֆինանսական ակտիվների կառավարման միջոցառումներ
C23: 42001 | D23: Միջոցառման անվանումը՝ Վերակառուցման և զարգացման եվրոպական բանկի աջակցությամբ իրականացվող Երևանի քաղաքային լուսավորության ծրագրի շրջանակներում ենթավարկի տրամադրում «Երքաղլույս» ՓԲԸ-ին | E23: ='5.'!D25 -> -187222.5
D24: Միջոցառման նկարագրությունը՝ ՀՀ համայնքներին քաղաքային լուսավորության ենթակառուցվածքի բարելավման համար տրամադրվող աջակցություն և ծառայություն
D25: Միջոցառման տեսակը՝
D26: Վարկերի տրամադրում
C27: 42003 | D27: Միջոցառման անվանումը՝ Եվրոպական ներդրումային բանկի աջակցությամբ իրականացվող Երևանի մետրոպոլիտենի վերակառուցման երկրորդ ծրագրի շրջանակներում ենթավարկի տրամադրում «Երևանի մետրոպոլիտեն» ՓԲԸ-ին | E27: ='5.'!D35 -> -768013
D28: Միջոցառման նկարագրությունը՝ Երևանի մետրոպոլիտենի վերակառուցում
D29: Միջոցառման տեսակը՝
D30: Վարկերի տրամադրում
B31: 1167 | D31: Ծրագրի անվանումը՝ Էլեկտրաէներգետիկ համակարգի զարգացման ծրագիր | E31: =+E35+E39 -> -98530
D32: Ծրագրի նպատակը՝ Նպաստել էլեկտրաէներգետիկ համակարգի հուսալիության բարձրացմանը և էլեկտրաէներգիայի անխափան մատակարարման ապահովմանը
D33: Վերջնական արդյունքի նկարագրությունը՝ Հուսալի և անվտանգ էլեկտրամատակարարման ապահովում
B34: Ֆինանսական ակտիվների կառավարման միջոցառումներ
C35: 42003 | D35: Միջոցառման անվանումը՝ Վերակառուցման և զարգացման միջազգային բանկի աջակցությամբ իրականացվող էլեկտրամատակարարման հուսալիության ծրագրի լրացուցիչ ֆինանսավորման ծրագրի շրջանակներում ենթավարկի տրամադրում «Բարձրավոլտ էլեկտրացանցեր» ՓԲԸ-ին | E35: ='5.'!D42 -> 35000
D36: Միջոցառման նկարագրությունը՝ Էլեկտրամատակարարման հուսալիության ծրագրի լրացուցիչ ֆինանսավորման ծրագրի շրջանակներում «Հաղթանակ» 220կՎ, «Չարենցավան-3», «Վանաձոր-1» 110կՎ, «Զովունի» 220կՎ ենթակայանների ֆիզիկապես և բարոյապես մաշված սարքավորումների փոխարինում
D37: Միջոցառման տեսակը՝
D38: Վարկերի տրամադրում
C39: 42005 | D39: Միջոցառման անվանումը՝ Վերակառուցման և զարգացման միջազգային բանկի աջակցությամբ իրականացվող «Աշնակ» և «Արարատ» ենթակայանների վերակառուցման ծրագրի շրջանակներում ենթավարկի տրամադրում «Բարձրավոլտ էլեկտրացանցեր» ՓԲԸ- ին | E39: ='5.'!D50 -> -133530
D40: Միջոցառման նկարագրությունը՝ Էլեկտրահաղորդման ցանցի բարելավման ծրագրի շրջանակներում 30 և ավելի տարիներ շահագործման մեջ գտնվող 220 կՎ «Աշնակ» և 40 և ավելի տարիներ շահագործման մեջ գտնվող 220 կՎ «Արարատ-2» ենթակայանների վերակառուցում
D41: Միջոցառման տեսակը՝
D42: Վարկերի տրամադրում

Sheet 5.
F1: Հավելված N 5
F2: ՀՀ կառավարության 2022 թվականի
F3: ______________ ի ___Ն որոշման
A5: ՀԱՅԱՍՏԱՆԻ ՀԱՆՐԱՊԵՏՈՒԹՅԱՆ ԿԱՌԱՎԱՐՈՒԹՅԱՆ 2021 ԹՎԱԿԱՆԻ ԴԵԿՏԵՄԲԵՐԻ 23-Ի N 2121-Ն ՈՐՈՇՄԱՆ N 1 ՀԱՎԵԼՎԱԾԻ N 3 ԱՂՅՈՒՍԱԿՈՒՄ ԿԱՏԱՐՎՈՂ ՓՈՓՈԽՈՒԹՅՈՒՆՆԵՐԸ
F6: հազ. դրամ
A7: Ծրագրային դասիչ | C7: Բյուջետային գլխավոր կարգադրիչների, ծրագրերի և միջոցառումների անվանումները | D7: Ցուցանիշների փոփոխությունը (ավելացումները նշված են դրական նշանով, իսկ նվազեցումները` փակագծերում)
D8: Տարի
D9: Ընդամենը | E9: այդ թվում
A10: Ծրագիր | B10: Միջոցառում | E10: Վարկային միջոցներ | F10: Համաֆինանսավորում
C11: ԸՆԴԱՄԵՆԸ | D11: =E11+F11 -> -2132537.5 | E11: =E13 -> -1856070.5 | F11: =F13 -> -276467
C12: այդ թվում՝
C13: ՀՀ ՏԱՐԱԾՔԱՅԻՆ ԿԱՌԱՎԱՐՄԱՆ ԵՎ ԵՆԹԱԿԱՌՈՒՑՎԱԾՔՆԵՐԻ ՆԱԽԱՐԱՐՈՒԹՅՈՒՆ | D13: =E13+F13 -> -2132537.5 | E13: =E14+E24+E41 -> -1856070.5 | F13: =F14+F24+F41 -> -276467
A14: 1040 | C14: Կոշտ թափոնների կառավարում | D14: =E14+F14 -> -1078772 | E14: =E16 -> -922343 | F14: =F16 -> -156429
C15: այդ թվում`
B16: 42001 | C16: Վերակառուցման և զարգացման եվրոպական բանկի աջակցությամբ իրականացվող Կոտայքի և Գեղարքունիքի մարզերի կոշտ թափոնների կառավարման ծրագրի շրջանակներում ենթավարկի տրամադրում «Կոտայքի և Գեղարքունիքի Կոշտ կենցաղային թափոնների կառավարում» ՍՊԸ-ին | D16: =D18 -> -1078772 | E16: =E18 -> -922343 | F16: =F18 -> -156429
C17: այդ թվում՝ ըստ կատարողների
C18: ՀՀ տարածքային կառավարման և ենթակառուցվածքների նախարարություն | D18: =D20 -> -1078772 | E18: =E20 -> -922343 | F18: =F20 -> -156429
C19: այդ թվում՝ ըստ տնտեսագիտական դասակարգման հոդվածների՝
C20: ՀԻՄՆԱԿԱՆ ԳՈՒՄԱՐԻ ՄԱՐՄԱՆ ԵՎ ՖԻՆԱՆՍԱԿԱՆ ԱԿՏԻՎՆԵՐԻ ՁԵՌՔԲԵՐՄԱՆ ԳԾՈՎ ԾԱԽՍԵՐ, այդ թվում` | D20: =D21 -> -1078772 | E20: =E21 -> -922343 | F20: =F21 -> -156429
C21: ՖԻՆԱՆՍԱԿԱՆ ԱԿՏԻՎՆԵՐԻ ՁԵՌՔԲԵՐՈՒՄ, այդ թվում | D21: =D22 -> -1078772 | E21: =E22 -> -922343 | F21: =F22 -> -156429
C22: ՆԵՐՔԻՆ ՖԻՆԱՆՍԱԿԱՆ ԱԿՏԻՎՆԵՐԻ ՁԵՌՔԲԵՐՈՒՄ, այդ թվում` | D22: =D23 -> -1078772 | E22: =E23 -> -922343 | F22: =F23 -> -156429
C23: Ներքին վարկեր և փոխատվություններ | D23: =E23+F23 -> -1078772 | E23: -922343 | F23: -156429
A24: 1157 | C24: Քաղաքային զարգացում | D24: =E24+F24 -> -955235.5 | E24: =+E33+E25 -> -869927.5 | F24: =F33+F25 -> -85308
B25: 42001 | C25: Վերակառուցման և զարգացման եվրոպական բանկի աջակցությամբ իրականացվող Երևանի քաղաքային լուսավորության ծրագրի շրջանակներում ենթավարկի տրամադրում «Երքաղլույս» ՓԲԸ-ին | D25: =D27 -> -187222.5 | E25: =E27 -> -141059.5 | F25: =F27 -> -46163
C26: այդ թվում՝ ըստ կատարողների
C27: ՀՀ տարածքային կառավարման և ենթակառուցվածքների նախարարություն | D27: =D29 -> -187222.5 | E27: =E29 -> -141059.5 | F27: =F29 -> -46163
C28: այդ թվում՝ ըստ տնտեսագիտական դասակարգման հոդվածների՝
C29: ՀԻՄՆԱԿԱՆ ԳՈՒՄԱՐԻ ՄԱՐՄԱՆ ԵՎ ՖԻՆԱՆՍԱԿԱՆ ԱԿՏԻՎՆԵՐԻ ՁԵՌՔԲԵՐՄԱՆ ԳԾՈՎ ԾԱԽՍԵՐ, այդ թվում` | D29: =D30 -> -187222.5 | E29: =E30 -> -141059.5 | F29: =F30 -> -46163
C30: ՖԻՆԱՆՍԱԿԱՆ ԱԿՏԻՎՆԵՐԻ ՁԵՌՔԲԵՐՈՒՄ, այդ թվում | D30: =D31 -> -187222.5 | E30: =E31 -> -141059.5 | F30: =F31 -> -46163
C31: ՆԵՐՔԻՆ ՖԻՆԱՆՍԱԿԱՆ ԱԿՏԻՎՆԵՐԻ ՁԵՌՔԲԵՐՈՒՄ, այդ թվում` | D31: =D32 -> -187222.5 | E31: =E32 -> -141059.5 | F31: =F32 -> -46163
C32: Ներքին վարկեր և փոխատվություններ | D32: =E32+F32 -> -187222.5 | E32: -141059.5 | F32: -46163
B33: 42003 | C33: Եվրոպական ներդրումային բանկի աջակցությամբ իրականացվող Երևանի մետրոպոլիտենի վերակառուցման երկրորդ ծրագրի շրջանակներում ենթավարկի տրամադրում «Երևանի մետրոպոլիտեն» ՓԲԸ-ին | D33: =D35 -> -768013 | E33: =E35 -> -728868 | F33: =F35 -> -39145
C34: այդ թվում՝ ըստ կատարողների
C35: ՀՀ տարածքային կառավարման և ենթակառուցվածքների նախարարություն | D35: =D37 -> -768013 | E35: =E37 -> -728868 | F35: =F37 -> -39145
C36: այդ թվում՝ ըստ տնտեսագիտական դասակարգման հոդվածների՝
C37: ՀԻՄՆԱԿԱՆ ԳՈՒՄԱՐԻ ՄԱՐՄԱՆ ԵՎ ՖԻՆԱՆՍԱԿԱՆ ԱԿՏԻՎՆԵՐԻ ՁԵՌՔԲԵՐՄԱՆ ԳԾՈՎ ԾԱԽՍԵՐ, այդ թվում` | D37: =D38 -> -768013 | E37: =E38 -> -728868 | F37: =F38 -> -39145
C38: ՖԻՆԱՆՍԱԿԱՆ ԱԿՏԻՎՆԵՐԻ ՁԵՌՔԲԵՐՈՒՄ, այդ թվում | D38: =D39 -> -768013 | E38: =E39 -> -728868 | F38: =F39 -> -39145
C39: ՆԵՐՔԻՆ ՖԻՆԱՆՍԱԿԱՆ ԱԿՏԻՎՆԵՐԻ ՁԵՌՔԲԵՐՈՒՄ, այդ թվում` | D39: =D40 -> -768013 | E39: =E40 -> -728868 | F39: =F40 -> -39145
C40: Ներքին վարկեր և փոխատվություններ | D40: =E40+F40 -> -768013 | E40: -728868 | F40: -39145
A41: 1167 | C41: Էլեկտրաէներգետիկ համակարգի զարգացման ծրագիր | D41: =E41+F41 -> -98530 | E41: =+E42+E50 -> -63800 | F41: =+F42+F50 -> -34730
B42: 42003 | C42: Վերակառուցման և զարգացման միջազգային բանկի աջակցությամբ իրականացվող էլեկտրամատակարարման հուսալիության ծրագրի լրացուցիչ ֆինանսավորման ծրագրի շրջանակներում ենթավարկի տրամադրում «Բարձրավոլտ էլեկտրացանցեր» ՓԲԸ-ին | D42: =E42+F42 -> 35000 | E42: =+E44 -> 35000 | F42: =+F44 -> 0
C43: այդ թվում՝ ըստ կատարողների
C44: ՀՀ տարածքային կառավարման և ենթակառուցվածքների նախարարություն | D44: =E44+F44 -> 35000 | E44: =E46 -> 35000 | F44: =F46 -> 0
C45: այդ թվում՝ ըստ տնտեսագիտական դասակարգման հոդվածների՝
C46: ՀԻՄՆԱԿԱՆ ԳՈՒՄԱՐԻ ՄԱՐՄԱՆ ԵՎ ՖԻՆԱՆՍԱԿԱՆ ԱԿՏԻՎՆԵՐԻ ՁԵՌՔԲԵՐՄԱՆ ԳԾՈՎ ԾԱԽՍԵՐ, այդ թվում` | D46: =E46+F46 -> 35000 | E46: =E47 -> 35000 | F46: =F47 -> 0
C47: ՖԻՆԱՆՍԱԿԱՆ ԱԿՏԻՎՆԵՐԻ ՁԵՌՔԲԵՐՈՒՄ, այդ թվում | D47: =E47+F47 -> 35000 | E47: =E48 -> 35000 | F47: =F48 -> 0
C48: ՆԵՐՔԻՆ ՖԻՆԱՆՍԱԿԱՆ ԱԿՏԻՎՆԵՐԻ ՁԵՌՔԲԵՐՈՒՄ, այդ թվում` | D48: =E48+F48 -> 35000 | E48: =E49 -> 35000 | F48: =F49 -> 0
C49: Ներքին վարկեր և փոխատվություններ | D49: =E49+F49 -> 35000 | E49: 35000 | F49: 0
B50: 42005 | C50: Վերակառուցման և զարգացման միջազգային բանկի աջակցությամբ իրականացվող «Աշնակ»_x000D_ և «Արարատ 2» ենթակայանների վերակառուցման ծրագրի շրջանակներում ենթավարկի տրամադրում «Բարձրավոլտ էլեկտրացանցեր» ՓԲԸ- ին | D50: =E50+F50 -> -133530 | E50: =+E52 -> -98800 | F50: =+F52 -> -34730
C51: այդ թվում՝ ըստ կատարողների
C52: ՀՀ տարածքային կառավարման և ենթակառուցվածքների նախարարություն | D52: =E52+F52 -> -133530 | E52: =E54 -> -98800 | F52: =F54 -> -34730
C53: այդ թվում՝ ըստ տնտեսագիտական դասակարգման հոդվածների՝
C54: ՀԻՄՆԱԿԱՆ ԳՈՒՄԱՐԻ ՄԱՐՄԱՆ ԵՎ ՖԻՆԱՆՍԱԿԱՆ ԱԿՏԻՎՆԵՐԻ ՁԵՌՔԲԵՐՄԱՆ ԳԾՈՎ ԾԱԽՍԵՐ, այդ թվում` | D54: =E54+F54 -> -133530 | E54: =E55 -> -98800 | F54: =F55 -> -34730
C55: ՖԻՆԱՆՍԱԿԱՆ ԱԿՏԻՎՆԵՐԻ ՁԵՌՔԲԵՐՈՒՄ, այդ թվում | D55: =E55+F55 -> -133530 | E55: =E56 -> -98800 | F55: =F56 -> -34730
C56: ՆԵՐՔԻՆ ՖԻՆԱՆՍԱԿԱՆ ԱԿՏԻՎՆԵՐԻ ՁԵՌՔԲԵՐՈՒՄ, այդ թվում` | D56: =E56+F56 -> -133530 | E56: =E57 -> -98800 | F56: =F57 -> -34730
C57: Ներքին վարկեր և փոխատվություններ | D57: =E57+F57 -> -133530 | E57: =-133800+35000 -> -98800 | F57: -34730

Sheet 6.
C1: Հավելված N 6
C2: ՀՀ կառավարության 2022 թվականի
C3: ______________ ի ___Ն որոշման
A4: ՀԱՅԱՍՏԱՆԻ ՀԱՆՐԱՊԵՏՈՒԹՅԱՆ ԿԱՌԱՎԱՐՈՒԹՅԱՆ 2021 ԹՎԱԿԱՆԻ ԴԵԿՏԵՄԲԵՐԻ 23-Ի N 2121-Ն ՈՐՈՇՄԱՆ N 1 ՀԱՎԵԼՎԱԾԻ N 5 ԱՂՅՈՒՍԱԿՈՒՄ ԿԱՏԱՐՎՈՂ ՓՈՓՈԽՈՒԹՅՈՒՆՆԵՐԸ
A6: Ծրագրի դասիչը | B6: Ծրագրի անվանումը
A7: 1040 | B7: Կոշտ թափոնների կառավարում
A8: Ծրագրի միջոցառումները
A10: Ծրագրի դասիչը՝ | B10: 1040 | C10: Ցուցանիշների փոփոխությունը (նվազեցումները նշված են փակագծերում)
A11: Միջոցառման դասիչը՝ | B11: 42001 | C11: Տարի
A12: Միջոցառման անվանումը՝ | B12: Վերակառուցման և զարգացման եվրոպական բանկի աջակցությամբ իրականացվող «Կոտայքի և Գեղարքունիքի մարզերի կոշտ թափոնների կառավարման» ծրագիր
A13: Նկարագրությունը՝ | B13: Կոշտ թափոննրի կառավարման համակարգի բարելավում և նոր աղբավայրի ստեղծում_x000D_
A14: Միջոցառման տեսակը՝ | B14: Վարկերի տրամադրում
A15: Միջոցառումն իրականացնողի անվանումը՝ | B15: Մասնագիտացված միավոր
B16: Արդյունքի չափորոշիչներ
A17: Միջոցառման վրա կատարվող ծախսը (հազար դրամ) | C17: ='5.'!D16 -> -1078772
A21: Ծրագրի դասիչը | B21: Ծրագրի անվանումը
A22: 1157 | B22: Քաղաքային զարգացում
A23: Ծրագրի միջոցառումները
A25: Ծրագրի դասիչը՝ | B25: 1157 | C25: Ցուցանիշների փոփոխությունը (նվազեցումները նշված են փակագծերում)
A26: Միջոցառման դասիչը՝ | B26: 42001 | C26: Տարի
A27: Միջոցառման անվանումը՝ | B27: Վերակառուցման և զարգացման եվրոպական բանկի աջակցությամբ իրականացվող Երևանի քաղաքային լուսավորության ծրագրի շրջանակներում ենթավարկի տրամադրում «Երքաղլույս» ՓԲԸ-ին
A28: Նկարագրությունը՝ | B28: ՀՀ համայնքներին քաղաքային լուսավորության ենթակառուցվածքի բարելավման համար տրամադրվող աջակցություն և ծառայություն
A29: Միջոցառման տեսակը՝ | B29: Վարկերի տրամադրում
A30: Միջոցառումն իրականացնողի անվանումը՝ | B30: Մասնագիտացված միավոր
B31: Արդյունքի չափորոշիչներ
A32: Միջոցառման վրա կատարվող ծախսը (հազար դրամ) | C32: ='5.'!D25 -> -187222.5
A34: Ծրագրի դասիչը՝ | B34: 1157 | C34: Ցուցանիշների փոփոխությունը (նվազեցումները նշված են փակագծերում)
A35: Միջոցառման դասիչը՝ | B35: 42003 | C35: Տարի
A36: Միջոցառման անվանումը՝ | B36: Եվրոպական ներդրումային բանկի աջակցությամբ իրականացվող Երևանի մետրոպոլիտենի վերակառուցման երկրորդ ծրագիր
A37: Նկարագրությունը՝ | B37: Երևանի մետրոպոլիտենի վերակառուցում
A38: Միջոցառման տեսակը՝ | B38: Վարկերի տրամադրում
A39: Միջոցառումն իրականացնողի անվանումը՝ | B39: Մասնագիտացված միավոր
B40: Արդյունքի չափորոշիչներ
A41: Միջոցառման վրա կատարվող ծախսը (հազար դրամ) | C41: ='5.'!D33 -> -768013
A44: Ծրագրի դասիչը | B44: Ծրագրի անվանումը
A45: 1167 | B45: Էլեկտրաէներգետիկ համակարգի զարգացման ծրագիր
A46: Ծրագրի միջոցառումները
A48: Ծրագրի դասիչը՝ | B48: 1167 | C48: Ցուցանիշների փոփոխությունը (ավելացումները նշված են դրական նշանով)
A49: Միջոցառման դասիչը՝ | B49: 42003 | C49: Տարի
A50: Միջոցառման անվանումը՝ | B50: Վերակառուցման և զարգացման միջազգային բանկի աջակցությամբ իրականացվող էլեկտրամատակարարման հուսալիության ծրագրի լրացուցիչ ֆինանսավորման ծրագրի շրջանակներում ենթավարկի տրամադրում «Բարձրավոլտ էլեկտրացանցեր» ՓԲԸ-ին
A51: Նկարագրությունը՝ | B51: Էլեկտրամատակարարման հուսալիության ծրագրի լրացուցիչ ֆինանսավորման ծրագրի շրջանակներում նախատեսվում է փոխարինել 30 և ավելի տարիներ շահագործման մեջ գտնվող «Հաղթանակ» 220 կՎ, «Չարենցավան-3», «Վանաձոր-1» 110 կՎ ենթակայանների և 40 և ավելի և տարիներ շահագործման մեջ գտվող «Զովունի» 220 կՎ ենթակայանի ֆիզիկապես և բարոյապես մաշված սարքավորումները
A52: Միջոցառման տեսակը՝ | B52: Վարկերի տրամադրում
A53: Միջոցառումն իրականացնողի անվանումը՝ | B53: Մասնագիտացված միավոր
B54: Արդյունքի չափորոշիչներ
A55: Միջոցառման վրա կատարվող ծախսը (հազար դրամ) | C55: ='5.'!D42 -> 35000
A57: Ծրագրի դասիչը՝ | B57: 1167 | C57: Ցուցանիշների փոփոխությունը (նվազեցումները նշված են փակագծերում)
A58: Միջոցառման դասիչը՝ | B58: 42005 | C58: Տարի
A59: Միջոցառման անվանումը՝ | B59: Վերակառուցման և զարգացման միջազգային բանկի աջակցությամբ իրականացվող «Աշնակ» և «Արարատ-2» ենթակայանների վերակառուցման ծրագրի շրջանակներում ենթավարկի տրամադրում «Բարձրավոլտ էլեկտրացանցեր» ՓԲԸ- ին
A60: Նկարագրությունը՝ | B60: Էլեկտրահաղորդման ցանցի բարելավման ծրագրի շրջանակներում նախատեսվում է վերակառուցել 30 և ավելի տարիներ շահագործման մեջ գտնվող 220 կՎ «Աշնակ» ենթակայանը և 40 և ավելի տարիներ շահագործման մեջ գտնվող 220 կՎ «Արարատ-2» ենթակայանը
A61: Միջոցառման տեսակը՝ | B61: Վարկերի տրամադրում
A62: Միջոցառումն իրականացնողի անվանումը՝ | B62: «Բարձրավոլտ էլեկտրացանցեր» ՓԲԸ
B63: Արդյունքի չափորոշիչներ
A64: Միջոցառման վրա կատարվող ծախսը (հազար դրամ) | C64: ='5.'!D50 -> -133530

Sheet 7.
E1: Հավելված N7
E2: ՀՀ կառավարության 2022 թվականի
E3: ______________ ի ___Ն որոշման
B5: «ՀԱՅԱUՏԱՆԻ ՀԱՆՐԱՊԵՏՈՒԹՅԱՆ 2022 ԹՎԱԿԱՆԻ ՊԵՏԱԿԱՆ ԲՅՈՒՋԵԻ ՄԱUԻՆ» OՐԵՆՔԻ N 1 ՀԱՎԵԼՎԱԾԻ N 2 ԱՂՅՈՒՍԱԿՈՒՄ ԿԱՏԱՐՎՈՂ ՎԵՐԱԲԱՇԽՈՒՄԸ ԵՎ ՀԱՅԱՍՏԱՆԻ ՀԱՆՐԱՊԵՏՈՒԹՅԱՆ ԿԱՌԱՎԱՐՈՒԹՅԱՆ 2021 ԹՎԱԿԱՆԻ ԴԵԿՏԵՄԲԵՐԻ 23-Ի N 2121-Ն ՈՐՈՇՄԱՆ N 5 ՀԱՎԵԼՎԱԾԻ N 1 ԱՂՅՈՒՍԱԿՈՒՄ ԿԱՏԱՐՎՈՂ ՓՈՓՈԽՈՒԹՅՈՒՆՆԵՐԸ ԵՎ ԼՐԱՑՈՒՄՆԵՐԸ
E6: հազ. դրամ
B7: Ծրագրային դասիչը | D7: Բյուջետային հատկացումների գլխավոր կարգադրիչների, ծրագրերի և միջոցառումների անվանումները | E7: Ցուցանիշների փոփոխությունը (ավելացումները նշված են դրական նշանով, իսկ նվազեցումները` փակագծերում)
B8: Ծրագիր | C8: Միջոցառում | E8: Տարի
B9: 1192 | D9: ԸՆԴԱՄԵՆԸ | E9: =+E11+E181 -> -1798997.1 | F9: =E9-'8.'!H10 -> 0
D10: այդ թվում
D11: ՀՀ տարածքային կառավարման և ենթակառուցվածքների նախարարություն | E11: =E12+E37+E56+E81+E106+E149+E162 -> -2120672
B12: 1004 | D12: Ծրագրի անվանումը` | E12: =E19+E25+E31 -> -196143
D13: Ոռոգման համակարգի առողջացում
D14: Ծրագրի նպատակը`
D15: Ոռոգման ծառայությունների հասանելիության և մատչելիության ապահովում
D16: Վերջնական արդյունքի նկարագրությունը`
D17: Ոռոգման ջրի մատակարարման արդյունավետության և հասանելիության բարելավում, կորուստների կրճատում
D18: Ծրագրի միջոցառումներ
C19: 11010 | D19: Միջոցառման անվանումը՝ | E19: ='9.'!E17 -> -1463
D20: Գերմանիայի զարգացման վարկերի բանկի աջակցությամբ իրականացվող Ախուրյան գետի ջրային ռեսուրսների ինտեգրացված կառավարում փուլ 1 ծրագրով Ջրաձոր գյուղի վերաբնակեցման գործողությունների խորհրդատվություն և կառավարում
D21: Միջոցառման նկարագրությունը`
D22: Գերմանիայի զարգացման վարկերի բանկի աջակցությամբ իրականացվող Ախուրյան գետի ջրային ռեսուրսների ինտեգրացված կառավարում փուլ 1 ծրագրով Ջրաձոր գյուղի վերաբնակեցման գործողությունների համակարգում և ղեկավարում
D23: Միջոցառման տեսակը՝
D24: Ծառայությունների մատուցում
C25: 31001 | D25: Միջոցառման անվանումը՝ | E25: ='9.'!E25 -> -169680
D26: Ֆրանսիայի Հանրապետության կառավարության աջակցությամբ իրականացվող Վեդու ջրամբարի կառուցում
D27: Միջոցառման նկարագրությունը`
D28: Ֆրանսիայի Հանրապետության կառավարության աջակցությամբ իրականացվող Վեդու ջրամբարի կառուցման ծրագիր
D29: Միջոցառման տեսակը՝
D30: Պետական մարմինների կողմից օգտագործվող ոչ ֆինանսական ակտիվների հետ գործառնություններ
C31: 31005 | D31: Միջոցառման անվանումը՝ | E31: ='9.'!E34 -> -25000
D32: Եվրասիական զարգացման բանկի աջակցությամբ իրականացվող ոռոգման համակարգերի զարգացման ծրագրի շրջանակներում ջրային տնտեսության ենթակառուցվածքների հիմնանորոգում
D33: Միջոցառման նկարագրությունը`
D34: Եվրասիական զարգացման բանկի աջակցությամբ իրականացվող ոռոգման համակարգերի զարգացման ծրագիր
D35: Միջոցառման տեսակը՝
D36: Պետական մարմինների կողմից օգտագործվող ոչ ֆինանսական ակտիվների հետ գործառնություններ
B37: 1019 | D37: Ծրագրի անվանումը` | E37: =+E44+E50 -> -61420
D38: Սոցիալական ներդրումների և տեղական զարգացման ծրագիր
D39: Ծրագրի նպատակը`
D40: Նպաստել տարածքներում բնակչության նյութական և ոչ նյութական բարեկեցության աճին
D41: Վերջնական արդյունքի նկարագրությունը`
D42: Համայնքային և միջհամայնքային ենթակառուցվածքների և որակի հասանելիության բարելավում, ինստիտուցիոնալ և ֆինանասական կարողությունների հզորացում
B43: Ծրագրի միջոցառումներ
C44: 12001 | D44: Միջոցառման անվանումը` | E44: ='9.'!E45 -> -26900
D45: Համաշխարհային բանկի աջակցությամբ իրականացվող Տարածքային զարգացման հիմնադրամի ծրագրի շրջանակներում ՀՀ տարածքներում ջրագծերի, առողջապահության, կրթության, մշակույթի, հատուկ խնամքի և ենթակառուցվածքների ոլորտի վերականգնման և շինարարության աշխատանքներ
D46: Միջոցառման նկարագրությունը`
D47: Տարածքային զարգացման հիմնադրամի ծրագրով նախատեսված ՀՀ տարածքներում ջրագծերի, առողջապահության, կրթության օբյեկտների, մշակույթային տների, ծերանոցների, մանկատների, հատուկ դպրոցների, մանկապարտեզների և կոյուղու օբյեկտների հիմնանորոգում և շինարարություն
D48: Միջոցառման տեսակը`
D49: Տրանսֆերտների տրամադրում
C50: 12004 | D50: Միջոցառման անվանումը` | E50: ='9.'!E56 -> -34520
D51: Համաշխարհային բանկի աջակցությամբ իրականացվող Սոցիալական ներդրումների և տեղական զարգացման ծրագրի լրացուցիչ ֆինանսավորման վարկի շրջանակներում ՀՀ համայնքային և միջհամայնքային ենթակառուցվածքների որակի, օգտագործման և հասանելիության բարելավում
D52: Միջոցառման նկարագրությունը`
D53: Ջրագծերի, առողջապահության, կրթության օբյեկտների, մշակույթային տների, ծերանոցների, մանկատների, հատուկ դպրոցների, մանկապարտզների և կոյուղու օբյեկտնրի հիմն. և շինարարություն., գույքի և սարքավորումների տրամադրում շահառու ենթածրագրերի համար
D54: Միջոցառման տեսակը`
D55: Տրանսֆերտների տրամադրում
B56: 1040 | D56: Ծրագրի անվանումը` | E56: =E63+E69+E75 -> -914303
D57: Կոշտ թափոնների կառավարում
D58: Ծրագրի նպատակը`
D59: Կենցաղային թափոնների արդյունավետ կառավարում սոցիալական և բնապահպանական խնդիրների լուծում
D60: Վերջնական արդյունքի նկարագրությունը`
D61: Կենցաղային թափոնների արդյունավետ կառավարում
B62: Ծրագրի միջոցառումներ
C63: 12001 | D63: Միջոցառման անվանումը` | E63: ='10.'!E18 -> -1365
D64: Վերակառուցման և զարգացման եվրոպական բանկի աջակցությամբ իրականացվող «Երևանի կոշտ թափոնների կառավարման» դրամաշնորհային ծրագիր
D65: Միջոցառման նկարագրությունը`
D66: Կոշտ թափոնների կառավարման համակարգի բարելավում և նոր աղբավայրի ստեղծում
D67: Միջոցառման տեսակը`
D68: Տրանսֆերտների տրամադրում
C69: 12002 | D69: Միջոցառման անվանումը` | E69: ='10.'!E26 -> -90423
D70: ='10.'!D26 -> Վերակառուցման և զարգացման եվրոպական բանկի աջակցությամբ իրականացվող «Կոտայքի և Գեղարքունիքի մարզի կոշտ թափոնների կառավարման խորհրդատվության համար» դրամաշնորհային ծրագիր
D71: Միջոցառման նկարագրությունը`
D72: Կոշտ թափոնների կառավարման համակարգի բարելավում և նոր աղբավայրի ստեղծում
D73: Միջոցառման տեսակը`
D74: Տրանսֆերտների տրամադրում
C75: 32004 | D75: Միջոցառման անվանումը` | E75: ='10.'!E34 -> -822515
D76: ='10.'!D34 -> Վերակառուցման և զարգացման եվրոպական բանկի աջակցությամբ իրականացվող «Կոտայքի և Գեղարքունիքի մարզի կոշտ թափոնների կառավարման» դրամաշնորհային ծրագիր
D77: Միջոցառման նկարագրությունը`
D78: Կոշտ թափոնների կառավարման համակարգի բարելավում և նոր աղբավայրի ստեղծում
D79: Միջոցառման տեսակը
D80: Այլ պետական կազմակերպությունների կողմից օգտագործվող ոչ ֆինանսական ակտիվների հետ գործառնություններ
B81: 1072 | D81: Ծրագրի անվանումը` | E81: =+E88+E94+E100 -> -120011.7
D82: Ջրամատակարարաման և ջրահեռացման բարելավում
D83: Ծրագրի նպատակը`
D84: Ջրամատակարարման ծառայությունների հասանելիության և մատչելիության ապահովում
D85: Վերջնական արդյունքի նկարագրությունը`
D86: Խմելու ջրի մատակարարման և ջրահեռացման համակարգի բարելավում, կորուստների կրճատում
D87: Ծրագրի միջոցառումներ
C88: 12001 | D88: Միջոցառման անվանումը` | E88: ='10.'!E45 -> -56458
D89: Գերմանիայի զարգացման և Եվրոպական միության հարևանության ներդրումային բանկի աջակցությամբ իրականացվող ջրամատակարարման և ջրահեռացման ենթակառուցվածքների դրամաշնորհային ծրագիր` երրորդ փուլ
D90: Միջոցառման նկարագրությունը`
D91: 579 գյուղական բնակավայրերից ընտրված որոշ համայնքների ջրամատակարարման և ջրահեռացման համակարգերի հատվածների հրատապ վերականգնման աշխատանքների իրականացում ինչպես նաև՛ Արմավիրի կեղտաջրերի մաքրման կայանի կառուցում
D92: Միջոցառման տեսակը
D93: Տրանսֆերտների տրամադրում
C94: 31002 | D94: Միջոցառման անվանումը՝ | E94: ='9.'!E69 -> -61593.7
D95: Եվրոպական ներդրումային բանկի աջակցությամբ իրականացվող ջրամատակարարման և ջրահեռացման ենթակառուցվածքների վերականգնման ծրագրի երրորդ փուլի շրջանակներում ջրամատակարարման և ջրահեռացման ենթակառուցվածքների հիմնանորոգում
D96: Միջոցառման նկարագրությունը`
D97: 6 քաղաքների և 37 գյուղական բնակավայրերի ջրամատակարարման և ջրահեռացման համակարգերի հատվածների հրատապ (մասնակի) վերականգնման աշխատանքներ
D98: Միջոցառման տեսակը՝
D99: Պետական մարմինների կողմից օգտագործվող ոչ ֆինանսական ակտիվների հետ գործառնություններ
C100: 31005 | D100: Միջոցառման անվանումը՝ | E100: ='9.'!E80 -> -1960
D101: Գերմանիայի զարգացման վարկերի բանկի աջակցությամբ իրականացվող ՀՀ Լոռու (Վանաձորի) մարզի ջրամատակարարման և ջրահեռացման համակարգերի վերականգնման ծրագիր՝ երկրորդ փուլ
...

Sheet 3-1
B1: Հավելված N3
B2: ՀՀ կառավարության 2022 թվականի
B3: ______________ ի ___Ն որոշման
B5: ՀԱՅԱՍՏԱՆԻ ՀԱՆՐԱՊԵՏՈՒԹՅԱՆ ԿԱՌԱՎԱՐՈՒԹՅԱՆ 2021 ԹՎԱԿԱՆԻ ԴԵԿՏԵՄԲԵՐԻ 23-Ի N 2121-Ն ՈՐՈՇՄԱՆ N 3 ԵՎ N 4 ՀԱՎԵԼՎԱԾՆԵՐՈՒՄ ԿԱՏԱՐՎՈՂ ՓՈՓՈԽՈՒԹՅՈՒՆՆԵՐԸ ԵՎ ԼՐԱՑՈՒՄՆԵՐԸ
H7: հազ. դրամ
B8: Գործառական դասիչը | E8: Ծրագրային դասիչը | G8: Բյուջետային ծախսերի գործառական դասակարգման բաժինների, խմբերի և դասերի, բյուջետային հատկացումների գլխավոր կարգադրիչների, ծրագրերի, միջոցառումների և միջոցառումները կատարող պետական մարմինների անվանումները | H8: Ցուցանիշների փոփոխությունը (ավելացումները նշված են դրական նշանով, իսկ նվազեցումները` փակագծերում)
B9: Բաժին | C9: Խումբ | D9: Դաս | E9: Ծրագիր | F9: Միջոցառում | H9: Ինն ամիս | I9: Տարի
G10: ԸՆԴԱՄԵՆԸ ԾԱԽՍԵՐ | H10: =+H12+H13 -> 14976.427 | I10: =+I12+I13 -> -363431.87
G11: այդ թվում`
B12: 04 | C12: 03 | D12: 05 | E12: 1167 | F12: 11006 | G12: Գերմանիայի զարգացման վարկերի բանկի (KFW)) աջակցությամբ իրականացվող «Կովկասյան էլեկտրահաղորդման ցանց I» Հայաստան-Վրաստան հաղորդիչ գիծ/ենթակայանների դրամաշնորհային ծրագիր | H12: 14976.427 | I12: -25089.77
B13: 04 | C13: 03 | D13: 05 | E13: 1167 | F13: 32006 | G13: Գերմանիայի զարգացման վարկերի բանկի (KFW) աջակցությամբ իրականացվող Կովկասյան էլեկտրահաղորդման ցանց I Հայաստան-Վրաստան հաղորդիչ գիծ/ենթակայանների դրամաշնորհային ծրագրի շրջանակներում իրականացվող ներդրումներ | H13: 0 | I13: -338342.1

Sheet 8.
B1: Հավելված N8
B2: ՀՀ կառավարության 2022 թվականի
B3: ______________ ի ___Ն որոշման
B5: ՀԱՅԱՍՏԱՆԻ ՀԱՆՐԱՊԵՏՈՒԹՅԱՆ ԿԱՌԱՎԱՐՈՒԹՅԱՆ 2021 ԹՎԱԿԱՆԻ ԴԵԿՏԵՄԲԵՐԻ 23-Ի N 2121-Ն ՈՐՈՇՄԱՆ N 3 ԵՎ N 4 ՀԱՎԵԼՎԱԾՆԵՐՈՒՄ ԿԱՏԱՐՎՈՂ ՓՈՓՈԽՈՒԹՅՈՒՆՆԵՐԸ ԵՎ ԼՐԱՑՈՒՄՆԵՐԸ
B8: Գործառական դասիչը | E8: Ծրագրային դասիչը | G8: Բյուջետային ծախսերի գործառական դասակարգման բաժինների, խմբերի և դասերի, բյուջետային հատկացումների գլխավոր կարգադրիչների, ծրագրերի, միջոցառումների և միջոցառումները կատարող պետական մարմինների անվանումները | H8: Ցուցանիշների փոփոխությունը (ավելացումները նշված են դրական նշանով, իսկ նվազեցումները` փակագծերում)
B9: Բաժին | C9: Խումբ | D9: Դաս | E9: Ծրագիր | F9: Միջոցառում | H9: Տարի
G10: ԸՆԴԱՄԵՆԸ ԾԱԽՍԵՐ | H10: =+H12+H14 -> -1798997.1
G11: այդ թվում`
G12: ՀՀ ՏԱՐԱԾՔԱՅԻՆ ԿԱՌԱՎԱՐՄԱՆ ԵՎ ԵՆԹԱԿԱՌՈՒՑՎԱԾՔՆԵՐԻ ՆԱԽԱՐԱՐՈՒԹՅՈՒՆ | H12: =+H33+H212+H179+H274 -> -2120672
G13: այդ թվում`
B14: 01 | G14: ԸՆԴՀԱՆՈՒՐ ԲՆՈՒՅԹԻ ՀԱՆՐԱՅԻՆ ԾԱՌԱՅՈՒԹՅՈՒՆՆԵՐ | H14: =H16 -> 321674.9
G15: այդ թվում`
C16: 08 | G16: Կառավարության տարբեր մակարդակների միջև իրականացվող ընդհանուր բնույթի տրանսֆերտներ | H16: =+H18 -> 321674.9
G17: այդ թվում`
D18: 01 | G18: Կառավարության տարբեր մակարդակների միջև իրականացվող ընդհանուր բնույթի տրանսֆերտներ | H18: =+H22 -> 321674.9
G19: այդ թվում`
G20: ՀՀ ՏԱՐԱԾՔԱՅԻՆ ԿԱՌԱՎԱՐՄԱՆ ԵՎ ԵՆԹԱԿԱՌՈՒՑՎԱԾՔՆԵՐԻ ՆԱԽԱՐԱՐՈՒԹՅՈՒՆ | H20: =+H22 -> 321674.9
G21: այդ թվում`
E22: 1212 | G22: Տարածքային զարգացում | H22: =+H24 -> 321674.9
G23: այդ թվում`
F24: 12007 | G24: ՀՀ մարզերին սուբվենցիաների տրամադրում՛ ենթակառուցվածքների զարգացման նպատակով | H24: =H26 -> 321674.9
G25: այդ թվում` ըստ կատարողների
G26: ՀՀ կառավարություն | H26: =+H29 -> 321674.9
G27: այդ թվում` բյուջետային ծախսերի տնտեսագիտական դասակարգման հոդվածներ
G28: ԸՆԴԱՄԵՆԸ ԾԱԽՍԵՐ | H28: =+H29 -> 321674.9
G29: ԸՆԹԱՑԻԿ ԾԱԽՍԵՐ | H29: =+H31 -> 321674.9
G30: ԴՐԱՄԱՇՆՈՐՀՆԵՐ | H30: =+H32 -> 321674.9
G31: Կապիտալ դրամաշնորհներ պետական հատվածի այլ մակարդակներին | H31: =+H32 -> 321674.9
G32: - Կապիտալ սուբվենցիաներ համայնքներին | H32: =-'9.'!G11-'10.'!G11 -> 321674.9
B33: 04 | G33: ՏՆՏԵՍԱԿԱՆ ՀԱՐԱԲԵՐՈՒԹՅՈՒՆՆԵՐ | H33: =+H99+H35+H149+H69 -> -1514999.3
G34: այդ թվում`
C35: 02 | G35: Գյուղատնտեսություն, անտառային տնտեսություն, ձկնորսություն և որսորդություն | H35: =+H37 -> -196143
G36: այդ թվում`
D37: 04 | G37: Ոռոգում | H37: =+H41 -> -196143
G38: այդ թվում`
G39: ՀՀ ՏԱՐԱԾՔԱՅԻՆ ԿԱՌԱՎԱՐՄԱՆ ԵՎ ԵՆԹԱԿԱՌՈՒՑՎԱԾՔՆԵՐԻ ՆԱԽԱՐԱՐՈՒԹՅՈՒՆ | H39: =+H41 -> -196143
G40: այդ թվում`
E41: 1004 | G41: Ոռոգման համակարգի առողջացում | H41: =+H43+H51+H60 -> -196143
G42: այդ թվում`
F43: 11010 | G43: Գերմանիայի զարգացման վարկերի բանկի աջակցությամբ իրականացվող Ախուրյան գետի ջրային ռեսուրսների ինտեգրացված կառավարում փուլ 1 ծրագրով Ջրաձոր գյուղի վերաբնակեցման գործողությունների խորհրդատվություն և կառավարում | H43: =H45 -> -1463
G44: այդ թվում` ըստ կատարողների
G45: ՀՀ տարածքային կառավարման և ենթակառուցվածքների նախարարության ջրային կոմիտե | H45: =+H48 -> -1463
G46: այդ թվում` բյուջետային ծախսերի տնտեսագիտական դասակարգման հոդվածներ
G47: ԸՆԴԱՄԵՆԸ ԾԱԽՍԵՐ | H47: =+H48 -> -1463
G48: ԸՆԹԱՑԻԿ ԾԱԽՍԵՐ | H48: =+H49 -> -1463
G49: ԱՅԼ ԾԱԽՍԵՐ | H49: =+H50 -> -1463
G50: Հարկեր, պարտադիր վճարներ և տույժեր, որոնք կառավարման տարբեր մակարդակների կողմից կիրառվում են միմյանց նկատմամբ | H50: ='9.'!E24 -> -1463
F51: 31001 | G51: Ֆրանսիայի Հանրապետության կառավարության աջակցությամբ իրականացվող Վեդու ջրամբարի կառուցում | H51: =H53 -> -169680
G52: այդ թվում` ըստ կատարողների
G53: ՀՀ տարածքային կառավարման և ենթակառուցվածքների նախարարության ջրային կոմիտե | H53: =+H55 -> -169680
G54: այդ թվում` բյուջետային ծախսերի տնտեսագիտական դասակարգման հոդվածներ
G55: ԸՆԴԱՄԵՆԸ ԾԱԽՍԵՐ | H55: =+H56 -> -169680
G56: ՈՉ ՖԻՆԱՆՍԱԿԱՆ ԱԿՏԻՎՆԵՐԻ ԳԾՈՎ ԾԱԽՍԵՐ | H56: =+H57 -> -169680
G57: ՀԻՄՆԱԿԱՆ ՄԻՋՈՑՆԵՐ | H57: =+H58 -> -169680
G58: ՇԵՆՔԵՐ ԵՎ ՇԻՆՈՒԹՅՈՒՆՆԵՐ | H58: =H59 -> -169680
G59: - Շենքերի և շինությունների շինարարություն | H59: ='9.'!E33 -> -169680
F60: 31005 | G60: Եվրասիական զարգացման բանկի աջակցությամբ իրականացվող ոռոգման համակարգերի զարգացման ծրագրի շրջանակներում ջրային տնտեսության ենթակառուցվածքների հիմնանորոգում | H60: =H62 -> -25000
G61: այդ թվում` ըստ կատարողների
G62: ՀՀ տարածքային կառավարման և ենթակառուցվածքների նախարարության ջրային կոմիտե | H62: =+H65 -> -25000
G63: այդ թվում` բյուջետային ծախսերի տնտեսագիտական դասակարգման հոդվածներ
G64: ԸՆԴԱՄԵՆԸ ԾԱԽՍԵՐ | H64: =+H65 -> -25000
G65: ՈՉ ՖԻՆԱՆՍԱԿԱՆ ԱԿՏԻՎՆԵՐԻ ԳԾՈՎ ԾԱԽՍԵՐ | H65: =+H66 -> -25000
G66: ՀԻՄՆԱԿԱՆ ՄԻՋՈՑՆԵՐ | H66: =+H67 -> -25000
G67: ՇԵՆՔԵՐ ԵՎ ՇԻՆՈՒԹՅՈՒՆՆԵՐ | H67: =+H68 -> -25000
G68: - Շենքերի և շինությունների շինարարություն | H68: ='9.'!E42 -> -25000
C69: 03 | G69: Վառելիք և էներգետիկա | H69: =+H71 -> -23956.3
G70: այդ թվում`
D71: 05 | G71: Էլեկտրաէներգիա | H71: =+H73 -> -23956.3
G72: այդ թվում`
G73: ՀՀ ՏԱՐԱԾՔԱՅԻՆ ԿԱՌԱՎԱՐՄԱՆ ԵՎ ԵՆԹԱԿԱՌՈՒՑՎԱԾՔՆԵՐԻ ՆԱԽԱՐԱՐՈՒԹՅՈՒՆ | H73: =+H75 -> -23956.3
G74: այդ թվում`
E75: 1232 | G75: Էներգաարդյունավետության ծրագիր | H75: =H77+H88 -> -23956.3
G76: այդ թվում`
F77: 11001 | G77: «Հանրային շենքերում էներգախնայողության բարելավման և «կանաչ էներգիայի» զարգացմանը նպաստող մեխանիզմներ» դրամաշնորհային ծրագրի կառավարում և համակարգում | H77: =SUM(H79) -> -667.3
G78: այդ թվում` ըստ կատարողների
G79: ՀՀ տարածքային կառավարման և ենթակառուցվածքների նախարարություն | H79: =SUM(H81) -> -667.3
G80: այդ թվում` բյուջետային ծախսերի տնտեսագիտական դասակարգման հոդվածներ
G81: ԸՆԴԱՄԵՆԸ ԾԱԽՍԵՐ | H81: =SUM(H82) -> -667.3
G82: ԸՆԹԱՑԻԿ ԾԱԽՍԵՐ | H82: =SUM(H83) -> -667.3
G83: ԱՅԼ ԾԱԽՍԵՐ | H83: =SUM(H84:H87) -> -667.3
G84: - Աշխատողների աշխատավարձեր և հավելավճարներ | H84: ='10.'!E102 -> -233.8
G85: - Կոմունալ ծառայություններ | H85: ='10.'!E103 -> -125.7
G86: - Ներքին գործուղումներ | H86: ='10.'!E104 -> -181.3
G87: - Համակարգչային ծառայություններ | H87: ='10.'!E105 -> -126.5
F88: 32001 | G88: «Հանրային շենքերում էներգախնայողության բարելավման և «կանաչ էներգիայի» զարգացմանը նպաստող մեխանիզմներ» դրամաշնորհային ծրագրի շրջանակներում հիմնանորոգման աշխատանքներ | H88: =SUM(H90) -> -23289
G89: այդ թվում` ըստ կատարողների
G90: ՀՀ տարածքային կառավարման և ենթակառուցվածքների նախարարություն | H90: =SUM(H92) -> -23289
G91: այդ թվում` բյուջետային ծախսերի տնտեսագիտական դասակարգման հոդվածներ
G92: ԸՆԴԱՄԵՆԸ ԾԱԽՍԵՐ | H92: =SUM(H93) -> -23289
G93: ՈՉ ՖԻՆԱՆՍԱԿԱՆ ԱԿՏԻՎՆԵՐԻ ԳԾՈՎ ԾԱԽՍԵՐ | H93: =SUM(H94) -> -23289
G94: ՀԻՄՆԱԿԱՆ ՄԻՋՈՑՆԵՐ | H94: =SUM(H95,H97) -> -23289
G95: ՇԵՆՔԵՐ ԵՎ ՇԻՆՈՒԹՅՈՒՆՆԵՐ | H95: =SUM(H96) -> -22528.6
G96: - Շենքերի և շինությունների կապիտալ վերանորոգում | H96: ='10.'!E114 -> -22528.6
G97: ՄԵՔԵՆԱՆԵՐ ԵՎ ՍԱՐՔԱՎՈՐՈՒՄՆԵՐ | H97: =SUM(H98) -> -760.4
G98: - Այլ մեքենաներ և սարքավորումներ | H98: ='10.'!E116 -> -760.4
C99: 05 | G99: Տրանսպորտ | H99: =+H101+H136 -> -1233480
G100: այդ թվում`
D101: 01 | G101: Ճանապարհային տրանսպորտ | H101: =+H103 -> -1015264
G102: այդ թվում`
G103: ՀՀ ՏԱՐԱԾՔԱՅԻՆ ԿԱՌԱՎԱՐՄԱՆ ԵՎ ԵՆԹԱԿԱՌՈՒՑՎԱԾՔՆԵՐԻ ՆԱԽԱՐԱՐՈՒԹՅՈՒՆ | H103: =+H105 -> -1015264
...

Sheet 9.
G1: Հավելված N9
G2: ՀՀ կառավարության 2022 թվականի
G3: ______________ ի ___Ն որոշման
B5: «ՀԱՅԱUՏԱՆԻ ՀԱՆՐԱՊԵՏՈՒԹՅԱՆ 2022 ԹՎԱԿԱՆԻ ՊԵՏԱԿԱՆ ԲՅՈՒՋԵԻ ՄԱUԻՆ» OՐԵՆՔԻ N 1 ՀԱՎԵԼՎԱԾԻ N 4 ԱՂՅՈՒՍԱԿՈՒՄ ԵՎ ՀԱՅԱՍՏԱՆԻ ՀԱՆՐԱՊԵՏՈՒԹՅԱՆ ԿԱՌԱՎԱՐՈՒԹՅԱՆ 2021 ԹՎԱԿԱՆԻ ԴԵԿՏԵՄԲԵՐԻ 23-Ի N 2121-Ն ՈՐՈՇՄԱՆ N 5 ՀԱՎԵԼՎԱԾԻ N 3 ԱՂՅՈՒՍԱԿՈՒՄ ԿԱՏԱՐՎՈՂ ՓՈՓՈԽՈՒԹՅՈՒՆՆԵՐԸ
G6: հազ. դրամ
B7: Ծրագրային դասիչը | D7: Բյուջետային գլխավոր կարգադրիչների, ծրագրերի և միջոցառումների անվանումները | E7: Ցուցանիշների փոփոխությունը (ավելացումները նշված են դրական նշանով, իսկ նվազեցումները` փակագծերում)
E8: Տարի
E9: Ընդամենը | F9: այդ թվում`
B10: Ծրագիր | C10: Միջոց առում | F10: Վարկային միջոցներ | G10: Համաֆինան սավորում
D11: ԸՆԴԱՄԵՆԸ_x000D_ այդ թվում` | E11: =F11+G11 -> -730629.7 | F11: =F12+F13 -> -655000 | G11: =G12+G13 -> -75629.7
D12: - ԸՆԹԱՑԻԿ ԾԱԽՍԵՐ | E12: =F12+G12 -> -1463 | F12: =F22 -> 0 | G12: =G22 -> -1463
D13: - ՈՉ ՖԻՆԱՆՍԱԿԱՆ ԱԿՏԻՎՆԵՐԻ ԳԾՈՎ ԾԱԽՍԵՐ | E13: =F13+G13 -> -729166.7 | F13: =F30+F39+F50+F61+F74+F85+F96+F105+F116 -> -655000 | G13: =G30+G39+G50+G61+G74+G85+G96+G105+G116 -> -74166.7
D14: ՀՀ ՏԱՐԱԾՔԱՅԻՆ ԿԱՌԱՎԱՐՄԱՆ ԵՎ ԵՆԹԱԿԱՌՈՒՑՎԱԾՔՆԵՐԻ ՆԱԽԱՐԱՐՈՒԹՅՈՒՆ_x000D_ այդ թվում` | E14: =F14+G14 -> -730629.7 | F14: =F15+F43+F67+F109+F89 -> -655000 | G14: =G15+G43+G67+G109+G89 -> -75629.7
B15: 1004 | D15: Ոռոգման համակարգի առողջացում | E15: =F15+G15 -> -196143 | F15: =F17+F25+F34 -> -139100 | G15: =G17+G25+G34 -> -57043
D16: այդ թվում`
C17: 11010 | D17: Գերմանիայի զարգացման վարկերի բանկի աջակցությամբ իրականացվող Ախուրյան գետի ջրային ռեսուրսների ինտեգրացված կառավարում փուլ 1 ծրագրով Ջրաձոր գյուղի վերաբնակեցման գործողությունների խորհրդատվություն և կառավարում | E17: =+F17+G17 -> -1463 | F17: =+F21 -> 0 | G17: =+G21 -> -1463
D18: այդ թվում` ըստ կատարողների
D19: ՀՀ տարածքային կառավարման և ենթակառուցվածքների նախարարության ջրային կոմիտե | E19: =F19+G19 -> -1463 | F19: =F17 -> 0 | G19: =G17 -> -1463
D20: այդ թվում` բյուջետային ծախսերի տնտեսագիտական դասակարգման հոդվածներ
D21: ԸՆԴԱՄԵՆԸ ԾԱԽՍԵՐ | E21: =F21+G21 -> -1463 | F21: =+F22 -> 0 | G21: =+G22 -> -1463
D22: ԸՆԹԱՑԻԿ ԾԱԽՍԵՐ | E22: =+F22+G22 -> -1463 | F22: =+F23 -> 0 | G22: =+G23 -> -1463
D23: ԱՅԼ ԾԱԽՍԵՐ | E23: =+F23+G23 -> -1463 | F23: =+F24 -> 0 | G23: =+G24 -> -1463
D24: Հարկեր, պարտադիր վճարներ և տույժեր, որոնք կառավարման տարբեր մակարդակների կողմից կիրառվում են միմյանց նկատմամբ | E24: =+F24+G24 -> -1463 | G24: -1463
C25: 31001 | D25: Ֆրանսիայի Հանրապետության կառավարության աջակցությամբ իրականացվող Վեդու ջրամբարի կառուցում | E25: =+F25+G25 -> -169680 | F25: =+F30 -> -139100 | G25: =+G30 -> -30580
D26: այդ թվում` ըստ կատարողների
D27: ՀՀ տարածքային կառավարման և ենթակառուցվածքների նախարարության ջրային կոմիտե | E27: =F27+G27 -> -169680 | F27: =F25 -> -139100 | G27: =G25 -> -30580
D28: այդ թվում` բյուջետային ծախսերի տնտեսագիտական դասակարգման հոդվածներ
D29: ԸՆԴԱՄԵՆԸ ԾԱԽՍԵՐ | E29: =+F29+G29 -> -169680 | F29: =+F30 -> -139100 | G29: =+G30 -> -30580
D30: ՈՉ ՖԻՆԱՆՍԱԿԱՆ ԱԿՏԻՎՆԵՐԻ ԳԾՈՎ ԾԱԽՍԵՐ | E30: =+F30+G30 -> -169680 | F30: =+F31 -> -139100 | G30: =+G31 -> -30580
D31: ՀԻՄՆԱԿԱՆ ՄԻՋՈՑՆԵՐ | E31: =+E32 -> -169680 | F31: =+F32 -> -139100 | G31: =+G32 -> -30580
D32: ՇԵՆՔԵՐ ԵՎ ՇԻՆՈՒԹՅՈՒՆՆԵՐ | E32: =+F32+G32 -> -169680 | F32: =+F33 -> -139100 | G32: =+G33 -> -30580
D33: - Շենքերի և շինությունների շինարարություն | E33: =+F33+G33 -> -169680 | F33: -139100 | G33: -30580
C34: 31005 | D34: Եվրասիական զարգացման բանկի աջակցությամբ իրականացվող ոռոգման համակարգերի զարգացման ծրագրի շրջանակներում ջրային տնտեսության ենթակառուցվածքների հիմնանորոգում | E34: =+F34+G34 -> -25000 | F34: =+F39 -> 0 | G34: =+G39 -> -25000
D35: այդ թվում` ըստ կատարողների
D36: ՀՀ տարածքային կառավարման և ենթակառուցվածքների նախարարության ջրային կոմիտե | E36: =F36+G36 -> -25000 | F36: =F34 -> 0 | G36: =G34 -> -25000
D37: այդ թվում` բյուջետային ծախսերի տնտեսագիտական դասակարգման հոդվածներ
D38: ԸՆԴԱՄԵՆԸ ԾԱԽՍԵՐ | E38: =+F38+G38 -> -25000 | F38: =+F39 -> 0 | G38: =+G39 -> -25000
D39: ՈՉ ՖԻՆԱՆՍԱԿԱՆ ԱԿՏԻՎՆԵՐԻ ԳԾՈՎ ԾԱԽՍԵՐ | E39: =+F39+G39 -> -25000 | F39: =+F40 -> 0 | G39: =+G40 -> -25000
D40: ՀԻՄՆԱԿԱՆ ՄԻՋՈՑՆԵՐ | E40: =+E41 -> -25000 | F40: =+F41 -> 0 | G40: =+G41 -> -25000
D41: ՇԵՆՔԵՐ ԵՎ ՇԻՆՈՒԹՅՈՒՆՆԵՐ | E41: =+F41+G41 -> -25000 | F41: =+F42 -> 0 | G41: =+G42 -> -25000
D42: - Շենքերի և շինությունների շինարարություն | E42: =+F42+G42 -> -25000 | G42: -25000
B43: 1019 | D43: Սոցիալական ներդրումների և տեղական զարգացման ծրագիր | E43: =+F43+G43 -> -61420 | F43: =+F45+F56 -> -48500 | G43: =+G45+G56 -> -12920
D44: այդ թվում`
C45: 12001 | D45: Համաշխարհային բանկի աջակցությամբ իրականացվող Տարածքային զարգացման հիմնադրամի ծրագրի շրջանակներում ՀՀ տարածքներում ջրագծերի, առողջապահության, կրթության, մշակույթի, հատուկ խնամքի և ենթակառուցվածքների ոլորտի վերականգնման և շինարարության աշխատանքներ | E45: =F45+G45 -> -26900 | F45: =F47 -> -21400 | G45: =G47 -> -5500
D46: այդ թվում` ըստ կատարողների
D47: ՀՀ տարածքային կառավարման և ենթակառուցվածքների նախարարություն | E47: =+F47+G47 -> -26900 | F47: =+F49 -> -21400 | G47: =+G49 -> -5500
D48: այդ թվում` բյուջետային ծախսերի տնտեսագիտական դասակարգման հոդվածներ
D49: ԸՆԴԱՄԵՆԸ ԾԱԽՍԵՐ | E49: =+F49+G49 -> -26900 | F49: =+F50 -> -21400 | G49: =+G50 -> -5500
D50: ՈՉ ՖԻՆԱՆՍԱԿԱՆ ԱԿՏԻՎՆԵՐԻ ԳԾՈՎ ԾԱԽՍԵՐ | E50: =+F50+G50 -> -26900 | F50: =+F51 -> -21400 | G50: =+G51 -> -5500
D51: ՀԻՄՆԱԿԱՆ ՄԻՋՈՑՆԵՐ | E51: =+F51+G51 -> -26900 | F51: =+F52+F54 -> -21400 | G51: =+G52+G54 -> -5500
D52: ՇԵՆՔԵՐ ԵՎ ՇԻՆՈՒԹՅՈՒՆՆԵՐ | E52: =F52+G52 -> -24900 | F52: =+F53 -> -19400 | G52: =+G53 -> -5500
D53: - Շենքերի և շինությունների շինարարություն | E53: =+F53+G53 -> -24900 | F53: -19400 | G53: -5500
D54: ԱՅԼ ՀԻՄՆԱԿԱՆ ՄԻՋՈՑՆԵՐ | E54: =+F54+G54 -> -2000 | F54: =+F55 -> -2000 | G54: =+G55 -> 0
D55: - Նախագծահետազոտական ծախսեր | E55: =+F55+G55 -> -2000 | F55: -2000 | G55: 0
C56: 12004 | D56: Համաշխարհային բանկի աջակցությամբ իրականացվող Սոցիալական ներդրումների և տեղական զարգացման ծրագրի լրացուցիչ ֆինանսավորման վարկի շրջանակներում ՀՀ համայնքային և միջհամայնքային ենթակառուցվածքների որակի, օգտագործման և հասանելիության բարելավում | E56: =F56+G56 -> -34520 | F56: =F58 -> -27100 | G56: =G58 -> -7420
D57: այդ թվում` ըստ կատարողների
D58: ՀՀ տարածքային կառավարման և ենթակառուցվածքների նախարարություն | E58: =+F58+G58 -> -34520 | F58: =+F60 -> -27100 | G58: =+G60 -> -7420
D59: այդ թվում` բյուջետային ծախսերի տնտեսագիտական դասակարգման հոդվածներ
D60: ԸՆԴԱՄԵՆԸ ԾԱԽՍԵՐ | E60: =+F60+G60 -> -34520 | F60: =+F61 -> -27100 | G60: =+G61 -> -7420
D61: ՈՉ ՖԻՆԱՆՍԱԿԱՆ ԱԿՏԻՎՆԵՐԻ ԳԾՈՎ ԾԱԽՍԵՐ | E61: =+F61+G61 -> -34520 | F61: =+F62 -> -27100 | G61: =+G62 -> -7420
D62: ՀԻՄՆԱԿԱՆ ՄԻՋՈՑՆԵՐ | E62: =+F62+G62 -> -34520 | F62: =+F63+F65 -> -27100 | G62: =+G63+G65 -> -7420
D63: ՇԵՆՔԵՐ ԵՎ ՇԻՆՈՒԹՅՈՒՆՆԵՐ | E63: =F63+G63 -> -10530 | F63: =+F64 -> -8200 | G63: =+G64 -> -2330
D64: - Շենքերի և շինությունների շինարարություն | E64: =+F64+G64 -> -10530 | F64: -8200 | G64: -2330
D65: ԱՅԼ ՀԻՄՆԱԿԱՆ ՄԻՋՈՑՆԵՐ | E65: =+F65+G65 -> -23990 | F65: =+F66 -> -18900 | G65: =+G66 -> -5090
D66: - Նախագծահետազոտական ծախսեր | E66: =+F66+G66 -> -23990 | F66: -18900 | G66: -5090
B67: 1072 | D67: Ջրամատակարարման և ջրահեռացման բարելավում | E67: =F67+G67 -> -63553.7 | F67: =+F69+F80 -> -48695 | G67: =+G69+G80 -> -14858.7
D68: այդ թվում`
C69: 31002 | D69: Եվրոպական ներդրումային բանկի աջակցությամբ իրականացվող ջրամատակարարման և ջրահեռացման ենթակառուցվածքների վերականգնման ծրագրի երրորդ փուլի շրջանակներում ջրամատակարարման և ջրահեռացման ենթակառուցվածքների հիմնանորոգում | E69: =+F69+G69 -> -61593.7 | F69: =+F71 -> -48695 | G69: =+G71 -> -12898.7
D70: այդ թվում` ըստ կատարողների
D71: ՀՀ տարածքային կառավարման և ենթակառուցվածքների նախարարության ջրային կոմիտե | E71: =F71+G71 -> -61593.7 | F71: =+F73 -> -48695 | G71: =+G73 -> -12898.7
D72: այդ թվում` բյուջետային ծախսերի տնտեսագիտական դասակարգման հոդվածներ
D73: ԸՆԴԱՄԵՆԸ ԾԱԽՍԵՐ | E73: =+F73+G73 -> -61593.7 | F73: =+F74 -> -48695 | G73: =+G74 -> -12898.7
D74: ՈՉ ՖԻՆԱՆՍԱԿԱՆ ԱԿՏԻՎՆԵՐԻ ԳԾՈՎ ԾԱԽՍԵՐ | E74: =+F74+G74 -> -61593.7 | F74: =+F75 -> -48695 | G74: =+G75 -> -12898.7
D75: ՀԻՄՆԱԿԱՆ ՄԻՋՈՑՆԵՐ | E75: =+F75+G75 -> -61593.7 | F75: =+F76+F78 -> -48695 | G75: =+G76+G78 -> -12898.7
D76: ՇԵՆՔԵՐ ԵՎ ՇԻՆՈՒԹՅՈՒՆՆԵՐ | E76: =F76+G76 -> -48731 | F76: =+F77 -> -36275 | G76: =+G77 -> -12456
D77: - Շենքերի և շինությունների շինարարություն | E77: =+F77+G77 -> -48731 | F77: =-2630-33645 -> -36275 | G77: =-4700-7756 -> -12456
D78: ԱՅԼ ՀԻՄՆԱԿԱՆ ՄԻՋՈՑՆԵՐ | E78: =+F78+G78 -> -12862.7 | F78: =+F79 -> -12420 | G78: =+G79 -> -442.7
D79: - Նախագծահետազոտական ծախսեր | E79: =+F79+G79 -> -12862.7 | F79: -12420 | G79: -442.7
C80: 31005 | D80: Գերմանիայի զարգացման վարկերի բանկի աջակցությամբ իրականացվող ՀՀ Լոռու (Վանաձորի) մարզի ջրամատակարարման և ջրահեռացման համակարգերի վերականգնման ծրագիր՝ երկրորդ փուլ | E80: =+F80+G80 -> -1960 | F80: =+F84 -> 0 | G80: =+G84 -> -1960
D81: այդ թվում` ըստ կատարողների
D82: ՀՀ տարածքային կառավարման և ենթակառուցվածքների նախարարության ջրային կոմիտե | E82: =F82+G82 -> -1960 | F82: =+F84 -> 0 | G82: =+G84 -> -1960
D83: այդ թվում` բյուջետային ծախսերի տնտեսագիտական դասակարգման հոդվածներ
D84: ԸՆԴԱՄԵՆԸ ԾԱԽՍԵՐ | E84: =+F84+G84 -> -1960 | F84: =+F85 -> 0 | G84: =+G85 -> -1960
D85: ՈՉ ՖԻՆԱՆՍԱԿԱՆ ԱԿՏԻՎՆԵՐԻ ԳԾՈՎ ԾԱԽՍԵՐ | E85: =+F85+G85 -> -1960 | F85: =+F87 -> 0 | G85: =+G87 -> -1960
D86: ՀԻՄՆԱԿԱՆ ՄԻՋՈՑՆԵՐ | E86: =+F86+G86 -> -1960 | F86: =+F87 -> 0 | G86: =+G87 -> -1960
D87: ՇԵՆՔԵՐ ԵՎ ՇԻՆՈՒԹՅՈՒՆՆԵՐ | E87: =F87+G87 -> -1960 | F87: =+F88 -> 0 | G87: =+G88 -> -1960
D88: - Շենքերի և շինությունների շինարարություն | E88: =F88+G88 -> -1960 | F88: 0 | G88: -1960
B89: 1157 | D89: Քաղաքային զարգացում | E89: =F89+G89 -> -933564 | F89: =F91+F100 -> -895000 | G89: =G91+G100 -> -38564
D90: այդ թվում`
C91: 12017 | D91: Վերակառուցման և զարգացման եվրոպական բանկի աջակցությամբ իրականացվող Գյումրու քաղաքային ճանապարհների ծրագիր | E91: =E93 -> -130800 | F91: =F93 -> -130800 | G91: =G93 -> 0
D92: այդ թվում` ըստ կատարողների
D93: ՀՀ տարածքային կառավարման և ենթակառուցվածքների նախարարություն | E93: =E98 -> -130800 | F93: =F98 -> -130800 | G93: =G98 -> 0
D94: այդ թվում` բյուջետային ծախսերի տնտեսագիտական դասակարգման հոդվածներ
D95: ԸՆԴԱՄԵՆԸ ԾԱԽՍԵՐ | E95: =E96 -> -130800 | F95: =F96 -> -130800 | G95: =G96 -> 0
D96: ՈՉ ՖԻՆԱՆՍԱԿԱՆ ԱԿՏԻՎՆԵՐԻ ԳԾՈՎ ԾԱԽՍԵՐ | E96: =E97 -> -130800 | F96: =F97 -> -130800 | G96: =G97 -> 0
D97: ՀԻՄՆԱԿԱՆ ՄԻՋՈՑՆԵՐ | E97: =E98 -> -130800 | F97: =F98 -> -130800 | G97: =G98 -> 0
D98: ՇԵՆՔԵՐ ԵՎ ՇԻՆՈՒԹՅՈՒՆՆԵՐ | E98: =E99 -> -130800 | F98: =F99 -> -130800 | G98: =G99 -> 0
D99: - Շենքերի և շինությունների կապիտալ վերանորոգում | E99: =F99+G99 -> -130800 | F99: -130800 | G99: 0
C100: 12021 | D100: Ասիական զարգացման բանկի աջակցությամբ իրականացվող քաղաքային ենթակառուցվածքների և քաղաքի կայուն զարգացման ներդրումային երկրորդ ծրագրի շրջանակներում ճանապարհային շինարարություն | E100: =E102 -> -802764 | F100: =F102 -> -764200 | G100: =G102 -> -38564
D101: այդ թվում` ըստ կատարողների
...

Sheet 10.
G1: Հավելված N10
G2: ՀՀ կառավարության 2022 թվականի
G3: ______________ ի ___Ն որոշման
B5: «ՀԱՅԱUՏԱՆԻ ՀԱՆՐԱՊԵՏՈՒԹՅԱՆ 2022 ԹՎԱԿԱՆԻ ՊԵՏԱԿԱՆ ԲՅՈՒՋԵԻ ՄԱUԻՆ» OՐԵՆՔԻ N 1 ՀԱՎԵԼՎԱԾԻ N 5 ԱՂՅՈՒՍԱԿՈՒՄ ԵՎ ՀԱՅԱՍՏԱՆԻ ՀԱՆՐԱՊԵՏՈՒԹՅԱՆ ԿԱՌԱՎԱՐՈՒԹՅԱՆ 2021 ԹՎԱԿԱՆԻ ԴԵԿՏԵՄԲԵՐԻ 23-Ի N 2121-Ն ՈՐՈՇՄԱՆ N 5 ՀԱՎԵԼՎԱԾԻ N 4 ԱՂՅՈՒՍԱԿՈՒՄ ԿԱՏԱՐՎՈՂ ՓՈՓՈԽՈՒԹՅՈՒՆՆԵՐԸ
G6: հազ. դրամ
B7: Ծրագրային դասիչը | D7: Բյուջետային գլխավոր կարգադրիչների, ծրագրերի և միջոցառումների անվանումները | E7: Ցուցանիշների փոփոխությունը (ավելացումները նշված են դրական նշանով, իսկ նվազեցումները` փակագծերում)
E8: Տարի
E9: Ընդամենը | F9: այդ թվում`
B10: Ծրագիր | C10: Միջոց առում | F10: Դրամաշնորհային միջոցներ | G10: Համաֆինան սավորում
D11: ԸՆԴԱՄԵՆԸ | E11: =+F11+G11 -> -1390042.3 | F11: =+F15 -> -1143997.1 | G11: =+G15 -> -246045.2
D12: այդ թվում` | E12: =+F12+G12 -> 0
D13: ԸՆԹԱՑԻԿ ԾԱԽՍԵՐ | E13: =+F13+G13 -> -97287.3 | F13: =F23+F31+F70+F100 -> -75107 | G13: =G23+G31+G70+G100 -> -22180.3
D14: ՈՉ ՖԻՆԱՆՍԱԿԱՆ ԱԿՏԻՎՆԵՐԻ ԳԾՈՎ ԾԱԽՍԵՐ | E14: =+F14+G14 -> -1292755 | F14: =+F87+F50+F78+F39+F61+F111 -> -1068890.1 | G14: =+G87+G50+G78+G39+G61+G111 -> -223864.9
D15: ՀՀ ՏԱՐԱԾՔԱՅԻՆ ԿԱՌԱՎԱՐՄԱՆ ԵՎ ԵՆԹԱԿԱՌՈՒՑՎԱԾՔՆԵՐԻ ՆԱԽԱՐԱՐՈՒԹՅՈՒՆ | E15: =+F15+G15 -> -1390042.3 | F15: =+F43+F16+F54+F93 -> -1143997.1 | G15: =+G43+G16+G54+G93 -> -246045.2
B16: 1040 | D16: Կոշտ թափոնների կառավարում | E16: =F16+G16 -> -914303 | F16: =F18+F26+F34 -> -741973 | G16: =G18+G26+G34 -> -172330
D17: այդ թվում`
C18: 12001 | D18: Վերակառուցման և զարգացման եվրոպական բանկի աջակցությամբ իրականացվող «Երևանի կոշտ թափոնների կառավարման» դրամաշնորհային ծրագիր | E18: =E20 -> -1365 | F18: =F20 -> 0 | G18: =G20 -> -1365
D19: այդ թվում` ըստ կատարողների
D20: ՀՀ տարածքային կառավարման և ենթակառուցվածքների նախարարություն | E20: =E25 -> -1365 | F20: =F25 -> 0 | G20: =G25 -> -1365
D21: այդ թվում` բյուջետային ծախսերի տնտեսագիտական դասակարգման հոդվածներ
D22: ԸՆԴԱՄԵՆԸ ԾԱԽՍԵՐ | E22: =E23 -> -1365 | F22: =F23 -> 0 | G22: =G23 -> -1365
D23: ԸՆԹԱՑԻԿ ԾԱԽՍԵՐ | E23: =E24 -> -1365 | F23: =F24 -> 0 | G23: =G24 -> -1365
D24: ԱՅԼ ԾԱԽՍԵՐ | E24: =E25 -> -1365 | F24: =F25 -> 0 | G24: =G25 -> -1365
D25: Այլ ծախսեր | E25: =F25+G25 -> -1365 | F25: 0 | G25: -1365
C26: 12002 | D26: Վերակառուցման և զարգացման եվրոպական բանկի աջակցությամբ իրականացվող «Կոտայքի և Գեղարքունիքի մարզի կոշտ թափոնների կառավարման խորհրդատվության համար» դրամաշնորհային ծրագիր | E26: =E28 -> -90423 | F26: =F28 -> -74821 | G26: =G28 -> -15602
D27: այդ թվում` ըստ կատարողների
D28: ՀՀ տարածքային կառավարման և ենթակառուցվածքների նախարարություն | E28: =E33 -> -90423 | F28: =F33 -> -74821 | G28: =G33 -> -15602
D29: այդ թվում` բյուջետային ծախսերի տնտեսագիտական դասակարգման հոդվածներ
D30: ԸՆԴԱՄԵՆԸ ԾԱԽՍԵՐ | E30: =E31 -> -90423 | F30: =F31 -> -74821 | G30: =G31 -> -15602
D31: ԸՆԹԱՑԻԿ ԾԱԽՍԵՐ | E31: =E32 -> -90423 | F31: =F32 -> -74821 | G31: =G32 -> -15602
D32: ԱՅԼ ԾԱԽՍԵՐ | E32: =E33 -> -90423 | F32: =F33 -> -74821 | G32: =G33 -> -15602
D33: Այլ ծախսեր | E33: =F33+G33 -> -90423 | F33: -74821 | G33: -15602
C34: 32004 | D34: Վերակառուցման և զարգացման եվրոպական բանկի աջակցությամբ իրականացվող «Կոտայքի և Գեղարքունիքի մարզի կոշտ թափոնների կառավարման» դրամաշնորհային ծրագիր | E34: =E36 -> -822515 | F34: =F36 -> -667152 | G34: =G36 -> -155363
D35: այդ թվում` ըստ կատարողների
D36: ՀՀ տարածքային կառավարման և ենթակառուցվածքների նախարարություն | E36: =E41 -> -822515 | F36: =F41 -> -667152 | G36: =G41 -> -155363
D37: այդ թվում` բյուջետային ծախսերի տնտեսագիտական դասակարգման հոդվածներ
D38: ԸՆԴԱՄԵՆԸ ԾԱԽՍԵՐ | E38: =E39 -> -822515 | F38: =F39 -> -667152 | G38: =G39 -> -155363
D39: ՈՉ ՖԻՆԱՆՍԱԿԱՆ ԱԿՏԻՎՆԵՐԻ ԳԾՈՎ ԾԱԽՍԵՐ | E39: =E40 -> -822515 | F39: =F40 -> -667152 | G39: =G40 -> -155363
D40: ՀԻՄՆԱԿԱՆ ՄԻՋՈՑՆԵՐ | E40: =E41 -> -822515 | F40: =F41 -> -667152 | G40: =G41 -> -155363
D41: ՇԵՆՔԵՐ ԵՎ ՇԻՆՈՒԹՅՈՒՆՆԵՐ | E41: =E42 -> -822515 | F41: =F42 -> -667152 | G41: =G42 -> -155363
D42: - Շենքերի և շինությունների շինարարություն | E42: =F42+G42 -> -822515 | F42: -667152 | G42: -155363
B43: 1072 | D43: Ջրամատակարարաման և ջրահեռացման բարելավում | E43: =+F43+G43 -> -56458 | F43: =+F45 -> -48546 | G43: =+G45 -> -7912
D44: այդ թվում`
C45: 12001 | D45: Գերմանիայի զարգացման և Եվրոպական միության հարևանության ներդրումային բանկի_x000D_ աջակցությամբ իրականացվող ջրամատակարարման և ջրահեռացման ենթակառուցվածքների_x000D_ դրամաշնորհային ծրագիր` երրորդ փուլ | E45: =+E47 -> -56458 | F45: =+F47 -> -48546 | G45: =+G47 -> -7912
D46: այդ թվում` ըստ կատարողների
D47: ՀՀ տարածքային կառավարման և ենթակառուցվածքների նախարարության ջրային կոմիտե | E47: =+E49 -> -56458 | F47: =+F49 -> -48546 | G47: =+G49 -> -7912
D48: այդ թվում` բյուջետային ծախսերի տնտեսագիտական դասակարգման հոդվածներ
D49: ԸՆԴԱՄԵՆԸ ԾԱԽՍԵՐ | E49: =+F49+G49 -> -56458 | F49: =+F50 -> -48546 | G49: =+G50 -> -7912
D50: ՈՉ ՖԻՆԱՆՍԱԿԱՆ ԱԿՏԻՎՆԵՐԻ ԳԾՈՎ ԾԱԽՍԵՐ | E50: =+F50+G50 -> -56458 | F50: =+F51 -> -48546 | G50: =+G51 -> -7912
D51: ՀԻՄՆԱԿԱՆ ՄԻՋՈՑՆԵՐ | E51: =+F51+G51 -> -56458 | F51: =+F52 -> -48546 | G51: =+G52 -> -7912
D52: ԱՅԼ ՀԻՄՆԱԿԱՆ ՄԻՋՈՑՆԵՐ | E52: =+F52+G52 -> -56458 | F52: =+F53 -> -48546 | G52: =+G53 -> -7912
D53: - Նախագծահետազոտական ծախսեր | E53: =+F53+G53 -> -56458 | F53: -48546 | G53: -7912
B54: 1157 | D54: Քաղաքային զարգացում | E54: =F54+G54 -> -395325 | F54: =F65+F82+F73+F56 -> -333285 | G54: =G65+G82+G73+G56 -> -62040
B55: այդ թվում՛
C56: 12003 | D56: Արևելյան եվրոպայի էներգախնայողության և բնապահպանական գործընկերության ֆոնդի աջակցությամբ իրականացվող Երևանի քաղաքային լուսավորության դրամաշնորհային ծրագրի կատարման ապահովում | E56: =E58 -> -90577 | F56: =F58 -> -68863 | G56: =G58 -> -21714
D57: այդ թվում` ըստ կատարողների
D58: ՀՀ տարածքային կառավարման և ենթակառուցվածքների նախարարություն | E58: =E63 -> -90577 | F58: =F63 -> -68863 | G58: =G63 -> -21714
D59: այդ թվում` բյուջետային ծախսերի տնտեսագիտական դասակարգման հոդվածներ
D60: ԸՆԴԱՄԵՆԸ ԾԱԽՍԵՐ | E60: =E61 -> -90577 | F60: =F61 -> -68863 | G60: =G61 -> -21714
D61: ՈՉ ՖԻՆԱՆՍԱԿԱՆ ԱԿՏԻՎՆԵՐԻ ԳԾՈՎ ԾԱԽՍԵՐ | E61: =E62 -> -90577 | F61: =F62 -> -68863 | G61: =G62 -> -21714
D62: ՀԻՄՆԱԿԱՆ ՄԻՋՈՑՆԵՐ | E62: =E63 -> -90577 | F62: =F63 -> -68863 | G62: =G63 -> -21714
D63: ՇԵՆՔԵՐ ԵՎ ՇԻՆՈՒԹՅՈՒՆՆԵՐ | E63: =E64 -> -90577 | F63: =F64 -> -68863 | G63: =G64 -> -21714
D64: - Շենքերի և շինությունների շինարարություն | E64: =F64+G64 -> -90577 | F64: -68863 | G64: -21714
C65: 12004 | D65: Վերակառուցման և զարգացման եվրոպական բանկի աջակցությամբ իրականացվող Երևանի քաղաքային լուսավորության դրամաշնորհային ծրագրի կատարման ապահովում | E65: =+E67 -> -4832 | F65: =+F67 -> 0 | G65: =+G67 -> -4832
D66: այդ թվում` ըստ կատարողների
D67: ՀՀ տարածքային կառավարման և ենթակառուցվածքների նախարարություն | E67: =+E69 -> -4832 | F67: =+F69 -> 0 | G67: =+G69 -> -4832
D68: այդ թվում` բյուջետային ծախսերի տնտեսագիտական դասակարգման հոդվածներ
D69: ԸՆԴԱՄԵՆԸ ԾԱԽՍԵՐ | E69: =+F69+G69 -> -4832 | F69: =+F70 -> 0 | G69: =+G70 -> -4832
D70: ԸՆԹԱՑԻԿ ԾԱԽՍԵՐ | E70: =+F70+G70 -> -4832 | F70: =+F71 -> 0 | G70: =+G71 -> -4832
D71: ԱՅԼ ԾԱԽՍԵՐ | E71: =+F71+G71 -> -4832 | F71: =+F72 -> 0 | G71: =+G72 -> -4832
D72: Այլ ծախսեր | E72: =+F72+G72 -> -4832 | F72: 0 | G72: -4832
C73: 12014 | D73: Եվրոպական միության հարևանության ներդրումային բանկի աջակցությամբ իրականացվող Երևանի մետրոպոլիտենի վերակառուցման երկրորդ դրամաշնորհային ծրագիր | E73: =E75 -> -218216 | F73: =F75 -> -182722 | G73: =G75 -> -35494
D74: այդ թվում` ըստ կատարողների
D75: ՀՀ տարածքային կառավարման և ենթակառուցվածքների նախարարություն | E75: =E76 -> -218216 | F75: =F76 -> -182722 | G75: =G76 -> -35494
D76: այդ թվում` բյուջետային ծախսերի տնտեսագիտական դասակարգման հոդվածներ | E76: =E77 -> -218216 | F76: =F77 -> -182722 | G76: =G77 -> -35494
D77: ԸՆԴԱՄԵՆԸ ԾԱԽՍԵՐ | E77: =E78 -> -218216 | F77: =F78 -> -182722 | G77: =G78 -> -35494
D78: ՈՉ ՖԻՆԱՆՍԱԿԱՆ ԱԿՏԻՎՆԵՐԻ ԳԾՈՎ ԾԱԽՍԵՐ | E78: =E79 -> -218216 | F78: =F79 -> -182722 | G78: =G79 -> -35494
D79: ՀԻՄՆԱԿԱՆ ՄԻՋՈՑՆԵՐ | E79: =E80 -> -218216 | F79: =F80 -> -182722 | G79: =G80 -> -35494
D80: ՇԵՆՔԵՐ ԵՎ ՇԻՆՈՒԹՅՈՒՆՆԵՐ | E80: =E81 -> -218216 | F80: =F81 -> -182722 | G80: =G81 -> -35494
D81: - Շենքերի և շինությունների շինարարություն | E81: =F81+G81 -> -218216 | F81: -182722 | G81: -35494
C82: 12018 | D82: Վերակառուցման և զարգացման եվրոպական բանկի աջակցությամբ իրականացվող Գյումրու քաղաքային ճանապարհների դրամաշնորհային ծրագիր (Տրանշ Ա, Բ, Գ) | E82: =+E84 -> -81700 | F82: =+F84 -> -81700 | G82: =+G84 -> 0
D83: այդ թվում` ըստ կատարողների
D84: ՀՀ տարածքային կառավարման և ենթակառուցվածքների նախարարություն | E84: =+E86 -> -81700 | F84: =+F86 -> -81700 | G84: =+G86 -> 0
D85: այդ թվում` բյուջետային ծախսերի տնտեսագիտական դասակարգման հոդվածներ
D86: ԸՆԴԱՄԵՆԸ ԾԱԽՍԵՐ | E86: =+F86+G86 -> -81700 | F86: =+F87 -> -81700 | G86: =+G87 -> 0
D87: ՈՉ ՖԻՆԱՆՍԱԿԱՆ ԱԿՏԻՎՆԵՐԻ ԳԾՈՎ ԾԱԽՍԵՐ | E87: =+F87+G87 -> -81700 | F87: =+F88 -> -81700 | G87: =+G88 -> 0
D88: ՀԻՄՆԱԿԱՆ ՄԻՋՈՑՆԵՐ | E88: =+F88+G88 -> -81700 | F88: =F89+F91 -> -81700 | G88: =G89+G91 -> 0
D89: ՇԵՆՔԵՐ ԵՎ ՇԻՆՈՒԹՅՈՒՆՆԵՐ | E89: =+F89+G89 -> -73900 | F89: =+F90 -> -73900 | G89: =+G90 -> 0
D90: - Շենքերի և շինությունների շինարարություն | E90: =+F90+G90 -> -73900 | F90: -73900 | G90: 0
D91: ՄԵՔԵՆԱՆԵՐ ԵՎ ՍԱՐՔԱՎՈՐՈՒՄՆԵՐ | E91: =+F91+G91 -> -7800 | F91: =+F92 -> -7800 | G91: =+G92 -> 0
D92: - Այլ մեքենաներ և սարքավորումներ | E92: =+F92+G92 -> -7800 | F92: -7800 | G92: 0
B93: 1232 | D93: Էներգաարդյունավետության ծրագիր | E93: =+F93+G93 -> -23956.3 | F93: =+F95+F106 -> -20193.1 | G93: =+G95+G106 -> -3763.2
D94: այդ թվում՛
C95: 11001 | D95: «Հանրային շենքերում էներգախնայողության բարելավման և «կանաչ էներգիայի» զարգացմանը նպաստող մեխանիզմներ» դրամաշնորհային ծրագրի կառավարում և համակարգում | E95: =+F95+G95 -> -667.3 | F95: =+F97 -> -286 | G95: =+G97 -> -381.3
D96: այդ թվում` ըստ կատարողների
D97: ՀՀ տարածքային կառավարման և ենթակառուցվածքների նախարարություն | E97: =+F97+G97 -> -667.3 | F97: =+F99 -> -286 | G97: =+G99 -> -381.3
D98: այդ թվում` բյուջետային ծախսերի տնտեսագիտական դասակարգման հոդվածներ
D99: ԸՆԴԱՄԵՆԸ ԾԱԽՍԵՐ | E99: =+F99+G99 -> -667.3 | F99: =+F100 -> -286 | G99: =+G100 -> -381.3
D100: ԸՆԹԱՑԻԿ ԾԱԽՍԵՐ | E100: =+F100+G100 -> -667.3 | F100: =+F101 -> -286 | G100: =+G101 -> -381.3
D101: ԱՅԼ ԾԱԽՍԵՐ | E101: =+F101+G101 -> -667.3 | F101: =F102+F104+F105+F103 -> -286 | G101: =G102+G104+G105+G103 -> -381.3
...

Sheet 11
D1: Հավելված N 11
D2: ՀՀ կառավարության 2022 թվականի
D3: -------------- ի N ---- -Ն որոշման
A5: «ՀԱՅԱՍՏԱՆԻ ՀԱՆՐԱՊԵՏՈՒԹՅԱՆ 2022 ԹՎԱԿԱՆԻ ՊԵՏԱԿԱՆ ԲՅՈՒՋԵԻ ՄԱՍԻՆ» ՕՐԵՆՔԻ N 1 ՀԱՎԵԼՎԱԾԻ N 7 ԱՂՅՈՒՍԱԿՈՒՄ ԵՎ ՀԱՅԱՍՏԱՆԻ ՀԱՆՐԱՊԵՏՈՒԹՅԱՆ ԿԱՌԱՎԱՐՈՒԹՅԱՆ 2021 ԹՎԱԿԱՆԻ ԴԵԿՏԵՄԲԵՐԻ 23-Ի N 2121-Ն ՈՐՈՇՄԱՆ N 5 ՀԱՎԵԼՎԱԾԻ N 6 ԱՂՅՈՒՍԱԿՈՒՄ ԿԱՏԱՐՎՈՂ ՓՈՓՈԽՈՒԹՅՈՒՆՆԵՐԸ
D6: հազար դրամ
A7: Ծրագրային դասիչը | C7: Բյուջետային հատկացումների գլխավոր կարգադրիչների, ծրագրերի, միջոցառումների և միջոցառումները կատարող պետական մարմինների անվանումները | D7: Ցուցանիշների փոփոխությունը (Նվազեցումները նշված են փակագծերում)
A8: Ծրագիր | B8: Միջոցառում | D8: Տարի
C9: ԸՆԴԱՄԵՆԸ | D9: =+D11 -> 321674.9
C10: այդ թվում
C11: Կապիտալ սուբվենցիաներ համայնքներին | D11: =+D13 -> 321674.9
C12: այդ թվում`
C13: ՀՀ տարածքային կառավարման և ենթակառուցվածքների նախարարություն | D13: =+D15 -> 321674.9
C14: այդ թվում`
A15: 1212 | C15: Տարածքային զարգացում | D15: =+D17 -> 321674.9
C16: այդ թվում`
B17: 12007 | C17: ՀՀ մարզերին սուբվենցիաների տրամադրում՝ ենթակառուցվածքների զարգացման նպատակով | D17: =+D19 -> 321674.9
C18: այդ թվում` ըստ կատարողների
C19: ՀՀ կառավարություն | D19: ='7.'!E188 -> 321674.9

Sheet 12
C1: Հավելված N 12
A2: ՀՀ կառավարության 2022 թվականի
A3: ______________ ի ___Ն որոշման
A5: ՀԱՅԱՍՏԱՆԻ ՀԱՆՐԱՊԵՏՈՒԹՅԱՆ ԿԱՌԱՎԱՐՈՒԹՅԱՆ 2021 ԹՎԱԿԱՆԻ ԴԵԿՏԵՄԲԵՐԻ 23-Ի N 2121-Ն ՈՐՈՇՄԱՆ N 9 ՀԱՎԵԼՎԱԾԻ N 9.7 ԱՂՅՈՒՍԱԿՈՒՄ ԿԱՏԱՐՎՈՂ ՓՈՓՈԽՈՒԹՅՈՒՆՆԵՐԸ ԵՎ ԼՐԱՑՈՒՄՆԵՐԸ
C6: Աղյուսակ 9.7
A7: ՀՀ ՏԱՐԱԾՔԱՅԻՆ ԿԱՌԱՎԱՐՄԱՆ ԵՎ ԵՆԹԱԿԱՌՈՒՑՎԱԾՔՆԵՐԻ ՆԱԽԱՐԱՐՈՒԹՅՈՒՆ
A8: ՄԱՍ 2. ՊԵՏԱԿԱՆ ՄԱՐՄՆԻ ԳԾՈՎ ԱՐԴՅՈՒՆՔԱՅԻՆ (ԿԱՏԱՐՈՂԱԿԱՆ) ՑՈՒՑԱՆԻՇՆԵՐԸ
A10: Ծրագրի դասիչը | B10: Ծրագրի անվանումը
A11: 1004 | B11: =+'[1]4'!D16 -> Ոռոգման համակարգի առողջացում
A13: Ծրագրի միջոցառումները
A14: Ծրագրի դասիչը` | B14: 1004 | C14: Ցուցանիշների փոփոխությունը (նվազեցումները նշված են փակագծերում)
A15: Միջոցառման դասիչը` | B15: 11010 | C15: Տարի
A16: Միջոցառման անվանումը` | B16: Գերմանիայի զարգացման վարկերի բանկի աջակցությամբ իրականացվող Ախուրյան գետի ջրային ռեսուրսների ինտեգրացված կառավարում փուլ 1 ծրագրով Ջրաձոր գյուղի վերաբնակեցման գործողությունների խորհրդատվություն և կառավարում
A17: Նկարագրությունը` | B17: Գերմանիայի զարգացման վարկերի բանկի աջակցությամբ իրականացվող Ախուրյան գետի ջրային ռեսուրսների ինտեգրացված կառավարում փուլ 1 ծրագրով Ջրաձոր գյուղի վերաբնակեցման գործողությունների համակարգում և ղեկավարում
A18: Միջոցառման տեսակը` | B18: Ծառայությունների մատուցում
A19: Ակտիվն օգտագործող կազմակերպության(ների) անվանում(ները)՛ | B19: Մասնագիտացված միավոր
A20: Արդյունքի չափորոշիչներ
A21: Միջոցառման վրա կատարվող ծախսը (հազար դրամ) | C21: ='9.'!E23 -> -1463
A23: Ծրագրի դասիչը` | B23: 1004 | C23: Ցուցանիշների փոփոխությունը (նվազեցումները նշված են փակագծերում)
A24: Միջոցառման դասիչը` | B24: 31001 | C24: Տարի
A25: Միջոցառման անվանումը` | B25: Ֆրանսիայի Հանրապետության կառավարության աջակցությամբ իրականացվող Վեդու ջրամբարի կառուցում
A26: Նկարագրությունը` | B26: Ֆրանսիայի Հանրապետության կառավարության աջակցությամբ իրականացվող Վեդու ջրամբարի կառուցման ծրագիր
A27: Միջոցառման տեսակը` | B27: Ծառայությունների մատուցում
A28: Ակտիվն օգտագործող կազմակերպության(ների) անվանում(ները)՛ | B28: Մասնագիտացված միավոր
A29: Արդյունքի չափորոշիչներ
A30: Միջոցառման վրա կատարվող ծախսը (հազար դրամ) | C30: ='9.'!E25 -> -169680
A33: Ծրագրի դասիչը` | B33: 1004 | C33: Ցուցանիշների փոփոխությունը (նվազեցումները նշված են փակագծերում)
A34: Միջոցառման դասիչը` | B34: 31005 | C34: Տարի
A35: Միջոցառման անվանումը` | B35: Եվրասիական զարգացման բանկի աջակցությամբ իրականացվող ոռոգման համակարգերի զարգացման ծրագրի շրջանակներում ջրային տնտեսության ենթակառուցվածքների հիմնանորոգում
A36: Նկարագրությունը` | B36: Եվրասիական զարգացման բանկի աջակցությամբ իրականացվող ոռոգման համակարգերի զարգացման ծրագիր
A37: Միջոցառման տեսակը` | B37: Պետական մարմինների կողմից օգտագործվող ոչ ֆինանսական ակտիվների հետ գործառնություններ
A38: Ակտիվն օգտագործող կազմակերպության(ների) անվանում(ները)՛ | B38: Մասնագիտացված միավոր
A39: Արդյունքի չափորոշիչներ
A40: Միջոցառման վրա կատարվող ծախսը (հազար դրամ) | C40: ='9.'!E34 -> -25000
A42: Ծրագրի դասիչը | B42: Ծրագրի անվանումը
A43: 1019 | B43: Սոցիալական ներդրումների և տեղական զարգացման ծրագիր
A45: Ծրագրի դասիչը` | B45: 1019 | C45: Ցուցանիշների փոփոխությունը (նվազեցումները նշված են փակագծերում)
A46: Միջոցառման դասիչը` | B46: 12001 | C46: Տարի
A47: Միջոցառման անվանումը` | B47: Համաշխարհային բանկի աջակցությամբ իրականացվող Տարածքային զարգացման հիմնադրամի ծրագրի շրջանակներում ՀՀ տարածքներում ջրագծերի, առողջապահության, կրթության, մշակույթի, հատուկ խնամքի և ենթակառուցվածքների ոլորտի վերականգնման և շինարարության աշխատանքներ
A48: Նկարագրությունը` | B48: Տարածքային զարգացման հիմնադրամի ծրագրով նախատեսված ՀՀ տարածքներում ջրագծերի, առողջապահության, կրթության օբյեկտների, մշակույթային տների, ծերանոցների, մանկատների, հատուկ դպրոցների, մանկապարտեզների և կոյուղու օբյեկտների հիմնանորոգում և շինարարություն
A49: Միջոցառման տեսակը` | B49: Տրանսֆերտների տրամադրում
A50: Շահառուների ընտրության չափանիշները` | B50: Համաձայն ՏԶՀ Ղեկավար ձեռնարկի, որը ֆինանսավորման համաձայնագրի մաս է կազմում
A51: Արդյունքի չափորոշիչներ
A52: Միջոցառման վրա կատարված ծախսը (հազար դրամ) | C52: ='9.'!E45 -> -26900
A54: Ծրագրի դասիչը` | B54: 1019 | C54: Ցուցանիշների փոփոխությունը (նվազեցումները նշված են փակագծերում)
A55: Միջոցառման դասիչը` | B55: 12004 | C55: Տարի
A56: Միջոցառման անվանումը` | B56: Համաշխարհային բանկի աջակցությամբ իրականացվող Սոցիալական ներդրումների և տեղական զարգացման ծրագրի լրացուցիչ ֆինանսավորման վարկի շրջանակներում ՀՀ համայնքային և միջհամայնքային ենթակառուցվածքների որակի, օգտագործման և հասանելիության բարելավում
A57: Նկարագրությունը` | B57: Ջրագծերի, առողջապահության, կրթության օբյեկտների, մշակույթային տների, ծերանոցների, մանկատների, հատուկ դպրոցների, մանկապարտզների և կոյուղու օբյեկտնրի հիմն. և շինարարություն., գույքի և սարքավորումների տրամադրում շահառու ենթածրագրերի համար
A58: Միջոցառման տեսակը` | B58: Տրանսֆերտների տրամադրում
A59: Շահառուների ընտրության չափանիշները` | B59: Համաձայն ՏԶՀ Ղեկավար ձեռնարկի, որը ֆինանսավորման համաձայնագրի մաս է կազմում
A60: Արդյունքի չափորոշիչներ
A61: Միջոցառման վրա կատարված ծախսը (հազար դրամ) | C61: ='9.'!E56 -> -34520
A63: Ծրագրի դասիչը | B63: Ծրագրի անվանումը
A64: 1040 | B64: Կոշտ թափոնների կառավարում
A66: Ծրագրի միջոցառումները
A68: Ծրագրի դասիչը` | B68: 1040 | C68: Ցուցանիշների փոփոխությունը (նվազեցումները նշված են փակագծերում)
A69: Միջոցառման դասիչը` | B69: 12001 | C69: Տարի
A70: Միջոցառման անվանումը` | B70: Վերակառուցման և զարգացման եվրոպական բանկի աջակցությամբ իրականացվող «Երևանի կոշտ թափոնների կառավարման» դրամաշնորհային ծրագիր
A71: Նկարագրությունը` | B71: Կոշտ թափոնների կառավարման համակարգի բարելավում և նոր աղբավայրի ստեղծում
A72: Միջոցառման տեսակը` | B72: Տրանսֆերտների տրամադրում
A73: Միջոցառումն իրականացնողի անվանումը՛ | B73: Մասնագիտացված միավոր
A74: Արդյունքի չափորոշիչներ
A75: Միջոցառման վրա կատարվող ծախսը (հազար դրամ) | C75: ='10.'!E18 -> -1365
A77: Ծրագրի դասիչը` | B77: 1040 | C77: Ցուցանիշների փոփոխությունը (նվազեցումները նշված են փակագծերում)
A78: Միջոցառման դասիչը` | B78: 12002 | C78: Տարի
A79: Միջոցառման անվանումը` | B79: ='10.'!D26 -> Վերակառուցման և զարգացման եվրոպական բանկի աջակցությամբ իրականացվող «Կոտայքի և Գեղարքունիքի մարզի կոշտ թափոնների կառավարման խորհրդատվության համար» դրամաշնորհային ծրագիր
A80: Նկարագրությունը` | B80: Կոշտ թափոնների կառավարման համակարգի բարելավում և նոր աղբավայրի ստեղծում
A81: Միջոցառման տեսակը` | B81: Տրանսֆերտների տրամադրում
A82: Միջոցառումն իրականացնողի անվանումը՛ | B82: ՀՀ տարածքային կառավարման և ենթակառուցվածքների նախարարություն
A83: Արդյունքի չափորոշիչներ
A84: Միջոցառման վրա կատարվող ծախսը (հազար դրամ) | C84: ='10.'!E26 -> -90423
A86: Ծրագրի դասիչը` | B86: 1040 | C86: Ցուցանիշների փոփոխությունը (նվազեցումները նշված են փակագծերում)
A87: Միջոցառման դասիչը` | B87: 32004 | C87: Տարի
A88: Միջոցառման անվանումը` | B88: ='10.'!D34 -> Վերակառուցման և զարգացման եվրոպական բանկի աջակցությամբ իրականացվող «Կոտայքի և Գեղարքունիքի մարզի կոշտ թափոնների կառավարման» դրամաշնորհային ծրագիր
A89: Նկարագրությունը` | B89: Կոշտ թափոնների կառավարման համակարգի բարելավում և նոր աղբավայրի ստեղծում
A90: Միջոցառման տեսակը` | B90: Այլ պետական կազմակերպությունների կողմից օգտագործվող ոչ ֆինանսական ակտիվների հետ գործառնություններ
A91: Միջոցառումն իրականացնողի անվանումը` | B91: ՀՀ տարածքային կառավարման և ենթակառուցվածքների նախարարություն
A92: Արդյունքի չափորոշիչներ
A93: Միջոցառման վրա կատարվող ծախսը (հազար դրամ) | C93: ='10.'!E34 -> -822515
A95: Ծրագրի դասիչը | B95: Ծրագրի անվանումը
A96: 1072 | B96: Ջրամատակարարման և ջրահեռացման բարելավում
A98: Ծրագրի միջոցառումները
A100: Ծրագրի դասիչը` | B100: 1072 | C100: Ցուցանիշների փոփոխությունը (նվազեցումները նշված են փակագծերում)
A101: Միջոցառման դասիչը` | B101: 31002 | C101: Տարի
A102: Միջոցառման անվանումը` | B102: Եվրոպական ներդրումային բանկի աջակցությամբ իրականացվող ջրամատակարարման և ջրահեռացման ենթակառուցվածքների վերականգնման ծրագրի երրորդ փուլի շրջանակներում ջրամատակարարման և ջրահեռացման ենթակառուցվածքների հիմնանորոգում
A103: Նկարագրությունը` | B103: 6 քաղաքների և 37 գյուղական բնակավայրերի ջրամատակարարման և ջրահեռացման համակարգերի հատվածների հրատապ (մասնակի) վերականգնման աշխատանքներ
A104: Միջոցառման տեսակը` | B104: Պետական մարմինների կողմից օգտագործվող ոչ ֆինանսական ակտիվների հետ գործառնություններ
A105: Ակտիվն օգտագործող կազմակերպության(ների) անվանում(ները)՛ | B105: Մասնագիտացված միավոր
A106: Արդյունքի չափորոշիչներ
A107: Միջոցառման վրա կատարվող ծախսը (հազար դրամ) | C107: ='9.'!E69 -> -61593.7
A109: Ծրագրի դասիչը` | B109: 1072 | C109: Ցուցանիշների փոփոխությունը (նվազեցումները նշված են փակագծերում)
A110: Միջոցառման դասիչը` | B110: 31005 | C110: Տարի
A111: Միջոցառման անվանումը` | B111: Գերմանիայի զարգացման վարկերի բանկի աջակցությամբ իրականացվող ՀՀ Լոռու (Վանաձորի) մարզի ջրամատակարարման և ջրահեռացման համակարգերի վերականգնման ծրագիր՝ երկրորդ փուլ
A112: Նկարագրությունը` | B112: Վանաձորի ջրամատակարարման և ջրահեռացման համակարգերի մասնակի վերականգնում
A113: Միջոցառման տեսակը` | B113: Պետական մարմինների կողմից օգտագործվող ոչ ֆինանսական ակտիվների հետ գործառնություններ
A114: Ակտիվն օգտագործող կազմակերպության(ների) անվանում(ները)՛ | B114: Մասնագիտացված միավոր
A115: Արդյունքի չափորոշիչներ
A116: Միջոցառման վրա կատարվող ծախսը (հազար դրամ) | C116: ='9.'!E80 -> -1960
A119: Ծրագրի դասիչը` | B119: 1072 | C119: Ցուցանիշների փոփոխությունը (նվազեցումները նշված են փակագծերում)
A120: Միջոցառման դասիչը` | B120: 12001 | C120: Տարի
...

Sheet 13
C1: Հավելված N 13
A2: ՀՀ կառավարության 2022 թվականի
A3: ______________ ի ___Ն որոշման
A4: ՀԱՅԱՍՏԱՆԻ ՀԱՆՐԱՊԵՏՈՒԹՅԱՆ ԿԱՌԱՎԱՐՈՒԹՅԱՆ 2021 ԹՎԱԿԱՆԻ ԴԵԿՏԵՄԲԵՐԻ 23-Ի N 2121-Ն ՈՐՈՇՄԱՆ N 9.1 ՀԱՎԵԼՎԱԾԻ NN 9.1.8, 9.1.26 և 9.1.59 ԱՂՅՈՒՍԱԿՆԵՐՈՒՄ ԿԱՏԱՐՎՈՂ ՓՈՓՈԽՈՒԹՅՈՒՆՆԵՐԸ ԵՎ ԼՐԱՑՈՒՄՆԵՐԸ
C5: Աղյուսակ 9.1.8
A6: ՀՀ ՏԱՐԱԾՔԱՅԻՆ ԿԱՌԱՎԱՐՄԱՆ ԵՎ ԵՆԹԱԿԱՌՈՒՑՎԱԾՔՆԵՐԻ ՆԱԽԱՐԱՐՈՒԹՅՈՒՆ
A7: ՄԱՍ 1. ՊԵՏԱԿԱՆ ՄԱՐՄՆԻ ԳԾՈՎ ԱՐԴՅՈՒՆՔԱՅԻՆ (ԿԱՏԱՐՈՂԱԿԱՆ) ՑՈՒՑԱՆԻՇՆԵՐԸ
A10: Ծրագրի դասիչը | B10: Ծրագրի անվանումը
A11: 1019 | B11: Սոցիալական ներդրումների և տեղական զարգացման ծրագիր
A13: Ծրագրի դասիչը` | B13: 1019 | C13: Ցուցանիշների փոփոխությունը (նվազեցումները նշված են փակագծերում)
A14: Միջոցառման դասիչը` | B14: 12001 | C14: Տարի
A15: Միջոցառման անվանումը` | B15: Համաշխարհային բանկի աջակցությամբ իրականացվող Տարածքային զարգացման հիմնադրամի ծրագրի շրջանակներում ՀՀ տարածքներում ջրագծերի, առողջապահության, կրթության, մշակույթի, հատուկ խնամքի և ենթակառուցվածքների ոլորտի վերականգնման և շինարարության աշխատանքներ
A16: Նկարագրությունը` | B16: Տարածքային զարգացման հիմնադրամի ծրագրով նախատեսված ՀՀ տարածքներում ջրագծերի, առողջապահության, կրթության օբյեկտների, մշակույթային տների, ծերանոցների, մանկատների, հատուկ դպրոցների, մանկապարտեզների և կոյուղու օբյեկտների հիմնանորոգում և շինարարություն
A17: Միջոցառման տեսակը` | B17: Տրանսֆերտների տրամադրում
A18: Շահառուների ընտրության չափանիշները` | B18: Համաձայն ՏԶՀ Ղեկավար ձեռնարկի, որը ֆինանսավորման համաձայնագրի մաս է կազմում
A19: Արդյունքի չափորոշիչներ
A20: Միջոցառման վրա կատարված ծախսը (հազար դրամ) | C20: ='9.'!E45 -> -26900
A22: Ծրագրի դասիչը` | B22: 1019 | C22: Ցուցանիշների փոփոխությունը (նվազեցումները նշված են փակագծերում)
A23: Միջոցառման դասիչը` | B23: 12004 | C23: Տարի
A24: Միջոցառման անվանումը` | B24: Համաշխարհային բանկի աջակցությամբ իրականացվող Սոցիալական ներդրումների և տեղական զարգացման ծրագրի լրացուցիչ ֆինանսավորման վարկի շրջանակներում ՀՀ համայնքային և միջհամայնքային ենթակառուցվածքների որակի, օգտագործման և հասանելիության բարելավում
A25: Նկարագրությունը` | B25: Ջրագծերի, առողջապահության, կրթության օբյեկտների, մշակույթային տների, ծերանոցների, մանկատների, հատուկ դպրոցների, մանկապարտզների և կոյուղու օբյեկտնրի հիմն. և շինարարություն., գույքի և սարքավորումների տրամադրում շահառու ենթածրագրերի համար
A26: Միջոցառման տեսակը` | B26: Տրանսֆերտների տրամադրում
A27: Շահառուների ընտրության չափանիշները` | B27: Համաձայն ՏԶՀ Ղեկավար ձեռնարկի, որը ֆինանսավորման համաձայնագրի մաս է կազմում
A28: Արդյունքի չափորոշիչներ
A29: Միջոցառման վրա կատարված ծախսը (հազար դրամ) | C29: ='9.'!E56 -> -34520
A31: Ծրագրի դասիչը | B31: Ծրագրի անվանումը
A32: 1040 | B32: Կոշտ թափոնների կառավարում
A34: Ծրագրի միջոցառումները
A36: Ծրագրի դասիչը` | B36: 1040 | C36: Ցուցանիշների փոփոխությունը (նվազեցումները նշված են փակագծերում)
A37: Միջոցառման դասիչը` | B37: 12001 | C37: Տարի
A38: Միջոցառման անվանումը` | B38: Վերակառուցման և զարգացման եվրոպական բանկի աջակցությամբ իրականացվող «Երևանի կոշտ թափոնների կառավարման» դրամաշնորհային ծրագիր
A39: Նկարագրությունը` | B39: Կոշտ թափոնների կառավարման համակարգի բարելավում և նոր աղբավայրի ստեղծում
A40: Միջոցառման տեսակը` | B40: Տրանսֆերտների տրամադրում
A41: Միջոցառումն իրականացնողի անվանումը՛ | B41: Մասնագիտացված միավոր
A42: Արդյունքի չափորոշիչներ
A43: Միջոցառման վրա կատարվող ծախսը (հազար դրամ) | C43: ='10.'!E18 -> -1365
A45: Ծրագրի դասիչը` | B45: 1040 | C45: Ցուցանիշների փոփոխությունը (նվազեցումները նշված են փակագծերում)
A46: Միջոցառման դասիչը` | B46: 12002 | C46: Տարի
A47: Միջոցառման անվանումը` | B47: ='10.'!D26 -> Վերակառուցման և զարգացման եվրոպական բանկի աջակցությամբ իրականացվող «Կոտայքի և Գեղարքունիքի մարզի կոշտ թափոնների կառավարման խորհրդատվության համար» դրամաշնորհային ծրագիր
A48: Նկարագրությունը` | B48: Կոշտ թափոնների կառավարման համակարգի բարելավում և նոր աղբավայրի ստեղծում
A49: Միջոցառման տեսակը` | B49: Տրանսֆերտների տրամադրում
A50: Միջոցառումն իրականացնողի անվանումը՛ | B50: ՀՀ տարածքային կառավարման և ենթակառուցվածքների նախարարություն
A51: Արդյունքի չափորոշիչներ
A52: Միջոցառման վրա կատարվող ծախսը (հազար դրամ) | C52: ='10.'!E26 -> -90423
A54: Ծրագրի դասիչը` | B54: 1040 | C54: Ցուցանիշների փոփոխությունը (նվազեցումները նշված են փակագծերում)
A55: Միջոցառման դասիչը` | B55: 32004 | C55: Տարի
A56: Միջոցառման անվանումը` | B56: ='10.'!D34 -> Վերակառուցման և զարգացման եվրոպական բանկի աջակցությամբ իրականացվող «Կոտայքի և Գեղարքունիքի մարզի կոշտ թափոնների կառավարման» դրամաշնորհային ծրագիր
A57: Նկարագրությունը` | B57: Կոշտ թափոնների կառավարման համակարգի բարելավում և նոր աղբավայրի ստեղծում
A58: Միջոցառման տեսակը` | B58: Այլ պետական կազմակերպությունների կողմից օգտագործվող ոչ ֆինանսական ակտիվների հետ գործառնություններ
A59: Միջոցառումն իրականացնողի անվանումը՛ | B59: ՀՀ տարածքային կառավարման և ենթակառուցվածքների նախարարություն
A60: Արդյունքի չափորոշիչներ
A61: Միջոցառման վրա կատարվող ծախսը (հազար դրամ) | C61: ='10.'!E34 -> -822515
A63: Ծրագրի դասիչը | B63: Ծրագրի անվանումը
A64: 1157 | B64: Քաղաքային զարգացում
A66: Ծրագրի միջոցառումները
A68: Ծրագրի դասիչը` | B68: 1157 | C68: Ցուցանիշների փոփոխությունը (նվազեցումները նշված են փակագծերում)
A69: Միջոցառման դասիչը` | B69: 12003 | C69: Տարի
A70: Միջոցառման անվանումը` | B70: Արևելյան եվրոպայի էներգախնայողության և բնապահպանական գործընկերության ֆոնդի աջակցությամբ իրականացվող Երևանի քաղաքային լուսավորության դրամաշնորհային ծրագրի կատարման ապահովում
A71: Նկարագրությունը` | B71: ՀՀ համայնքներին քաղաքային լուսավորության ենթակառուցվածքի բարելավման համար տրամադրվող աջակցություն և ծառայություն
A72: Միջոցառման տեսակը` | B72: Տրանսֆերտների տրամադրում
A73: Շահառուների ընտրության չափանիշները | B73: ՀՀ բնակչություն
A74: Արդյունքի չափորոշիչներ
A75: Միջոցառման վրա կատարվող ծախսը (հազար դրամ) | C75: ='10.'!E56 -> -90577
A77: Ծրագրի դասիչը` | B77: 1157 | C77: Ցուցանիշների փոփոխությունը (նվազեցումները նշված են փակագծերում)
A78: Միջոցառման դասիչը` | B78: 12004 | C78: Տարի
A79: Միջոցառման անվանումը` | B79: ='10.'!D65 -> Վերակառուցման և զարգացման եվրոպական բանկի աջակցությամբ իրականացվող Երևանի քաղաքային լուսավորության դրամաշնորհային ծրագրի կատարման ապահովում
A80: Նկարագրությունը` | B80: ='12'!B145 -> ՀՀ համայնքներին քաղաքային լուսավորության ենթակառուցվածքի բարելավման համար տրամադրվող աջակցություն և ծառայություն
A81: Միջոցառման տեսակը` | B81: Տրանսֆերտների տրամադրում
A82: Շահառուների ընտրության չափանիշները | B82: ՀՀ բնակչություն
A83: Արդյունքի չափորոշիչներ
A84: Միջոցառման վրա կատարվող ծախսը (հազար դրամ) | C84: ='10.'!E65 -> -4832
A86: Ծրագրի դասիչը` | B86: 1157 | C86: Ցուցանիշների փոփոխությունը (նվազեցումները նշված են փակագծերում)
A87: Միջոցառման դասիչը` | B87: 12014 | C87: Տարի
A88: Միջոցառման անվանումը` | B88: Եվրոպական միության հարևանության ներդրումային բանկի աջակցությամբ իրականացվող Երևանի մետրոպոլիտենի վերակառուցման երկրորդ դրամաշնորհային ծրագիր
A89: Նկարագրությունը` | B89: Երևանի մետրոպոլիտենի վերակառուցում
A90: Միջոցառման տեսակը` | B90: Տրանսֆերտների տրամադրում
A91: Միջոցառումն իրականացնողի անվանումը | B91: Երևանի մետրոպոլիտեն
A92: Արդյունքի չափորոշիչներ
A93: Միջոցառման վրա կատարվող ծախսը (հազար դրամ) | C93: ='10.'!E73 -> -218216
A95: Ծրագրի դասիչը` | B95: 1157 | C95: Ցուցանիշների փոփոխությունը (նվազեցումները նշված են փակագծերում)
A96: Միջոցառման դասիչը` | B96: 12017 | C96: Տարի
A97: Միջոցառման անվանումը` | B97: Վերակառուցման և զարգացման եվրոպական բանկի աջակցությամբ իրականացվող Գյումրու քաղաքային ճանապարհների ծրագիր
A98: Նկարագրությունը` | B98: Գյումրու ընտրված փողոցների (ներառյալ հետիոտնային անցումների ցանցը և ջրահեռացման համակարգը) վերակառուցում
A99: Միջոցառման տեսակը` | B99: Տրանսֆերտների տրամադրում
A100: Շահառուների ընտրության չափանիշները | B100: Ընտրությունը կատարվել է իրագործելիության ուսումնասիրությունների հիման վրա
A101: Արդյունքի չափորոշիչներ
A102: Միջոցառման վրա կատարվող ծախսը (հազար դրամ) | C102: ='9.'!E91 -> -130800
A104: Ծրագրի դասիչը` | B104: 1157 | C104: Ցուցանիշների փոփոխությունը (նվազեցումները նշված են փակագծերում)
A105: Միջոցառման դասիչը` | B105: 12018 | C105: Տարի
A106: Միջոցառման անվանումը` | B106: Վերակառուցման և զարգացման եվրոպական բանկի աջակցությամբ իրականացվող Գյումրու քաղաքային ճանապարհների դրամաշնորհային ծրագիր (Տրանշ Ա, Բ, Գ)
A107: Նկարագրությունը` | B107: Գյումրու փողոցային լուսավորության արդիականացում՛ փողոցային լուսավորության այլ ավտոմատ կառավարման համակարգի տեղադրում
A108: Միջոցառման տեսակը` | B108: Տրանսֆերտների տրամադրում
A109: Շահառուների ընտրության չափանիշները | B109: Ընտրությունը կատարվել է իրագործելիության ուսումնասիրությունների հիման վրա
A110: Արդյունքի չափորոշիչներ
A111: Միջոցառման վրա կատարվող ծախսը (հազար դրամ) | C111: =+'10.'!E82 -> -81700
A113: Ծրագրի դասիչը` | B113: 1157 | C113: Ցուցանիշների փոփոխությունը (նվազեցումները նշված են փակագծերում)
A114: Միջոցառման դասիչը` | B114: 12021 | C114: Տարի
A115: Միջոցառման անվանումը` | B115: Ասիական զարգացման բանկի աջակցությամբ իրականացվող քաղաքային ենթակառուցվածքների և քաղաքի կայուն զարգացման ներդրումային երկրորդ ծրագրի շրջանակներում ճանապարհային շինարարություն
A116: Նկարագրությունը` | B116: ՀՀ համայնքներին տրանսպորտի և երթևեկության բարելավման համար տրամադրվող աջակցություն
A117: Միջոցառման տեսակը` | B117: Տրանսֆերտների տրամադրում
...
