Workbook
Name AgencyCode: #REF!
Name AgencyCode: #REF!
Name AgencyCode: #REF!
Name AgencyCode: #REF!
Name AgencyCode: #REF!
Name AgencyCode: #REF!
Name AgencyCode: #REF!
Name AgencyCode: #REF!
Name AgencyName: #REF!
Name AgencyName: #REF!
Name AgencyName: #REF!
Name AgencyName: #REF!
Name AgencyName: #REF!
Name åû: #REF!
Name åû: #REF!
Name åû: #REF!
Name davit: #REF!
Name davit: #REF!
Name davit: #REF!
Name Functional1: #REF!
Name Functional1: #REF!
Name Functional1: #REF!
Name Functional1: #REF!
Name Functional1: #REF!
Name ggg: #REF!
Name ggg: #REF!
Name ggg: #REF!
Name mas: #REF!
Name mas: #REF!
Name mas: #REF!
Name mass: #REF!
Name mass: #REF!
Name mass: #REF!
Name PANature: #REF!
Name PANature: #REF!
Name PANature: #REF!
Name PANature: #REF!
Name PANature: #REF!
Name PAType: #REF!
Name PAType: #REF!
Name PAType: #REF!
Name PAType: #REF!
Name PAType: #REF!
Name Performance2: #REF!
Name Performance2: #REF!
Name Performance2: #REF!
Name Performance2: #REF!
Name Performance2: #REF!
Name PerformanceType: #REF!
Name PerformanceType: #REF!
Name PerformanceType: #REF!
Name PerformanceType: #REF!
Name PerformanceType: #REF!
Name x: #REF!
Name x: #REF!
Name x: #REF!
Name x: #REF!
Name Հավելված: #REF!
Name Հավելված: #REF!
Name Հավելված: #REF!

Sheet 1.
B1: Հավելված N 1
B2: ՀՀ կառավարության 2022 թվականի
B3: ______________ ի ___Ն որոշման
A5: «ՀԱՅԱՍՏԱՆԻ ՀԱՆՐԱՊԵՏՈՒԹՅԱՆ 2022 ԹՎԱԿԱՆԻ ՊԵՏԱԿԱՆ ԲՅՈՒՋԵԻ ՄԱՍԻՆ» ՕՐԵՆՔԻ N 2 ՀՈԴՎԱԾԻ ԱՂՅՈՒՍԱԿՈՒՄ ԿԱՏԱՐՎՈՂ ՓՈՓՈԽՈՒԹՅՈՒՆՆԵՐԸ
B7: հազար դրամներով
B8: Ցուցանիշների փոփոխությունը (նվազեցումները նշված են փակագծերում)
A9: 1. Եկամուտների գծով | B9: =+'2.'!B12 -> -1143997.1
A10: 2. Ծախսերի գծով | B10: =+'7.'!E9 -> -1798997.1
A11: 3. Դեֆիցիտը (պակասուրդը) | B11: =-B9+B10 -> -655000

Sheet 2.
B1: Հավելված N 2
B2: ՀՀ կառավարության 2022 թվականի
B3: ______________ ի ___Ն որոշման
A5: «ՀԱՅԱՍՏԱՆԻ ՀԱՆՐԱՊԵՏՈՒԹՅԱՆ 2022 ԹՎԱԿԱՆԻ ՊԵՏԱԿԱՆ ԲՅՈՒՋԵԻ ՄԱՍԻՆ» ՕՐԵՆՔԻ N 6 ՀՈԴՎԱԾԻ ԱՂՅՈՒՍԱԿՈՒՄ ԵՎ ՀԱՅԱՍՏԱՆԻ ՀԱՆՐԱՊԵՏՈՒԹՅԱՆ ԿԱՌԱՎԱՐՈՒԹՅԱՆ 2021 ԹՎԱԿԱՆԻ ԴԵԿՏԵՄԲԵՐԻ 23-Ի N 2121-Ն ՈՐՈՇՄԱՆ N 2 ՀԱՎԵԼՎԱԾՈՒՄ ԿԱՏԱՐՎՈՂ ՓՈՓՈԽՈՒԹՅՈՒՆՆԵՐԸ
B9: հազար դրամներով
A10: Եկամտատեսակ | B10: Ցուցանիշների փոփոխությունը (նվազեցումները նշված են փակագծերում)
B11: Տարի
A12: ՊԵՏԱԿԱՆ ԲՅՈՒՋԵԻ ԵԿԱՄՈՒՏՆԵՐ | B12: =+B14 -> -1143997.1
A13: այդ թվում`
A14: Պաշտոնական դրամաշնորհներ | B14: =+'10.'!F11 -> -1143997.1

Sheet 3.
B1: Հավելված N 3
B2: ՀՀ կառավարության 2022 թվականի
B3: ______________ ի ___Ն որոշման
A5: ՀԱՅԱՍՏԱՆԻ ՀԱՆՐԱՊԵՏՈՒԹՅԱՆ ԿԱՌԱՎԱՐՈՒԹՅԱՆ 2021 ԹՎԱԿԱՆԻ ԴԵԿՏԵՄԲԵՐԻ 23-Ի N 2121-Ն ՈՐՈՇՄԱՆ N 1 ՀԱՎԵԼՎԱԾԻ N 1 ԱՂՅՈՒՍԱԿՈՒՄ ԿԱՏԱՐՎՈՂ ՓՈՓՈԽՈՒԹՅՈՒՆՆԵՐԸ
B7: հազ. դրամ
A8: Պետական բյուջեի դեֆիցիտի ֆինանսավորման աղբյուրներն ու դրանց տարրերի անվանումները | B8: Ցուցանիշների փոփոխությունը (ավելացումները նշված են դրական նշանով, իսկ նվազեցումները` փակագծերում)
B9: Տարի
A10: ԸՆԴԱՄԵՆԸ | B10: =+B12+B20 -> -655000
A11: այդ թվում՝
A12: Ա.Ներքին աղբյուրներ-ընդամենը | B12: =+B14 -> 1856070.5
A13: այդ թվում՝
A14: 2. Ֆինանսական զուտ ակտիվներ | B14: =+B16+B17 -> 1856070.5
A15: այդ թվում՝
A16: 2.3. Ելքերի ֆինանսավորմանն ուղղվող միջոցներ | B16: =+'5.'!F11 -> -276467
A17: 2.4. Վարկերի և փոխատվությունների տրամադրում | B17: =+B18+B19 -> 2132537.5
A18: - Արտաքին աղբյուրների աջակցությամբ իրականացվող նպատակային ծրագրերի շրջանակներում ենթավարկերի տրամադրում այդ ծրագրերում ներգրաված տնտեսվարող սուբյեկտներին | B18: =-'5.'!D11 -> 2132537.5
A19: - Բյուջետային վարկերի տրամադրում տնտեսվարող սուբյեկտներին | B19: 0
A20: Բ. Արտաքին աղբյուրներ - ընդամենը | B20: =+B22 -> -2511070.5
A21: այդ թվում
A22: 1. Փոխառու զուտ միջոցներ | B22: =+B24 -> -2511070.5
A23: այդ թվում՝
A24: 1.1. Վարկերի և փոխատվությունների ստացում | B24: =+B26 -> -2511070.5
A25: որից`
A26: նպատակային վարկերի գծով | B26: =+'9.'!F11+'5.'!E11 -> -2511070.5

Sheet 4.
E1: Հավելված N 4
E2: ՀՀ կառավարության 2022 թվականի
E3: ______________ ի ___Ն որոշման
B5: ՀԱՅԱՍՏԱՆԻ ՀԱՆՐԱՊԵՏՈՒԹՅԱՆ ԿԱՌԱՎԱՐՈՒԹՅԱՆ 2021 ԹՎԱԿԱՆԻ ԴԵԿՏԵՄԲԵՐԻ 23-Ի N 2121-Ն ՈՐՈՇՄԱՆ N 1 ՀԱՎԵԼՎԱԾԻ N 2 ԱՂՅՈՒՍԱԿՈՒՄ ԿԱՏԱՐՎՈՂ ՓՈՓՈԽՈՒԹՅՈՒՆՆԵՐԸ
E6: հազ. դրամ
B7: Ծրագրային դասիչ | D7: Բյուջետային գլխավոր կարգադրիչների, ծրագրերի և միջոցառումների անվանումները | E7: Ցուցանիշների փոփոխությունը (ավելացումները նշված են դրական նշանով, իսկ նվազեցումները` փակագծերում)
B8: Ծրագիր | C8: Միջոցառում | E8: Տարի
D9: ԸՆԴԱՄԵՆԸ այդ թվում | E9: =+E10 -> -2132537.5
D10: ՀՀ տարածքային կառավարման և ենթակառուցվածքների նախարարություն | E10: =+E11+E19+E31 -> -2132537.5
B11: 1040 | D11: Ծրագրի անվանումը՝ Կոշտ թափոնների կառավարում | E11: =E15 -> -1078772
D12: Ծրագրի նպատակը՝ Կենցաղային թափոնների արդյունավետ կառավարում սոցիալական և բնապահպանական խնդիրների լուծում
D13: Վերջնական արդյունքի նկարագրությունը՝ Կենցաղային թափոնների արդյունավետ կառավարում
B14: Ֆինանսական ակտիվների կառավարման միջոցառումներ
C15: 42001 | D15: Միջոցառման անվանումը՝ Վերակառուցման և զարգացման եվրոպական բանկի աջակցությամբ իրականացվող Կոտայքի և Գեղարքունիքի մարզերի կոշտ թափոնների կառավարման ծրագրի շրջանակներում ենթավարկի տրամադրում «Կոտայքի և Գեղարքունիքի Կոշտ կենցաղային թափոնների կառավարում» ՍՊԸ-ին | E15: ='5.'!D16 -> -1078772
D16: Միջոցառման նկարագրությունը՝ Կոշտ թափոնների կառավարման համակարգի բարելավում և նոր աղբավայրի ստեղծում
D17: Միջոցառման տեսակը՝
D18: Վարկերի տրամադրում
B19: 1157 | D19: Ծրագրի անվանումը՝ Քաղաքային զարգացում | E19: =+E27+E23 -> -955235.5
D20: Ծրագրի նպատակը՝ Քաղաքային ենթակառուցվածքների զարգացում
D21: Վերջնական արդյունքի նկարագրությունը՝ Քաղաքային ենթակառուցվածքների արդիականացում և բարելավում
B22: Ֆինանսական ակտիվների կառավարման միջոցառումներ
C23: 42001 | D23: Միջոցառման անվանումը՝ Վերակառուցման և զարգացման եվրոպական բանկի աջակցությամբ իրականացվող Երևանի քաղաքային լուսավորության ծրագրի շրջանակներում ենթավարկի տրամադրում «Երքաղլույս» ՓԲԸ-ին | E23: ='5.'!D25 -> -187222.5
D24: Միջոցառման նկարագրությունը՝ ՀՀ համայնքներին քաղաքային լուսավորության ենթակառուցվածքի բարելավման համար տրամադրվող աջակցություն և ծառայություն
D25: Միջոցառման տեսակը՝
D26: Վարկերի տրամադրում
C27: 42003 | D27: Միջոցառման անվանումը՝ Եվրոպական ներդրումային բանկի աջակցությամբ իրականացվող Երևանի մետրոպոլիտենի վերակառուցման երկրորդ ծրագրի շրջանակներում ենթավարկի տրամադրում «Երևանի մետրոպոլիտեն» ՓԲԸ-ին | E27: ='5.'!D35 -> -768013
D28: Միջոցառման նկարագրությունը՝ Երևանի մետրոպոլիտենի վերակառուցում
D29: Միջոցառման տեսակը՝
D30: Վարկերի տրամադրում
B31: 1167 | D31: Ծրագրի անվանումը՝ Էլեկտրաէներգետիկ համակարգի զարգացման ծրագիր | E31: =+E35+E39 -> -98530
D32: Ծրագրի նպատակը՝ Նպաստել էլեկտրաէներգետիկ համակարգի հուսալիության բարձրացմանը և էլեկտրաէներգիայի անխափան մատակարարման ապահովմանը
D33: Վերջնական արդյունքի նկարագրությունը՝ Հուսալի և անվտանգ էլեկտրամատակարարման ապահովում
B34: Ֆինանսական ակտիվների կառավարման միջոցառումներ
C35: 42003 | D35: Միջոցառման անվանումը՝ Վերակառուցման և զարգացման միջազգային բանկի աջակցությամբ իրականացվող էլեկտրամատակարարման հուսալիության ծրագրի լրացուցիչ ֆինանսավորման ծրագրի շրջանակներում ենթավարկի տրամադրում «Բարձրավոլտ էլեկտրացանցեր» ՓԲԸ-ին | E35: ='5.'!D42 -> 35000
D36: Միջոցառման նկարագրությունը՝ Էլեկտրամատակարարման հուսալիության ծրագրի լրացուցիչ ֆինանսավորման ծրագրի շրջանակներում «Հաղթանակ» 220կՎ, «Չարենցավան-3», «Վանաձոր-1» 110կՎ, «Զովունի» 220կՎ ենթակայանների ֆիզիկապես և բարոյապես մաշված սարքավորումների փոխարինում
D37: Միջոցառման տեսակը՝
D38: Վարկերի տրամադրում
C39: 42005 | D39: Միջոցառման անվանումը՝ Վերակառուցման և զարգացման միջազգային բանկի աջակցությամբ իրականացվող «Աշնակ» և «Արարատ» ենթակայանների վերակառուցման ծրագրի շրջանակներում ենթավարկի տրամադրում «Բարձրավոլտ էլեկտրացանցեր» ՓԲԸ- ին | E39: ='5.'!D50 -> -133530
D40: Միջոցառման նկարագրությունը՝ Էլեկտրահաղորդման ցանցի բարելավման ծրագրի շրջանակներում 30 և ավելի տարիներ շահագործման մեջ գտնվող 220 կՎ «Աշնակ» և 40 և ավելի տարիներ շահագործման մեջ գտնվող 220 կՎ «Արարատ-2» ենթակայանների վերակառուցում
D41: Միջոցառման տեսակը՝
...

Sheet 5.
F1: Հավելված N 5
F2: ՀՀ կառավարության 2022 թվականի
F3: ______________ ի ___Ն որոշման
A5: ՀԱՅԱՍՏԱՆԻ ՀԱՆՐԱՊԵՏՈՒԹՅԱՆ ԿԱՌԱՎԱՐՈՒԹՅԱՆ 2021 ԹՎԱԿԱՆԻ ԴԵԿՏԵՄԲԵՐԻ 23-Ի N 2121-Ն ՈՐՈՇՄԱՆ N 1 ՀԱՎԵԼՎԱԾԻ N 3 ԱՂՅՈՒՍԱԿՈՒՄ ԿԱՏԱՐՎՈՂ ՓՈՓՈԽՈՒԹՅՈՒՆՆԵՐԸ
F6: հազ. դրամ
A7: Ծրագրային դասիչ | C7: Բյուջետային գլխավոր կարգադրիչների, ծրագրերի և միջոցառումների անվանումները | D7: Ցուցանիշների փոփոխությունը (ավելացումները նշված են դրական նշանով, իսկ նվազեցումները` փակագծերում)
D8: Տարի
D9: Ընդամենը | E9: այդ թվում
A10: Ծրագիր | B10: Միջոցառում | E10: Վարկային միջոցներ | F10: Համաֆինանսավորում
C11: ԸՆԴԱՄԵՆԸ | D11: =E11+F11 -> -2132537.5 | E11: =E13 -> -1856070.5 | F11: =F13 -> -276467
C12: այդ թվում՝
C13: ՀՀ ՏԱՐԱԾՔԱՅԻՆ ԿԱՌԱՎԱՐՄԱՆ ԵՎ ԵՆԹԱԿԱՌՈՒՑՎԱԾՔՆԵՐԻ ՆԱԽԱՐԱՐՈՒԹՅՈՒՆ | D13: =E13+F13 -> -2132537.5 | E13: =E14+E24+E41 -> -1856070.5 | F13: =F14+F24+F41 -> -276467
A14: 1040 | C14: Կոշտ թափոնների կառավարում | D14: =E14+F14 -> -1078772 | E14: =E16 -> -922343 | F14: =F16 -> -156429
C15: այդ թվում`
B16: 42001 | C16: Վերակառուցման և զարգացման եվրոպական բանկի աջակցությամբ իրականացվող Կոտայքի և Գեղարքունիքի մարզերի կոշտ թափոնների կառավարման ծրագրի շրջանակներում ենթավարկի տրամադրում «Կոտայքի և Գեղարքունիքի Կոշտ կենցաղային թափոնների կառավարում» ՍՊԸ-ին | D16: =D18 -> -1078772 | E16: =E18 -> -922343 | F16: =F18 -> -156429
C17: այդ թվում՝ ըստ կատարողների
C18: ՀՀ տարածքային կառավարման և ենթակառուցվածքների նախարարություն | D18: =D20 -> -1078772 | E18: =E20 -> -922343 | F18: =F20 -> -156429
C19: այդ թվում՝ ըստ տնտեսագիտական դասակարգման հոդվածների՝
C20: ՀԻՄՆԱԿԱՆ ԳՈՒՄԱՐԻ ՄԱՐՄԱՆ ԵՎ ՖԻՆԱՆՍԱԿԱՆ ԱԿՏԻՎՆԵՐԻ ՁԵՌՔԲԵՐՄԱՆ ԳԾՈՎ ԾԱԽՍԵՐ, այդ թվում` | D20: =D21 -> -1078772 | E20: =E21 -> -922343 | F20: =F21 -> -156429
C21: ՖԻՆԱՆՍԱԿԱՆ ԱԿՏԻՎՆԵՐԻ ՁԵՌՔԲԵՐՈՒՄ, այդ թվում | D21: =D22 -> -1078772 | E21: =E22 -> -922343 | F21: =F22 -> -156429
C22: ՆԵՐՔԻՆ ՖԻՆԱՆՍԱԿԱՆ ԱԿՏԻՎՆԵՐԻ ՁԵՌՔԲԵՐՈՒՄ, այդ թվում` | D22: =D23 -> -1078772 | E22: =E23 -> -922343 | F22: =F23 -> -156429
C23: Ներքին վարկեր և փոխատվություններ | D23: =E23+F23 -> -1078772 | E23: -922343 | F23: -156429
A24: 1157 | C24: Քաղաքային զարգացում | D24: =E24+F24 -> -955235.5 | E24: =+E33+E25 -> -869927.5 | F24: =F33+F25 -> -85308
B25: 42001 | C25: Վերակառուցման և զարգացման եվրոպական բանկի աջակցությամբ իրականացվող Երևանի քաղաքային լուսավորության ծրագրի շրջանակներում ենթավարկի տրամադրում «Երքաղլույս» ՓԲԸ-ին | D25: =D27 -> -187222.5 | E25: =E27 -> -141059.5 | F25: =F27 -> -46163
C26: այդ թվում՝ ըստ կատարողների
C27: ՀՀ տարածքային կառավարման և ենթակառուցվածքների նախարարություն | D27: =D29 -> -187222.5 | E27: =E29 -> -141059.5 | F27: =F29 -> -46163
C28: այդ թվում՝ ըստ տնտեսագիտական դասակարգման հոդվածների՝
C29: ՀԻՄՆԱԿԱՆ ԳՈՒՄԱՐԻ ՄԱՐՄԱՆ ԵՎ ՖԻՆԱՆՍԱԿԱՆ ԱԿՏԻՎՆԵՐԻ ՁԵՌՔԲԵՐՄԱՆ ԳԾՈՎ ԾԱԽՍԵՐ, այդ թվում` | D29: =D30 -> -187222.5 | E29: =E30 -> -141059.5 | F29: =F30 -> -46163
C30: ՖԻՆԱՆՍԱԿԱՆ ԱԿՏԻՎՆԵՐԻ ՁԵՌՔԲԵՐՈՒՄ, այդ թվում | D30: =D31 -> -187222.5 | E30: =E31 -> -141059.5 | F30: =F31 -> -46163
C31: ՆԵՐՔԻՆ ՖԻՆԱՆՍԱԿԱՆ ԱԿՏԻՎՆԵՐԻ ՁԵՌՔԲԵՐՈՒՄ, այդ թվում` | D31: =D32 -> -187222.5 | E31: =E32 -> -141059.5 | F31: =F32 -> -46163
C32: Ներքին վարկեր և փոխատվություններ | D32: =E32+F32 -> -187222.5 | E32: -141059.5 | F32: -46163
B33: 42003 | C33: Եվրոպական ներդրումային բանկի աջակցությամբ իրականացվող Երևանի մետրոպոլիտենի վերակառուցման երկրորդ ծրագրի շրջանակներում ենթավարկի տրամադրում «Երևանի մետրոպոլիտեն» ՓԲԸ-ին | D33: =D35 -> -768013 | E33: =E35 -> -728868 | F33: =F35 -> -39145
C34: այդ թվում՝ ըստ կատարողների
C35: ՀՀ տարածքային կառավարման և ենթակառուցվածքների նախարարություն | D35: =D37 -> -768013 | E35: =E37 -> -728868 | F35: =F37 -> -39145
C36: այդ թվում՝ ըստ տնտեսագիտական դասակարգման հոդվածների՝
C37: ՀԻՄՆԱԿԱՆ ԳՈՒՄԱՐԻ ՄԱՐՄԱՆ ԵՎ ՖԻՆԱՆՍԱԿԱՆ ԱԿՏԻՎՆԵՐԻ ՁԵՌՔԲԵՐՄԱՆ ԳԾՈՎ ԾԱԽՍԵՐ, այդ թվում` | D37: =D38 -> -768013 | E37: =E38 -> -728868 | F37: =F38 -> -39145
C38: ՖԻՆԱՆՍԱԿԱՆ ԱԿՏԻՎՆԵՐԻ ՁԵՌՔԲԵՐՈՒՄ, այդ թվում | D38: =D39 -> -768013 | E38: =E39 -> -728868 | F38: =F39 -> -39145
C39: ՆԵՐՔԻՆ ՖԻՆԱՆՍԱԿԱՆ ԱԿՏԻՎՆԵՐԻ ՁԵՌՔԲԵՐՈՒՄ, այդ թվում` | D39: =D40 -> -768013 | E39: =E40 -> -728868 | F39: =F40 -> -39145
C40: Ներքին վարկեր և փոխատվություններ | D40: =E40+F40 -> -768013 | E40: -728868 | F40: -39145
A41: 1167 | C41: Էլեկտրաէներգետիկ համակարգի զարգացման ծրագիր | D41: =E41+F41 -> -98530 | E41: =+E42+E50 -> -63800 | F41: =+F42+F50 -> -34730
...

Sheet 6.
C1: Հավելված N 6
C2: ՀՀ կառավարության 2022 թվականի
C3: ______________ ի ___Ն որոշման
A4: ՀԱՅԱՍՏԱՆԻ ՀԱՆՐԱՊԵՏՈՒԹՅԱՆ ԿԱՌԱՎԱՐՈՒԹՅԱՆ 2021 ԹՎԱԿԱՆԻ ԴԵԿՏԵՄԲԵՐԻ 23-Ի N 2121-Ն ՈՐՈՇՄԱՆ N 1 ՀԱՎԵԼՎԱԾԻ N 5 ԱՂՅՈՒՍԱԿՈՒՄ ԿԱՏԱՐՎՈՂ ՓՈՓՈԽՈՒԹՅՈՒՆՆԵՐԸ
A6: Ծրագրի դասիչը | B6: Ծրագրի անվանումը
A7: 1040 | B7: Կոշտ թափոնների կառավարում
A8: Ծրագրի միջոցառումները
A10: Ծրագրի դասիչը՝ | B10: 1040 | C10: Ցուցանիշների փոփոխությունը (նվազեցումները նշված են փակագծերում)
A11: Միջոցառման դասիչը՝ | B11: 42001 | C11: Տարի
A12: Միջոցառման անվանումը՝ | B12: Վերակառուցման և զարգացման եվրոպական բանկի աջակցությամբ իրականացվող «Կոտայքի և Գեղարքունիքի մարզերի կոշտ թափոնների կառավարման» ծրագիր
A13: Նկարագրությունը՝ | B13: Կոշտ թափոննրի կառավարման համակարգի բարելավում և նոր աղբավայրի ստեղծում_x000D_
A14: Միջոցառման տեսակը՝ | B14: Վարկերի տրամադրում
A15: Միջոցառումն իրականացնողի անվանումը՝ | B15: Մասնագիտացված միավոր
B16: Արդյունքի չափորոշիչներ
A17: Միջոցառման վրա կատարվող ծախսը (հազար դրամ) | C17: ='5.'!D16 -> -1078772
A21: Ծրագրի դասիչը | B21: Ծրագրի անվանումը
A22: 1157 | B22: Քաղաքային զարգացում
A23: Ծրագրի միջոցառումները
A25: Ծրագրի դասիչը՝ | B25: 1157 | C25: Ցուցանիշների փոփոխությունը (նվազեցումները նշված են փակագծերում)
A26: Միջոցառման դասիչը՝ | B26: 42001 | C26: Տարի
A27: Միջոցառման անվանումը՝ | B27: Վերակառուցման և զարգացման եվրոպական բանկի աջակցությամբ իրականացվող Երևանի քաղաքային լուսավորության ծրագրի շրջանակներում ենթավարկի տրամադրում «Երքաղլույս» ՓԲԸ-ին
A28: Նկարագրությունը՝ | B28: ՀՀ համայնքներին քաղաքային լուսավորության ենթակառուցվածքի բարելավման համար տրամադրվող աջակցություն և ծառայություն
A29: Միջոցառման տեսակը՝ | B29: Վարկերի տրամադրում
A30: Միջոցառումն իրականացնողի անվանումը՝ | B30: Մասնագիտացված միավոր
B31: Արդյունքի չափորոշիչներ
A32: Միջոցառման վրա կատարվող ծախսը (հազար դրամ) | C32: ='5.'!D25 -> -187222.5
A34: Ծրագրի դասիչը՝ | B34: 1157 | C34: Ցուցանիշների փոփոխությունը (նվազեցումները նշված են փակագծերում)
A35: Միջոցառման դասիչը՝ | B35: 42003 | C35: Տարի
A36: Միջոցառման անվանումը՝ | B36: Եվրոպական ներդրումային բանկի աջակցությամբ իրականացվող Երևանի մետրոպոլիտենի վերակառուցման երկրորդ ծրագիր
A37: Նկարագրությունը՝ | B37: Երևանի մետրոպոլիտենի վերակառուցում
A38: Միջոցառման տեսակը՝ | B38: Վարկերի տրամադրում
A39: Միջոցառումն իրականացնողի անվանումը՝ | B39: Մասնագիտացված միավոր
B40: Արդյունքի չափորոշիչներ
A41: Միջոցառման վրա կատարվող ծախսը (հազար դրամ) | C41: ='5.'!D33 -> -768013
A44: Ծրագրի դասիչը | B44: Ծրագրի անվանումը
A45: 1167 | B45: Էլեկտրաէներգետիկ համակարգի զարգացման ծրագիր
A46: Ծրագրի միջոցառումները
A48: Ծրագրի դասիչը՝ | B48: 1167 | C48: Ցուցանիշների փոփոխությունը (ավելացումները նշված են դրական նշանով)
A49: Միջոցառման դասիչը՝ | B49: 42003 | C49: Տարի
A50: Միջոցառման անվանումը՝ | B50: Վերակառուցման և զարգացման միջազգային բանկի աջակցությամբ իրականացվող էլեկտրամատակարարման հուսալիության ծրագրի լրացուցիչ ֆինանսավորման ծրագրի շրջանակներում ենթավարկի տրամադրում «Բարձրավոլտ էլեկտրացանցեր» ՓԲԸ-ին
...

Sheet 7.
E1: Հավելված N7
E2: ՀՀ կառավարության 2022 թվականի
E3: ______________ ի ___Ն որոշման
B5: «ՀԱՅԱUՏԱՆԻ ՀԱՆՐԱՊԵՏՈՒԹՅԱՆ 2022 ԹՎԱԿԱՆԻ ՊԵՏԱԿԱՆ ԲՅՈՒՋԵԻ ՄԱUԻՆ» OՐԵՆՔԻ N 1 ՀԱՎԵԼՎԱԾԻ N 2 ԱՂՅՈՒՍԱԿՈՒՄ ԿԱՏԱՐՎՈՂ ՎԵՐԱԲԱՇԽՈՒՄԸ ԵՎ ՀԱՅԱՍՏԱՆԻ ՀԱՆՐԱՊԵՏՈՒԹՅԱՆ ԿԱՌԱՎԱՐՈՒԹՅԱՆ 2021 ԹՎԱԿԱՆԻ ԴԵԿՏԵՄԲԵՐԻ 23-Ի N 2121-Ն ՈՐՈՇՄԱՆ N 5 ՀԱՎԵԼՎԱԾԻ N 1 ԱՂՅՈՒՍԱԿՈՒՄ ԿԱՏԱՐՎՈՂ ՓՈՓՈԽՈՒԹՅՈՒՆՆԵՐԸ ԵՎ ԼՐԱՑՈՒՄՆԵՐԸ
E6: հազ. դրամ
B7: Ծրագրային դասիչը | D7: Բյուջետային հատկացումների գլխավոր կարգադրիչների, ծրագրերի և միջոցառումների անվանումները | E7: Ցուցանիշների փոփոխությունը (ավելացումները նշված են դրական նշանով, իսկ նվազեցումները` փակագծերում)
B8: Ծրագիր | C8: Միջոցառում | E8: Տարի
B9: 1192 | D9: ԸՆԴԱՄԵՆԸ | E9: =+E11+E181 -> -1798997.1 | F9: =E9-'8.'!H10 -> 0
D10: այդ թվում
D11: ՀՀ տարածքային կառավարման և ենթակառուցվածքների նախարարություն | E11: =E12+E37+E56+E81+E106+E149+E162 -> -2120672
B12: 1004 | D12: Ծրագրի անվանումը` | E12: =E19+E25+E31 -> -196143
D13: Ոռոգման համակարգի առողջացում
D14: Ծրագրի նպատակը`
D15: Ոռոգման ծառայությունների հասանելիության և մատչելիության ապահովում
D16: Վերջնական արդյունքի նկարագրությունը`
D17: Ոռոգման ջրի մատակարարման արդյունավետության և հասանելիության բարելավում, կորուստների կրճատում
D18: Ծրագրի միջոցառումներ
C19: 11010 | D19: Միջոցառման անվանումը՝ | E19: ='9.'!E17 -> -1463
D20: Գերմանիայի զարգացման վարկերի բանկի աջակցությամբ իրականացվող Ախուրյան գետի ջրային ռեսուրսների ինտեգրացված կառավարում փուլ 1 ծրագրով Ջրաձոր գյուղի վերաբնակեցման գործողությունների խորհրդատվություն և կառավարում
D21: Միջոցառման նկարագրությունը`
D22: Գերմանիայի զարգացման վարկերի բանկի աջակցությամբ իրականացվող Ախուրյան գետի ջրային ռեսուրսների ինտեգրացված կառավարում փուլ 1 ծրագրով Ջրաձոր գյուղի վերաբնակեցման գործողությունների համակարգում և ղեկավարում
D23: Միջոցառման տեսակը՝
D24: Ծառայությունների մատուցում
C25: 31001 | D25: Միջոցառման անվանումը՝ | E25: ='9.'!E25 -> -169680
D26: Ֆրանսիայի Հանրապետության կառավարության աջակցությամբ իրականացվող Վեդու ջրամբարի կառուցում
D27: Միջոցառման նկարագրությունը`
D28: Ֆրանսիայի Հանրապետության կառավարության աջակցությամբ իրականացվող Վեդու ջրամբարի կառուցման ծրագիր
D29: Միջոցառման տեսակը՝
D30: Պետական մարմինների կողմից օգտագործվող ոչ ֆինանսական ակտիվների հետ գործառնություններ
C31: 31005 | D31: Միջոցառման անվանումը՝ | E31: ='9.'!E34 -> -25000
D32: Եվրասիական զարգացման բանկի աջակցությամբ իրականացվող ոռոգման համակարգերի զարգացման ծրագրի շրջանակներում ջրային տնտեսության ենթակառուցվածքների հիմնանորոգում
D33: Միջոցառման նկարագրությունը`
D34: Եվրասիական զարգացման բանկի աջակցությամբ իրականացվող ոռոգման համակարգերի զարգացման ծրագիր
D35: Միջոցառման տեսակը՝
D36: Պետական մարմինների կողմից օգտագործվող ոչ ֆինանսական ակտիվների հետ գործառնություններ
B37: 1019 | D37: Ծրագրի անվանումը` | E37: =+E44+E50 -> -61420
D38: Սոցիալական ներդրումների և տեղական զարգացման ծրագիր
D39: Ծրագրի նպատակը`
D40: Նպաստել տարածքներում բնակչության նյութական և ոչ նյութական բարեկեցության աճին
D41: Վերջնական արդյունքի նկարագրությունը`
...

Sheet 3-1
B1: Հավելված N3
B2: ՀՀ կառավարության 2022 թվականի
B3: ______________ ի ___Ն որոշման
B5: ՀԱՅԱՍՏԱՆԻ ՀԱՆՐԱՊԵՏՈՒԹՅԱՆ ԿԱՌԱՎԱՐՈՒԹՅԱՆ 2021 ԹՎԱԿԱՆԻ ԴԵԿՏԵՄԲԵՐԻ 23-Ի N 2121-Ն ՈՐՈՇՄԱՆ N 3 ԵՎ N 4 ՀԱՎԵԼՎԱԾՆԵՐՈՒՄ ԿԱՏԱՐՎՈՂ ՓՈՓՈԽՈՒԹՅՈՒՆՆԵՐԸ ԵՎ ԼՐԱՑՈՒՄՆԵՐԸ
H7: հազ. դրամ
B8: Գործառական դասիչը | E8: Ծրագրային դասիչը | G8: Բյուջետային ծախսերի գործառական դասակարգման բաժինների, խմբերի և դասերի, բյուջետային հատկացումների գլխավոր կարգադրիչների, ծրագրերի, միջոցառումների և միջոցառումները կատարող պետական մարմինների անվանումները | H8: Ցուցանիշների փոփոխությունը (ավելացումները նշված են դրական նշանով, իսկ նվազեցումները` փակագծերում)
B9: Բաժին | C9: Խումբ | D9: Դաս | E9: Ծրագիր | F9: Միջոցառում | H9: Ինն ամիս | I9: Տարի
G10: ԸՆԴԱՄԵՆԸ ԾԱԽՍԵՐ | H10: =+H12+H13 -> 14976.427 | I10: =+I12+I13 -> -363431.87
G11: այդ թվում`
B12: 04 | C12: 03 | D12: 05 | E12: 1167 | F12: 11006 | G12: Գերմանիայի զարգացման վարկերի բանկի (KFW)) աջակցությամբ իրականացվող «Կովկասյան էլեկտրահաղորդման ցանց I» Հայաստան-Վրաստան հաղորդիչ գիծ/ենթակայանների դրամաշնորհային ծրագիր | H12: 14976.427 | I12: -25089.77
B13: 04 | C13: 03 | D13: 05 | E13: 1167 | F13: 32006 | G13: Գերմանիայի զարգացման վարկերի բանկի (KFW) աջակցությամբ իրականացվող Կովկասյան էլեկտրահաղորդման ցանց I Հայաստան-Վրաստան հաղորդիչ գիծ/ենթակայանների դրամաշնորհային ծրագրի շրջանակներում իրականացվող ներդրումներ | H13: 0 | I13: -338342.1

Sheet 8.
B1: Հավելված N8
B2: ՀՀ կառավարության 2022 թվականի
B3: ______________ ի ___Ն որոշման
B5: ՀԱՅԱՍՏԱՆԻ ՀԱՆՐԱՊԵՏՈՒԹՅԱՆ ԿԱՌԱՎԱՐՈՒԹՅԱՆ 2021 ԹՎԱԿԱՆԻ ԴԵԿՏԵՄԲԵՐԻ 23-Ի N 2121-Ն ՈՐՈՇՄԱՆ N 3 ԵՎ N 4 ՀԱՎԵԼՎԱԾՆԵՐՈՒՄ ԿԱՏԱՐՎՈՂ ՓՈՓՈԽՈՒԹՅՈՒՆՆԵՐԸ ԵՎ ԼՐԱՑՈՒՄՆԵՐԸ
B8: Գործառական դասիչը | E8: Ծրագրային դասիչը | G8: Բյուջետային ծախսերի գործառական դասակարգման բաժինների, խմբերի և դասերի, բյուջետային հատկացումների գլխավոր կարգադրիչների, ծրագրերի, միջոցառումների և միջոցառումները կատարող պետական մարմինների անվանումները | H8: Ցուցանիշների փոփոխությունը (ավելացումները նշված են դրական նշանով, իսկ նվազեցումները` փակագծերում)
B9: Բաժին | C9: Խումբ | D9: Դաս | E9: Ծրագիր | F9: Միջոցառում | H9: Տարի
G10: ԸՆԴԱՄԵՆԸ ԾԱԽՍԵՐ | H10: =+H12+H14 -> -1798997.1
G11: այդ թվում`
G12: ՀՀ ՏԱՐԱԾՔԱՅԻՆ ԿԱՌԱՎԱՐՄԱՆ ԵՎ ԵՆԹԱԿԱՌՈՒՑՎԱԾՔՆԵՐԻ ՆԱԽԱՐԱՐՈՒԹՅՈՒՆ | H12: =+H33+H212+H179+H274 -> -2120672
G13: այդ թվում`
B14: 01 | G14: ԸՆԴՀԱՆՈՒՐ ԲՆՈՒՅԹԻ ՀԱՆՐԱՅԻՆ ԾԱՌԱՅՈՒԹՅՈՒՆՆԵՐ | H14: =H16 -> 321674.9
G15: այդ թվում`
C16: 08 | G16: Կառավարության տարբեր մակարդակների միջև իրականացվող ընդհանուր բնույթի տրանսֆերտներ | H16: =+H18 -> 321674.9
G17: այդ թվում`
D18: 01 | G18: Կառավարության տարբեր մակարդակների միջև իրականացվող ընդհանուր բնույթի տրանսֆերտներ | H18: =+H22 -> 321674.9
G19: այդ թվում`
G20: ՀՀ ՏԱՐԱԾՔԱՅԻՆ ԿԱՌԱՎԱՐՄԱՆ ԵՎ ԵՆԹԱԿԱՌՈՒՑՎԱԾՔՆԵՐԻ ՆԱԽԱՐԱՐՈՒԹՅՈՒՆ | H20: =+H22 -> 321674.9
G21: այդ թվում`
E22: 1212 | G22: Տարածքային զարգացում | H22: =+H24 -> 321674.9
G23: այդ թվում`
F24: 12007 | G24: ՀՀ մարզերին սուբվենցիաների տրամադրում՛ ենթակառուցվածքների զարգացման նպատակով | H24: =H26 -> 321674.9
G25: այդ թվում` ըստ կատարողների
G26: ՀՀ կառավարություն | H26: =+H29 -> 321674.9
G27: այդ թվում` բյուջետային ծախսերի տնտեսագիտական դասակարգման հոդվածներ
G28: ԸՆԴԱՄԵՆԸ ԾԱԽՍԵՐ | H28: =+H29 -> 321674.9
G29: ԸՆԹԱՑԻԿ ԾԱԽՍԵՐ | H29: =+H31 -> 321674.9
G30: ԴՐԱՄԱՇՆՈՐՀՆԵՐ | H30: =+H32 -> 321674.9
G31: Կապիտալ դրամաշնորհներ պետական հատվածի այլ մակարդակներին | H31: =+H32 -> 321674.9
G32: - Կապիտալ սուբվենցիաներ համայնքներին | H32: =-'9.'!G11-'10.'!G11 -> 321674.9
B33: 04 | G33: ՏՆՏԵՍԱԿԱՆ ՀԱՐԱԲԵՐՈՒԹՅՈՒՆՆԵՐ | H33: =+H99+H35+H149+H69 -> -1514999.3
G34: այդ թվում`
C35: 02 | G35: Գյուղատնտեսություն, անտառային տնտեսություն, ձկնորսություն և որսորդություն | H35: =+H37 -> -196143
G36: այդ թվում`
D37: 04 | G37: Ոռոգում | H37: =+H41 -> -196143
G38: այդ թվում`
G39: ՀՀ ՏԱՐԱԾՔԱՅԻՆ ԿԱՌԱՎԱՐՄԱՆ ԵՎ ԵՆԹԱԿԱՌՈՒՑՎԱԾՔՆԵՐԻ ՆԱԽԱՐԱՐՈՒԹՅՈՒՆ | H39: =+H41 -> -196143
G40: այդ թվում`
E41: 1004 | G41: Ոռոգման համակարգի առողջացում | H41: =+H43+H51+H60 -> -196143
G42: այդ թվում`
F43: 11010 | G43: Գերմանիայի զարգացման վարկերի բանկի աջակցությամբ իրականացվող Ախուրյան գետի ջրային ռեսուրսների ինտեգրացված կառավարում փուլ 1 ծրագրով Ջրաձոր գյուղի վերաբնակեցման գործողությունների խորհրդատվություն և կառավարում | H43: =H45 -> -1463
...

Sheet 9.
G1: Հավելված N9
G2: ՀՀ կառավարության 2022 թվականի
G3: ______________ ի ___Ն որոշման
B5: «ՀԱՅԱUՏԱՆԻ ՀԱՆՐԱՊԵՏՈՒԹՅԱՆ 2022 ԹՎԱԿԱՆԻ ՊԵՏԱԿԱՆ ԲՅՈՒՋԵԻ ՄԱUԻՆ» OՐԵՆՔԻ N 1 ՀԱՎԵԼՎԱԾԻ N 4 ԱՂՅՈՒՍԱԿՈՒՄ ԵՎ ՀԱՅԱՍՏԱՆԻ ՀԱՆՐԱՊԵՏՈՒԹՅԱՆ ԿԱՌԱՎԱՐՈՒԹՅԱՆ 2021 ԹՎԱԿԱՆԻ ԴԵԿՏԵՄԲԵՐԻ 23-Ի N 2121-Ն ՈՐՈՇՄԱՆ N 5 ՀԱՎԵԼՎԱԾԻ N 3 ԱՂՅՈՒՍԱԿՈՒՄ ԿԱՏԱՐՎՈՂ ՓՈՓՈԽՈՒԹՅՈՒՆՆԵՐԸ
G6: հազ. դրամ
B7: Ծրագրային դասիչը | D7: Բյուջետային գլխավոր կարգադրիչների, ծրագրերի և միջոցառումների անվանումները | E7: Ցուցանիշների փոփոխությունը (ավելացումները նշված են դրական նշանով, իսկ նվազեցումները` փակագծերում)
E8: Տարի
E9: Ընդամենը | F9: այդ թվում`
B10: Ծրագիր | C10: Միջոց առում | F10: Վարկային միջոցներ | G10: Համաֆինան սավորում
D11: ԸՆԴԱՄԵՆԸ_x000D_ այդ թվում` | E11: =F11+G11 -> -730629.7 | F11: =F12+F13 -> -655000 | G11: =G12+G13 -> -75629.7
D12: - ԸՆԹԱՑԻԿ ԾԱԽՍԵՐ | E12: =F12+G12 -> -1463 | F12: =F22 -> 0 | G12: =G22 -> -1463
D13: - ՈՉ ՖԻՆԱՆՍԱԿԱՆ ԱԿՏԻՎՆԵՐԻ ԳԾՈՎ ԾԱԽՍԵՐ | E13: =F13+G13 -> -729166.7 | F13: =F30+F39+F50+F61+F74+F85+F96+F105+F116 -> -655000 | G13: =G30+G39+G50+G61+G74+G85+G96+G105+G116 -> -74166.7
D14: ՀՀ ՏԱՐԱԾՔԱՅԻՆ ԿԱՌԱՎԱՐՄԱՆ ԵՎ ԵՆԹԱԿԱՌՈՒՑՎԱԾՔՆԵՐԻ ՆԱԽԱՐԱՐՈՒԹՅՈՒՆ_x000D_ այդ թվում` | E14: =F14+G14 -> -730629.7 | F14: =F15+F43+F67+F109+F89 -> -655000 | G14: =G15+G43+G67+G109+G89 -> -75629.7
B15: 1004 | D15: Ոռոգման համակարգի առողջացում | E15: =F15+G15 -> -196143 | F15: =F17+F25+F34 -> -139100 | G15: =G17+G25+G34 -> -57043
D16: այդ թվում`
C17: 11010 | D17: Գերմանիայի զարգացման վարկերի բանկի աջակցությամբ իրականացվող Ախուրյան գետի ջրային ռեսուրսների ինտեգրացված կառավարում փուլ 1 ծրագրով Ջրաձոր գյուղի վերաբնակեցման գործողությունների խորհրդատվություն և կառավարում | E17: =+F17+G17 -> -1463 | F17: =+F21 -> 0 | G17: =+G21 -> -1463
D18: այդ թվում` ըստ կատարողների
D19: ՀՀ տարածքային կառավարման և ենթակառուցվածքների նախարարության ջրային կոմիտե | E19: =F19+G19 -> -1463 | F19: =F17 -> 0 | G19: =G17 -> -1463
D20: այդ թվում` բյուջետային ծախսերի տնտեսագիտական դասակարգման հոդվածներ
D21: ԸՆԴԱՄԵՆԸ ԾԱԽՍԵՐ | E21: =F21+G21 -> -1463 | F21: =+F22 -> 0 | G21: =+G22 -> -1463
D22: ԸՆԹԱՑԻԿ ԾԱԽՍԵՐ | E22: =+F22+G22 -> -1463 | F22: =+F23 -> 0 | G22: =+G23 -> -1463
D23: ԱՅԼ ԾԱԽՍԵՐ | E23: =+F23+G23 -> -1463 | F23: =+F24 -> 0 | G23: =+G24 -> -1463
D24: Հարկեր, պարտադիր վճարներ և տույժեր, որոնք կառավարման տարբեր մակարդակների կողմից կիրառվում են միմյանց նկատմամբ | E24: =+F24+G24 -> -1463 | G24: -1463
C25: 31001 | D25: Ֆրանսիայի Հանրապետության կառավարության աջակցությամբ իրականացվող Վեդու ջրամբարի կառուցում | E25: =+F25+G25 -> -169680 | F25: =+F30 -> -139100 | G25: =+G30 -> -30580
D26: այդ թվում` ըստ կատարողների
D27: ՀՀ տարածքային կառավարման և ենթակառուցվածքների նախարարության ջրային կոմիտե | E27: =F27+G27 -> -169680 | F27: =F25 -> -139100 | G27: =G25 -> -30580
D28: այդ թվում` բյուջետային ծախսերի տնտեսագիտական դասակարգման հոդվածներ
D29: ԸՆԴԱՄԵՆԸ ԾԱԽՍԵՐ | E29: =+F29+G29 -> -169680 | F29: =+F30 -> -139100 | G29: =+G30 -> -30580
D30: ՈՉ ՖԻՆԱՆՍԱԿԱՆ ԱԿՏԻՎՆԵՐԻ ԳԾՈՎ ԾԱԽՍԵՐ | E30: =+F30+G30 -> -169680 | F30: =+F31 -> -139100 | G30: =+G31 -> -30580
D31: ՀԻՄՆԱԿԱՆ ՄԻՋՈՑՆԵՐ | E31: =+E32 -> -169680 | F31: =+F32 -> -139100 | G31: =+G32 -> -30580
D32: ՇԵՆՔԵՐ ԵՎ ՇԻՆՈՒԹՅՈՒՆՆԵՐ | E32: =+F32+G32 -> -169680 | F32: =+F33 -> -139100 | G32: =+G33 -> -30580
D33: - Շենքերի և շինությունների շինարարություն | E33: =+F33+G33 -> -169680 | F33: -139100 | G33: -30580
C34: 31005 | D34: Եվրասիական զարգացման բանկի աջակցությամբ իրականացվող ոռոգման համակարգերի զարգացման ծրագրի շրջանակներում ջրային տնտեսության ենթակառուցվածքների հիմնանորոգում | E34: =+F34+G34 -> -25000 | F34: =+F39 -> 0 | G34: =+G39 -> -25000
D35: այդ թվում` ըստ կատարողների
D36: ՀՀ տարածքային կառավարման և ենթակառուցվածքների նախարարության ջրային կոմիտե | E36: =F36+G36 -> -25000 | F36: =F34 -> 0 | G36: =G34 -> -25000
D37: այդ թվում` բյուջետային ծախսերի տնտեսագիտական դասակարգման հոդվածներ
D38: ԸՆԴԱՄԵՆԸ ԾԱԽՍԵՐ | E38: =+F38+G38 -> -25000 | F38: =+F39 -> 0 | G38: =+G39 -> -25000
D39: ՈՉ ՖԻՆԱՆՍԱԿԱՆ ԱԿՏԻՎՆԵՐԻ ԳԾՈՎ ԾԱԽՍԵՐ | E39: =+F39+G39 -> -25000 | F39: =+F40 -> 0 | G39: =+G40 -> -25000
D40: ՀԻՄՆԱԿԱՆ ՄԻՋՈՑՆԵՐ | E40: =+E41 -> -25000 | F40: =+F41 -> 0 | G40: =+G41 -> -25000
D41: ՇԵՆՔԵՐ ԵՎ ՇԻՆՈՒԹՅՈՒՆՆԵՐ | E41: =+F41+G41 -> -25000 | F41: =+F42 -> 0 | G41: =+G42 -> -25000
...

Sheet 10.
G1: Հավելված N10
G2: ՀՀ կառավարության 2022 թվականի
G3: ______________ ի ___Ն որոշման
B5: «ՀԱՅԱUՏԱՆԻ ՀԱՆՐԱՊԵՏՈՒԹՅԱՆ 2022 ԹՎԱԿԱՆԻ ՊԵՏԱԿԱՆ ԲՅՈՒՋԵԻ ՄԱUԻՆ» OՐԵՆՔԻ N 1 ՀԱՎԵԼՎԱԾԻ N 5 ԱՂՅՈՒՍԱԿՈՒՄ ԵՎ ՀԱՅԱՍՏԱՆԻ ՀԱՆՐԱՊԵՏՈՒԹՅԱՆ ԿԱՌԱՎԱՐՈՒԹՅԱՆ 2021 ԹՎԱԿԱՆԻ ԴԵԿՏԵՄԲԵՐԻ 23-Ի N 2121-Ն ՈՐՈՇՄԱՆ N 5 ՀԱՎԵԼՎԱԾԻ N 4 ԱՂՅՈՒՍԱԿՈՒՄ ԿԱՏԱՐՎՈՂ ՓՈՓՈԽՈՒԹՅՈՒՆՆԵՐԸ
G6: հազ. դրամ
B7: Ծրագրային դասիչը | D7: Բյուջետային գլխավոր կարգադրիչների, ծրագրերի և միջոցառումների անվանումները | E7: Ցուցանիշների փոփոխությունը (ավելացումները նշված են դրական նշանով, իսկ նվազեցումները` փակագծերում)
E8: Տարի
E9: Ընդամենը | F9: այդ թվում`
B10: Ծրագիր | C10: Միջոց առում | F10: Դրամաշնորհային միջոցներ | G10: Համաֆինան սավորում
D11: ԸՆԴԱՄԵՆԸ | E11: =+F11+G11 -> -1390042.3 | F11: =+F15 -> -1143997.1 | G11: =+G15 -> -246045.2
D12: այդ թվում` | E12: =+F12+G12 -> 0
D13: ԸՆԹԱՑԻԿ ԾԱԽՍԵՐ | E13: =+F13+G13 -> -97287.3 | F13: =F23+F31+F70+F100 -> -75107 | G13: =G23+G31+G70+G100 -> -22180.3
D14: ՈՉ ՖԻՆԱՆՍԱԿԱՆ ԱԿՏԻՎՆԵՐԻ ԳԾՈՎ ԾԱԽՍԵՐ | E14: =+F14+G14 -> -1292755 | F14: =+F87+F50+F78+F39+F61+F111 -> -1068890.1 | G14: =+G87+G50+G78+G39+G61+G111 -> -223864.9
D15: ՀՀ ՏԱՐԱԾՔԱՅԻՆ ԿԱՌԱՎԱՐՄԱՆ ԵՎ ԵՆԹԱԿԱՌՈՒՑՎԱԾՔՆԵՐԻ ՆԱԽԱՐԱՐՈՒԹՅՈՒՆ | E15: =+F15+G15 -> -1390042.3 | F15: =+F43+F16+F54+F93 -> -1143997.1 | G15: =+G43+G16+G54+G93 -> -246045.2
B16: 1040 | D16: Կոշտ թափոնների կառավարում | E16: =F16+G16 -> -914303 | F16: =F18+F26+F34 -> -741973 | G16: =G18+G26+G34 -> -172330
D17: այդ թվում`
C18: 12001 | D18: Վերակառուցման և զարգացման եվրոպական բանկի աջակցությամբ իրականացվող «Երևանի կոշտ թափոնների կառավարման» դրամաշնորհային ծրագիր | E18: =E20 -> -1365 | F18: =F20 -> 0 | G18: =G20 -> -1365
D19: այդ թվում` ըստ կատարողների
D20: ՀՀ տարածքային կառավարման և ենթակառուցվածքների նախարարություն | E20: =E25 -> -1365 | F20: =F25 -> 0 | G20: =G25 -> -1365
D21: այդ թվում` բյուջետային ծախսերի տնտեսագիտական դասակարգման հոդվածներ
D22: ԸՆԴԱՄԵՆԸ ԾԱԽՍԵՐ | E22: =E23 -> -1365 | F22: =F23 -> 0 | G22: =G23 -> -1365
D23: ԸՆԹԱՑԻԿ ԾԱԽՍԵՐ | E23: =E24 -> -1365 | F23: =F24 -> 0 | G23: =G24 -> -1365
D24: ԱՅԼ ԾԱԽՍԵՐ | E24: =E25 -> -1365 | F24: =F25 -> 0 | G24: =G25 -> -1365
D25: Այլ ծախսեր | E25: =F25+G25 -> -1365 | F25: 0 | G25: -1365
C26: 12002 | D26: Վերակառուցման և զարգացման եվրոպական բանկի աջակցությամբ իրականացվող «Կոտայքի և Գեղարքունիքի մարզի կոշտ թափոնների կառավարման խորհրդատվության համար» դրամաշնորհային ծրագիր | E26: =E28 -> -90423 | F26: =F28 -> -74821 | G26: =G28 -> -15602
D27: այդ թվում` ըստ կատարողների
D28: ՀՀ տարածքային կառավարման և ենթակառուցվածքների նախարարություն | E28: =E33 -> -90423 | F28: =F33 -> -74821 | G28: =G33 -> -15602
D29: այդ թվում` բյուջետային ծախսերի տնտեսագիտական դասակարգման հոդվածներ
D30: ԸՆԴԱՄԵՆԸ ԾԱԽՍԵՐ | E30: =E31 -> -90423 | F30: =F31 -> -74821 | G30: =G31 -> -15602
D31: ԸՆԹԱՑԻԿ ԾԱԽՍԵՐ | E31: =E32 -> -90423 | F31: =F32 -> -74821 | G31: =G32 -> -15602
D32: ԱՅԼ ԾԱԽՍԵՐ | E32: =E33 -> -90423 | F32: =F33 -> -74821 | G32: =G33 -> -15602
D33: Այլ ծախսեր | E33: =F33+G33 -> -90423 | F33: -74821 | G33: -15602
C34: 32004 | D34: Վերակառուցման և զարգացման եվրոպական բանկի աջակցությամբ իրականացվող «Կոտայքի և Գեղարքունիքի մարզի կոշտ թափոնների կառավարման» դրամաշնորհային ծրագիր | E34: =E36 -> -822515 | F34: =F36 -> -667152 | G34: =G36 -> -155363
D35: այդ թվում` ըստ կատարողների
D36: ՀՀ տարածքային կառավարման և ենթակառուցվածքների նախարարություն | E36: =E41 -> -822515 | F36: =F41 -> -667152 | G36: =G41 -> -155363
D37: այդ թվում` բյուջետային ծախսերի տնտեսագիտական դասակարգման հոդվածներ
D38: ԸՆԴԱՄԵՆԸ ԾԱԽՍԵՐ | E38: =E39 -> -822515 | F38: =F39 -> -667152 | G38: =G39 -> -155363
D39: ՈՉ ՖԻՆԱՆՍԱԿԱՆ ԱԿՏԻՎՆԵՐԻ ԳԾՈՎ ԾԱԽՍԵՐ | E39: =E40 -> -822515 | F39: =F40 -> -667152 | G39: =G40 -> -155363
D40: ՀԻՄՆԱԿԱՆ ՄԻՋՈՑՆԵՐ | E40: =E41 -> -822515 | F40: =F41 -> -667152 | G40: =G41 -> -155363
D41: ՇԵՆՔԵՐ ԵՎ ՇԻՆՈՒԹՅՈՒՆՆԵՐ | E41: =E42 -> -822515 | F41: =F42 -> -667152 | G41: =G42 -> -155363
...

Sheet 11
D1: Հավելված N 11
D2: ՀՀ կառավարության 2022 թվականի
D3: -------------- ի N ---- -Ն որոշման
A5: «ՀԱՅԱՍՏԱՆԻ ՀԱՆՐԱՊԵՏՈՒԹՅԱՆ 2022 ԹՎԱԿԱՆԻ ՊԵՏԱԿԱՆ ԲՅՈՒՋԵԻ ՄԱՍԻՆ» ՕՐԵՆՔԻ N 1 ՀԱՎԵԼՎԱԾԻ N 7 ԱՂՅՈՒՍԱԿՈՒՄ ԵՎ ՀԱՅԱՍՏԱՆԻ ՀԱՆՐԱՊԵՏՈՒԹՅԱՆ ԿԱՌԱՎԱՐՈՒԹՅԱՆ 2021 ԹՎԱԿԱՆԻ ԴԵԿՏԵՄԲԵՐԻ 23-Ի N 2121-Ն ՈՐՈՇՄԱՆ N 5 ՀԱՎԵԼՎԱԾԻ N 6 ԱՂՅՈՒՍԱԿՈՒՄ ԿԱՏԱՐՎՈՂ ՓՈՓՈԽՈՒԹՅՈՒՆՆԵՐԸ
D6: հազար դրամ
A7: Ծրագրային դասիչը | C7: Բյուջետային հատկացումների գլխավոր կարգադրիչների, ծրագրերի, միջոցառումների և միջոցառումները կատարող պետական մարմինների անվանումները | D7: Ցուցանիշների փոփոխությունը (Նվազեցումները նշված են փակագծերում)
A8: Ծրագիր | B8: Միջոցառում | D8: Տարի
C9: ԸՆԴԱՄԵՆԸ | D9: =+D11 -> 321674.9
C10: այդ թվում
C11: Կապիտալ սուբվենցիաներ համայնքներին | D11: =+D13 -> 321674.9
C12: այդ թվում`
C13: ՀՀ տարածքային կառավարման և ենթակառուցվածքների նախարարություն | D13: =+D15 -> 321674.9
C14: այդ թվում`
A15: 1212 | C15: Տարածքային զարգացում | D15: =+D17 -> 321674.9
C16: այդ թվում`
B17: 12007 | C17: ՀՀ մարզերին սուբվենցիաների տրամադրում՝ ենթակառուցվածքների զարգացման նպատակով | D17: =+D19 -> 321674.9
C18: այդ թվում` ըստ կատարողների
C19: ՀՀ կառավարություն | D19: ='7.'!E188 -> 321674.9

Sheet 12
C1: Հավելված N 12
A2: ՀՀ կառավարության 2022 թվականի
A3: ______________ ի ___Ն որոշման
A5: ՀԱՅԱՍՏԱՆԻ ՀԱՆՐԱՊԵՏՈՒԹՅԱՆ ԿԱՌԱՎԱՐՈՒԹՅԱՆ 2021 ԹՎԱԿԱՆԻ ԴԵԿՏԵՄԲԵՐԻ 23-Ի N 2121-Ն ՈՐՈՇՄԱՆ N 9 ՀԱՎԵԼՎԱԾԻ N 9.7 ԱՂՅՈՒՍԱԿՈՒՄ ԿԱՏԱՐՎՈՂ ՓՈՓՈԽՈՒԹՅՈՒՆՆԵՐԸ ԵՎ ԼՐԱՑՈՒՄՆԵՐԸ
C6: Աղյուսակ 9.7
A7: ՀՀ ՏԱՐԱԾՔԱՅԻՆ ԿԱՌԱՎԱՐՄԱՆ ԵՎ ԵՆԹԱԿԱՌՈՒՑՎԱԾՔՆԵՐԻ ՆԱԽԱՐԱՐՈՒԹՅՈՒՆ
A8: ՄԱՍ 2. ՊԵՏԱԿԱՆ ՄԱՐՄՆԻ ԳԾՈՎ ԱՐԴՅՈՒՆՔԱՅԻՆ (ԿԱՏԱՐՈՂԱԿԱՆ) ՑՈՒՑԱՆԻՇՆԵՐԸ
A10: Ծրագրի դասիչը | B10: Ծրագրի անվանումը
A11: 1004 | B11: =+'[1]4'!D16 -> Ոռոգման համակարգի առողջացում
A13: Ծրագրի միջոցառումները
A14: Ծրագրի դասիչը` | B14: 1004 | C14: Ցուցանիշների փոփոխությունը (նվազեցումները նշված են փակագծերում)
A15: Միջոցառման դասիչը` | B15: 11010 | C15: Տարի
A16: Միջոցառման անվանումը` | B16: Գերմանիայի զարգացման վարկերի բանկի աջակցությամբ իրականացվող Ախուրյան գետի ջրային ռեսուրսների ինտեգրացված կառավարում փուլ 1 ծրագրով Ջրաձոր գյուղի վերաբնակեցման գործողությունների խորհրդատվություն և կառավարում
A17: Նկարագրությունը` | B17: Գերմանիայի զարգացման վարկերի բանկի աջակցությամբ իրականացվող Ախուրյան գետի ջրային ռեսուրսների ինտեգրացված կառավարում փուլ 1 ծրագրով Ջրաձոր գյուղի վերաբնակեցման գործողությունների համակարգում և ղեկավարում
A18: Միջոցառման տեսակը` | B18: Ծառայությունների մատուցում
A19: Ակտիվն օգտագործող կազմակերպության(ների) անվանում(ները)՛ | B19: Մասնագիտացված միավոր
A20: Արդյունքի չափորոշիչներ
A21: Միջոցառման վրա կատարվող ծախսը (հազար դրամ) | C21: ='9.'!E23 -> -1463
A23: Ծրագրի դասիչը` | B23: 1004 | C23: Ցուցանիշների փոփոխությունը (նվազեցումները նշված են փակագծերում)
A24: Միջոցառման դասիչը` | B24: 31001 | C24: Տարի
A25: Միջոցառման անվանումը` | B25: Ֆրանսիայի Հանրապետության կառավարության աջակցությամբ իրականացվող Վեդու ջրամբարի կառուցում
A26: Նկարագրությունը` | B26: Ֆրանսիայի Հանրապետության կառավարության աջակցությամբ իրականացվող Վեդու ջրամբարի կառուցման ծրագիր
A27: Միջոցառման տեսակը` | B27: Ծառայությունների մատուցում
A28: Ակտիվն օգտագործող կազմակերպության(ների) անվանում(ները)՛ | B28: Մասնագիտացված միավոր
A29: Արդյունքի չափորոշիչներ
A30: Միջոցառման վրա կատարվող ծախսը (հազար դրամ) | C30: ='9.'!E25 -> -169680
A33: Ծրագրի դասիչը` | B33: 1004 | C33: Ցուցանիշների փոփոխությունը (նվազեցումները նշված են փակագծերում)
A34: Միջոցառման դասիչը` | B34: 31005 | C34: Տարի
A35: Միջոցառման անվանումը` | B35: Եվրասիական զարգացման բանկի աջակցությամբ իրականացվող ոռոգման համակարգերի զարգացման ծրագրի շրջանակներում ջրային տնտեսության ենթակառուցվածքների հիմնանորոգում
A36: Նկարագրությունը` | B36: Եվրասիական զարգացման բանկի աջակցությամբ իրականացվող ոռոգման համակարգերի զարգացման ծրագիր
A37: Միջոցառման տեսակը` | B37: Պետական մարմինների կողմից օգտագործվող ոչ ֆինանսական ակտիվների հետ գործառնություններ
A38: Ակտիվն օգտագործող կազմակերպության(ների) անվանում(ները)՛ | B38: Մասնագիտացված միավոր
A39: Արդյունքի չափորոշիչներ
A40: Միջոցառման վրա կատարվող ծախսը (հազար դրամ) | C40: ='9.'!E34 -> -25000
A42: Ծրագրի դասիչը | B42: Ծրագրի անվանումը
A43: 1019 | B43: Սոցիալական ներդրումների և տեղական զարգացման ծրագիր
A45: Ծրագրի դասիչը` | B45: 1019 | C45: Ցուցանիշների փոփոխությունը (նվազեցումները նշված են փակագծերում)
A46: Միջոցառման դասիչը` | B46: 12001 | C46: Տարի
A47: Միջոցառման անվանումը` | B47: Համաշխարհային բանկի աջակցությամբ իրականացվող Տարածքային զարգացման հիմնադրամի ծրագրի շրջանակներում ՀՀ տարածքներում ջրագծերի, առողջապահության, կրթության, մշակույթի, հատուկ խնամքի և ենթակառուցվածքների ոլորտի վերականգնման և շինարարության աշխատանքներ
A48: Նկարագրությունը` | B48: Տարածքային զարգացման հիմնադրամի ծրագրով նախատեսված ՀՀ տարածքներում ջրագծերի, առողջապահության, կրթության օբյեկտների, մշակույթային տների, ծերանոցների, մանկատների, հատուկ դպրոցների, մանկապարտեզների և կոյուղու օբյեկտների հիմնանորոգում և շինարարություն
...

Sheet 13
C1: Հավելված N 13
A2: ՀՀ կառավարության 2022 թվականի
A3: ______________ ի ___Ն որոշման
A4: ՀԱՅԱՍՏԱՆԻ ՀԱՆՐԱՊԵՏՈՒԹՅԱՆ ԿԱՌԱՎԱՐՈՒԹՅԱՆ 2021 ԹՎԱԿԱՆԻ ԴԵԿՏԵՄԲԵՐԻ 23-Ի N 2121-Ն ՈՐՈՇՄԱՆ N 9.1 ՀԱՎԵԼՎԱԾԻ NN 9.1.8, 9.1.26 և 9.1.59 ԱՂՅՈՒՍԱԿՆԵՐՈՒՄ ԿԱՏԱՐՎՈՂ ՓՈՓՈԽՈՒԹՅՈՒՆՆԵՐԸ ԵՎ ԼՐԱՑՈՒՄՆԵՐԸ
C5: Աղյուսակ 9.1.8
A6: ՀՀ ՏԱՐԱԾՔԱՅԻՆ ԿԱՌԱՎԱՐՄԱՆ ԵՎ ԵՆԹԱԿԱՌՈՒՑՎԱԾՔՆԵՐԻ ՆԱԽԱՐԱՐՈՒԹՅՈՒՆ
A7: ՄԱՍ 1. ՊԵՏԱԿԱՆ ՄԱՐՄՆԻ ԳԾՈՎ ԱՐԴՅՈՒՆՔԱՅԻՆ (ԿԱՏԱՐՈՂԱԿԱՆ) ՑՈՒՑԱՆԻՇՆԵՐԸ
A10: Ծրագրի դասիչը | B10: Ծրագրի անվանումը
A11: 1019 | B11: Սոցիալական ներդրումների և տեղական զարգացման ծրագիր
A13: Ծրագրի դասիչը` | B13: 1019 | C13: Ցուցանիշների փոփոխությունը (նվազեցումները նշված են փակագծերում)
A14: Միջոցառման դասիչը` | B14: 12001 | C14: Տարի
A15: Միջոցառման անվանումը` | B15: Համաշխարհային բանկի աջակցությամբ իրականացվող Տարածքային զարգացման հիմնադրամի ծրագրի շրջանակներում ՀՀ տարածքներում ջրագծերի, առողջապահության, կրթության, մշակույթի, հատուկ խնամքի և ենթակառուցվածքների ոլորտի վերականգնման և շինարարության աշխատանքներ
A16: Նկարագրությունը` | B16: Տարածքային զարգացման հիմնադրամի ծրագրով նախատեսված ՀՀ տարածքներում ջրագծերի, առողջապահության, կրթության օբյեկտների, մշակույթային տների, ծերանոցների, մանկատների, հատուկ դպրոցների, մանկապարտեզների և կոյուղու օբյեկտների հիմնանորոգում և շինարարություն
A17: Միջոցառման տեսակը` | B17: Տրանսֆերտների տրամադրում
A18: Շահառուների ընտրության չափանիշները` | B18: Համաձայն ՏԶՀ Ղեկավար ձեռնարկի, որը ֆինանսավորման համաձայնագրի մաս է կազմում
A19: Արդյունքի չափորոշիչներ
A20: Միջոցառման վրա կատարված ծախսը (հազար դրամ) | C20: ='9.'!E45 -> -26900
A22: Ծրագրի դասիչը` | B22: 1019 | C22: Ցուցանիշների փոփոխությունը (նվազեցումները նշված են փակագծերում)
A23: Միջոցառման դասիչը` | B23: 12004 | C23: Տարի
A24: Միջոցառման անվանումը` | B24: Համաշխարհային բանկի աջակցությամբ իրականացվող Սոցիալական ներդրումների և տեղական զարգացման ծրագրի լրացուցիչ ֆինանսավորման վարկի շրջանակներում ՀՀ համայնքային և միջհամայնքային ենթակառուցվածքների որակի, օգտագործման և հասանելիության բարելավում
A25: Նկարագրությունը` | B25: Ջրագծերի, առողջապահության, կրթության օբյեկտների, մշակույթային տների, ծերանոցների, մանկատների, հատուկ դպրոցների, մանկապարտզների և կոյուղու օբյեկտնրի հիմն. և շինարարություն., գույքի և սարքավորումների տրամադրում շահառու ենթածրագրերի համար
A26: Միջոցառման տեսակը` | B26: Տրանսֆերտների տրամադրում
A27: Շահառուների ընտրության չափանիշները` | B27: Համաձայն ՏԶՀ Ղեկավար ձեռնարկի, որը ֆինանսավորման համաձայնագրի մաս է կազմում
A28: Արդյունքի չափորոշիչներ
A29: Միջոցառման վրա կատարված ծախսը (հազար դրամ) | C29: ='9.'!E56 -> -34520
A31: Ծրագրի դասիչը | B31: Ծրագրի անվանումը
A32: 1040 | B32: Կոշտ թափոնների կառավարում
A34: Ծրագրի միջոցառումները
A36: Ծրագրի դասիչը` | B36: 1040 | C36: Ցուցանիշների փոփոխությունը (նվազեցումները նշված են փակագծերում)
A37: Միջոցառման դասիչը` | B37: 12001 | C37: Տարի
A38: Միջոցառման անվանումը` | B38: Վերակառուցման և զարգացման եվրոպական բանկի աջակցությամբ իրականացվող «Երևանի կոշտ թափոնների կառավարման» դրամաշնորհային ծրագիր
A39: Նկարագրությունը` | B39: Կոշտ թափոնների կառավարման համակարգի բարելավում և նոր աղբավայրի ստեղծում
A40: Միջոցառման տեսակը` | B40: Տրանսֆերտների տրամադրում
A41: Միջոցառումն իրականացնողի անվանումը՛ | B41: Մասնագիտացված միավոր
A42: Արդյունքի չափորոշիչներ
A43: Միջոցառման վրա կատարվող ծախսը (հազար դրամ) | C43: ='10.'!E18 -> -1365
A45: Ծրագրի դասիչը` | B45: 1040 | C45: Ցուցանիշների փոփոխությունը (նվազեցումները նշված են փակագծերում)
A46: Միջոցառման դասիչը` | B46: 12002 | C46: Տարի
A47: Միջոցառման անվանումը` | B47: ='10.'!D26 -> Վերակառուցման և զարգացման եվրոպական բանկի աջակցությամբ իրականացվող «Կոտայքի և Գեղարքունիքի մարզի կոշտ թափոնների կառավարման խորհրդատվության համար» դրամաշնորհային ծրագիր
A48: Նկարագրությունը` | B48: Կոշտ թափոնների կառավարման համակարգի բարելավում և նոր աղբավայրի ստեղծում
...
