Workbook
Name AgencyCode: #REF!
Name AgencyCode: #REF!
Name AgencyCode: #REF!
Name AgencyCode: #REF!
Name AgencyCode: #REF!
Name AgencyName: #REF!
Name AgencyName: #REF!
Name AgencyName: #REF!
Name AgencyName: #REF!
Name AgencyName: #REF!
Name davit: #REF!
Name davit: #REF!
Name davit: #REF!
Name davit: #REF!
Name Functional1: #REF!
Name Functional1: #REF!
Name Functional1: #REF!
Name Functional1: #REF!
Name ggg: #REF!
Name ggg: #REF!
Name ggg: #REF!
Name PANature: #REF!
Name PANature: #REF!
Name PANature: #REF!
Name PANature: #REF!
Name PAType: #REF!
Name PAType: #REF!
Name PAType: #REF!
Name PAType: #REF!
Name Performance2: #REF!
Name Performance2: #REF!
Name Performance2: #REF!
Name Performance2: #REF!
Name PerformanceType: #REF!
Name PerformanceType: #REF!
Name PerformanceType: #REF!
Name PerformanceType: #REF!
Name Հավելված: #REF!
Name Հավելված: #REF!
Name Հավելված: #REF!
Name Հավելված: #REF!
Name Մաս: #REF!
Name Մաս: #REF!
Name Մաս: #REF!
Name շախմատիստ: #REF!
Name շախմատիստ: #REF!
Name շախմատիստ: #REF!

Sheet Havelvats 1
E1: Հավելված N 1
E2: ՀՀ կառավարության 2023 թվականի
F3: ______________ ի ___Ն որոշման
A5: «ՀԱՅԱUՏԱՆԻ ՀԱՆՐԱՊԵՏՈՒԹՅԱՆ 2023 ԹՎԱԿԱՆԻ ՊԵՏԱԿԱՆ ԲՅՈՒՋԵԻ ՄԱUԻՆ» ՀԱՅԱUՏԱՆԻ ՀԱՆՐԱՊԵՏՈՒԹՅԱՆ OՐԵՆՔԻ N 1 ՀԱՎԵԼՎԱԾԻ N 2 ԱՂՅՈՒՍԱԿՈՒՄ ԿԱՏԱՐՎՈՂ ՎԵՐԱԲԱՇԽՈՒՄԸ ԵՎ ՀԱՅԱՍՏԱՆԻ ՀԱՆՐԱՊԵՏՈՒԹՅԱՆ ԿԱՌԱՎԱՐՈՒԹՅԱՆ 2022 ԹՎԱԿԱՆԻ ԴԵԿՏԵՄԲԵՐԻ 29-Ի N 2111-Ն ՈՐՈՇՄԱՆ N 5 ՀԱՎԵԼՎԱԾԻ N 1 ԱՂՅՈՒՍԱԿՈՒՄ ԿԱՏԱՐՎՈՂ ՓՈՓՈԽՈՒԹՅՈՒՆՆԵՐԸ
F6: հազ. դրամներով
A7: Ծրագրային դասիչը | C7: Բյուջետային հատկացումների գլխավոր կարգադրիչների, ծրագրերի և միջոցառումների անվանումները | D7: Ցուցանիշների փոփոխությունը (ավելացումները նշված են դրական նշանով, իսկ նվազեցումները՝ փակագծերում)
A8: Ծրագիր | B8: Միջոցառում | D8: Առաջին եռամսյակ | E8: Առաջին կիսամյակ | F8: Ինն ամիս | G8: Տարի
C9: ԸՆԴԱՄԵՆԸ | D9: =+D11+D25 -> 0 | E9: =+E11+E25 -> 0 | F9: =+F11+F25 -> 0 | G9: =+G11+G25 -> 0
C10: այդ թվում
C11: ՀՀ ԿՐԹՈՒԹՅԱՆ, ԳԻՏՈՒԹՅԱՆ, ՄՇԱԿՈՒՅԹԻ ԵՎ ՍՊՈՐՏԻ ՆԱԽԱՐԱՐՈՒԹՅՈՒՆ | D11: =D12 -> 214585.3 | E11: =E12 -> 214585.3 | F11: =F12 -> 214585.3 | G11: =G12 -> 214585.3
A12: 1041 | C12: Ծրագրի անվանումը` | D12: =D19 -> 214585.3 | E12: =E19 -> 214585.3 | F12: =F19 -> 214585.3 | G12: =G19 -> 214585.3
C13: Մեծ նվաճումների սպորտ
C14: Ծրագրի նպատակը`
C15: Նպաստել Հայաստանում մեծ սպորտի շարունակական զարգացմանը և միջազգային հարթակներում ՀՀ դիրքի բարելավմանը
C16: Վերջնական արդյունքի նկարագրությունը`
C17: ՀՀ առաջնությունների ընդլայնում, միջազգային սպորտային միջոցառումներին մասնակցության և նվաճումների ապահովում
C18: Ծրագրի միջոցառումներ
B19: 11037 | C19: Միջոցառման անվանումը` | D19: 214585.3 | E19: 214585.3 | F19: 214585.3 | G19: 214585.3
C20: Երևանում կայանալիք ծանրամարտի մեծահասակների Եվրոպայի առաջնության անցկացում
C21: Միջոցառման նկարագրությունը`
C22: 2023 թվականին Երևանում կայանալիք ծանրամարտի մեծահասակների Եվրոպայի առաջնության անցկացում
C23: Միջոցառման տեսակը
C24: Ծառայությունների մատուցում
C25: ՀՀ ԿԱՌԱՎԱՐՈՒԹՅՈՒՆ | D25: =D26 -> -214585.3 | E25: =E26 -> -214585.3 | F25: =F26 -> -214585.3 | G25: =G26 -> -214585.3
A26: 1139 | C26: Ծրագրի անվանումը` | D26: =D32 -> -214585.3 | E26: =E32 -> -214585.3 | F26: =F32 -> -214585.3 | G26: =G32 -> -214585.3
C27: ՀՀ կառավարության պահուստային ֆոնդ
C28: Ծրագրի նպատակը`
C29: Պետական բյուջեում չկանխատեսված, ինչպես նաև բյուջետային երաշխիքների ապահովման ծախսերի ֆինանսավորման ապահովում
C30: Վերջնական արդյունքի նկարագրությունը`
C31: Պահուստային ֆոնդի կառավարման արդյունավետության և թափանցիկության ապահովում
B32: 11001 | C32: Միջոցառման անվանումը` | D32: -214585.3 | E32: -214585.3 | F32: -214585.3 | G32: -214585.3
C33: ՀՀ կառավարության պահուստային ֆոնդ
C34: Միջոցառման նկարագրությունը`
C35: ՀՀ պետական բյուջեում նախատեսված ելքերի լրացուցիչ ֆինանսավորման՝ պետական բյուջեում չկանխատեսված ելքերի, ինչպես նաև բյուջետային երաշխիքների ապահովման ելքերի ֆինանսավորման ապահովում
C36: Միջոցառման տեսակը
C37: Ծառայությունների մատուցում

Sheet Havelvats 2 
G1: Հավելված N 2
G2: ՀՀ կառավարության 2023 թվականի
G3: ______________ ի ___Ն որոշման
A5: ՀԱՅԱՍՏԱՆԻ ՀԱՆՐԱՊԵՏՈՒԹՅԱՆ ԿԱՌԱՎԱՐՈՒԹՅԱՆ 2022 ԹՎԱԿԱՆԻ ԴԵԿՏԵՄԲԵՐԻ 29-Ի N 2111-Ն ՈՐՈՇՄԱՆ N 3 ԵՎ N 4 ՀԱՎԵԼՎԱԾՆԵՐՈՒՄ ԿԱՏԱՐՎՈՂ ՓՈՓՈԽՈՒԹՅՈՒՆՆԵՐԸ
G8: հազ. դրամներով
A9: Գործառական դասիչը | D9: Ծրագրային դասիչը | F9: Բյուջետային հատկացումների գլխավոր կարգադրիչների, ծրագրերի, միջոցառումների և միջոցառումները կատարող պետական մարմինների անվանումները | G9: Ցուցանիշների փոփոխությունը (ավելացումները նշված են դրական նշանով, իսկ նվազեցումները՝ փակագծերում)
A10: Բաժին | B10: Խումբ | C10: Դաս | D10: Ծրագիր | E10: Միջոցառում | G10: Առաջին եռամսյակ | H10: Առաջին կիսամյակ | I10: Ինն ամիս | J10: Տարի
F11: ԸՆԴԱՄԵՆԸ | G11: =G13+G33 -> 0 | H11: =H13+H33 -> 0 | I11: =I13+I33 -> 0 | J11: =J13+J33 -> 0
F12: այդ թվում
F13: ՀՀ ԿՐԹՈՒԹՅԱՆ, ԳԻՏՈՒԹՅԱՆ, ՄՇԱԿՈՒՅԹԻ ԵՎ ՍՊՈՐՏԻ ՆԱԽԱՐԱՐՈՒԹՅՈՒՆ | G13: =G22 -> 214585.3 | H13: =H22 -> 214585.3 | I13: =+I22 -> 214585.3 | J13: =+J22 -> 214585.3
A14: 08 | F14: ՀԱՆԳԻՍՏ, ՄՇԱԿՈՒՅԹ ԵՎ ԿՐՈՆ
F15: այդ թվում`
B16: 01 | F16: Հանգստի և սպորտի ծառայություններ
F17: այդ թվում`
C18: 01 | F18: Հանգստի և սպորտի ծառայություններ
F19: այդ թվում`
F20: ՀՀ կրթության, գիտության, մշակույթի և սպորտի նախարարություն
F21: այդ թվում`
D22: 1041 | E22: Մեծ նվաճումների սպորտ | G22: =+G24 -> 214585.3 | H22: =+H24 -> 214585.3 | I22: =+I24 -> 214585.3 | J22: =+J24 -> 214585.3
F23: այդ թվում`
E24: 11037 | F24: Երևանում կայանալիք ծանրամարտի մեծահասակների Եվրոպայի առաջնության անցկացում | G24: =G26 -> 214585.3 | H24: =H26 -> 214585.3 | I24: =I26 -> 214585.3 | J24: =J26 -> 214585.3
F25: այդ թվում` ըստ կատարողների
F26: ՀՀ կրթության, գիտության, մշակույթի և սպորտի նախարարություն | G26: =G28 -> 214585.3 | H26: =H28 -> 214585.3 | I26: =I28 -> 214585.3 | J26: =J28 -> 214585.3
F27: այդ թվում՝ բյուջետային ծախսերի տնտեսագիտական դասակարգման հոդվածներ
F28: ԸՆԴԱՄԵՆԸ ԾԱԽՍԵՐ | G28: =G29 -> 214585.3 | H28: =H29 -> 214585.3 | I28: =I29 -> 214585.3 | J28: =J29 -> 214585.3
F29: ԸՆԹԱՑԻԿ ԾԱԽՍԵՐ | G29: =+G30 -> 214585.3 | H29: =+H30 -> 214585.3 | I29: =+I30 -> 214585.3 | J29: =+J30 -> 214585.3
F30: ԾԱՌԱՅՈՒԹՅՈՒՆՆԵՐԻ ԵՎ ԱՊՐԱՆՔՆԵՐԻ ՁԵՌՔԲԵՐՈՒՄ | G30: =G31 -> 214585.3 | H30: =H31 -> 214585.3 | I30: =I31 -> 214585.3 | J30: =J31 -> 214585.3
F31: Պայմանագրային այլ ծառայությունների ձեռքբերում | G31: =G32 -> 214585.3 | H31: =H32 -> 214585.3 | I31: =I32 -> 214585.3 | J31: =J32 -> 214585.3
F32: - Ընդհանուր բնույթի այլ ծառայություններ | G32: ='Havelvats 1'!D19 -> 214585.3 | H32: ='Havelvats 1'!E19 -> 214585.3 | I32: ='Havelvats 1'!F19 -> 214585.3 | J32: ='Havelvats 1'!G19 -> 214585.3
F33: ՀՀ ԿԱՌԱՎԱՐՈՒԹՅՈՒՆ | G33: =+G34 -> -214585.3 | H33: =+H34 -> -214585.3 | I33: =+I34 -> -214585.3 | J33: =+J34 -> -214585.3
A34: 11 | F34: ՀԻՄՆԱԿԱՆ ԲԱԺԻՆՆԵՐԻՆ ՉԴԱՍՎՈՂ ՊԱՀՈՒՍՏԱՅԻՆ ՖՈՆԴԵՐ | G34: =+G36 -> -214585.3 | H34: =+H36 -> -214585.3 | I34: =+I36 -> -214585.3 | J34: =+J36 -> -214585.3
F35: այդ թվում`
B36: 01 | F36: ՀՀ կառավարության և համայնքների պահուստային ֆոնդ | G36: =+G38 -> -214585.3 | H36: =+H38 -> -214585.3 | I36: =+I38 -> -214585.3 | J36: =+J38 -> -214585.3
F37: այդ թվում`
C38: 01 | F38: ՀՀ կառավարության պահուստային ֆոնդ | G38: =+G40 -> -214585.3 | H38: =+H42 -> -214585.3 | I38: =+I42 -> -214585.3 | J38: =+J42 -> -214585.3
F39: այդ թվում`
F40: ՀՀ կառավարություն | G40: =+G42 -> -214585.3 | H40: =+H42 -> -214585.3 | I40: =+I42 -> -214585.3 | J40: =+J42 -> -214585.3
F41: այդ թվում`
D42: 1139 | E42: ՀՀ կառավարության պահուստային ֆոնդ | F42: ՀՀ կառավարության պահուստային ֆոնդ | G42: =+G51 -> -214585.3 | H42: =+H51 -> -214585.3 | I42: =+I51 -> -214585.3 | J42: =+J51 -> -214585.3
F43: այդ թվում`
...

Sheet Havelvats 3
A1: Հավելված N 3
A2: ՀՀ կառավարության 2023 թվականի
A3: ______________ ի ___Ն որոշման
B5: ՀԱՅԱՍՏԱՆԻ ՀԱՆՐԱՊԵՏՈՒԹՅԱՆ ԿԱՌԱՎԱՐՈՒԹՅԱՆ 2022 ԹՎԱԿԱՆԻ ԴԵԿՏԵՄԲԵՐԻ 29-Ի N 2111-Ն ՈՐՈՇՄԱՆ N 9 ՀԱՎԵԼՎԱԾԻ N 9.13 ԵՎ 9․47 ԱՂՅՈՒՍԱԿՆԵՐՈՒՄ ԿԱՏԱՐՎՈՂ ՓՈՓՈԽՈՒԹՅՈՒՆՆԵՐԸ
A7: Աղյուսակ 9․13
C8: ՀՀ կրթության, գիտության, մշակույթի և սպորտի նախարարություն
B9: ՄԱՍ 2. ՊԵՏԱԿԱՆ ՄԱՐՄՆԻ ԳԾՈՎ ԱՐԴՅՈՒՆՔԱՅԻՆ (ԿԱՏԱՐՈՂԱԿԱՆ) ՑՈՒՑԱՆԻՇՆԵՐԸ
B13: Ծրագրի դասիչը | C13: Ծրագրի անվանումը
B14: 1041 | C14: Մեծ նվաճումների սպորտ
B16: Ծրագրի միջոցառումները
B17: Ծրագրի դասիչը՝ | C17: 1041 | D17: Ցուցանիշների փոփոխությունը (ավելացումները նշված են դրական նշանով)
B18: Միջոցառման դասիչը՝ | C18: 11037 | D18: Առաջին եռամսյակ | E18: Առաջին կիսամյակ | F18: Ինն ամիս | G18: Տարի
B19: Միջոցառման անվանումը՝ | C19: Երևանում կայանալիք ծանրամարտի մեծահասակների Եվրոպայի առաջնության անցկացում
B20: Նկարագրությունը՝ | C20: 2023 թվականին Երևանում կայանալիք ծանրամարտի մեծահասակների Եվրոպայի առաջնության անցկացում
B21: Միջոցառման տեսակը՝ | C21: Ծառայությունների մատուցում
B22: Միջոցառումն իրականացնողի անվանումը | C22: «Գնումների մասին» ՀՀ օրենքի համաձայն ընտրված կազմակերպություն, մասնագիտացված կազմակերպություններ
B23: Արդյունքի չափորոշիչներ
B25: Միջոցառման վրա կատարվող ծախսը (հազար դրամ) | D25: ='Havelvats 1'!D19 -> 214585.3 | E25: ='Havelvats 1'!E19 -> 214585.3 | F25: ='Havelvats 1'!F19 -> 214585.3 | G25: ='Havelvats 1'!G19 -> 214585.3
A28: Աղյուսակ 9․47
C30: ՀՀ կառավարություն
B31: ՄԱՍ 2. ՊԵՏԱԿԱՆ ՄԱՐՄՆԻ ԳԾՈՎ ԱՐԴՅՈՒՆՔԱՅԻՆ (ԿԱՏԱՐՈՂԱԿԱՆ) ՑՈՒՑԱՆԻՇՆԵՐԸ
B34: Ծրագրի դասիչը | C34: Ծրագրի անվանումը
B35: 1139 | C35: ՀՀ կառավարության պահուստային ֆոնդ
B36: Ծրագրի միջոցառումները
B37: Ծրագրի դասիչը՝ | C37: 1139 | D37: Ցուցանիշների փոփոխությունը (նվազեցումները նշված են փակագծերում)
B38: Միջոցառման դասիչը՝ | C38: 11001 | D38: Առաջին եռամսյակ | E38: Առաջին կիսամյակ | F38: Ինն ամիս | G38: Տարի
B39: Միջոցառման անվանումը՝ | C39: ՀՀ կառավարության պահուստային ֆոնդ
B40: Նկարագրությունը՝ | C40: ՀՀ պետական բյուջեում նախատեսված ելքերի լրացուցիչ ֆինանսավորման՝ պետական բյուջեում չկանխատեսված ելքերի, ինչպես նաև բյուջետային երաշխիքների ապահովման ելքերի ֆինանսավորման ապահովում
B41: Միջոցառման տեսակը՝ | C41: Ծառայությունների մատուցում
B42: Միջոցառումն իրականացնողի անվանումը | C42: ՀՀ կառավարություն
C43: Արդյունքի չափորոշիչներ
B44: Միջոցառման վրա կատարվող ծախսը (հազար դրամ) | D44: ='Havelvats 1'!D32 -> -214585.3 | E44: ='Havelvats 1'!E32 -> -214585.3 | F44: ='Havelvats 1'!F32 -> -214585.3 | G44: ='Havelvats 1'!G32 -> -214585.3

Sheet Havelvats 4
E1: Հավելված N 4
C2: ՀՀ կառավարության 2023 թվականի
C3: ______________ ի ___Ն որոշման
B5: ՀԱՅԱՍՏԱՆԻ ՀԱՆՐԱՊԵՏՈՒԹՅԱՆ ԿԱՌԱՎԱՐՈՒԹՅԱՆ 2022 ԹՎԱԿԱՆԻ ԴԵԿՏԵՄԲԵՐԻ 23-Ի N 2111-Ն ՈՐՈՇՄԱՆ N 9․1 ՀԱՎԵԼՎԱԾԻ N 9.1․13 ԵՎ 9․1․58 ԱՂՅՈՒՍԱԿՆԵՐՈՒՄ ԿԱՏԱՐՎՈՂ ՓՈՓՈԽՈՒԹՅՈՒՆՆԵՐԸ
A7: Աղյուսակ 9․1․13
C9: ՀՀ կրթության, գիտության, մշակույթի և սպորտի նախարարություն
B10: ՄԱՍ 2. ՊԵՏԱԿԱՆ ՄԱՐՄՆԻ ԳԾՈՎ ԱՐԴՅՈՒՆՔԱՅԻՆ (ԿԱՏԱՐՈՂԱԿԱՆ) ՑՈՒՑԱՆԻՇՆԵՐԸ
B12: Ծրագրի դասիչը | C12: Ծրագրի անվանումը
B13: 1041 | C13: Մեծ նվաճումների սպորտ
B15: Ծրագրի միջոցառումները
B16: Ծրագրի դասիչը՝ | C16: 1041 | D16: Ցուցանիշների փոփոխությունը (ավելացումները նշված են դրական նշանով)
B17: Միջոցառման դասիչը՝ | C17: 11037 | D17: Առաջին եռամսյակ | E17: Առաջին կիսամյակ | F17: Ինն ամիս | G17: Տարի
B18: Միջոցառման անվանումը՝ | C18: Երևանում կայանալիք ծանրամարտի մեծահասակների Եվրոպայի առաջնության անցկացում
B19: Նկարագրությունը՝ | C19: 2023 թվականին Երևանում կայանալիք ծանրամարտի մեծահասակների Եվրոպայի առաջնության անցկացում
B20: Միջոցառման տեսակը՝ | C20: Ծառայությունների մատուցում
B21: Միջոցառումն իրականացնողի անվանումը | C21: «Գնումների մասին» ՀՀ օրենքի համաձայն ընտրված կազմակերպություն, մասնագիտացված կազմակերպություններ
B22: Արդյունքի չափորոշիչներ
B24: Միջոցառման վրա կատարվող ծախսը (հազար դրամ) | D24: ='Havelvats 1'!D19 -> 214585.3 | E24: ='Havelvats 1'!E19 -> 214585.3 | F24: ='Havelvats 1'!F19 -> 214585.3 | G24: ='Havelvats 1'!G19 -> 214585.3
A27: Աղյուսակ 9․1․58
C29: ՀՀ կառավարություն
B30: ՄԱՍ 2. ՊԵՏԱԿԱՆ ՄԱՐՄՆԻ ԳԾՈՎ ԱՐԴՅՈՒՆՔԱՅԻՆ (ԿԱՏԱՐՈՂԱԿԱՆ) ՑՈՒՑԱՆԻՇՆԵՐԸ
B33: Ծրագրի դասիչը | C33: Ծրագրի անվանումը
B34: 1139 | C34: ՀՀ կառավարության պահուստային ֆոնդ
B35: Ծրագրի միջոցառումները
B36: Ծրագրի դասիչը՝ | C36: 1139 | D36: Ցուցանիշների փոփոխությունը (նվազեցումները նշված են փակագծերում)
B37: Միջոցառման դասիչը՝ | C37: 11001 | D37: Առաջին եռամսյակ | E37: Առաջին կիսամյակ | F37: Ինն ամիս | G37: Տարի
B38: Միջոցառման անվանումը՝ | C38: ՀՀ կառավարության պահուստային ֆոնդ
B39: Նկարագրությունը՝ | C39: ՀՀ պետական բյուջեում նախատեսված ելքերի լրացուցիչ ֆինանսավորման՝ պետական բյուջեում չկանխատեսված ելքերի, ինչպես նաև բյուջետային երաշխիքների ապահովման ելքերի ֆինանսավորման ապահովում
B40: Միջոցառման տեսակը՝ | C40: Ծառայությունների մատուցում
B41: Միջոցառումն իրականացնողի անվանումը | C41: ՀՀ կառավարություն
C42: Արդյունքի չափորոշիչներ
B43: Միջոցառման վրա կատարվող ծախսը (հազար դրամ) | D43: ='Havelvats 1'!D32 -> -214585.3 | E43: ='Havelvats 1'!E32 -> -214585.3 | F43: ='Havelvats 1'!F32 -> -214585.3 | G43: ='Havelvats 1'!G32 -> -214585.3

Sheet Havelvats 5
H2: Հավելված N 5
G3: ՀՀ կառավարության 2023 թվականի
G4: ______________ ի ___Ն որոշման
A8: ՀԱՅԱՍՏԱՆԻ ՀԱՆՐԱՊԵՏՈՒԹՅԱՆ ԿԱՌԱՎԱՐՈՒԹՅԱՆ 2022 ԹՎԱԿԱՆԻ ԴԵԿՏԵՄԲԵՐԻ 29-Ի N2111-Ն ՈՐՈՇՄԱՆ N10 ՀԱՎԵԼՎԱԾՈՒՄ ԿԱՏԱՐՎՈՂ ՓՈՓՈԽՈՒԹՅՈՒՆՆԵՐԸ
A9: Կոդը | B9: Անվանումը | E9: Գնման ձևը | F9: Չափման միավորը | G9: Միավորի գինը (դրամ) | H9: Ցուցանիշների փոփոխությունը (ավելացումները նշված են դրական նշանով)
H10: Քանակը | I10: Գումարը (հազար դրամով)
A11: ՀՀ կրթության , գիտության, մշակույթի և սպորտի նախարարություն | I11: =I12 -> 214585.3
A12: Բաժին N 08 | B12: Խումբ N 01 | C12: Դաս N 01 | D12: Հանգստի և սպորտի ծառայություններ | I12: =I13 -> 214585.3
A13: 1041 11037 | B13: Երևանում կայանալիք ծանրամարտի մեծահասակների Եվրոպայի առաջնության անցկացում | I13: =I14 -> 214585.3
B14: ՄԱՍ III. ԾԱՌԱՅՈՒԹՅՈՒՆՆԵՐ | I14: =SUM(I15:I15) -> 214585.3
A15: 92621110-1 | B15: սպորտային միջոցառումների կազմակերպման ծառայություններ | E15: ԵՄ | F15: դրամ | I15: 214585.3

Sheet Havelvats 6
H1: Հավելված N 6
H2: ՀՀ կառավարության 2023 թվականի
H3: ______________ ի ___Ն որոշման
A6: ՀԱՅԱՍՏԱՆԻ ՀԱՆՐԱՊԵՏՈՒԹՅԱՆ 2023 ԹՎԱԿԱՆԻ ՊԵՏԱԿԱՆ ԲՅՈՒՋԵՈՎ ՆԱԽԱՏԵՍՎԱԾ՝ ՀԱՅԱՍՏԱՆԻ ՀԱՆՐԱՊԵՏՈՒԹՅԱՆ ԿԱՌԱՎԱՐՈՒԹՅԱՆ ՊԱՀՈՒՍՏԱՅԻՆ ՖՈՆԴԻՑ ՀԱՏԿԱՑՈՒՄՆԵՐ ԿԱՏԱՐԵԼՈՒ ՎԵՐԱԲԵՐՅԱԼ
I8: հազ. դրամներով
A9: Գործառական դասիչը | D9: Ծրագրային դասիչը | F9: Բյուջետային հատկացումների գլխավոր կարգադրիչների, ծրագրերի, միջոցառումների և միջոցառումները կատարող պետական մարմինների անվանումները | G9: Ցուցանիշների փոփոխությունը (ավելացումները նշված են դրական նշանով, իսկ նվազեցումները՝ փակագծերում)
A10: Բաժին | B10: Խումբ | C10: Դաս | D10: Ծրագիր | E10: Միջոցառում | G10: Առաջին եռամսյակ | H10: Առաջին կիսամյակ | I10: Ինն ամիս | J10: Տարի
F11: ԸՆԴԱՄԵՆԸ | G11: =+G33+G13 -> 0 | H11: =+H33+H13 -> 0 | I11: =+I33+I13 -> 0 | J11: =+J33+J13 -> 0
F12: այդ թվում
F13: ՀՀ կրթության, գիտության, մշակույթի և սպորտի նախարարություն | G13: =+G14 -> 214585.3 | H13: =+H14 -> 214585.3 | I13: =+I14 -> 214585.3 | J13: =+J14 -> 214585.3
A14: 08 | F14: ՀԱՆԳԻՍՏ, ՄՇԱԿՈՒՅԹ ԵՎ ԿՐՈՆ | G14: =+G16 -> 214585.3 | H14: =+H16 -> 214585.3 | I14: =+I16 -> 214585.3 | J14: =+J16 -> 214585.3
F15: այդ թվում`
B16: 01 | F16: Հանգստի և սպորտի ծառայություններ | G16: =+G18 -> 214585.3 | H16: =+H18 -> 214585.3 | I16: =+I18 -> 214585.3 | J16: =+J18 -> 214585.3
F17: այդ թվում`
C18: 01 | F18: Հանգստի և սպորտի ծառայություններ | G18: =+G20 -> 214585.3 | H18: =+H20 -> 214585.3 | I18: =+I20 -> 214585.3 | J18: =+J20 -> 214585.3
F19: այդ թվում`
F20: ՀՀ կրթության, գիտության, մշակույթի և սպորտի նախարարություն | G20: =+G22 -> 214585.3 | H20: =+H22 -> 214585.3 | I20: =+I22 -> 214585.3 | J20: =+J22 -> 214585.3
F21: այդ թվում`
D22: 1041 | E22: Մեծ նվաճումների սպորտ | G22: =+G24 -> 214585.3 | H22: =+H24 -> 214585.3 | I22: =+I24 -> 214585.3 | J22: =+J24 -> 214585.3
E23: 11037 | F23: այդ թվում`
F24: Երևանում կայանալիք ծանրամարտի մեծահասակների Եվրոպայի առաջնության անցկացում | G24: =+G26 -> 214585.3 | H24: =+H26 -> 214585.3 | I24: =+I26 -> 214585.3 | J24: =+J26 -> 214585.3
F25: այդ թվում` ըստ կատարողների
F26: ՀՀ կրթության, գիտության, մշակույթի և սպորտի նախարարություն | G26: =+G28 -> 214585.3 | H26: =+H28 -> 214585.3 | I26: =+I28 -> 214585.3 | J26: =+J28 -> 214585.3
F27: այդ թվում՝ բյուջետային ծախսերի տնտեսագիտական դասակարգման հոդվածներ
F28: ԸՆԴԱՄԵՆԸ ԾԱԽՍԵՐ | G28: =+G29 -> 214585.3 | H28: =+H29 -> 214585.3 | I28: =+I29 -> 214585.3 | J28: =+J29 -> 214585.3
F29: ԸՆԹԱՑԻԿ ԾԱԽՍԵՐ | G29: =+G30 -> 214585.3 | H29: =+H30 -> 214585.3 | I29: =+I30 -> 214585.3 | J29: =+J30 -> 214585.3
F30: ԾԱՌԱՅՈՒԹՅՈՒՆՆԵՐԻ ԵՎ ԱՊՐԱՆՔՆԵՐԻ ՁԵՌՔԲԵՐՈՒՄ | G30: =G31 -> 214585.3 | H30: =H31 -> 214585.3 | I30: =I31 -> 214585.3 | J30: =J31 -> 214585.3
F31: Պայմանագրային այլ ծառայությունների ձեռքբերում | G31: =G32 -> 214585.3 | H31: =H32 -> 214585.3 | I31: =I32 -> 214585.3 | J31: =J32 -> 214585.3
F32: - Ընդհանուր բնույթի այլ ծառայություններ | G32: ='Havelvats 1'!D19 -> 214585.3 | H32: ='Havelvats 1'!E19 -> 214585.3 | I32: ='Havelvats 1'!F19 -> 214585.3 | J32: ='Havelvats 1'!G19 -> 214585.3
F33: ՀՀ կառավարություն | G33: =G34 -> -214585.3 | H33: =H34 -> -214585.3 | I33: =+I34 -> -214585.3 | J33: =+J34 -> -214585.3
A34: 11 | F34: ՀԻՄՆԱԿԱՆ ԲԱԺԻՆՆԵՐԻՆ ՉԴԱՍՎՈՂ ՊԱՀՈՒՍՏԱՅԻՆ ՖՈՆԴԵՐ | G34: =G36 -> -214585.3 | H34: =H36 -> -214585.3 | I34: =+I36 -> -214585.3 | J34: =+J36 -> -214585.3
F35: այդ թվում`
B36: 01 | F36: ՀՀ կառավարության և համայնքների պահուստային ֆոնդ | G36: =G38 -> -214585.3 | H36: =H38 -> -214585.3 | I36: =+I38 -> -214585.3 | J36: =+J38 -> -214585.3
F37: այդ թվում`
C38: 01 | F38: ՀՀ կառավարության պահուստային ֆոնդ | G38: =G40 -> -214585.3 | H38: =H40 -> -214585.3 | I38: =+I40 -> -214585.3 | J38: =+J40 -> -214585.3
F39: այդ թվում`
F40: ՀՀ կառավարություն | G40: =G42 -> -214585.3 | H40: =H42 -> -214585.3 | I40: =+I42 -> -214585.3 | J40: =+J42 -> -214585.3
F41: այդ թվում`
D42: 1139 | E42: ՀՀ կառավարության պահուստային ֆոնդ | F42: ՀՀ կառավարության պահուստային ֆոնդ | G42: =G44 -> -214585.3 | H42: =H44 -> -214585.3 | I42: =+I44 -> -214585.3 | J42: =+J44 -> -214585.3
F43: այդ թվում`
...
