Workbook
Name AgencyCode: #REF!
Name AgencyCode: #REF!
Name AgencyCode: #REF!
Name AgencyCode: #REF!
Name AgencyCode: #REF!
Name AgencyName: #REF!
Name AgencyName: #REF!
Name AgencyName: #REF!
Name AgencyName: #REF!
Name åû: #REF!
Name åû: #REF!
Name davit: #REF!
Name davit: #REF!
Name Functional1: #REF!
Name Functional1: #REF!
Name Functional1: #REF!
Name Functional1: #REF!
Name ggg: #REF!
Name ggg: #REF!
Name mas: #REF!
Name mas: #REF!
Name mass: #REF!
Name mass: #REF!
Name PANature: #REF!
Name PANature: #REF!
Name PANature: #REF!
Name PANature: #REF!
Name PAType: #REF!
Name PAType: #REF!
Name PAType: #REF!
Name PAType: #REF!
Name Performance2: #REF!
Name Performance2: #REF!
Name Performance2: #REF!
Name Performance2: #REF!
Name PerformanceType: #REF!
Name PerformanceType: #REF!
Name PerformanceType: #REF!
Name PerformanceType: #REF!
Name x: #REF!
Name x: #REF!
Name Հավելված: #REF!
Name Հավելված: #REF!
Name Հավելված: #REF!
Name Մաս: #REF!
Name Մաս: #REF!
Name Մաս: #REF!
Name շախմատիստ: #REF!
Name շախմատիստ: #REF!
Name շախմատիստ: #REF!

Sheet 1
H1: Հավելված N1
H2: ՀՀ կառավարության 2023 թվականի
H3: ______________ ի ___Ն որոշման
A4: «ՀԱՅԱՍՏԱՆԻ ՀԱՆՐԱՊԵՏՈՒԹՅԱՆ 2023 ԹՎԱԿԱՆԻ ՊԵՏԱԿԱՆ ԲՅՈՒՋԵԻ ՄԱՍԻՆ» ՕՐԵՆՔԻ N 1 ՀԱՎԵԼՎԱԾԻ N 3 ԱՂՅՈՒՍԱԿՈՒՄ ԿԱՏԱՐՎՈՂ ՓՈՓՈԽՈՒԹՅՈՒՆՆԵՐԸ ԵՎ ԼՐԱՑՈՒՄՆԵՐԸ
G5: հազ. դրամ
A6: Ծրագրային դասիչ | C6: Բյուջետային գլխավոր կարգադրիչների, ծրագրերի, միջոցառումների և ուղղությունների անվանումները | D6: Ցուցանիշների փոփոխությունը (Ավելացումները նշված են դրական նշանով, իսկ նվազեցումները` փակագծերում)
D7: Ընդամենը, | E7: այդ թվում՝
A8: Ծրագիր | B8: Միջոցառում | E8: Կառուցման աշխատանքներ | F8: Վերակառուցման, վերանորոգման և վերականգնման աշխատանքներ | G8: Նախագծահե- տազոտական, գեոդեզիա- քարտեզագրա- կան աշխա- տանքներ | H8: Ոչ ֆինանսական այլ ակտիվների ձեռքբերում
C9: ԸՆԴԱՄԵՆԸ | D9: 0 | E9: =+E11 -> 52789 | F9: =+F11 -> -140687.7 | G9: =+G11 -> 87898.7 | H9: =+H11 -> 0
C10: այդ թվում՝
C11: ՀՀ ՏԱՐԱԾՔԱՅԻՆ ԿԱՌԱՎԱՐՄԱՆ ԵՎ ԵՆԹԱԿԱՌՈՒՑՎԱԾՔՆԵՐԻ ՆԱԽԱՐԱՐՈՒԹՅՈՒՆ | D11: 0 | E11: =+E13+E14 -> 52789 | F11: =+F13+F14 -> -140687.7 | G11: =+G13+G14 -> 87898.7 | H11: =+H13+H14 -> 0
C12: այդ թվում`
A13: 1049 | B13: 21001 | C13: Պետական նշանակության ավտոճանապարհների հիմնանորոգում | D13: =+E13+F13+G13+H13 -> -17007977 | E13: 0 | F13: =-G14-F14-E14 -> -17007977 | G13: 0 | H13: 0
A14: 1049 | B14: 21001 | C14: Պետական նշանակության ավտոճանապարհների հիմնանորոգում | D14: =+E14+F14+G14+H14 -> 17007977 | E14: =E16+E28+E42 -> 52789 | F14: =F16+F28+F42 -> 16867289 | G14: =G16+G28+G42 -> 87898.7 | H14: 0
C15: այդ թվում`
B16: =+'[1]3'!B17 -> 1 | C16: =+'[1]3'!C17 -> Միջպետական նշանակության ավտոճանապարհներ, այդ թվում | D16: =+E16+F16+G16+H16 -> 3608204.8 | E16: =SUM(E17:E27) -> 0 | F16: =SUM(F17:F27) -> 3567384.7 | G16: =SUM(G17:G27) -> 40820.1 | H16: =SUM(H17:H27) -> 0
C17: =+Հ3!D20 -> Մ-2, Երևան-Երասխ-Գորիս-Մեղրի-Իրանի սահման կմ53+150 - կմ65+350 հատվածի հիմնանորոգում | D17: =+E17+F17+G17+H17 -> 1216042.5 | E17: 0 | F17: =+Հ3!H20 -> 1216042.5 | G17: 0 | H17: 0
C18: =+Հ3!D21 -> Մ-2, Երևան – Երասխ – Գորիս – Մեղրի – Իրանի Իսլամական Հանրապետության սահման միջպետական նշանակության ավտոճանապարհի կմ245-ից կմ252 հատվածը շրջանցող նոր ճանապարհահատվածի կառուցում | D18: =+E18+F18+G18+H18 -> 17833.4 | E18: 0 | F18: 0 | G18: =+Հ3!H21 -> 17833.4 | H18: 0
C19: =+Հ3!D22 -> /Մ-2/-Տաթև-Աղվանի-/Մ-2/(Սյունիք) միջպետական նշանակության ավտոճանապարհի կմ0+000-կմ19+500 հատվածի հիմնանորոգում | D19: =+E19+F19+G19+H19 -> 2655.7 | E19: =SUM(E20:E20) -> 0 | F19: 0 | G19: =+Հ3!H22 -> 2655.7 | H19: =SUM(H20:H20) -> 0
C20: =+Հ3!D23 -> Մ-2, Երևան-Երասխ-Գորիս-Մեղրի-Իրանի սահման միջպետական նշանակության ավտոճանապարհի կմ329+820 - կմ338+100 հատվածի հիմնանորոգում | D20: =+E20+F20+G20+H20 -> 363633 | E20: 0 | F20: =+Հ3!H23 -> 363633 | G20: 0 | H20: 0
C21: =+Հ3!D24 -> Մ-3, Թուրքիայի սահման-Մարգարա-Վանաձոր-Տաշիր-Վրաստանի սահման միջպետական նշանակության ավտոճանապարհի կմ2+000 - կմ10+500 հատվածի հիմնանորոգում | D21: =+E21+F21+G21+H21 -> 681848.1 | E21: =SUM(E22:E29) -> 0 | F21: =+Հ3!H24 -> 681848.1 | G21: 0 | H21: =SUM(H22:H29) -> 0
C22: =+Հ3!D25 -> Մ-3, Թուրքիայի սահման-Մարգարա-Վանաձոր-Տաշիր-Վրաստանի սահման միջպետական նշանակության ավտոճանապարհի կմ35+535-կմ39+500 հատվածի հիմնանորոգում | D22: =+E22+F22+G22+H22 -> 6346.9 | E22: 0 | F22: 0 | G22: =+Հ3!H25 -> 6346.9 | H22: 0
C23: =+Հ3!D26 -> Մ-3, Թուրքիայի սահման-Մարգարա-Վանաձոր-Տաշիր-Վրաստանի սահման միջպետական նշանակության ավտոճանապարհի կմ116+790 (կմ116+900)-կմ128+718(կմ127+900) հատվածի հիմնանորոգում | D23: =+E23+F23+G23+H23 -> 1139.2 | E23: 0 | F23: 0 | G23: =+Հ3!H26 -> 1139.2 | H23: 0
C24: =+Հ3!D27 -> Մ-5, Երևան - Արմավիր - Թուրքիայի սահման միջպետական նշանակության ավտոճանապարհի կմ17+530-կմ18+200, կմ25+593 - կմ29+385 և կմ32+675 - կմ33+833 աջակողմյան և ձախակողմյան հատվածների հիմնանորոգում | D24: =+E24+F24+G24+H24 -> 8342 | E24: 0 | F24: 0 | G24: =+Հ3!H27 -> 8342 | H24: 0
C25: =+Հ3!D28 -> Մ-8, Վանաձոր (Մ-6 հատման կետ) - Դիլիջան միջպետական նշանակության ավտոճանապարհի կմ40+000 - կմ42+000 հատվածի հիմնանորոգում | D25: =+E25+F25+G25+H25 -> 1560.2 | E25: 0 | F25: 0 | G25: =+Հ3!H28 -> 1560.2 | H25: 0
C26: =+Հ3!D29 -> Մ-10, Սևան-Մարտունի-Գետափ միջպետական նշանակության ավտոճանապարհի կմ1+000-կմ17+000 հատվածի հիմնանորոգում (բացառությամբ կմ2+800-կմ5+300, կմ5+750-կմ5+886 և կմ6+850-կմ7+034 հատվածների) | D26: =+E26+F26+G26+H26 -> 1305861.1 | E26: 0 | F26: =+Հ3!H29 -> 1305861.1 | G26: 0 | H26: 0
C27: =+Հ3!D30 -> Մ-12, /Մ-2/ (Գորիս) – ՀՀ սահման միջպետական նշանակության ավտոճանապարհի կմ0+000 - կմ4+000 հատվածի հիմնանորոգում | D27: =+E27+F27+G27+H27 -> 2942.7 | E27: 0 | F27: 0 | G27: =+Հ3!H30 -> 2942.7 | H27: 0
B28: =+'[1]3'!B29 -> 2 | C28: =+Հ3!D31 -> Հանրապետական նշանակության ավտոճանապարհներ, այդ թվում | D28: =+E28+F28+G28+H28 -> 2652801.4 | E28: =SUM(E29:E41) -> 0 | F28: =SUM(F29:F41) -> 2640152.9 | G28: =SUM(G29:G41) -> 12648.5 | H28: =SUM(H29:H41) -> 0
C29: =+Հ3!D32 -> Հ-1, Վ. Պտղնու տրանսպորտային հանգույց - Ջրաբեր-Հրազդան -Հրազդանի քրեակատարողական հիմնարկ հանրապետական նշանակության ավտոճանապարհի կմ21+700 - կմ24+000 հատվածի հիմնանորոգում | D29: =+E29+F29+G29+H29 -> 108 | E29: 0 | F29: 0 | G29: =+Հ3!H32 -> 108 | H29: 0
C30: =+Հ3!D33 -> Հ-7, /Հ-5/ - Կարենիս - Չարենցավան /Հ-1/ (Ֆանտան)հանրապետական նշանակության ավտոճանապարհի կմ7+580 - կմ10+200 հատվածի հիմնանորոգում | D30: =+E30+F30+G30+H30 -> 140.4 | E30: 0 | F30: 0 | G30: =+Հ3!H33 -> 140.4 | H30: 0
C31: =+Հ3!D34 -> Հ-12, Մասիսի տրանսպորտային հանգույց - Մասիս - Ռանչպար - Արաքս - Ջրառատ - /Մ-3/ հանրապետական նշանակության ավտոճանապարհի կմ0+000 - կմ9+500 հատվածի հիմնանորոգում | D31: =+E31+F31+G31+H31 -> 219438 | E31: 0 | F31: =+Հ3!H34 -> 219438 | G31: 0 | H31: 0
C32: =+Հ3!D35 -> Հ-13, /Մ-3/ (Վաղարշապատ) - Մասիս - /Մ-2/ հանրապետական նշանակության ավտոճանապարհի կմ10+300 - կմ15+300 հատվածի հիմնանորոգում | D32: =+E32+F32+G32+H32 -> 884299.6 | E32: 0 | F32: =+Հ3!H35 -> 884299.6 | G32: 0 | H32: 0
C33: =+Հ3!D36 -> Հ-15, /Մ-5/(Նորապատ) -Արգավանդ –/Մ-3/ (Վարդանաշեն) հանրապետական նշանակության ավտոճանապարհի կմ0+000 - կմ3+000 հատվածի հիմնանորոգում | D33: =+E33+F33+G33+H33 -> 1008 | E33: 0 | F33: 0 | G33: =+Հ3!H36 -> 1008 | H33: 0
C34: =+Հ3!D37 -> Հ-21, /Հ-75/ - Հոռոմ-Արթիկ-Ալագյազ հանրապետական նշանակության ավտոճանապարհի կմ29+600 - կմ32+700 հատվածի հիմնանորոգում | D34: =+E34+F34+G34+H34 -> 981 | E34: 0 | F34: 0 | G34: =+Հ3!H37 -> 981 | H34: 0
C35: =+Հ3!D38 -> Հ-21, /Հ-75/ - Հոռոմ-Արթիկ-Ալագյազ հանրապետական նշանակության ավտոճանապարհի կմ32+700 - կմ41+000 հատվածի հիմնանորոգում | D35: =+E35+F35+G35+H35 -> 2559.1 | E35: 0 | F35: 0 | G35: =+Հ3!H38 -> 2559.1 | H35: 0
C36: =+Հ3!D39 -> Հ-26, /Մ-4/ - Ենոքավան – Կարմիրգյուղ (գյուղատեղի) - /Մ-16/ հանրապետական նշանակության ավտոճանապարհի կմ 0+000-կմ 7+000 հատվածի հիմնանորոգում | D36: =+E36+F36+G36+H36 -> 3743.7 | E36: 0 | F36: 0 | G36: =+Հ3!H39 -> 3743.7 | H36: 0
C37: =+Հ3!D40 -> Հ-30, /Մ-4/ - Ճամբարակ - /Մ-14/ հանրապետական նշանակության ավտոճանապարհի կմ 32+000-կմ 35+000 հատվածի հիմնանորոգում | D37: =+E37+F37+G37+H37 -> 539097.9 | E37: 0 | F37: =+Հ3!H40 -> 539097.9 | G37: 0 | H37: 0
C38: =+Հ3!D41 -> Հ-32, /Մ-1/ (Գյումրի) - Կապս - Ամասիա - /Մ-1/ հանրապետական նշանակության ավտոճանապարհի կմ 20+900-կմ 22+700 և կմ 23+000-կմ 31+200 հատվածների հիմնանորոգում | D38: =+E38+F38+G38+H38 -> 47288.7 | E38: 0 | F38: =+Հ3!H41 -> 47288.7 | G38: 0 | H38: 0
C39: =+Հ3!D42 -> Հ-36, /Մ-4/ (Իջևան) - Նավուր - Բերդ - Այգեպար հանրապետական նշանակության ավտոճանապարհի կմ 5+600-կմ 42+100 հատվածի հիմնանորոգում | D39: =+E39+F39+G39+H39 -> 893203.3 | E39: 0 | F39: =+Հ3!H42 -> 893203.3 | G39: 0 | H39: 0
C40: =+Հ3!D43 -> Հ38,/Հ-30/ (Թթուջուր) – /Հ-36/ (Նավուր) հանրապետական նշանակության ավտոճանապարհի կմ15+100 - կմ40+100 հատվածի հիմնանորոգում | D40: =+E40+F40+G40+H40 -> 4108.3 | E40: 0 | F40: 0 | G40: =+Հ3!H43 -> 4108.3 | H40: 0
...

Sheet Հ2
J1: Հավելված N 2
J2: ՀՀ կառավարության 2023 թվականի
J3: ______________ ի ___Ն որոշման
A5: ՀԱՅԱՍՏԱՆԻ ՀԱՆՐԱՊԵՏՈՒԹՅԱՆ ԿԱՌԱՎԱՐՈՒԹՅԱՆ 2022 ԹՎԱԿԱՆԻ ԴԵԿՏԵՄԲԵՐԻ 29-Ի N 2111-Ն ՈՐՈՇՄԱՆ N 3 ԵՎ N 4 ՀԱՎԵԼՎԱԾՆԵՐՈՒՄ ԿԱՏԱՐՎՈՂ ՓՈՓՈԽՈՒԹՅՈՒՆՆԵՐԸ ԵՎ ԼՐԱՑՈՒՄՆԵՐԸ
J7: հազար դրամներով
A8: Գործառական դասիչը | D8: Ծրագրային դասիչը | F8: Բյուջետային հատկացումների գլխավոր կարգադրիչների, ծրագրերի, միջոցառումների և միջոցառումները կատարող պետական մարմինների անվանումները | G8: Ցուցանիշների փոփոխությունը (ավելացումները նշված են դրական նշանով, իսկ նվազեցումները` փակագծերում)
A9: Բաժին | B9: Խումբ | C9: Դաս | D9: Ծրագիր | E9: Միջոցառում | G9: Առաջին եռամսյակ | H9: Առաջին կիսամյակ | I9: Ինն ամիս | J9: Տարի
F10: ԸՆԴԱՄԵՆԸ | G10: =+G12 -> 0 | H10: =+H12 -> 0 | I10: =+I12 -> 0 | J10: =+J12 -> 0
F11: այդ թվում
F12: ՀՀ տարածքային կառավարման և ենթակառուցվածքների նախարարություն | G12: =+G13 -> 0 | H12: =+H13 -> 0 | I12: =+I13 -> 0 | J12: =+J13 -> 0
A13: 04 | F13: ՏՆՏԵՍԱԿԱՆ ՀԱՐԱԲԵՐՈՒԹՅՈՒՆՆԵՐ | G13: =G15 -> 0 | H13: =H15 -> 0 | I13: =I15 -> 0 | J13: =J15 -> 0
F14: այդ թվում`
B15: 05 | F15: Տրանսպորտ | G15: =G17 -> 0 | H15: =H17 -> 0 | I15: =I17 -> 0 | J15: =J17 -> 0
F16: այդ թվում`
C17: 01 | F17: Ճանապարհային տրանսպորտ | G17: =+G19 -> 0 | H17: =+H19 -> 0 | I17: =+I19 -> 0 | J17: =+J19 -> 0
F18: այդ թվում`
F19: ՀՀ տարածքային կառավարման և ենթակառուցվածքների նախարարություն | G19: =+G21 -> 0 | H19: =+H21 -> 0 | I19: =+I21 -> 0 | J19: =+J21 -> 0
F20: այդ թվում`
D21: 1049 | F21: Ճանապարհային ցանցի բարելավում | G21: =+G23 -> 0 | H21: =+H23 -> 0 | I21: =+I23 -> 0 | J21: =+J23 -> 0
F22: այդ թվում`
E23: 21001 | F23: Պետական նշանակության ավտոճանապարհների հիմնանորոգում | G23: =G32+G25 -> 0 | H23: =H32+H25 -> 0 | I23: =I32+I25 -> 0 | J23: =J32+J25 -> 0
F24: այդ թվում` ըստ կատարողների
F25: ՀՀ կառավարություն | G25: =G27 -> -172364.9 | H25: =H27 -> -4111562.8 | I25: =I27 -> -14853167 | J25: =J27 -> -17007977
F26: այդ թվում` բյուջետային ծախսերի տնտեսագիտական դասակարգման հոդվածներ
F27: ԸՆԴԱՄԵՆԸ ԾԱԽՍԵՐ | G27: =+G28 -> -172364.9 | H27: =+H28 -> -4111562.8 | I27: =+I28 -> -14853167 | J27: =+J28 -> -17007977
F28: ՈՉ ՖԻՆԱՆՍԱԿԱՆ ԱԿՏԻՎՆԵՐԻ ԳԾՈՎ ԾԱԽՍԵՐ | G28: =G29 -> -172364.9 | H28: =H29 -> -4111562.8 | I28: =I29 -> -14853167 | J28: =J29 -> -17007977
F29: ՀԻՄՆԱԿԱՆ ՄԻՋՈՑՆԵՐ | G29: =G30 -> -172364.9 | H29: =H30 -> -4111562.8 | I29: =I30 -> -14853167 | J29: =J30 -> -17007977
F30: ՇԵՆՔԵՐ ԵՎ ՇԻՆՈՒԹՅՈՒՆՆԵՐ | G30: =G31 -> -172364.9 | H30: =H31 -> -4111562.8 | I30: =I31 -> -14853167 | J30: =J31 -> -17007977
F31: - Շենքերի և շինությունների կապիտալ վերանորոգում | G31: =-G32 -> -172364.9 | H31: =-H32 -> -4111562.8 | I31: =-I32 -> -14853167 | J31: =-J32 -> -17007977
F32: ՀՀ տարածքային կառավարման և ենթակառուցվածքների նախարարություն | G32: =G34 -> 172364.9 | H32: =H34 -> 4111562.8 | I32: =I34 -> 14853167 | J32: =J34 -> 17007977
F33: այդ թվում`բյուջետային ծախսերի տնտեսագիտական դասակարգման հոդվածներ
F34: ԸՆԴԱՄԵՆԸ ԾԱԽՍԵՐ | G34: =+G35 -> 172364.9 | H34: =+H35 -> 4111562.8 | I34: =+I35 -> 14853167 | J34: =+J35 -> 17007977
F35: ՈՉ ՖԻՆԱՆՍԱԿԱՆ ԱԿՏԻՎՆԵՐԻ ԳԾՈՎ ԾԱԽՍԵՐ | G35: =G36 -> 172364.9 | H35: =H36 -> 4111562.8 | I35: =I36 -> 14853167 | J35: =J36 -> 17007977
F36: ՀԻՄՆԱԿԱՆ ՄԻՋՈՑՆԵՐ | G36: =G37+G40 -> 172364.9 | H36: =H37+H40 -> 4111562.8 | I36: =I37+I40 -> 14853167 | J36: =J37+J40 -> 17007977
F37: ՇԵՆՔԵՐ ԵՎ ՇԻՆՈՒԹՅՈՒՆՆԵՐ | G37: =+G38+G39 -> 171384.9 | H37: =+H38+H39 -> 4036540.7 | I37: =+I38+I39 -> 14765269 | J37: =+J38+J39 -> 16920078
F38: - Շենքերի և շինությունների շինարարություն | G38: =+Հ3!E65 -> 52789 | H38: =+Հ3!F65 -> 52789 | I38: =+Հ3!G65 -> 52789 | J38: =+Հ3!H65 -> 52789
F39: - Շենքերի և շինությունների կապիտալ վերանորոգում | G39: =Հ3!E55+Հ3!E20+Հ3!E23+Հ3!E24+Հ3!E29+Հ3!E34+Հ3!E35+Հ3!E40+Հ3!E41+Հ3!E42+Հ3!E44+Հ3!E50+Հ3!E51+Հ3!E52+Հ3!E53+Հ3!E59+Հ3!E60+Հ3!E63+Հ3!E64+Հ3!E67+Հ3!E68+Հ3!E69 -> 118595.9 | H39: =Հ3!F55+Հ3!F20+Հ3!F23+Հ3!F24+Հ3!F29+Հ3!F34+Հ3!F35+Հ3!F40+Հ3!F41+Հ3!F42+Հ3!F44+Հ3!F50+Հ3!F51+Հ3!F52+Հ3!F53+Հ3!F59+Հ3!F60+Հ3!F63+Հ3!F64+Հ3!F67+Հ3!F68+Հ3!F69 -> 3983751.7 | I39: =Հ3!G55+Հ3!G20+Հ3!G23+Հ3!G24+Հ3!G29+Հ3!G34+Հ3!G35+Հ3!G40+Հ3!G41+Հ3!G42+Հ3!G44+Հ3!G50+Հ3!G51+Հ3!G52+Հ3!G53+Հ3!G59+Հ3!G60+Հ3!G63+Հ3!G64+Հ3!G67+Հ3!G68+Հ3!G69 -> 14712480 | J39: =Հ3!H55+Հ3!H20+Հ3!H23+Հ3!H24+Հ3!H29+Հ3!H34+Հ3!H35+Հ3!H40+Հ3!H41+Հ3!H42+Հ3!H44+Հ3!H50+Հ3!H51+Հ3!H52+Հ3!H53+Հ3!H59+Հ3!H60+Հ3!H63+Հ3!H64+Հ3!H67+Հ3!H68+Հ3!H69 -> 16867289
F40: ԱՅԼ ՀԻՄՆԱԿԱՆ ՄԻՋՈՑՆԵՐ | G40: =+G41 -> 980 | H40: =+H41 -> 75022.1 | I40: =+I41 -> 87898.7 | J40: =+J41 -> 87898.7
F41: - Նախագծահետազոտական ծախսեր | G41: =+Հ3!E66+Հ3!E62+Հ3!E61+Հ3!E58+Հ3!E56+Հ3!E54+Հ3!E49+Հ3!E48+Հ3!E47+Հ3!E46+Հ3!E43+Հ3!E39+Հ3!E38+Հ3!E37+Հ3!E36+Հ3!E33+Հ3!E32+Հ3!E30+Հ3!E28+Հ3!E27+Հ3!E26+Հ3!E25+Հ3!E22+Հ3!E21+Հ3!E57 -> 980 | H41: =+Հ3!F66+Հ3!F62+Հ3!F61+Հ3!F58+Հ3!F56+Հ3!F54+Հ3!F49+Հ3!F48+Հ3!F47+Հ3!F46+Հ3!F43+Հ3!F39+Հ3!F38+Հ3!F37+Հ3!F36+Հ3!F33+Հ3!F32+Հ3!F30+Հ3!F28+Հ3!F27+Հ3!F26+Հ3!F25+Հ3!F22+Հ3!F21+Հ3!F57 -> 75022.1 | I41: =+Հ3!G66+Հ3!G62+Հ3!G61+Հ3!G58+Հ3!G56+Հ3!G54+Հ3!G49+Հ3!G48+Հ3!G47+Հ3!G46+Հ3!G43+Հ3!G39+Հ3!G38+Հ3!G37+Հ3!G36+Հ3!G33+Հ3!G32+Հ3!G30+Հ3!G28+Հ3!G27+Հ3!G26+Հ3!G25+Հ3!G22+Հ3!G21+Հ3!G57 -> 87898.7 | J41: =+Հ3!H66+Հ3!H62+Հ3!H61+Հ3!H58+Հ3!H56+Հ3!H54+Հ3!H49+Հ3!H48+Հ3!H47+Հ3!H46+Հ3!H43+Հ3!H39+Հ3!H38+Հ3!H37+Հ3!H36+Հ3!H33+Հ3!H32+Հ3!H30+Հ3!H28+Հ3!H27+Հ3!H26+Հ3!H25+Հ3!H22+Հ3!H21+Հ3!H57 -> 87898.7
E42: 21002 | F42: Տրանսպորտային օբյեկտների հիմնանորոգում | G42: =G51+G44 -> 0 | H42: =H51+H44 -> 0 | I42: =I51+I44 -> 0 | J42: =J51+J44 -> 0
...

Sheet Հ3
H1: Հավելված 3
H2: ՀՀ կառավարության 2023 թվականի
H3: ______________ ի ___Ն որոշման
A5: ՀԱՅԱՍՏԱՆԻ ՀԱՆՐԱՊԵՏՈՒԹՅԱՆ ԿԱՌԱՎԱՐՈՒԹՅԱՆ 2022 ԹՎԱԿԱՆԻ ԴԵԿՏԵՄԲԵՐԻ 29-Ի N 2111-Ն ՈՐՈՇՄԱՆ N 5 ՀԱՎԵԼՎԱԾԻ N 2 ԱՂՅՈՒՍԱԿՈՒՄ ԿԱՏԱՐՎՈՂ ՓՈՓՈԽՈՒԹՅՈՒՆՆԵՐԸ ԵՎ ԼՐԱՑՈՒՄՆԵՐԸ
H7: հազար դրամներով
B8: Ծրագրային դասիչը | D8: Հատկացումների տրամադրման նպատակները և բյուջետային գլխավոր կարգադրիչների, ծրագրերի, միջոցառումների և կատարող պետական մարմնի անվանումները | E8: Ցուցանիշների փոփոխությունը (Ավելացումները նշված են դրական նշանով, իսկ նվազեցումները` փակագծերում)
B9: Ծրագիր | C9: Միջոցառում | E9: Առաջին եռամսյակ | F9: Առաջին կիսամյակ | G9: Ինն ամիս | H9: Տարի
D10: ԸՆԴԱՄԵՆԸ | E10: =+E12 -> 0 | F10: =+F12 -> 0 | G10: =+G12 -> 0 | H10: =+H12 -> 0
D11: այդ թվում՝
D12: ՀՀ ՏԱՐԱԾՔԱՅԻՆ ԿԱՌԱՎԱՐՄԱՆ ԵՎ ԵՆԹԱԿԱՌՈՒՑՎԱԾՔՆԵՐԻ ՆԱԽԱՐԱՐՈՒԹՅՈՒՆ | E12: =+E14+E70 -> 0 | F12: =+F14+F70 -> 0 | G12: =+G14+G70 -> 0 | H12: =+H14+H70 -> 0
D13: այդ թվում`
B14: 1049 | C14: 21001 | D14: Պետական նշանակության ավտոճանապարհների հիմնանորոգում | E14: =+E16+E17 -> 0 | F14: =+F16+F17 -> 0 | G14: =+G16+G17 -> 0 | H14: =+H16+H17 -> 0
D15: այդ թվում` ըստ կատարողների
D16: ՀՀ կառավարություն | E16: =-E17 -> -172364.9 | F16: =-F17 -> -4111562.8 | G16: =-G17 -> -14853167 | H16: =-H17 -> -17007977
D17: ՀՀ տարածքային կառավարման և ենթակառուցվածքների նախարարություն | E17: =+E19+E31+E45 -> 172364.9 | F17: =+F19+F31+F45 -> 4111562.8 | G17: =+G19+G31+G45 -> 14853167 | H17: =+H19+H31+H45 -> 17007977
D18: այդ թվում՝ ըստ ուղղությունների
C19: 1 | D19: Միջպետական նշանակության ավտոճանապարհներ, այդ թվում | E19: =SUM(E20:E30) -> 980 | F19: =SUM(F20:F30) -> 725533.9 | G19: =SUM(G20:G30) -> 2753918.3 | H19: =SUM(H20:H30) -> 3608204.8
D20: Մ-2, Երևան-Երասխ-Գորիս-Մեղրի-Իրանի սահման կմ53+150 - կմ65+350 հատվածի հիմնանորոգում | E20: 0 | F20: 206727.3 | G20: 1094438.3 | H20: 1216042.5
D21: Մ-2, Երևան – Երասխ – Գորիս – Մեղրի – Իրանի Իսլամական Հանրապետության սահման միջպետական նշանակության ավտոճանապարհի կմ245-ից կմ252 հատվածը շրջանցող նոր ճանապարհահատվածի կառուցում | E21: 0 | F21: 12811.4 | G21: 17833.4 | H21: 17833.4
D22: /Մ-2/-Տաթև-Աղվանի-/Մ-2/(Սյունիք) միջպետական նշանակության ավտոճանապարհի կմ0+000-կմ19+500 հատվածի հիմնանորոգում | E22: 0 | F22: 2655.7 | G22: 2655.7 | H22: 2655.7
D23: Մ-2, Երևան-Երասխ-Գորիս-Մեղրի-Իրանի սահման միջպետական նշանակության ավտոճանապարհի կմ329+820 - կմ338+100 հատվածի հիմնանորոգում | E23: 0 | F23: 54545 | G23: 363633 | H23: 363633
D24: Մ-3, Թուրքիայի սահման-Մարգարա-Վանաձոր-Տաշիր-Վրաստանի սահման միջպետական նշանակության ավտոճանապարհի կմ2+000 - կմ10+500 հատվածի հիմնանորոգում | E24: 0 | F24: 170462.1 | G24: 340924.1 | H24: 681848.1
D25: Մ-3, Թուրքիայի սահման-Մարգարա-Վանաձոր-Տաշիր-Վրաստանի սահման միջպետական նշանակության ավտոճանապարհի կմ35+535-կմ39+500 հատվածի հիմնանորոգում | E25: 0 | F25: 4546.8 | G25: 6346.9 | H25: 6346.9
D26: Մ-3, Թուրքիայի սահման-Մարգարա-Վանաձոր-Տաշիր-Վրաստանի սահման միջպետական նշանակության ավտոճանապարհի կմ116+790 (կմ116+900)-կմ128+718(կմ127+900) հատվածի հիմնանորոգում | E26: 0 | F26: 1139.2 | G26: 1139.2 | H26: 1139.2
D27: Մ-5, Երևան - Արմավիր - Թուրքիայի սահման միջպետական նշանակության ավտոճանապարհի կմ17+530-կմ18+200, կմ25+593 - կմ29+385 և կմ32+675 - կմ33+833 աջակողմյան և ձախակողմյան հատվածների հիմնանորոգում | E27: 980 | F27: 8342 | G27: 8342 | H27: 8342
D28: Մ-8, Վանաձոր (Մ-6 հատման կետ) - Դիլիջան միջպետական նշանակության ավտոճանապարհի կմ40+000 - կմ42+000 հատվածի հիմնանորոգում | E28: 0 | F28: 189.4 | G28: 1560.2 | H28: 1560.2
D29: Մ-10, Սևան-Մարտունի-Գետափ միջպետական նշանակության ավտոճանապարհի կմ1+000-կմ17+000 հատվածի հիմնանորոգում (բացառությամբ կմ2+800-կմ5+300, կմ5+750-կմ5+886 և կմ6+850-կմ7+034 հատվածների) | E29: 0 | F29: 261172.3 | G29: 914102.8 | H29: 1305861.1
D30: Մ-12, /Մ-2/ (Գորիս) – ՀՀ սահման միջպետական նշանակության ավտոճանապարհի կմ0+000 - կմ4+000 հատվածի հիմնանորոգում | E30: 0 | F30: 2942.7 | G30: 2942.7 | H30: 2942.7
C31: 2 | D31: Հանրապետական նշանակության ավտոճանապարհներ, այդ թվում | E31: =SUM(E32:E44) -> 104114.1 | F31: =SUM(F32:F44) -> 1541829.8 | G31: =SUM(G32:G44) -> 2456552 | H31: =SUM(H32:H44) -> 2652801.4
D32: Հ-1, Վ. Պտղնու տրանսպորտային հանգույց - Ջրաբեր-Հրազդան -Հրազդանի քրեակատարողական հիմնարկ հանրապետական նշանակության ավտոճանապարհի կմ21+700 - կմ24+000 հատվածի հիմնանորոգում | E32: 0 | F32: 108 | G32: 108 | H32: 108
D33: Հ-7, /Հ-5/ - Կարենիս - Չարենցավան /Հ-1/ (Ֆանտան)հանրապետական նշանակության ավտոճանապարհի կմ7+580 - կմ10+200 հատվածի հիմնանորոգում | E33: 0 | F33: 140.4 | G33: 140.4 | H33: 140.4
D34: Հ-12, Մասիսի տրանսպորտային հանգույց - Մասիս - Ռանչպար - Արաքս - Ջրառատ - /Մ-3/ հանրապետական նշանակության ավտոճանապարհի կմ0+000 - կմ9+500 հատվածի հիմնանորոգում | E34: 0 | F34: 219438 | G34: 219438 | H34: 219438
D35: Հ-13, /Մ-3/ (Վաղարշապատ) - Մասիս - /Մ-2/ հանրապետական նշանակության ավտոճանապարհի կմ10+300 - կմ15+300 հատվածի հիմնանորոգում | E35: 0 | F35: 707439.7 | G35: 795869.7 | H35: 884299.6
D36: Հ-15, /Մ-5/(Նորապատ) -Արգավանդ –/Մ-3/ (Վարդանաշեն) հանրապետական նշանակության ավտոճանապարհի կմ0+000 - կմ3+000 հատվածի հիմնանորոգում | E36: 0 | F36: 1008 | G36: 1008 | H36: 1008
D37: Հ-21, /Հ-75/ - Հոռոմ-Արթիկ-Ալագյազ հանրապետական նշանակության ավտոճանապարհի կմ29+600 - կմ32+700 հատվածի հիմնանորոգում | E37: 0 | F37: 981 | G37: 981 | H37: 981
D38: Հ-21, /Հ-75/ - Հոռոմ-Արթիկ-Ալագյազ հանրապետական նշանակության ավտոճանապարհի կմ32+700 - կմ41+000 հատվածի հիմնանորոգում | E38: 0 | F38: 2559.1 | G38: 2559.1 | H38: 2559.1
D39: Հ-26, /Մ-4/ - Ենոքավան – Կարմիրգյուղ (գյուղատեղի) - /Մ-16/ հանրապետական նշանակության ավտոճանապարհի կմ 0+000-կմ 7+000 հատվածի հիմնանորոգում | E39: 0 | F39: 3743.7 | G39: 3743.7 | H39: 3743.7
D40: Հ-30, /Մ-4/ - Ճամբարակ - /Մ-14/ հանրապետական նշանակության ավտոճանապարհի կմ 32+000-կմ 35+000 հատվածի հիմնանորոգում | E40: 0 | F40: 53909.8 | G40: 431278.4 | H40: 539097.9
D41: Հ-32, /Մ-1/ (Գյումրի) - Կապս - Ամասիա - /Մ-1/ հանրապետական նշանակության ավտոճանապարհի կմ 20+900-կմ 22+700 և կմ 23+000-կմ 31+200 հատվածների հիմնանորոգում | E41: 47288.7 | F41: 47288.7 | G41: 47288.7 | H41: 47288.7
D42: Հ-36, /Մ-4/ (Իջևան) - Նավուր - Բերդ - Այգեպար հանրապետական նշանակության ավտոճանապարհի կմ 5+600-կմ 42+100 հատվածի հիմնանորոգում | E42: 0 | F42: 446601.7 | G42: 893203.3 | H42: 893203.3
...

Sheet Հ4
G1: Հավելված N 4
G2: ՀՀ կառավարության 2023 թվականի
G3: ______________ ի ___Ն որոշման
B5: ՀԱՅԱՍՏԱՆԻ ՀԱՆՐԱՊԵՏՈՒԹՅԱՆ ԿԱՌԱՎԱՐՈՒԹՅԱՆ 2022 ԹՎԱԿԱՆԻ ԴԵԿՏԵՄԲԵՐԻ 29-Ի N 2111-Ն ՈՐՈՇՄԱՆ N 9.1 ՀԱՎԵԼՎԱԾԻ N 9.7 ԱՂՅՈՒՍԱԿՈՒՄ ԿԱՏԱՐՎՈՂ ԼՐԱՑՈՒՄՆԵՐԸ
G7: Աղյուսակ 9.7
B8: ՀՀ տարածքային կառավարման և ենթակառուցվածքների նախարարություն
B9: ՄԱՍ 2. ՊԵՏԱԿԱՆ ՄԱՐՄՆԻ ԳԾՈՎ ԱՐԴՅՈՒՆՔԱՅԻՆ (ԿԱՏԱՐՈՂԱԿԱՆ) ՑՈՒՑԱՆԻՇՆԵՐԸ
B11: Ծրագրի դասիչը | C11: Ծրագրի անվանումը
B12: 1049 | C12: Ճանապարհային ցանցի բարելավում
B14: Ծրագրի միջոցառումները
B16: Ծրագրի դասիչը` | C16: 1049 | D16: Ցուցանիշների փոփոխությունը (ավելացումները նշված են դրական նշանով)
B17: Միջոցառման դասիչը` | C17: 21002 | D17: Առաջին եռամսյակ | E17: Առաջին կիսամյակ | F17: Ինն ամիս | G17: Տարի
B18: Միջոցառման անվանումը` | C18: Տրանսպորտային օբյեկտների հիմնանորոգում
B19: Նկարագրությունը` | C19: Ավտոմոբիլային ճանապարհների վրա գտնվող կամուրջների հիմնանորոգում
B20: Միջոցառման տեսակը` | C20: Հանրության կողմից անմիջականորեն օգտագործվող ակտիվների հետ կապված միջոցառումներ
B21: Միջոցառումն իրականացնողի անվանումը | C21: Մասնագիտացված միավոր
B22: Արդյունքի չափորոշիչներ
B23: Տրանսպորտային հանգույցներ (ուղեանցեր, հենապատեր և այլն), այդ թվում աշխատանքներ և ծառայություններ | D23: 0 | E23: 0 | F23: 0 | G23: 1
B24: Շինարարություն, հատ | D24: 0 | E24: 0 | F24: 0 | G24: 1
B25: Միջոցառման վրա կատարվող ծախսը (հազար դրամ) | D25: 0 | E25: 0 | F25: 0 | G25: 0

Sheet Հ5
G1: Հավելված N 5
G2: ՀՀ կառավարության 2023 թվականի
G3: ______________ ի ___Ն որոշման
B5: ՀԱՅԱՍՏԱՆԻ ՀԱՆՐԱՊԵՏՈՒԹՅԱՆ ԿԱՌԱՎԱՐՈՒԹՅԱՆ 2022 ԹՎԱԿԱՆԻ ԴԵԿՏԵՄԲԵՐԻ 29-Ի N 2111-Ն ՈՐՈՇՄԱՆ N 9.1 ՀԱՎԵԼՎԱԾԻ NN 9.1.7 ԵՎ 9.1.58 ԱՂՅՈՒՍԱԿՆԵՐՈՒՄ ԿԱՏԱՐՎՈՂ ՓՈՓՈԽՈՒԹՅՈՒՆՆԵՐԸ ԵՎ ԼՐԱՑՈՒՄՆԵՐԸ
G7: Աղյուսակ 9.1.7
B8: ՀՀ տարածքային կառավարման և ենթակառուցվածքների նախարարություն
B9: ՄԱՍ 1. ՊԵՏԱԿԱՆ ՄԱՐՄՆԻ ԳԾՈՎ ԱՐԴՅՈՒՆՔԱՅԻՆ (ԿԱՏԱՐՈՂԱԿԱՆ) ՑՈՒՑԱՆԻՇՆԵՐԸ
B11: Ծրագրի դասիչը | C11: Ծրագրի անվանումը
B12: 1049 | C12: Ճանապարհային ցանցի բարելավում
B14: Ծրագրի միջոցառումները
B15: Ծրագրի դասիչը` | C15: 1049 | D15: Ցուցանիշների փոփոխությունը (ավելացումները նշված են դրական նշանով)
B16: Միջոցառման դասիչը` | C16: 21001 | D16: Առաջին եռամսյակ | E16: Առաջին կիսամյակ | F16: Ինն ամիս | G16: Տարի
B17: Միջոցառման անվանումը` | C17: Պետական նշանակության ավտոճանապարհների հիմնանորոգում
B18: Նկարագրությունը` | C18: Միջպետական, հանրապետական և մարզային նշանակության ավտոճոնապարհների քայքայված ծածկի վերանորոգում, մաշված ծածկի փոխարինում
B19: Միջոցառման տեսակը` | C19: Հանրության կողմից անմիջականորեն օգտագործվող ակտիվների հետ կապված միջոցառումներ
B20: Միջոցառումն իրականացնողի անվանումը | C20: Մասնագիտացված միավոր
B21: Արդյունքի չափորոշիչներ
B22: Միջպետական նշանակության ավտոճանապարհներ | D22: 0 | E22: 0 | F22: 0 | G22: 32.9
B23: Հանրապետական նշանակության ավտոճանապարհներ | D23: 0 | E23: 0 | F23: 0 | G23: 14.7
B24: Մարզային նշանակության ավտոճանապարհներ | D24: 0 | E24: 0 | F24: 0 | G24: 42
B25: Աշխատանքների ավարտվածության աստիճան, % | D25: 0 | E25: 0 | F25: 0 | G25: =-G59 -> 94
B26: Միջոցառման վրա կատարվող ծախսը (հազար դրամ) | D26: =+Հ3!E17 -> 172364.9 | E26: =+Հ3!F17 -> 4111562.8 | F26: =+Հ3!G17 -> 14853167 | G26: =+Հ3!H17 -> 17007977
B28: Ծրագրի դասիչը` | C28: 1049 | D28: Ցուցանիշների փոփոխությունը (ավելացումները նշված են դրական նշանով)
B29: Միջոցառման դասիչը` | C29: 21002 | D29: Առաջին եռամսյակ | E29: Առաջին կիսամյակ | F29: Ինն ամիս | G29: Տարի
B30: Միջոցառման անվանումը` | C30: Տրանսպորտային օբյեկտների հիմնանորոգում
B31: Նկարագրությունը` | C31: Ավտոմոբիլային ճանապարհների վրա գտնվող կամուրջների հիմնանորոգում
B32: Միջոցառման տեսակը` | C32: Հանրության կողմից անմիջականորեն օգտագործվող ակտիվների հետ կապված միջոցառումներ
B33: Միջոցառումն իրականացնողի անվանումը | C33: Մասնագիտացված միավոր
B34: Արդյունքի չափորոշիչներ
B35: Հիմնանորոգվող տրանսպորտային օբյեկտների թիվը, այդ թվում՜ | D35: 0 | E35: 0 | F35: 0 | G35: 1
B36: Տրանսպորտային հանգույցներ (ուղեանցեր, հենապատեր և այլն), այդ թվում աշխատանքներ և ծառայություններ | D36: 0 | E36: 0 | F36: 0 | G36: 1
B37: Շինարարություն, հատ | D37: 0 | E37: 0 | F37: 0 | G37: 1
B38: Միջոցառման վրա կատարվող ծախսը (հազար դրամ) | D38: =-D70 -> 5962.3 | E38: =-E70 -> 11163.8 | F38: =-F70 -> 64218.4 | G38: =-G70 -> 67010.7
G41: Աղյուսակ 9.1.58
C42: ՀՀ կառավարություն
B43: ՄԱՍ 1. ՊԵՏԱԿԱՆ ՄԱՐՄՆԻ ԳԾՈՎ ԱՐԴՅՈՒՆՔԱՅԻՆ (ԿԱՏԱՐՈՂԱԿԱՆ) ՑՈՒՑԱՆԻՇՆԵՐԸ
B45: Ծրագրի դասիչը | C45: Ծրագրի անվանումը
B46: 1049 | C46: Ճանապարհային ցանցի բարելավում
B48: Ծրագրի միջոցառումները
B49: Ծրագրի դասիչը` | C49: 1049 | D49: Ցուցանիշների փոփոխությունը (նվազեցումները նշված են փակագծերում)
...

Sheet Հ6
H1: Հավելված N 6
H2: ՀՀ կառավարության 2023 թվականի
H3: ______________ ի ___Ն որոշման
B5: ՀԱՅԱՍՏԱՆԻ ՀԱՆՐԱՊԵՏՈՒԹՅԱՆ ԿԱՌԱՎԱՐՈՒԹՅԱՆ 2022 ԹՎԱԿԱՆԻ ԴԵԿՏԵՄԲԵՐԻ 29-Ի N 2111-Ն ՈՐՈՇՄԱՆ N 10 ՀԱՎԵԼՎԱԾՈՒՄ ԿԱՏԱՐՎՈՂ ԼՐԱՑՈՒՄՆԵՐԸ
B6: Կոդը | C6: Անվանումը | D6: Գնման ձևը | E6: Չափման միավորը | F6: Միավորի գինը | G6: Ցուցանիշների փոփոխությունը (ավելացումները նշված են դրական նշանով)
G7: Քանակը | H7: Գումարը (հազար դրամով)
B8: ՀՀ տարածքային կառավարման և ենթակառուցվածքների նախարարություն | H8: =+H9 -> 16856376
B9: Բաժին N 04 | C9: Խումբ N 05 | D9: Դաս N 01 | E9: Ճանապարհային տրանսպորտ | H9: =+H10+H79 -> 16856376
B10: 1049 21001 | C10: Պետական նշանակության ավտոճանապարհների հիմնանորոգում | H10: =H11+H30 -> 16798509
B11: ՄԱՍ II. ԱՇԽԱՏԱՆՔՆԵՐ | H11: =SUM(H12:H29) -> 16397285
B12: 45231177/570 | C12: ճանապարհների վերանորոգման աշխատանքներ | D12: ՀԲՄ | E12: դրամ | F12: 1162112951 | G12: 1 | H12: 1162113
B13: 45231177/562 | C13: ճանապարհների վերանորոգման աշխատանքներ | D13: ՀԲՄ | E13: դրամ | F13: 351434569 | G13: 1 | H13: =+G13*F13/1000 -> 351434.57
B14: 45231177/509 | C14: ճանապարհների վերանորոգման աշխատանքներ | D14: ԲՄ | E14: դրամ | F14: 663720758 | G14: 1 | H14: =+G14*F14/1000 -> 663720.76
B15: 45231177/563 | C15: ճանապարհների վերանորոգման աշխատանքներ | D15: ՀԲՄ | E15: դրամ | F15: 1277000000 | G15: 1 | H15: =+G15*F15/1000 -> 1277000
B16: 45231177/501 | C16: ճանապարհների վերանորոգման աշխատանքներ | D16: ԲՄ | E16: դրամ | F16: 1080404490 | G16: 1 | H16: =+G16*F16/1000 -> 1080404.5
B17: 45231177/564 | C17: ճանապարհների վերանորոգման աշխատանքներ | D17: ՀԲՄ | E17: դրամ | F17: 530000000 | G17: 1 | H17: =+G17*F17/1000 -> 530000
B18: 45231177/503 | C18: ճանապարհների վերանորոգման աշխատանքներ | D18: ԲՄ | E18: դրամ | F18: 887078318 | G18: 1 | H18: =+G18*F18/1000 -> 887078.32
B19: 45231177/544 | C19: ճանապարհների վերանորոգման աշխատանքներ | D19: ՀԲՄ | E19: դրամ | F19: 846752727 | G19: 1 | H19: =+G19*F19/1000 -> 846752.73
B20: 45231177/601 | C20: ճանապարհների վերանորոգման աշխատանքներ | D20: ՀԲՄ | E20: դրամ | F20: 1989000000 | G20: 1 | H20: =+G20*F20/1000 -> 1989000
B21: 45231177/610 | C21: ճանապարհների վերանորոգման աշխատանքներ | D21: ՀԲՄ | E21: դրամ | F21: 346188456 | G21: 1 | H21: =+G21*F21/1000 -> 346188.46
B22: 45231177/612 | C22: ճանապարհների վերանորոգման աշխատանքներ | D22: ՀԲՄ | E22: դրամ | F22: 64245768 | G22: 1 | H22: =+G22*F22/1000 -> 64245.768
B23: 45231177/506 | C23: ճանապարհների վերանորոգման աշխատանքներ | D23: ԲՄ | E23: դրամ | F23: 127037502 | G23: 1 | H23: =+G23*F23/1000 -> 127037.5
B24: 45231177/607 | C24: ճանապարհների վերանորոգման աշխատանքներ | D24: ՀԲՄ | E24: դրամ | F24: 224900000 | G24: 1 | H24: =+G24*F24/1000 -> 224900
... B29: 45231177/555 | C29: ճանապարհների վերանորոգման աշխատանքներ | D29: ՀԲՄ | E29: դրամ | F29: 1731672305 | G29: 1 | H29: =+G29*F29/1000 -> 1731672.3
B30: ՄԱՍ III. ԾԱՌԱՅՈՒԹՅՈՒՆՆԵՐ | H30: =SUM(H31:H78) -> 401224.3
B31: 98111140/42 | C31: հեղինակային հսկողության ծառայություններ | D31: ՄԱ | E31: դրամ | F31: 10835531 | G31: 1 | H31: =+G31*F31/1000 -> 10835.531
B32: 98111140/72 | C32: հեղինակային հսկողության ծառայություններ | D32: ՄԱ | E32: դրամ | F32: 8200190 | G32: 1 | H32: =+G32*F32/1000 -> 8200.19
B33: 98111140/28 | C33: հեղինակային հսկողության ծառայություններ | D33: ՄԱ | E33: դրամ | F33: 9891341 | G33: 1 | H33: =+G33*F33/1000 -> 9891.341
B34: 98111140/62 | C34: հեղինակային հսկողության ծառայություններ | D34: ՄԱ | E34: դրամ | F34: 12826153 | G34: 1 | H34: =+G34*F34/1000 -> 12826.153
B35: 98111140/63 | C35: հեղինակային հսկողության ծառայություններ | D35: ՄԱ | E35: դրամ | F35: 7434342 | G35: 1 | H35: =+G35*F35/1000 -> 7434.342
B36: 98111140/31 | C36: հեղինակային հսկողության ծառայություններ | D36: ՄԱ | E36: դրամ | F36: 4940800 | G36: 1 | H36: =+G36*F36/1000 -> 4940.8
B37: 98111140/56 | C37: հեղինակային հսկողության ծառայություններ | D37: ՄԱ | E37: դրամ | F37: 5740829 | G37: 1 | H37: =+G37*F37/1000 -> 5740.829
B38: 98111140 | C38: հեղինակային հսկողության ծառայություններ | D38: ՄԱ | E38: դրամ | F38: 5552531 | G38: 1 | H38: =+G38*F38/1000 -> 5552.531
B39: 98111140 | C39: հեղինակային հսկողության ծառայություններ | D39: ՄԱ | E39: դրամ | F39: 13568450 | G39: 1 | H39: =+G39*F39/1000 -> 13568.45
B40: 98111140 | C40: հեղինակային հսկողության ծառայություններ | D40: ՄԱ | E40: դրամ | F40: 2018222 | G40: 1 | H40: =+G40*F40/1000 -> 2018.222
B41: 98111140 | C41: հեղինակային հսկողության ծառայություններ | D41: ՄԱ | E41: դրամ | F41: 374750 | G41: 1 | H41: =+G41*F41/1000 -> 374.75
B42: 98111140 | C42: հեղինակային հսկողության ծառայություններ | D42: ՄԱ | E42: դրամ | F42: 1312926 | G42: 1 | H42: =+G42*F42/1000 -> 1312.926
B43: 98111140/7 | C43: հեղինակային հսկողության ծառայություններ | D43: ՄԱ | E43: դրամ | F43: 23297700 | G43: 1 | H43: =+G43*F43/1000 -> 23297.7
B44: 98111140/61 | C44: հեղինակային հսկողության ծառայություններ | D44: ՄԱ | E44: դրամ | F44: 9406878 | G44: 1 | H44: =+G44*F44/1000 -> 9406.878
B45: 98111140 | C45: հեղինակային հսկողության ծառայություններ | D45: ՄԱ | E45: դրամ | F45: 6789255 | G45: 1 | H45: =+G45*F45/1000 -> 6789.255
...
