Workbook
Name AgencyCode: #REF!
Name AgencyCode: #REF!
Name AgencyCode: #REF!
Name AgencyCode: #REF!
Name AgencyCode: #REF!
Name AgencyName: #REF!
Name AgencyName: #REF!
Name AgencyName: #REF!
Name AgencyName: #REF!
Name åû: #REF!
Name åû: #REF!
Name davit: #REF!
Name davit: #REF!
Name Functional1: #REF!
Name Functional1: #REF!
Name Functional1: #REF!
Name Functional1: #REF!
Name ggg: #REF!
Name ggg: #REF!
Name mas: #REF!
Name mas: #REF!
Name mass: #REF!
Name mass: #REF!
Name PANature: #REF!
Name PANature: #REF!
Name PANature: #REF!
Name PANature: #REF!
Name PAType: #REF!
Name PAType: #REF!
Name PAType: #REF!
Name PAType: #REF!
Name Performance2: #REF!
Name Performance2: #REF!
Name Performance2: #REF!
Name Performance2: #REF!
Name PerformanceType: #REF!
Name PerformanceType: #REF!
Name PerformanceType: #REF!
Name PerformanceType: #REF!
Name x: #REF!
Name x: #REF!
Name Հավելված: #REF!
Name Հավելված: #REF!
Name Հավելված: #REF!
Name Մաս: #REF!
Name Մաս: #REF!
Name Մաս: #REF!
Name շախմատիստ: #REF!
Name շախմատիստ: #REF!
Name շախմատիստ: #REF!

Sheet 1
H1: Հավելված N1
H2: ՀՀ կառավարության 2023 թվականի
H3: ______________ ի ___Ն որոշման
A4: «ՀԱՅԱՍՏԱՆԻ ՀԱՆՐԱՊԵՏՈՒԹՅԱՆ 2023 ԹՎԱԿԱՆԻ ՊԵՏԱԿԱՆ ԲՅՈՒՋԵԻ ՄԱՍԻՆ» ՕՐԵՆՔԻ N 1 ՀԱՎԵԼՎԱԾԻ N 3 ԱՂՅՈՒՍԱԿՈՒՄ ԿԱՏԱՐՎՈՂ ՓՈՓՈԽՈՒԹՅՈՒՆՆԵՐԸ ԵՎ ԼՐԱՑՈՒՄՆԵՐԸ
G5: հազ. դրամ
A6: Ծրագրային դասիչ | C6: Բյուջետային գլխավոր կարգադրիչների, ծրագրերի, միջոցառումների և ուղղությունների անվանումները | D6: Ցուցանիշների փոփոխությունը (Ավելացումները նշված են դրական նշանով, իսկ նվազեցումները` փակագծերում)
D7: Ընդամենը, | E7: այդ թվում՝
A8: Ծրագիր | B8: Միջոցառում | E8: Կառուցման աշխատանքներ | F8: Վերակառուցման, վերանորոգման և վերականգնման աշխատանքներ | G8: Նախագծահե- տազոտական, գեոդեզիա- քարտեզագրա- կան աշխա- տանքներ | H8: Ոչ ֆինանսական այլ ակտիվների ձեռքբերում
C9: ԸՆԴԱՄԵՆԸ | D9: 0 | E9: =+E11 -> 52789 | F9: =+F11 -> -140687.7 | G9: =+G11 -> 87898.7 | H9: =+H11 -> 0
C10: այդ թվում՝
C11: ՀՀ ՏԱՐԱԾՔԱՅԻՆ ԿԱՌԱՎԱՐՄԱՆ ԵՎ ԵՆԹԱԿԱՌՈՒՑՎԱԾՔՆԵՐԻ ՆԱԽԱՐԱՐՈՒԹՅՈՒՆ | D11: 0 | E11: =+E13+E14 -> 52789 | F11: =+F13+F14 -> -140687.7 | G11: =+G13+G14 -> 87898.7 | H11: =+H13+H14 -> 0
C12: այդ թվում`
A13: 1049 | B13: 21001 | C13: Պետական նշանակության ավտոճանապարհների հիմնանորոգում | D13: =+E13+F13+G13+H13 -> -17007977 | E13: 0 | F13: =-G14-F14-E14 -> -17007977 | G13: 0 | H13: 0
A14: 1049 | B14: 21001 | C14: Պետական նշանակության ավտոճանապարհների հիմնանորոգում | D14: =+E14+F14+G14+H14 -> 17007977 | E14: =E16+E28+E42 -> 52789 | F14: =F16+F28+F42 -> 16867289 | G14: =G16+G28+G42 -> 87898.7 | H14: 0
C15: այդ թվում`
B16: =+'[1]3'!B17 -> 1 | C16: =+'[1]3'!C17 -> Միջպետական նշանակության ավտոճանապարհներ, այդ թվում | D16: =+E16+F16+G16+H16 -> 3608204.8 | E16: =SUM(E17:E27) -> 0 | F16: =SUM(F17:F27) -> 3567384.7 | G16: =SUM(G17:G27) -> 40820.1 | H16: =SUM(H17:H27) -> 0
C17: =+Հ3!D20 -> Մ-2, Երևան-Երասխ-Գորիս-Մեղրի-Իրանի սահման կմ53+150 - կմ65+350 հատվածի հիմնանորոգում | D17: =+E17+F17+G17+H17 -> 1216042.5 | E17: 0 | F17: =+Հ3!H20 -> 1216042.5 | G17: 0 | H17: 0
C18: =+Հ3!D21 -> Մ-2, Երևան – Երասխ – Գորիս – Մեղրի – Իրանի Իսլամական Հանրապետության սահման միջպետական նշանակության ավտոճանապարհի կմ245-ից կմ252 հատվածը շրջանցող նոր ճանապարհահատվածի կառուցում | D18: =+E18+F18+G18+H18 -> 17833.4 | E18: 0 | F18: 0 | G18: =+Հ3!H21 -> 17833.4 | H18: 0
C19: =+Հ3!D22 -> /Մ-2/-Տաթև-Աղվանի-/Մ-2/(Սյունիք) միջպետական նշանակության ավտոճանապարհի կմ0+000-կմ19+500 հատվածի հիմնանորոգում | D19: =+E19+F19+G19+H19 -> 2655.7 | E19: =SUM(E20:E20) -> 0 | F19: 0 | G19: =+Հ3!H22 -> 2655.7 | H19: =SUM(H20:H20) -> 0
C20: =+Հ3!D23 -> Մ-2, Երևան-Երասխ-Գորիս-Մեղրի-Իրանի սահման միջպետական նշանակության ավտոճանապարհի կմ329+820 - կմ338+100 հատվածի հիմնանորոգում | D20: =+E20+F20+G20+H20 -> 363633 | E20: 0 | F20: =+Հ3!H23 -> 363633 | G20: 0 | H20: 0
C21: =+Հ3!D24 -> Մ-3, Թուրքիայի սահման-Մարգարա-Վանաձոր-Տաշիր-Վրաստանի սահման միջպետական նշանակության ավտոճանապարհի կմ2+000 - կմ10+500 հատվածի հիմնանորոգում | D21: =+E21+F21+G21+H21 -> 681848.1 | E21: =SUM(E22:E29) -> 0 | F21: =+Հ3!H24 -> 681848.1 | G21: 0 | H21: =SUM(H22:H29) -> 0
C22: =+Հ3!D25 -> Մ-3, Թուրքիայի սահման-Մարգարա-Վանաձոր-Տաշիր-Վրաստանի սահման միջպետական նշանակության ավտոճանապարհի կմ35+535-կմ39+500 հատվածի հիմնանորոգում | D22: =+E22+F22+G22+H22 -> 6346.9 | E22: 0 | F22: 0 | G22: =+Հ3!H25 -> 6346.9 | H22: 0
C23: =+Հ3!D26 -> Մ-3, Թուրքիայի սահման-Մարգարա-Վանաձոր-Տաշիր-Վրաստանի սահման միջպետական նշանակության ավտոճանապարհի կմ116+790 (կմ116+900)-կմ128+718(կմ127+900) հատվածի հիմնանորոգում | D23: =+E23+F23+G23+H23 -> 1139.2 | E23: 0 | F23: 0 | G23: =+Հ3!H26 -> 1139.2 | H23: 0
C24: =+Հ3!D27 -> Մ-5, Երևան - Արմավիր - Թուրքիայի սահման միջպետական նշանակության ավտոճանապարհի կմ17+530-կմ18+200, կմ25+593 - կմ29+385 և կմ32+675 - կմ33+833 աջակողմյան և ձախակողմյան հատվածների հիմնանորոգում | D24: =+E24+F24+G24+H24 -> 8342 | E24: 0 | F24: 0 | G24: =+Հ3!H27 -> 8342 | H24: 0
C25: =+Հ3!D28 -> Մ-8, Վանաձոր (Մ-6 հատման կետ) - Դիլիջան միջպետական նշանակության ավտոճանապարհի կմ40+000 - կմ42+000 հատվածի հիմնանորոգում | D25: =+E25+F25+G25+H25 -> 1560.2 | E25: 0 | F25: 0 | G25: =+Հ3!H28 -> 1560.2 | H25: 0
C26: =+Հ3!D29 -> Մ-10, Սևան-Մարտունի-Գետափ միջպետական նշանակության ավտոճանապարհի կմ1+000-կմ17+000 հատվածի հիմնանորոգում (բացառությամբ կմ2+800-կմ5+300, կմ5+750-կմ5+886 և կմ6+850-կմ7+034 հատվածների) | D26: =+E26+F26+G26+H26 -> 1305861.1 | E26: 0 | F26: =+Հ3!H29 -> 1305861.1 | G26: 0 | H26: 0
C27: =+Հ3!D30 -> Մ-12, /Մ-2/ (Գորիս) – ՀՀ սահման միջպետական նշանակության ավտոճանապարհի կմ0+000 - կմ4+000 հատվածի հիմնանորոգում | D27: =+E27+F27+G27+H27 -> 2942.7 | E27: 0 | F27: 0 | G27: =+Հ3!H30 -> 2942.7 | H27: 0
B28: =+'[1]3'!B29 -> 2 | C28: =+Հ3!D31 -> Հանրապետական նշանակության ավտոճանապարհներ, այդ թվում | D28: =+E28+F28+G28+H28 -> 2652801.4 | E28: =SUM(E29:E41) -> 0 | F28: =SUM(F29:F41) -> 2640152.9 | G28: =SUM(G29:G41) -> 12648.5 | H28: =SUM(H29:H41) -> 0
C29: =+Հ3!D32 -> Հ-1, Վ. Պտղնու տրանսպորտային հանգույց - Ջրաբեր-Հրազդան -Հրազդանի քրեակատարողական հիմնարկ հանրապետական նշանակության ավտոճանապարհի կմ21+700 - կմ24+000 հատվածի հիմնանորոգում | D29: =+E29+F29+G29+H29 -> 108 | E29: 0 | F29: 0 | G29: =+Հ3!H32 -> 108 | H29: 0
C30: =+Հ3!D33 -> Հ-7, /Հ-5/ - Կարենիս - Չարենցավան /Հ-1/ (Ֆանտան)հանրապետական նշանակության ավտոճանապարհի կմ7+580 - կմ10+200 հատվածի հիմնանորոգում | D30: =+E30+F30+G30+H30 -> 140.4 | E30: 0 | F30: 0 | G30: =+Հ3!H33 -> 140.4 | H30: 0
C31: =+Հ3!D34 -> Հ-12, Մասիսի տրանսպորտային հանգույց - Մասիս - Ռանչպար - Արաքս - Ջրառատ - /Մ-3/ հանրապետական նշանակության ավտոճանապարհի կմ0+000 - կմ9+500 հատվածի հիմնանորոգում | D31: =+E31+F31+G31+H31 -> 219438 | E31: 0 | F31: =+Հ3!H34 -> 219438 | G31: 0 | H31: 0
C32: =+Հ3!D35 -> Հ-13, /Մ-3/ (Վաղարշապատ) - Մասիս - /Մ-2/ հանրապետական նշանակության ավտոճանապարհի կմ10+300 - կմ15+300 հատվածի հիմնանորոգում | D32: =+E32+F32+G32+H32 -> 884299.6 | E32: 0 | F32: =+Հ3!H35 -> 884299.6 | G32: 0 | H32: 0
C33: =+Հ3!D36 -> Հ-15, /Մ-5/(Նորապատ) -Արգավանդ –/Մ-3/ (Վարդանաշեն) հանրապետական նշանակության ավտոճանապարհի կմ0+000 - կմ3+000 հատվածի հիմնանորոգում | D33: =+E33+F33+G33+H33 -> 1008 | E33: 0 | F33: 0 | G33: =+Հ3!H36 -> 1008 | H33: 0
C34: =+Հ3!D37 -> Հ-21, /Հ-75/ - Հոռոմ-Արթիկ-Ալագյազ հանրապետական նշանակության ավտոճանապարհի կմ29+600 - կմ32+700 հատվածի հիմնանորոգում | D34: =+E34+F34+G34+H34 -> 981 | E34: 0 | F34: 0 | G34: =+Հ3!H37 -> 981 | H34: 0
C35: =+Հ3!D38 -> Հ-21, /Հ-75/ - Հոռոմ-Արթիկ-Ալագյազ հանրապետական նշանակության ավտոճանապարհի կմ32+700 - կմ41+000 հատվածի հիմնանորոգում | D35: =+E35+F35+G35+H35 -> 2559.1 | E35: 0 | F35: 0 | G35: =+Հ3!H38 -> 2559.1 | H35: 0
C36: =+Հ3!D39 -> Հ-26, /Մ-4/ - Ենոքավան – Կարմիրգյուղ (գյուղատեղի) - /Մ-16/ հանրապետական նշանակության ավտոճանապարհի կմ 0+000-կմ 7+000 հատվածի հիմնանորոգում | D36: =+E36+F36+G36+H36 -> 3743.7 | E36: 0 | F36: 0 | G36: =+Հ3!H39 -> 3743.7 | H36: 0
C37: =+Հ3!D40 -> Հ-30, /Մ-4/ - Ճամբարակ - /Մ-14/ հանրապետական նշանակության ավտոճանապարհի կմ 32+000-կմ 35+000 հատվածի հիմնանորոգում | D37: =+E37+F37+G37+H37 -> 539097.9 | E37: 0 | F37: =+Հ3!H40 -> 539097.9 | G37: 0 | H37: 0
C38: =+Հ3!D41 -> Հ-32, /Մ-1/ (Գյումրի) - Կապս - Ամասիա - /Մ-1/ հանրապետական նշանակության ավտոճանապարհի կմ 20+900-կմ 22+700 և կմ 23+000-կմ 31+200 հատվածների հիմնանորոգում | D38: =+E38+F38+G38+H38 -> 47288.7 | E38: 0 | F38: =+Հ3!H41 -> 47288.7 | G38: 0 | H38: 0
C39: =+Հ3!D42 -> Հ-36, /Մ-4/ (Իջևան) - Նավուր - Բերդ - Այգեպար հանրապետական նշանակության ավտոճանապարհի կմ 5+600-կմ 42+100 հատվածի հիմնանորոգում | D39: =+E39+F39+G39+H39 -> 893203.3 | E39: 0 | F39: =+Հ3!H42 -> 893203.3 | G39: 0 | H39: 0
C40: =+Հ3!D43 -> Հ38,/Հ-30/ (Թթուջուր) – /Հ-36/ (Նավուր) հանրապետական նշանակության ավտոճանապարհի կմ15+100 - կմ40+100 հատվածի հիմնանորոգում | D40: =+E40+F40+G40+H40 -> 4108.3 | E40: 0 | F40: 0 | G40: =+Հ3!H43 -> 4108.3 | H40: 0
C41: =+Հ3!D44 -> Հ-83, /Հ-21/ (Արթիկ)–Պեմզաշեն- /Մ-1/ հանրապետական նշանակության ավտոճանապարհի կմ0+000-կմ8+900 հատվածի հիմնանորոգում | D41: =+E41+F41+G41+H41 -> 56825.4 | E41: 0 | F41: =+Հ3!H44 -> 56825.4 | G41: 0 | H41: 0
B42: =+'[1]3'!B38 -> 3 | C42: =+'[1]3'!C38 -> Մարզային նշանակության ավտոճանապարհներ, այդ թվում | D42: =+E42+F42+G42+H42 -> 10746970 | E42: =SUM(E43:E66) -> 52789 | F42: =SUM(F43:F66) -> 10659751 | G42: =SUM(G43:G66) -> 34430.1 | H42: =SUM(H43:H66) -> 0
C43: =+Հ3!D46 -> Տ-1-50, /Մ-3/ - Լեռնապար ավտոճանապարհի կմ0+000 - կմ3+800 հատվածի հիմնանորոգում | D43: =+E43+F43+G43+H43 -> 1059.9 | E43: 0 | F43: 0 | G43: =+Հ3!H46 -> 1059.9 | H43: 0
C44: =+Հ3!D47 -> Տ-3-44, /Մ-5/ – Ծիածան – Աղավնատուն – Լեռնամերձ ավտոճանապարհի կմ0+000-կմ7+300 հատվածի հիմնանորոգում | D44: =+E44+F44+G44+H44 -> 4574.7 | E44: 0 | F44: 0 | G44: =+Հ3!H47 -> 4574.7 | H44: 0
C45: =+Հ3!D48 -> Տ-3-61, /Մ-5/ (Նորապատ) - /Հ-17/ ավտոճանապարհի կմ0+000-կմ1+700 հատվածի հիմնանորոգում | D45: =+E45+F45+G45+H45 -> 1065.4 | E45: 0 | F45: 0 | G45: =+Հ3!H48 -> 1065.4 | H45: 0
C46: =+Հ3!D49 -> Տ-4-78, /Տ-4-40/ - Նորակերտ - /Մ-14/ (Փոքր Մասրիկ) ավտոճանապարհի կմ5+200-կմ7+200 հատվածի հիմնանորոգում | D46: =+E46+F46+G46+H46 -> 939.9 | E46: 0 | F46: 0 | G46: =+Հ3!H49 -> 939.9 | H46: 0
C47: =+Հ3!D50 -> Մ-6 - Եղեգնուտ - Դեբեդ ավտոճանապարհի կմ0+000 - կմ7+183 հատվածի հիմնանորոգում | D47: =+E47+F47+G47+H47 -> 861102.2 | E47: 0 | F47: =+Հ3!H50 -> 861102.2 | G47: 0 | H47: 0
C48: =+Հ3!D51 -> Տ-5-46,/Մ-6/(Ալավերդի)-Սանահին թաղամաս-Ակներ ավտոճանապարհի կմ0+000-կմ9+300 և Տ-5-46 դեպի Սանահին վանական համալիր տանող հատվածների հիմնանորգում | D48: =+E48+F48+G48+H48 -> 2020388.5 | E48: 0 | F48: =+Հ3!H51 -> 2020388.5 | G48: 0 | H48: 0
C49: =+Հ3!D52 -> /Հ-70/ – Քարինջ մարզային նշանակության ավտոճանապարհի կմ0+000 - կմ3+500 հատվածի հիմնանորոգում | D49: =+E49+F49+G49+H49 -> 351279.8 | E49: 0 | F49: =+Հ3!H52 -> 351279.8 | G49: 0 | H49: 0
C50: =+Հ3!D53 -> Տ-5-93, /Հ-70/ - Մարց մարզային նշանակության ավտոճանապարհի կմ0+000 - կմ0+800 հատվածի հիմնանորոգում | D50: =+E50+F50+G50+H50 -> 65410.7 | E50: 0 | F50: =+Հ3!H53 -> 65410.7 | G50: 0 | H50: 0
C51: =+Հ3!D54 -> Տ-6-19, /Հ5/-Աղբյուրակ (Հրազդան քաղաքի թաղամաս) և Վերին Աղբյուրակի այգեգործական զանգված տանող ավտոճանապարհի 3.7 կմ ընդհանուր երկարությամբ հատվածի հիմնանորոգում | D51: =+E51+F51+G51+H51 -> 234 | E51: 0 | F51: 0 | G51: =+Հ3!H54 -> 234 | H51: 0
C52: Տ-7-42, /Մ-7/ (Գյումրի) – Հացիկ – Կարմրաքար (Տ-7-45) ավտոճանապարհի կմ0+000-կմ 4+000 հատվածի հիմնանորոգում | D52: =+E52+F52+G52+H52 -> 14481.8 | F52: =+Հ3!H55 -> 14481.8 | G52: 0 | H52: 0
C53: =+Հ3!D56 -> Տ-8-13, /Մ-12/ - Վերիշեն - Խոզնավար ավտոճանապարհի կմ0+000 - կմ18+300 հատվածի հիմնանորոգում | D53: =+E53+F53+G53+H53 -> 8882.3 | E53: 0 | F53: 0 | G53: =+Հ3!H56 -> 8882.3 | H53: 0
C54: =+Հ3!D57 -> Տ-8-52 տեղական նշանակության ավտոճանապարհի կմ 8+100-կմ 10+400 (Տ-8-48-ի հետ հատման կետ) և Տ-8-48 տեղական նշանակության ավտոճանապարհի կմ 5+600- կմ 11+200 (Տ-8-49-ի հետ հատման կետ) հատվածների անցանելիության ապահովում և ոլորանների պարամետրերի բարելավում | D54: =+E54+F54+G54+H54 -> 6206.8 | E54: 0 | F54: 0 | G54: =+Հ3!H57 -> 6206.8 | H54: 0
C55: =+Հ3!D58 -> Տ-8-56, /Մ-2/ - Հարժիս ավտոճանապարհի կմ0+000 - կմ8+000 հատվածի հիմնանորոգում | D55: =+E55+F55+G55+H55 -> 4019.9 | E55: 0 | F55: 0 | G55: =+Հ3!H58 -> 4019.9 | H55: 0
C56: =+Հ3!D59 -> Տ-9-19, /Մ-2/ - Հերհեր -Կարմրաշեն մարզային նշանակության ավտոճանապարհի կմ10+000 - կմ18+700 հատվածի հիմնանորոգում | D56: =+E56+F56+G56+H56 -> 133540.4 | E56: 0 | F56: =+Հ3!H59 -> 133540.4 | G56: 0 | H56: 0
C57: =+Հ3!D60 -> Մ-4-Ակնաղբյուր ավտոճանապարհի 2,85կմ հատվածի և դեպի Մատուռ տանող 0,246 կմ ճանապարհի հիմնանորոգում | D57: =+E57+F57+G57+H57 -> 229468.8 | E57: 0 | F57: =+Հ3!H60 -> 229468.8 | G57: 0 | H57: 0
C58: =+Հ3!D61 -> Տ-10-34, /Մ-4/ - Լեռնային Հայաստան առողջարան ավտոճանապարհի կմ0+000 - կմ2+200 հատվածի հիմնանորոգում | D58: =+E58+F58+G58+H58 -> 1195.5 | E58: 0 | F58: 0 | G58: =+Հ3!H61 -> 1195.5 | H58: 0
C59: =+Հ3!D62 -> Հ-36, /Մ-4/ (Իջևան) - Նավուր - Բերդ – Այգեպար հանրապետական նշանակության ավտոճանապարհի 48-րդ կիլոմետրից դեպի զորամաս տանող ճանապարհի հիմնանորոգում | D59: =+E59+F59+G59+H59 -> 158.4 | E59: 0 | F59: 0 | G59: =+Հ3!H62 -> 158.4 | H59: 0
C60: =+Հ3!D63 -> Տ-8-93, Լծեն-Տաթև ավտոճանապարհի վերակառուցում | D60: =+E60+F60+G60+H60 -> 2498372.6 | E60: 0 | F60: =+Հ3!H63 -> 2498372.6 | G60: 0 | H60: 0
C61: =+Հ3!D64 -> Տ-8-49,/Տ-8-48/-Լծեն ավտոճանապարհի վերակառուցում | D61: =+E61+F61+G61+H61 -> 1061283.8 | E61: 0 | F61: =+Հ3!H64 -> 1061283.8 | G61: 0 | H61: 0
C62: =+Հ3!D65 -> Տանձավեր-Շուռնուխ ավտոճանապարհի կառուցում | D62: =+E62+F62+G62+H62 -> 52789 | E62: =+Հ3!H65 -> 52789 | F62: 0 | G62: 0 | H62: 0
C63: =+Հ3!D66 -> /Մ-17/ - Նռնաձոր - /Հ-49/ ավտոճանապարհի կառուցում | D63: =+E63+F63+G63+H63 -> 6093.3 | E63: 0 | F63: 0 | G63: =+Հ3!H66 -> 6093.3 | H63: 0
C64: =+Հ3!D67 -> /Մ-12/-Կոռնիձոր-ՀՀ սահման ավտոճանապարհի կմ0+000-կմ 4+000 հատվածի վերակառուցում | D64: =+E64+F64+G64+H64 -> 1097588.8 | E64: 0 | F64: =+Հ3!H67 -> 1097588.8 | G64: 0 | H64: 0
C65: =+Հ3!D68 -> /Մ-12/-Կոռնիձոր-ՀՀ սահման ավտոճանապարհի կմ4+000-կմ 9+000 հատվածի վերակառուցում | D65: =+E65+F65+G65+H65 -> 561925.2 | E65: 0 | F65: =+Հ3!H68 -> 561925.2 | G65: 0 | H65: 0
C66: =+Հ3!D69 -> /Մ-12/-Կոռնիձոր-ՀՀ սահման ավտոճանապարհի կմ9+000- կմ11+779.75 հատվածի վերակառուցում | D66: =+E66+F66+G66+H66 -> 1764908.8 | E66: 0 | F66: =+Հ3!H69 -> 1764908.8 | G66: 0 | H66: 0
A67: 1049 | B67: 21002 | C67: Տրանսպորտային օբյեկտների հիմնանորոգում | D67: =+E67+F67+G67+H67 -> -67010.7 | E67: =-E68 -> 0 | F67: =+Հ3!H72 -> -67010.7 | G67: 0 | H67: =-H68 -> 0
A68: 1049 | B68: 21002 | C68: Տրանսպորտային օբյեկտների հիմնանորոգում, այդ թվում | D68: =+E68+F68+G68+H68 -> 67010.7 | E68: =SUM(E69:E75) -> 0 | F68: =SUM(F69:F75) -> 63829.1 | G68: =SUM(G69:G75) -> 3181.6 | H68: =SUM(H69:H75) -> 0
C69: =+Հ3!D75 -> Մ-4, Երևան - Սևան - Իջևան - Ադրբեջանի սահման կմ14+796 հատվածում գտնվող կամրջի վերանորոգում | D69: =+E69+F69+G69+H69 -> 5962.3 | E69: 0 | F69: =+Հ3!H75 -> 5962.3 | G69: 0 | H69: 0
C70: =+Հ3!D76 -> Մ-10, Սևան-Մարտունի-Գետափ Կմ 123+500 (Գետափ բնակավայրի դպրոցի մոտ) վերգետնյա հետիոտնային անցման կառուցում | D70: =+E70+F70+G70+H70 -> 55846.9 | E70: =+E69 -> 0 | F70: =+Հ3!H76 -> 55846.9 | G70: 0 | H70: =+H69 -> 0
C71: =+Հ3!D77 -> Տ-2-13, Արգավանդ – Հայանիստ – Հովտաշատ - Արմավիրի մարզի սահման մարզային նշանակության ավտոճանապարհի կմ4+000 կամրջի հիմնանորոգում | D71: =+E71+F71+G71+H71 -> 2019.9 | E71: =+E70 -> 0 | F71: =+Հ3!H77 -> 2019.9 | G71: 0 | H71: =+H70 -> 0
C72: =+Հ3!D78 -> Մ-4, Երևան-Սևան-Իջևան-Ադրբեջանի սահման միջպետական նշանակության ավտոճանապարհի կմ68+000 - կմ69+000 հատվածում փլուզված հողային պաստառի շեպի վերականգնում | D72: =+E72+F72+G72+H72 -> 429.8 | E72: =+E71 -> 0 | F72: 0 | G72: =+Հ3!H78 -> 429.8 | H72: =+H71 -> 0
C73: =+Հ3!D79 -> Հ-53, /Մ-4/ - Սեմյոնովկա - /Մ-4/ հանրապետական նշանակության ավտոճանապարհի կմ0+100 հատվածի կամրջի հիմնանորոգում | D73: =+E73+F73+G73+H73 -> 954 | E73: =+E72 -> 0 | F73: 0 | G73: =+Հ3!H79 -> 954 | H73: =+H72 -> 0
C74: =+Հ3!D80 -> /Մ-4/ - Սևանի թերակղզի հանրապետական նշանակության ավտոճանապարհի կմ1+400 կմ1+500 հատվածում փլուզված հողային պաստառի շեպի վերականգնում | D74: =+E74+F74+G74+H74 -> 429.8 | E74: =+E73 -> 0 | F74: 0 | G74: =+Հ3!H80 -> 429.8 | H74: =+H73 -> 0
C75: =+Հ3!D81 -> Մ-3, Թուրքիայի սահման-Մարգարա-Վանաձոր-Տաշիր-Վրաստանի սահման միջպետական նշանակության ավտոճանապարհի կմ105+500-ում գտնվող կամրջի հիմնանորոգում | D75: =+E75+F75+G75+H75 -> 1368 | E75: =+E74 -> 0 | F75: 0 | G75: =+Հ3!H81 -> 1368 | H75: =+H74 -> 0

Sheet Հ2
J1: Հավելված N 2
J2: ՀՀ կառավարության 2023 թվականի
J3: ______________ ի ___Ն որոշման
A5: ՀԱՅԱՍՏԱՆԻ ՀԱՆՐԱՊԵՏՈՒԹՅԱՆ ԿԱՌԱՎԱՐՈՒԹՅԱՆ 2022 ԹՎԱԿԱՆԻ ԴԵԿՏԵՄԲԵՐԻ 29-Ի N 2111-Ն ՈՐՈՇՄԱՆ N 3 ԵՎ N 4 ՀԱՎԵԼՎԱԾՆԵՐՈՒՄ ԿԱՏԱՐՎՈՂ ՓՈՓՈԽՈՒԹՅՈՒՆՆԵՐԸ ԵՎ ԼՐԱՑՈՒՄՆԵՐԸ
J7: հազար դրամներով
A8: Գործառական դասիչը | D8: Ծրագրային դասիչը | F8: Բյուջետային հատկացումների գլխավոր կարգադրիչների, ծրագրերի, միջոցառումների և միջոցառումները կատարող պետական մարմինների անվանումները | G8: Ցուցանիշների փոփոխությունը (ավելացումները նշված են դրական նշանով, իսկ նվազեցումները` փակագծերում)
A9: Բաժին | B9: Խումբ | C9: Դաս | D9: Ծրագիր | E9: Միջոցառում | G9: Առաջին եռամսյակ | H9: Առաջին կիսամյակ | I9: Ինն ամիս | J9: Տարի
F10: ԸՆԴԱՄԵՆԸ | G10: =+G12 -> 0 | H10: =+H12 -> 0 | I10: =+I12 -> 0 | J10: =+J12 -> 0
F11: այդ թվում
F12: ՀՀ տարածքային կառավարման և ենթակառուցվածքների նախարարություն | G12: =+G13 -> 0 | H12: =+H13 -> 0 | I12: =+I13 -> 0 | J12: =+J13 -> 0
A13: 04 | F13: ՏՆՏԵՍԱԿԱՆ ՀԱՐԱԲԵՐՈՒԹՅՈՒՆՆԵՐ | G13: =G15 -> 0 | H13: =H15 -> 0 | I13: =I15 -> 0 | J13: =J15 -> 0
F14: այդ թվում`
B15: 05 | F15: Տրանսպորտ | G15: =G17 -> 0 | H15: =H17 -> 0 | I15: =I17 -> 0 | J15: =J17 -> 0
F16: այդ թվում`
C17: 01 | F17: Ճանապարհային տրանսպորտ | G17: =+G19 -> 0 | H17: =+H19 -> 0 | I17: =+I19 -> 0 | J17: =+J19 -> 0
F18: այդ թվում`
F19: ՀՀ տարածքային կառավարման և ենթակառուցվածքների նախարարություն | G19: =+G21 -> 0 | H19: =+H21 -> 0 | I19: =+I21 -> 0 | J19: =+J21 -> 0
F20: այդ թվում`
D21: 1049 | F21: Ճանապարհային ցանցի բարելավում | G21: =+G23 -> 0 | H21: =+H23 -> 0 | I21: =+I23 -> 0 | J21: =+J23 -> 0
F22: այդ թվում`
E23: 21001 | F23: Պետական նշանակության ավտոճանապարհների հիմնանորոգում | G23: =G32+G25 -> 0 | H23: =H32+H25 -> 0 | I23: =I32+I25 -> 0 | J23: =J32+J25 -> 0
F24: այդ թվում` ըստ կատարողների
F25: ՀՀ կառավարություն | G25: =G27 -> -172364.9 | H25: =H27 -> -4111562.8 | I25: =I27 -> -14853167 | J25: =J27 -> -17007977
F26: այդ թվում` բյուջետային ծախսերի տնտեսագիտական դասակարգման հոդվածներ
F27: ԸՆԴԱՄԵՆԸ ԾԱԽՍԵՐ | G27: =+G28 -> -172364.9 | H27: =+H28 -> -4111562.8 | I27: =+I28 -> -14853167 | J27: =+J28 -> -17007977
F28: ՈՉ ՖԻՆԱՆՍԱԿԱՆ ԱԿՏԻՎՆԵՐԻ ԳԾՈՎ ԾԱԽՍԵՐ | G28: =G29 -> -172364.9 | H28: =H29 -> -4111562.8 | I28: =I29 -> -14853167 | J28: =J29 -> -17007977
F29: ՀԻՄՆԱԿԱՆ ՄԻՋՈՑՆԵՐ | G29: =G30 -> -172364.9 | H29: =H30 -> -4111562.8 | I29: =I30 -> -14853167 | J29: =J30 -> -17007977
F30: ՇԵՆՔԵՐ ԵՎ ՇԻՆՈՒԹՅՈՒՆՆԵՐ | G30: =G31 -> -172364.9 | H30: =H31 -> -4111562.8 | I30: =I31 -> -14853167 | J30: =J31 -> -17007977
F31: - Շենքերի և շինությունների կապիտալ վերանորոգում | G31: =-G32 -> -172364.9 | H31: =-H32 -> -4111562.8 | I31: =-I32 -> -14853167 | J31: =-J32 -> -17007977
F32: ՀՀ տարածքային կառավարման և ենթակառուցվածքների նախարարություն | G32: =G34 -> 172364.9 | H32: =H34 -> 4111562.8 | I32: =I34 -> 14853167 | J32: =J34 -> 17007977
F33: այդ թվում`բյուջետային ծախսերի տնտեսագիտական դասակարգման հոդվածներ
F34: ԸՆԴԱՄԵՆԸ ԾԱԽՍԵՐ | G34: =+G35 -> 172364.9 | H34: =+H35 -> 4111562.8 | I34: =+I35 -> 14853167 | J34: =+J35 -> 17007977
F35: ՈՉ ՖԻՆԱՆՍԱԿԱՆ ԱԿՏԻՎՆԵՐԻ ԳԾՈՎ ԾԱԽՍԵՐ | G35: =G36 -> 172364.9 | H35: =H36 -> 4111562.8 | I35: =I36 -> 14853167 | J35: =J36 -> 17007977
F36: ՀԻՄՆԱԿԱՆ ՄԻՋՈՑՆԵՐ | G36: =G37+G40 -> 172364.9 | H36: =H37+H40 -> 4111562.8 | I36: =I37+I40 -> 14853167 | J36: =J37+J40 -> 17007977
F37: ՇԵՆՔԵՐ ԵՎ ՇԻՆՈՒԹՅՈՒՆՆԵՐ | G37: =+G38+G39 -> 171384.9 | H37: =+H38+H39 -> 4036540.7 | I37: =+I38+I39 -> 14765269 | J37: =+J38+J39 -> 16920078
F38: - Շենքերի և շինությունների շինարարություն | G38: =+Հ3!E65 -> 52789 | H38: =+Հ3!F65 -> 52789 | I38: =+Հ3!G65 -> 52789 | J38: =+Հ3!H65 -> 52789
F39: - Շենքերի և շինությունների կապիտալ վերանորոգում | G39: =Հ3!E55+Հ3!E20+Հ3!E23+Հ3!E24+Հ3!E29+Հ3!E34+Հ3!E35+Հ3!E40+Հ3!E41+Հ3!E42+Հ3!E44+Հ3!E50+Հ3!E51+Հ3!E52+Հ3!E53+Հ3!E59+Հ3!E60+Հ3!E63+Հ3!E64+Հ3!E67+Հ3!E68+Հ3!E69 -> 118595.9 | H39: =Հ3!F55+Հ3!F20+Հ3!F23+Հ3!F24+Հ3!F29+Հ3!F34+Հ3!F35+Հ3!F40+Հ3!F41+Հ3!F42+Հ3!F44+Հ3!F50+Հ3!F51+Հ3!F52+Հ3!F53+Հ3!F59+Հ3!F60+Հ3!F63+Հ3!F64+Հ3!F67+Հ3!F68+Հ3!F69 -> 3983751.7 | I39: =Հ3!G55+Հ3!G20+Հ3!G23+Հ3!G24+Հ3!G29+Հ3!G34+Հ3!G35+Հ3!G40+Հ3!G41+Հ3!G42+Հ3!G44+Հ3!G50+Հ3!G51+Հ3!G52+Հ3!G53+Հ3!G59+Հ3!G60+Հ3!G63+Հ3!G64+Հ3!G67+Հ3!G68+Հ3!G69 -> 14712480 | J39: =Հ3!H55+Հ3!H20+Հ3!H23+Հ3!H24+Հ3!H29+Հ3!H34+Հ3!H35+Հ3!H40+Հ3!H41+Հ3!H42+Հ3!H44+Հ3!H50+Հ3!H51+Հ3!H52+Հ3!H53+Հ3!H59+Հ3!H60+Հ3!H63+Հ3!H64+Հ3!H67+Հ3!H68+Հ3!H69 -> 16867289
F40: ԱՅԼ ՀԻՄՆԱԿԱՆ ՄԻՋՈՑՆԵՐ | G40: =+G41 -> 980 | H40: =+H41 -> 75022.1 | I40: =+I41 -> 87898.7 | J40: =+J41 -> 87898.7
F41: - Նախագծահետազոտական ծախսեր | G41: =+Հ3!E66+Հ3!E62+Հ3!E61+Հ3!E58+Հ3!E56+Հ3!E54+Հ3!E49+Հ3!E48+Հ3!E47+Հ3!E46+Հ3!E43+Հ3!E39+Հ3!E38+Հ3!E37+Հ3!E36+Հ3!E33+Հ3!E32+Հ3!E30+Հ3!E28+Հ3!E27+Հ3!E26+Հ3!E25+Հ3!E22+Հ3!E21+Հ3!E57 -> 980 | H41: =+Հ3!F66+Հ3!F62+Հ3!F61+Հ3!F58+Հ3!F56+Հ3!F54+Հ3!F49+Հ3!F48+Հ3!F47+Հ3!F46+Հ3!F43+Հ3!F39+Հ3!F38+Հ3!F37+Հ3!F36+Հ3!F33+Հ3!F32+Հ3!F30+Հ3!F28+Հ3!F27+Հ3!F26+Հ3!F25+Հ3!F22+Հ3!F21+Հ3!F57 -> 75022.1 | I41: =+Հ3!G66+Հ3!G62+Հ3!G61+Հ3!G58+Հ3!G56+Հ3!G54+Հ3!G49+Հ3!G48+Հ3!G47+Հ3!G46+Հ3!G43+Հ3!G39+Հ3!G38+Հ3!G37+Հ3!G36+Հ3!G33+Հ3!G32+Հ3!G30+Հ3!G28+Հ3!G27+Հ3!G26+Հ3!G25+Հ3!G22+Հ3!G21+Հ3!G57 -> 87898.7 | J41: =+Հ3!H66+Հ3!H62+Հ3!H61+Հ3!H58+Հ3!H56+Հ3!H54+Հ3!H49+Հ3!H48+Հ3!H47+Հ3!H46+Հ3!H43+Հ3!H39+Հ3!H38+Հ3!H37+Հ3!H36+Հ3!H33+Հ3!H32+Հ3!H30+Հ3!H28+Հ3!H27+Հ3!H26+Հ3!H25+Հ3!H22+Հ3!H21+Հ3!H57 -> 87898.7
E42: 21002 | F42: Տրանսպորտային օբյեկտների հիմնանորոգում | G42: =G51+G44 -> 0 | H42: =H51+H44 -> 0 | I42: =I51+I44 -> 0 | J42: =J51+J44 -> 0
F43: այդ թվում` ըստ կատարողների
F44: ՀՀ կառավարություն | G44: =G46 -> -5962.3 | H44: =H46 -> -11163.8 | I44: =I46 -> -64218.4 | J44: =J46 -> -67010.7
F45: այդ թվում` բյուջետային ծախսերի տնտեսագիտական դասակարգման հոդվածներ
F46: ԸՆԴԱՄԵՆԸ ԾԱԽՍԵՐ | G46: =+G47 -> -5962.3 | H46: =+H47 -> -11163.8 | I46: =+I47 -> -64218.4 | J46: =+J47 -> -67010.7
F47: ՈՉ ՖԻՆԱՆՍԱԿԱՆ ԱԿՏԻՎՆԵՐԻ ԳԾՈՎ ԾԱԽՍԵՐ | G47: =G48 -> -5962.3 | H47: =H48 -> -11163.8 | I47: =I48 -> -64218.4 | J47: =J48 -> -67010.7
F48: ՀԻՄՆԱԿԱՆ ՄԻՋՈՑՆԵՐ | G48: =G49 -> -5962.3 | H48: =H49 -> -11163.8 | I48: =I49 -> -64218.4 | J48: =J49 -> -67010.7
F49: ՇԵՆՔԵՐ ԵՎ ՇԻՆՈՒԹՅՈՒՆՆԵՐ | G49: =G50 -> -5962.3 | H49: =H50 -> -11163.8 | I49: =I50 -> -64218.4 | J49: =J50 -> -67010.7
F50: - Շենքերի և շինությունների կապիտալ վերանորոգում | G50: =-G51 -> -5962.3 | H50: =-H51 -> -11163.8 | I50: =-I51 -> -64218.4 | J50: =-J51 -> -67010.7
F51: ՀՀ տարածքային կառավարման և ենթակառուցվածքների նախարարություն | G51: =G53 -> 5962.3 | H51: =H53 -> 11163.8 | I51: =I53 -> 64218.4 | J51: =J53 -> 67010.7
F52: այդ թվում`բյուջետային ծախսերի տնտեսագիտական դասակարգման հոդվածներ
F53: ԸՆԴԱՄԵՆԸ ԾԱԽՍԵՐ | G53: =+G54 -> 5962.3 | H53: =+H54 -> 11163.8 | I53: =+I54 -> 64218.4 | J53: =+J54 -> 67010.7
F54: ՈՉ ՖԻՆԱՆՍԱԿԱՆ ԱԿՏԻՎՆԵՐԻ ԳԾՈՎ ԾԱԽՍԵՐ | G54: =G55 -> 5962.3 | H54: =H55 -> 11163.8 | I54: =I55 -> 64218.4 | J54: =J55 -> 67010.7
F55: ՀԻՄՆԱԿԱՆ ՄԻՋՈՑՆԵՐ | G55: =G56+G58 -> 5962.3 | H55: =H56+H58 -> 11163.8 | I55: =I56+I58 -> 64218.4 | J55: =J56+J58 -> 67010.7
F56: ՇԵՆՔԵՐ ԵՎ ՇԻՆՈՒԹՅՈՒՆՆԵՐ | G56: =+G57 -> 5962.3 | H56: =+H57 -> 7982.2 | I56: =+I57 -> 61036.8 | J56: =+J57 -> 63829.1
F57: - Շենքերի և շինությունների կապիտալ վերանորոգում | G57: =+Հ3!E77+Հ3!E76+Հ3!E75 -> 5962.3 | H57: =+Հ3!F77+Հ3!F76+Հ3!F75 -> 7982.2 | I57: =+Հ3!G77+Հ3!G76+Հ3!G75 -> 61036.8 | J57: =+Հ3!H77+Հ3!H76+Հ3!H75 -> 63829.1
F58: ԱՅԼ ՀԻՄՆԱԿԱՆ ՄԻՋՈՑՆԵՐ | G58: =+G59 -> 0 | H58: =+H59 -> 3181.6 | I58: =+I59 -> 3181.6 | J58: =+J59 -> 3181.6
F59: - Նախագծահետազոտական ծախսեր | G59: =+Հ3!E81+Հ3!E80+Հ3!E79+Հ3!E78 -> 0 | H59: =+Հ3!F81+Հ3!F80+Հ3!F79+Հ3!F78 -> 3181.6 | I59: =+Հ3!G81+Հ3!G80+Հ3!G79+Հ3!G78 -> 3181.6 | J59: =+Հ3!H81+Հ3!H80+Հ3!H79+Հ3!H78 -> 3181.6

Sheet Հ3
H1: Հավելված 3
H2: ՀՀ կառավարության 2023 թվականի
H3: ______________ ի ___Ն որոշման
A5: ՀԱՅԱՍՏԱՆԻ ՀԱՆՐԱՊԵՏՈՒԹՅԱՆ ԿԱՌԱՎԱՐՈՒԹՅԱՆ 2022 ԹՎԱԿԱՆԻ ԴԵԿՏԵՄԲԵՐԻ 29-Ի N 2111-Ն ՈՐՈՇՄԱՆ N 5 ՀԱՎԵԼՎԱԾԻ N 2 ԱՂՅՈՒՍԱԿՈՒՄ ԿԱՏԱՐՎՈՂ ՓՈՓՈԽՈՒԹՅՈՒՆՆԵՐԸ ԵՎ ԼՐԱՑՈՒՄՆԵՐԸ
H7: հազար դրամներով
B8: Ծրագրային դասիչը | D8: Հատկացումների տրամադրման նպատակները և բյուջետային գլխավոր կարգադրիչների, ծրագրերի, միջոցառումների և կատարող պետական մարմնի անվանումները | E8: Ցուցանիշների փոփոխությունը (Ավելացումները նշված են դրական նշանով, իսկ նվազեցումները` փակագծերում)
B9: Ծրագիր | C9: Միջոցառում | E9: Առաջին եռամսյակ | F9: Առաջին կիսամյակ | G9: Ինն ամիս | H9: Տարի
D10: ԸՆԴԱՄԵՆԸ | E10: =+E12 -> 0 | F10: =+F12 -> 0 | G10: =+G12 -> 0 | H10: =+H12 -> 0
D11: այդ թվում՝
D12: ՀՀ ՏԱՐԱԾՔԱՅԻՆ ԿԱՌԱՎԱՐՄԱՆ ԵՎ ԵՆԹԱԿԱՌՈՒՑՎԱԾՔՆԵՐԻ ՆԱԽԱՐԱՐՈՒԹՅՈՒՆ | E12: =+E14+E70 -> 0 | F12: =+F14+F70 -> 0 | G12: =+G14+G70 -> 0 | H12: =+H14+H70 -> 0
D13: այդ թվում`
B14: 1049 | C14: 21001 | D14: Պետական նշանակության ավտոճանապարհների հիմնանորոգում | E14: =+E16+E17 -> 0 | F14: =+F16+F17 -> 0 | G14: =+G16+G17 -> 0 | H14: =+H16+H17 -> 0
D15: այդ թվում` ըստ կատարողների
D16: ՀՀ կառավարություն | E16: =-E17 -> -172364.9 | F16: =-F17 -> -4111562.8 | G16: =-G17 -> -14853167 | H16: =-H17 -> -17007977
D17: ՀՀ տարածքային կառավարման և ենթակառուցվածքների նախարարություն | E17: =+E19+E31+E45 -> 172364.9 | F17: =+F19+F31+F45 -> 4111562.8 | G17: =+G19+G31+G45 -> 14853167 | H17: =+H19+H31+H45 -> 17007977
D18: այդ թվում՝ ըստ ուղղությունների
C19: 1 | D19: Միջպետական նշանակության ավտոճանապարհներ, այդ թվում | E19: =SUM(E20:E30) -> 980 | F19: =SUM(F20:F30) -> 725533.9 | G19: =SUM(G20:G30) -> 2753918.3 | H19: =SUM(H20:H30) -> 3608204.8
D20: Մ-2, Երևան-Երասխ-Գորիս-Մեղրի-Իրանի սահման կմ53+150 - կմ65+350 հատվածի հիմնանորոգում | E20: 0 | F20: 206727.3 | G20: 1094438.3 | H20: 1216042.5
D21: Մ-2, Երևան – Երասխ – Գորիս – Մեղրի – Իրանի Իսլամական Հանրապետության սահման միջպետական նշանակության ավտոճանապարհի կմ245-ից կմ252 հատվածը շրջանցող նոր ճանապարհահատվածի կառուցում | E21: 0 | F21: 12811.4 | G21: 17833.4 | H21: 17833.4
D22: /Մ-2/-Տաթև-Աղվանի-/Մ-2/(Սյունիք) միջպետական նշանակության ավտոճանապարհի կմ0+000-կմ19+500 հատվածի հիմնանորոգում | E22: 0 | F22: 2655.7 | G22: 2655.7 | H22: 2655.7
D23: Մ-2, Երևան-Երասխ-Գորիս-Մեղրի-Իրանի սահման միջպետական նշանակության ավտոճանապարհի կմ329+820 - կմ338+100 հատվածի հիմնանորոգում | E23: 0 | F23: 54545 | G23: 363633 | H23: 363633
D24: Մ-3, Թուրքիայի սահման-Մարգարա-Վանաձոր-Տաշիր-Վրաստանի սահման միջպետական նշանակության ավտոճանապարհի կմ2+000 - կմ10+500 հատվածի հիմնանորոգում | E24: 0 | F24: 170462.1 | G24: 340924.1 | H24: 681848.1
D25: Մ-3, Թուրքիայի սահման-Մարգարա-Վանաձոր-Տաշիր-Վրաստանի սահման միջպետական նշանակության ավտոճանապարհի կմ35+535-կմ39+500 հատվածի հիմնանորոգում | E25: 0 | F25: 4546.8 | G25: 6346.9 | H25: 6346.9
D26: Մ-3, Թուրքիայի սահման-Մարգարա-Վանաձոր-Տաշիր-Վրաստանի սահման միջպետական նշանակության ավտոճանապարհի կմ116+790 (կմ116+900)-կմ128+718(կմ127+900) հատվածի հիմնանորոգում | E26: 0 | F26: 1139.2 | G26: 1139.2 | H26: 1139.2
D27: Մ-5, Երևան - Արմավիր - Թուրքիայի սահման միջպետական նշանակության ավտոճանապարհի կմ17+530-կմ18+200, կմ25+593 - կմ29+385 և կմ32+675 - կմ33+833 աջակողմյան և ձախակողմյան հատվածների հիմնանորոգում | E27: 980 | F27: 8342 | G27: 8342 | H27: 8342
D28: Մ-8, Վանաձոր (Մ-6 հատման կետ) - Դիլիջան միջպետական նշանակության ավտոճանապարհի կմ40+000 - կմ42+000 հատվածի հիմնանորոգում | E28: 0 | F28: 189.4 | G28: 1560.2 | H28: 1560.2
D29: Մ-10, Սևան-Մարտունի-Գետափ միջպետական նշանակության ավտոճանապարհի կմ1+000-կմ17+000 հատվածի հիմնանորոգում (բացառությամբ կմ2+800-կմ5+300, կմ5+750-կմ5+886 և կմ6+850-կմ7+034 հատվածների) | E29: 0 | F29: 261172.3 | G29: 914102.8 | H29: 1305861.1
D30: Մ-12, /Մ-2/ (Գորիս) – ՀՀ սահման միջպետական նշանակության ավտոճանապարհի կմ0+000 - կմ4+000 հատվածի հիմնանորոգում | E30: 0 | F30: 2942.7 | G30: 2942.7 | H30: 2942.7
C31: 2 | D31: Հանրապետական նշանակության ավտոճանապարհներ, այդ թվում | E31: =SUM(E32:E44) -> 104114.1 | F31: =SUM(F32:F44) -> 1541829.8 | G31: =SUM(G32:G44) -> 2456552 | H31: =SUM(H32:H44) -> 2652801.4
D32: Հ-1, Վ. Պտղնու տրանսպորտային հանգույց - Ջրաբեր-Հրազդան -Հրազդանի քրեակատարողական հիմնարկ հանրապետական նշանակության ավտոճանապարհի կմ21+700 - կմ24+000 հատվածի հիմնանորոգում | E32: 0 | F32: 108 | G32: 108 | H32: 108
D33: Հ-7, /Հ-5/ - Կարենիս - Չարենցավան /Հ-1/ (Ֆանտան)հանրապետական նշանակության ավտոճանապարհի կմ7+580 - կմ10+200 հատվածի հիմնանորոգում | E33: 0 | F33: 140.4 | G33: 140.4 | H33: 140.4
D34: Հ-12, Մասիսի տրանսպորտային հանգույց - Մասիս - Ռանչպար - Արաքս - Ջրառատ - /Մ-3/ հանրապետական նշանակության ավտոճանապարհի կմ0+000 - կմ9+500 հատվածի հիմնանորոգում | E34: 0 | F34: 219438 | G34: 219438 | H34: 219438
D35: Հ-13, /Մ-3/ (Վաղարշապատ) - Մասիս - /Մ-2/ հանրապետական նշանակության ավտոճանապարհի կմ10+300 - կմ15+300 հատվածի հիմնանորոգում | E35: 0 | F35: 707439.7 | G35: 795869.7 | H35: 884299.6
D36: Հ-15, /Մ-5/(Նորապատ) -Արգավանդ –/Մ-3/ (Վարդանաշեն) հանրապետական նշանակության ավտոճանապարհի կմ0+000 - կմ3+000 հատվածի հիմնանորոգում | E36: 0 | F36: 1008 | G36: 1008 | H36: 1008
D37: Հ-21, /Հ-75/ - Հոռոմ-Արթիկ-Ալագյազ հանրապետական նշանակության ավտոճանապարհի կմ29+600 - կմ32+700 հատվածի հիմնանորոգում | E37: 0 | F37: 981 | G37: 981 | H37: 981
D38: Հ-21, /Հ-75/ - Հոռոմ-Արթիկ-Ալագյազ հանրապետական նշանակության ավտոճանապարհի կմ32+700 - կմ41+000 հատվածի հիմնանորոգում | E38: 0 | F38: 2559.1 | G38: 2559.1 | H38: 2559.1
D39: Հ-26, /Մ-4/ - Ենոքավան – Կարմիրգյուղ (գյուղատեղի) - /Մ-16/ հանրապետական նշանակության ավտոճանապարհի կմ 0+000-կմ 7+000 հատվածի հիմնանորոգում | E39: 0 | F39: 3743.7 | G39: 3743.7 | H39: 3743.7
D40: Հ-30, /Մ-4/ - Ճամբարակ - /Մ-14/ հանրապետական նշանակության ավտոճանապարհի կմ 32+000-կմ 35+000 հատվածի հիմնանորոգում | E40: 0 | F40: 53909.8 | G40: 431278.4 | H40: 539097.9
D41: Հ-32, /Մ-1/ (Գյումրի) - Կապս - Ամասիա - /Մ-1/ հանրապետական նշանակության ավտոճանապարհի կմ 20+900-կմ 22+700 և կմ 23+000-կմ 31+200 հատվածների հիմնանորոգում | E41: 47288.7 | F41: 47288.7 | G41: 47288.7 | H41: 47288.7
D42: Հ-36, /Մ-4/ (Իջևան) - Նավուր - Բերդ - Այգեպար հանրապետական նշանակության ավտոճանապարհի կմ 5+600-կմ 42+100 հատվածի հիմնանորոգում | E42: 0 | F42: 446601.7 | G42: 893203.3 | H42: 893203.3
D43: Հ38,/Հ-30/ (Թթուջուր) – /Հ-36/ (Նավուր) հանրապետական նշանակության ավտոճանապարհի կմ15+100 - կմ40+100 հատվածի հիմնանորոգում | E43: 0 | F43: 1786.3 | G43: 4108.3 | H43: 4108.3
D44: Հ-83, /Հ-21/ (Արթիկ)–Պեմզաշեն- /Մ-1/ հանրապետական նշանակության ավտոճանապարհի կմ0+000-կմ8+900 հատվածի հիմնանորոգում | E44: 56825.4 | F44: 56825.4 | G44: 56825.4 | H44: 56825.4
C45: 3 | D45: Մարզային նշանակության ավտոճանապարհներ, այդ թվում | E45: =SUM(E46:E69) -> 67270.8 | F45: =SUM(F46:F69) -> 1844199.1 | G45: =SUM(G46:G69) -> 9642696.9 | H45: =SUM(H46:H69) -> 10746970
D46: Տ-1-50, /Մ-3/ - Լեռնապար ավտոճանապարհի կմ0+000 - կմ3+800 հատվածի հիմնանորոգում | E46: 0 | F46: 1059.9 | G46: 1059.9 | H46: 1059.9
D47: Տ-3-44, /Մ-5/ – Ծիածան – Աղավնատուն – Լեռնամերձ ավտոճանապարհի կմ0+000-կմ7+300 հատվածի հիմնանորոգում | E47: 0 | F47: 4574.7 | G47: 4574.7 | H47: 4574.7
D48: Տ-3-61, /Մ-5/ (Նորապատ) - /Հ-17/ ավտոճանապարհի կմ0+000-կմ1+700 հատվածի հիմնանորոգում | E48: 0 | F48: 1065.4 | G48: 1065.4 | H48: 1065.4
D49: Տ-4-78, /Տ-4-40/ - Նորակերտ - /Մ-14/ (Փոքր Մասրիկ) ավտոճանապարհի կմ5+200-կմ7+200 հատվածի հիմնանորոգում | E49: 0 | F49: 939.9 | G49: 939.9 | H49: 939.9
D50: Մ-6 - Եղեգնուտ - Դեբեդ ավտոճանապարհի կմ0+000 - կմ7+183 հատվածի հիմնանորոգում | E50: 0 | F50: 86110.3 | G50: 688881.8 | H50: 861102.2
D51: Տ-5-46,/Մ-6/(Ալավերդի)-Սանահին թաղամաս-Ակներ ավտոճանապարհի կմ0+000-կմ9+300 և Տ-5-46 դեպի Սանահին վանական համալիր տանող հատվածների հիմնանորգում | E51: 0 | F51: 202038.9 | G51: 1414272 | H51: 2020388.5
D52: /Հ-70/ – Քարինջ մարզային նշանակության ավտոճանապարհի կմ0+000 - կմ3+500 հատվածի հիմնանորոգում | E52: 0 | F52: 0 | G52: 245895.9 | H52: 351279.8
D53: Տ-5-93, /Հ-70/ - Մարց մարզային նշանակության ավտոճանապարհի կմ0+000 - կմ0+800 հատվածի հիմնանորոգում | E53: 0 | F53: 0 | G53: 45787.5 | H53: 65410.7
D54: Տ-6-19, /Հ5/-Աղբյուրակ (Հրազդան քաղաքի թաղամաս) և Վերին Աղբյուրակի այգեգործական զանգված տանող ավտոճանապարհի 3.7 կմ ընդհանուր երկարությամբ հատվածի հիմնանորոգում | E54: 0 | F54: 234 | G54: 234 | H54: 234
D55: Տ-7-42, /Մ-7/ (Գյումրի) – Հացիկ – Կարմրաքար (Տ-7-45) ավտոճանապարհի կմ0+000-կմ 4+000 հատվածի հիմնանորոգում | E55: 14481.8 | F55: 14481.8 | G55: 14481.8 | H55: 14481.8
D56: Տ-8-13, /Մ-12/ - Վերիշեն - Խոզնավար ավտոճանապարհի կմ0+000 - կմ18+300 հատվածի հիմնանորոգում | E56: 0 | F56: 8882.3 | G56: 8882.3 | H56: 8882.3
D57: Տ-8-52 տեղական նշանակության ավտոճանապարհի կմ 8+100-կմ 10+400 (Տ-8-48-ի հետ հատման կետ) և Տ-8-48 տեղական նշանակության ավտոճանապարհի կմ 5+600- կմ 11+200 (Տ-8-49-ի հետ հատման կետ) հատվածների անցանելիության ապահովում և ոլորանների պարամետրերի բարելավում | F57: 4442.8 | G57: 6206.8 | H57: 6206.8
D58: Տ-8-56, /Մ-2/ - Հարժիս ավտոճանապարհի կմ0+000 - կմ8+000 հատվածի հիմնանորոգում | E58: 0 | F58: 4019.9 | G58: 4019.9 | H58: 4019.9
D59: Տ-9-19, /Մ-2/ - Հերհեր -Կարմրաշեն մարզային նշանակության ավտոճանապարհի կմ10+000 - կմ18+700 հատվածի հիմնանորոգում | E59: 0 | F59: 40062.2 | G59: 133540.4 | H59: 133540.4
D60: Մ-4-Ակնաղբյուր ավտոճանապարհի 2,85կմ հատվածի և դեպի Մատուռ տանող 0,246 կմ ճանապարհի հիմնանորոգում | E60: 0 | F60: 80314.1 | G60: 206522 | H60: 229468.8
D61: Տ-10-34, /Մ-4/ - Լեռնային Հայաստան առողջարան ավտոճանապարհի կմ0+000 - կմ2+200 հատվածի հիմնանորոգում | E61: 0 | F61: 597.8 | G61: 1195.5 | H61: 1195.5
D62: Հ-36, /Մ-4/ (Իջևան) - Նավուր - Բերդ – Այգեպար հանրապետական նշանակության ավտոճանապարհի 48-րդ կիլոմետրից դեպի զորամաս տանող ճանապարհի հիմնանորոգում | E62: 0 | F62: 158.4 | G62: 158.4 | H62: 158.4
D63: Տ-8-93, Լծեն-Տաթև ավտոճանապարհի վերակառուցում | E63: 0 | F63: 853310.8 | G63: 2373454 | H63: 2498372.6
D64: Տ-8-49,/Տ-8-48/-Լծեն ավտոճանապարհի վերակառուցում | E64: 0 | F64: 318385.2 | G64: 1008219.6 | H64: 1061283.8
D65: Տանձավեր-Շուռնուխ ավտոճանապարհի կառուցում | E65: 52789 | F65: 52789 | G65: 52789 | H65: 52789
D66: /Մ-17/ - Նռնաձոր - /Հ-49/ ավտոճանապարհի կառուցում | E66: 0 | F66: 6093.3 | G66: 6093.3 | H66: 6093.3
D67: /Մ-12/-Կոռնիձոր-ՀՀ սահման ավտոճանապարհի կմ0+000-կմ 4+000 հատվածի վերակառուցում | E67: 0 | F67: 164638.4 | G67: 1097588.8 | H67: 1097588.8
D68: /Մ-12/-Կոռնիձոր-ՀՀ սահման ավտոճանապարհի կմ4+000-կմ 9+000 հատվածի վերակառուցում | E68: 0 | F68: 0 | G68: 561925.2 | H68: 561925.2
D69: /Մ-12/-Կոռնիձոր-ՀՀ սահման ավտոճանապարհի կմ9+000- կմ11+779.75 հատվածի վերակառուցում | E69: 0 | F69: 0 | G69: 1764908.8 | H69: 1764908.8
B70: 1049 | C70: 21002 | D70: Տրանսպորտային օբյեկտների հիմնանորոգում | E70: =+E72+E73 -> 0 | F70: =+F72+F73 -> 0 | G70: =+G72+G73 -> 0 | H70: =+H72+H73 -> 0
D71: այդ թվում` ըստ կատարողների
D72: ՀՀ կառավարություն | E72: =-E73 -> -5962.3 | F72: =-F73 -> -11163.8 | G72: =-G73 -> -64218.4 | H72: =-H73 -> -67010.7
D73: ՀՀ տարածքային կառավարման և ենթակառուցվածքների նախարարություն | E73: =SUM(E75:E81) -> 5962.3 | F73: =SUM(F75:F81) -> 11163.8 | G73: =SUM(G75:G81) -> 64218.4 | H73: =SUM(H75:H81) -> 67010.7
D74: այդ թվում՝ ըստ ուղղությունների
D75: Մ-4, Երևան - Սևան - Իջևան - Ադրբեջանի սահման կմ14+796 հատվածում գտնվող կամրջի վերանորոգում | E75: 5962.3 | F75: 5962.3 | G75: 5962.3 | H75: 5962.3
D76: Մ-10, Սևան-Մարտունի-Գետափ Կմ 123+500 (Գետափ բնակավայրի դպրոցի մոտ) վերգետնյա հետիոտնային անցման կառուցում | E76: 0 | F76: 0 | G76: 53054.6 | H76: 55846.9
D77: Տ-2-13, Արգավանդ – Հայանիստ – Հովտաշատ - Արմավիրի մարզի սահման մարզային նշանակության ավտոճանապարհի կմ4+000 կամրջի հիմնանորոգում | E77: 0 | F77: 2019.9 | G77: 2019.9 | H77: 2019.9
D78: Մ-4, Երևան-Սևան-Իջևան-Ադրբեջանի սահման միջպետական նշանակության ավտոճանապարհի կմ68+000 - կմ69+000 հատվածում փլուզված հողային պաստառի շեպի վերականգնում | E78: 0 | F78: 429.8 | G78: 429.8 | H78: 429.8
D79: Հ-53, /Մ-4/ - Սեմյոնովկա - /Մ-4/ հանրապետական նշանակության ավտոճանապարհի կմ0+100 հատվածի կամրջի հիմնանորոգում | E79: 0 | F79: 954 | G79: 954 | H79: 954
D80: /Մ-4/ - Սևանի թերակղզի հանրապետական նշանակության ավտոճանապարհի կմ1+400 կմ1+500 հատվածում փլուզված հողային պաստառի շեպի վերականգնում | E80: 0 | F80: 429.8 | G80: 429.8 | H80: 429.8
D81: Մ-3, Թուրքիայի սահման-Մարգարա-Վանաձոր-Տաշիր-Վրաստանի սահման միջպետական նշանակության ավտոճանապարհի կմ105+500-ում գտնվող կամրջի հիմնանորոգում | E81: 0 | F81: 1368 | G81: 1368 | H81: 1368

Sheet Հ4
G1: Հավելված N 4
G2: ՀՀ կառավարության 2023 թվականի
G3: ______________ ի ___Ն որոշման
B5: ՀԱՅԱՍՏԱՆԻ ՀԱՆՐԱՊԵՏՈՒԹՅԱՆ ԿԱՌԱՎԱՐՈՒԹՅԱՆ 2022 ԹՎԱԿԱՆԻ ԴԵԿՏԵՄԲԵՐԻ 29-Ի N 2111-Ն ՈՐՈՇՄԱՆ N 9.1 ՀԱՎԵԼՎԱԾԻ N 9.7 ԱՂՅՈՒՍԱԿՈՒՄ ԿԱՏԱՐՎՈՂ ԼՐԱՑՈՒՄՆԵՐԸ
G7: Աղյուսակ 9.7
B8: ՀՀ տարածքային կառավարման և ենթակառուցվածքների նախարարություն
B9: ՄԱՍ 2. ՊԵՏԱԿԱՆ ՄԱՐՄՆԻ ԳԾՈՎ ԱՐԴՅՈՒՆՔԱՅԻՆ (ԿԱՏԱՐՈՂԱԿԱՆ) ՑՈՒՑԱՆԻՇՆԵՐԸ
B11: Ծրագրի դասիչը | C11: Ծրագրի անվանումը
B12: 1049 | C12: Ճանապարհային ցանցի բարելավում
B14: Ծրագրի միջոցառումները
B16: Ծրագրի դասիչը` | C16: 1049 | D16: Ցուցանիշների փոփոխությունը (ավելացումները նշված են դրական նշանով)
B17: Միջոցառման դասիչը` | C17: 21002 | D17: Առաջին եռամսյակ | E17: Առաջին կիսամյակ | F17: Ինն ամիս | G17: Տարի
B18: Միջոցառման անվանումը` | C18: Տրանսպորտային օբյեկտների հիմնանորոգում
B19: Նկարագրությունը` | C19: Ավտոմոբիլային ճանապարհների վրա գտնվող կամուրջների հիմնանորոգում
B20: Միջոցառման տեսակը` | C20: Հանրության կողմից անմիջականորեն օգտագործվող ակտիվների հետ կապված միջոցառումներ
B21: Միջոցառումն իրականացնողի անվանումը | C21: Մասնագիտացված միավոր
B22: Արդյունքի չափորոշիչներ
B23: Տրանսպորտային հանգույցներ (ուղեանցեր, հենապատեր և այլն), այդ թվում աշխատանքներ և ծառայություններ | D23: 0 | E23: 0 | F23: 0 | G23: 1
B24: Շինարարություն, հատ | D24: 0 | E24: 0 | F24: 0 | G24: 1
B25: Միջոցառման վրա կատարվող ծախսը (հազար դրամ) | D25: 0 | E25: 0 | F25: 0 | G25: 0

Sheet Հ5
G1: Հավելված N 5
G2: ՀՀ կառավարության 2023 թվականի
G3: ______________ ի ___Ն որոշման
B5: ՀԱՅԱՍՏԱՆԻ ՀԱՆՐԱՊԵՏՈՒԹՅԱՆ ԿԱՌԱՎԱՐՈՒԹՅԱՆ 2022 ԹՎԱԿԱՆԻ ԴԵԿՏԵՄԲԵՐԻ 29-Ի N 2111-Ն ՈՐՈՇՄԱՆ N 9.1 ՀԱՎԵԼՎԱԾԻ NN 9.1.7 ԵՎ 9.1.58 ԱՂՅՈՒՍԱԿՆԵՐՈՒՄ ԿԱՏԱՐՎՈՂ ՓՈՓՈԽՈՒԹՅՈՒՆՆԵՐԸ ԵՎ ԼՐԱՑՈՒՄՆԵՐԸ
G7: Աղյուսակ 9.1.7
B8: ՀՀ տարածքային կառավարման և ենթակառուցվածքների նախարարություն
B9: ՄԱՍ 1. ՊԵՏԱԿԱՆ ՄԱՐՄՆԻ ԳԾՈՎ ԱՐԴՅՈՒՆՔԱՅԻՆ (ԿԱՏԱՐՈՂԱԿԱՆ) ՑՈՒՑԱՆԻՇՆԵՐԸ
B11: Ծրագրի դասիչը | C11: Ծրագրի անվանումը
B12: 1049 | C12: Ճանապարհային ցանցի բարելավում
B14: Ծրագրի միջոցառումները
B15: Ծրագրի դասիչը` | C15: 1049 | D15: Ցուցանիշների փոփոխությունը (ավելացումները նշված են դրական նշանով)
B16: Միջոցառման դասիչը` | C16: 21001 | D16: Առաջին եռամսյակ | E16: Առաջին կիսամյակ | F16: Ինն ամիս | G16: Տարի
B17: Միջոցառման անվանումը` | C17: Պետական նշանակության ավտոճանապարհների հիմնանորոգում
B18: Նկարագրությունը` | C18: Միջպետական, հանրապետական և մարզային նշանակության ավտոճոնապարհների քայքայված ծածկի վերանորոգում, մաշված ծածկի փոխարինում
B19: Միջոցառման տեսակը` | C19: Հանրության կողմից անմիջականորեն օգտագործվող ակտիվների հետ կապված միջոցառումներ
B20: Միջոցառումն իրականացնողի անվանումը | C20: Մասնագիտացված միավոր
B21: Արդյունքի չափորոշիչներ
B22: Միջպետական նշանակության ավտոճանապարհներ | D22: 0 | E22: 0 | F22: 0 | G22: 32.9
B23: Հանրապետական նշանակության ավտոճանապարհներ | D23: 0 | E23: 0 | F23: 0 | G23: 14.7
B24: Մարզային նշանակության ավտոճանապարհներ | D24: 0 | E24: 0 | F24: 0 | G24: 42
B25: Աշխատանքների ավարտվածության աստիճան, % | D25: 0 | E25: 0 | F25: 0 | G25: =-G59 -> 94
B26: Միջոցառման վրա կատարվող ծախսը (հազար դրամ) | D26: =+Հ3!E17 -> 172364.9 | E26: =+Հ3!F17 -> 4111562.8 | F26: =+Հ3!G17 -> 14853167 | G26: =+Հ3!H17 -> 17007977
B28: Ծրագրի դասիչը` | C28: 1049 | D28: Ցուցանիշների փոփոխությունը (ավելացումները նշված են դրական նշանով)
B29: Միջոցառման դասիչը` | C29: 21002 | D29: Առաջին եռամսյակ | E29: Առաջին կիսամյակ | F29: Ինն ամիս | G29: Տարի
B30: Միջոցառման անվանումը` | C30: Տրանսպորտային օբյեկտների հիմնանորոգում
B31: Նկարագրությունը` | C31: Ավտոմոբիլային ճանապարհների վրա գտնվող կամուրջների հիմնանորոգում
B32: Միջոցառման տեսակը` | C32: Հանրության կողմից անմիջականորեն օգտագործվող ակտիվների հետ կապված միջոցառումներ
B33: Միջոցառումն իրականացնողի անվանումը | C33: Մասնագիտացված միավոր
B34: Արդյունքի չափորոշիչներ
B35: Հիմնանորոգվող տրանսպորտային օբյեկտների թիվը, այդ թվում՜ | D35: 0 | E35: 0 | F35: 0 | G35: 1
B36: Տրանսպորտային հանգույցներ (ուղեանցեր, հենապատեր և այլն), այդ թվում աշխատանքներ և ծառայություններ | D36: 0 | E36: 0 | F36: 0 | G36: 1
B37: Շինարարություն, հատ | D37: 0 | E37: 0 | F37: 0 | G37: 1
B38: Միջոցառման վրա կատարվող ծախսը (հազար դրամ) | D38: =-D70 -> 5962.3 | E38: =-E70 -> 11163.8 | F38: =-F70 -> 64218.4 | G38: =-G70 -> 67010.7
G41: Աղյուսակ 9.1.58
C42: ՀՀ կառավարություն
B43: ՄԱՍ 1. ՊԵՏԱԿԱՆ ՄԱՐՄՆԻ ԳԾՈՎ ԱՐԴՅՈՒՆՔԱՅԻՆ (ԿԱՏԱՐՈՂԱԿԱՆ) ՑՈՒՑԱՆԻՇՆԵՐԸ
B45: Ծրագրի դասիչը | C45: Ծրագրի անվանումը
B46: 1049 | C46: Ճանապարհային ցանցի բարելավում
B48: Ծրագրի միջոցառումները
B49: Ծրագրի դասիչը` | C49: 1049 | D49: Ցուցանիշների փոփոխությունը (նվազեցումները նշված են փակագծերում)
B50: Միջոցառման դասիչը` | C50: 21001 | D50: Առաջին եռամսյակ | E50: Առաջին կիսամյակ | F50: Ինն ամիս | G50: Տարի
B51: Միջոցառման անվանումը` | C51: Պետական նշանակության ավտոճանապարհների հիմնանորոգում
B52: Նկարագրությունը` | C52: Միջպետական, հանրապետական և մարզային նշանակության ավտոճոնապարհների քայքայված ծածկի վերանորոգում, մաշված ծածկի փոխարինում
B53: Միջոցառման տեսակը` | C53: Հանրության կողմից անմիջականորեն օգտագործվող ակտիվների հետ կապված միջոցառումներ
B54: Միջոցառումն իրականացնողի անվանումը | C54: Մասնագիտացված միավոր
C55: Արդյունքի չափորոշիչներ
B56: =+B22 -> Միջպետական նշանակության ավտոճանապարհներ | D56: 0 | E56: 0 | F56: 0 | G56: =-G22 -> -32.9
B57: =+B23 -> Հանրապետական նշանակության ավտոճանապարհներ | D57: 0 | E57: 0 | F57: 0 | G57: =-G23 -> -14.7
B58: =+B24 -> Մարզային նշանակության ավտոճանապարհներ | D58: 0 | E58: 0 | F58: 0 | G58: =-G24 -> -42
B59: Աշխատանքների ավարտվածության աստիճան, % | D59: 0 | E59: 0 | F59: 0 | G59: -94
B60: Միջոցառման վրա կատարվող ծախսը (հազար դրամ) | D60: =-D26 -> -172364.9 | E60: =-E26 -> -4111562.8 | F60: =-F26 -> -14853167 | G60: =-G26 -> -17007977
B62: Ծրագրի դասիչը` | C62: 1049 | D62: Ցուցանիշների փոփոխությունը (նվազեցումները նշված են փակագծերում)
B63: Միջոցառման դասիչը` | C63: 21002 | D63: Առաջին եռամսյակ | E63: Առաջին կիսամյակ | F63: Ինն ամիս | G63: Տարի
B64: Միջոցառման անվանումը` | C64: Տրանսպորտային օբյեկտների հիմնանորոգում
B65: Նկարագրությունը` | C65: Ավտոմոբիլային ճանապարհների վրա գտնվող կամուրջների հիմնանորոգում
B66: Միջոցառման տեսակը` | C66: Հանրության կողմից անմիջականորեն օգտագործվող ակտիվների հետ կապված միջոցառումներ
B67: Միջոցառումն իրականացնողի անվանումը | C67: Մասնագիտացված միավոր
B68: Արդյունքի չափորոշիչներ
B69: Հիմնանորոգվող տրանսպորտային օբյեկտների թիվը, այդ թվում՜ | D69: 0 | E69: 0 | F69: 0 | G69: -1
B70: Միջոցառման վրա կատարվող ծախսը (հազար դրամ) | D70: =+Հ2!G50 -> -5962.3 | E70: =+Հ2!H50 -> -11163.8 | F70: =+Հ2!I50 -> -64218.4 | G70: =+Հ2!J50 -> -67010.7

Sheet Հ6
H1: Հավելված N 6
H2: ՀՀ կառավարության 2023 թվականի
H3: ______________ ի ___Ն որոշման
B5: ՀԱՅԱՍՏԱՆԻ ՀԱՆՐԱՊԵՏՈՒԹՅԱՆ ԿԱՌԱՎԱՐՈՒԹՅԱՆ 2022 ԹՎԱԿԱՆԻ ԴԵԿՏԵՄԲԵՐԻ 29-Ի N 2111-Ն ՈՐՈՇՄԱՆ N 10 ՀԱՎԵԼՎԱԾՈՒՄ ԿԱՏԱՐՎՈՂ ԼՐԱՑՈՒՄՆԵՐԸ
B6: Կոդը | C6: Անվանումը | D6: Գնման ձևը | E6: Չափման միավորը | F6: Միավորի գինը | G6: Ցուցանիշների փոփոխությունը (ավելացումները նշված են դրական նշանով)
G7: Քանակը | H7: Գումարը (հազար դրամով)
B8: ՀՀ տարածքային կառավարման և ենթակառուցվածքների նախարարություն | H8: =+H9 -> 16856376
B9: Բաժին N 04 | C9: Խումբ N 05 | D9: Դաս N 01 | E9: Ճանապարհային տրանսպորտ | H9: =+H10+H79 -> 16856376
B10: 1049 21001 | C10: Պետական նշանակության ավտոճանապարհների հիմնանորոգում | H10: =H11+H30 -> 16798509
B11: ՄԱՍ II. ԱՇԽԱՏԱՆՔՆԵՐ | H11: =SUM(H12:H29) -> 16397285
B12: 45231177/570 | C12: ճանապարհների վերանորոգման աշխատանքներ | D12: ՀԲՄ | E12: դրամ | F12: 1162112951 | G12: 1 | H12: 1162113
B13: 45231177/562 | C13: ճանապարհների վերանորոգման աշխատանքներ | D13: ՀԲՄ | E13: դրամ | F13: 351434569 | G13: 1 | H13: =+G13*F13/1000 -> 351434.57
B14: 45231177/509 | C14: ճանապարհների վերանորոգման աշխատանքներ | D14: ԲՄ | E14: դրամ | F14: 663720758 | G14: 1 | H14: =+G14*F14/1000 -> 663720.76
B15: 45231177/563 | C15: ճանապարհների վերանորոգման աշխատանքներ | D15: ՀԲՄ | E15: դրամ | F15: 1277000000 | G15: 1 | H15: =+G15*F15/1000 -> 1277000
B16: 45231177/501 | C16: ճանապարհների վերանորոգման աշխատանքներ | D16: ԲՄ | E16: դրամ | F16: 1080404490 | G16: 1 | H16: =+G16*F16/1000 -> 1080404.5
B17: 45231177/564 | C17: ճանապարհների վերանորոգման աշխատանքներ | D17: ՀԲՄ | E17: դրամ | F17: 530000000 | G17: 1 | H17: =+G17*F17/1000 -> 530000
B18: 45231177/503 | C18: ճանապարհների վերանորոգման աշխատանքներ | D18: ԲՄ | E18: դրամ | F18: 887078318 | G18: 1 | H18: =+G18*F18/1000 -> 887078.32
B19: 45231177/544 | C19: ճանապարհների վերանորոգման աշխատանքներ | D19: ՀԲՄ | E19: դրամ | F19: 846752727 | G19: 1 | H19: =+G19*F19/1000 -> 846752.73
B20: 45231177/601 | C20: ճանապարհների վերանորոգման աշխատանքներ | D20: ՀԲՄ | E20: դրամ | F20: 1989000000 | G20: 1 | H20: =+G20*F20/1000 -> 1989000
B21: 45231177/610 | C21: ճանապարհների վերանորոգման աշխատանքներ | D21: ՀԲՄ | E21: դրամ | F21: 346188456 | G21: 1 | H21: =+G21*F21/1000 -> 346188.46
B22: 45231177/612 | C22: ճանապարհների վերանորոգման աշխատանքներ | D22: ՀԲՄ | E22: դրամ | F22: 64245768 | G22: 1 | H22: =+G22*F22/1000 -> 64245.768
B23: 45231177/506 | C23: ճանապարհների վերանորոգման աշխատանքներ | D23: ԲՄ | E23: դրամ | F23: 127037502 | G23: 1 | H23: =+G23*F23/1000 -> 127037.5
B24: 45231177/607 | C24: ճանապարհների վերանորոգման աշխատանքներ | D24: ՀԲՄ | E24: դրամ | F24: 224900000 | G24: 1 | H24: =+G24*F24/1000 -> 224900
... B29: 45231177/555 | C29: ճանապարհների վերանորոգման աշխատանքներ | D29: ՀԲՄ | E29: դրամ | F29: 1731672305 | G29: 1 | H29: =+G29*F29/1000 -> 1731672.3
B30: ՄԱՍ III. ԾԱՌԱՅՈՒԹՅՈՒՆՆԵՐ | H30: =SUM(H31:H78) -> 401224.3
B31: 98111140/42 | C31: հեղինակային հսկողության ծառայություններ | D31: ՄԱ | E31: դրամ | F31: 10835531 | G31: 1 | H31: =+G31*F31/1000 -> 10835.531
B32: 98111140/72 | C32: հեղինակային հսկողության ծառայություններ | D32: ՄԱ | E32: դրամ | F32: 8200190 | G32: 1 | H32: =+G32*F32/1000 -> 8200.19
B33: 98111140/28 | C33: հեղինակային հսկողության ծառայություններ | D33: ՄԱ | E33: դրամ | F33: 9891341 | G33: 1 | H33: =+G33*F33/1000 -> 9891.341
B34: 98111140/62 | C34: հեղինակային հսկողության ծառայություններ | D34: ՄԱ | E34: դրամ | F34: 12826153 | G34: 1 | H34: =+G34*F34/1000 -> 12826.153
B35: 98111140/63 | C35: հեղինակային հսկողության ծառայություններ | D35: ՄԱ | E35: դրամ | F35: 7434342 | G35: 1 | H35: =+G35*F35/1000 -> 7434.342
B36: 98111140/31 | C36: հեղինակային հսկողության ծառայություններ | D36: ՄԱ | E36: դրամ | F36: 4940800 | G36: 1 | H36: =+G36*F36/1000 -> 4940.8
B37: 98111140/56 | C37: հեղինակային հսկողության ծառայություններ | D37: ՄԱ | E37: դրամ | F37: 5740829 | G37: 1 | H37: =+G37*F37/1000 -> 5740.829
B38: 98111140 | C38: հեղինակային հսկողության ծառայություններ | D38: ՄԱ | E38: դրամ | F38: 5552531 | G38: 1 | H38: =+G38*F38/1000 -> 5552.531
B39: 98111140 | C39: հեղինակային հսկողության ծառայություններ | D39: ՄԱ | E39: դրամ | F39: 13568450 | G39: 1 | H39: =+G39*F39/1000 -> 13568.45
B40: 98111140 | C40: հեղինակային հսկողության ծառայություններ | D40: ՄԱ | E40: դրամ | F40: 2018222 | G40: 1 | H40: =+G40*F40/1000 -> 2018.222
B41: 98111140 | C41: հեղինակային հսկողության ծառայություններ | D41: ՄԱ | E41: դրամ | F41: 374750 | G41: 1 | H41: =+G41*F41/1000 -> 374.75
B42: 98111140 | C42: հեղինակային հսկողության ծառայություններ | D42: ՄԱ | E42: դրամ | F42: 1312926 | G42: 1 | H42: =+G42*F42/1000 -> 1312.926
B43: 98111140/7 | C43: հեղինակային հսկողության ծառայություններ | D43: ՄԱ | E43: դրամ | F43: 23297700 | G43: 1 | H43: =+G43*F43/1000 -> 23297.7
B44: 98111140/61 | C44: հեղինակային հսկողության ծառայություններ | D44: ՄԱ | E44: դրամ | F44: 9406878 | G44: 1 | H44: =+G44*F44/1000 -> 9406.878
B45: 98111140 | C45: հեղինակային հսկողության ծառայություններ | D45: ՄԱ | E45: դրամ | F45: 6789255 | G45: 1 | H45: =+G45*F45/1000 -> 6789.255
B46: 98111140 | C46: հեղինակային հսկողության ծառայություններ | D46: ՄԱ | E46: դրամ | F46: 9535751 | G46: 1 | H46: =+G46*F46/1000 -> 9535.751
B47: 98111140 | C47: հեղինակային հսկողության ծառայություններ | D47: ՄԱ | E47: դրամ | F47: 12128361 | G47: 1 | H47: =+G47*F47/1000 -> 12128.361
B48: 98111140 | C48: հեղինակային հսկողության ծառայություններ | D48: ՄԱ | E48: դրամ | F48: 11341064 | G48: 1 | H48: =+G48*F48/1000 -> 11341.064
B49: 98111140 | C49: հեղինակային հսկողության ծառայություններ | D49: ՄԱ | E49: դրամ | F49: 3093822 | G49: 1 | H49: =+G49*F49/1000 -> 3093.822
B50: 71241200/536 | C50: նախագծերի պատրաստում, ծախսերի գնահատում | D50: ԳՀ | E50: դրամ | F50: 16740000 | G50: 1 | H50: =+G50*F50/1000 -> 16740
B51: 71241200/514 | C51: նախագծերի պատրաստում, ծախսերի գնահատում | D51: ԳՀ | E51: դրամ | F51: 828000 | G51: 1 | H51: =+G51*F51/1000 -> 828
B52: 71241200/565 | C52: նախագծերի պատրաստում, ծախսերի գնահատում | D52: ԳՀ | E52: դրամ | F52: 6000000 | G52: 1 | H52: =+G52*F52/1000 -> 6000
B53: 71241200/537 | C53: նախագծերի պատրաստում, ծախսերի գնահատում | D53: ԳՀ | E53: դրամ | F53: 96000 | G53: 1 | H53: =+G53*F53/1000 -> 96
B54: 71241200/542 | C54: նախագծերի պատրաստում, ծախսերի գնահատում | D54: ԳՀ | E54: դրամ | F54: 3540000 | G54: 1 | H54: =+G54*F54/1000 -> 3540
B55: 71241200/535 | C55: նախագծերի պատրաստում, ծախսերի գնահատում | D55: ԳՀ | E55: դրամ | F55: 5640000 | G55: 1 | H55: =+G55*F55/1000 -> 5640
B56: 71241200/506 | C56: նախագծերի պատրաստում, ծախսերի գնահատում | D56: ԳՀ | E56: դրամ | F56: 5880000 | G56: 1 | H56: =+G56*F56/1000 -> 5880
B57: 50531140/532 | C57: փորձաքննության ծառայություններ | D57: ԳՀ | E57: դրամ | F57: 2921000 | G57: 1 | H57: =+G57*F57/1000 -> 2921
B58: 50531140/533 | C58: փորձաքննության ծառայություններ | D58: ԳՀ | E58: դրամ | F58: 1390000 | G58: 1 | H58: =+G58*F58/1000 -> 1390
B59: 50531140/534 | C59: փորձաքննության ծառայություններ | D59: ԳՀ | E59: դրամ | F59: 980000 | G59: 1 | H59: =+G59*F59/1000 -> 980
B60: 50531140/535 | C60: փորձաքննության ծառայություններ | D60: ԳՀ | E60: դրամ | F60: 530000 | G60: 1 | H60: =+G60*F60/1000 -> 530
B61: 50531140/531 | C61: փորձաքննության ծառայություններ | D61: ԳՀ | E61: դրամ | F61: 2382000 | G61: 1 | H61: =+G61*F61/1000 -> 2382
... B78: 71351540/503 | C78: տեխնիկական հսկողության ծառայություններ | D78: ՀԲՄ | E78: դրամ | F78: 3863184 | G78: 1 | H78: =+G78*F78/1000 -> 3863.184
B79: 1049 21002 | C79: Տրանսպորտային օբյեկտների հիմնանորոգում | H79: =H80 -> 57866.727
B80: ՄԱՍ III. ԾԱՌԱՅՈՒԹՅՈՒՆՆԵՐ | H80: =SUM(H81:H85) -> 57866.727
B81: 45231177/522 | C81: ճանապարհների վերանորոգման աշխատանքներ | D81: ԳՀ | E81: դրամ | F81: 1576832 | G81: 1 | H81: =+G81*F81/1000 -> 1576.832
B82: 45231177/521 | C82: ճանապարհների վերանորոգման աշխատանքներ | D82: ԳՀ | E82: դրամ | F82: 54551190 | G82: 1 | H82: =+G82*F82/1000 -> 54551.19
B83: 71351540/512 | C83: տեխնիկական հսկողության ծառայություններ | D83: ԳՀ | E83: դրամ | F83: 1309212 | G83: 1 | H83: =+G83*F83/1000 -> 1309.212
B84: 98111140/69 | C84: հեղինակային հսկողության ծառայություններ | D84: ՄԱ | E84: դրամ | F84: 327190 | G84: 1 | H84: =+G84*F84/1000 -> 327.19
B85: 98111140/70 | C85: հեղինակային հսկողության ծառայություններ | D85: ՄԱ | E85: դրամ | F85: 102303 | G85: 1 | H85: =+G85*F85/1000 -> 102.303
